{"text_format":"1","workbook":"xlsx","n_sheets":5,"sheets":["Notes","InputPriceData","CalculationsAndCharts","Follow","REPAIRS!"],"not_rendered":{"charts":10,"images":7,"macros":1,"external_links":2,"defined_names":63,"comments":3,"pivot_tables":0},"unopened":[],"bounds":{"document_bytes":16777216,"sheet_cells":100000,"rows_first":2000,"rows_last":500,"rows_between":2000,"halvings":0,"cell_chars":16384,"cell_head_chars":4096},"cells_cut":0,"cells_raw":0,"read":"whole","date_system":"1900"}

{"sheet":"Notes","index":0,"n_rows":52,"n_cols":1,"rows_kept":52,"cut":false,"hidden":false,"merged":[]}
["UltimateStrengthIndex.xlsm; Traders Tip spreadsheet created for the November 2024 Issue"]
["Coded beginning 2024-July-05 by Ronald McAllister (rpmac_xltt@sprynet.com)"]
[]
["This Workbook demonstrates an EXCEL version of the ideas presented"]
["by John F. Ehlers in an article titled \"Ultimate Strength Index (USI)\",  "]
["which originally appeared in the November 2024 issue of"]
["\"Technical Analysis of Stocks and Commodities\" magazine."]
[]
[]
["2024September05 - Commented out code looking for LongName"]
["Never used the resulting LongNameStr anywhere in the rest of my code so do not really need it anyway."]
["It turns out that LongName is not available for symbols like \"NQ=F\" and crashed the data retrieval."]
["This problem was pointed out by G. Pitcher to whom I am great full for educating me as to the existence of"]
[" symbols which incorporate an \"=\"."]
[]
["2024July05 - This is the second T-Tip spreadsheet that has been adjusted for the  April 15, 2024 problem."]
["This spreadsheet also includes the \"April 15 Repairs\" tab (described below under June 12 tag) which, if you have not already done so,"]
["will allow you to repair older spreadsheets that were broken by this \"Tax Day\" problem."]
[]
[]
["2024June12 - This, the August 2024 T-Tip spreadsheet, is the first T-Tip that has been \"adjusted\" to correct the April 15, 2024 data retrieval failure caused by  Yahoo Finance changes "]
["to their Stock Summary web page. These changes took effect on, or slightly before, April 15, 2024. "]
[]
["It took a while to sus out what changed and how to reliably locate the information I use in these T-Tips.  "]
[]
["The result is a complete re-write of my data retrieval code as it applies to the information I need from the Stock Summary web page."]
["No simple description of the necessary VBA code changes would be sufficient for those of you might wish to restore older T-Tips to service."]
[]
["So I have included in this T-Tip spreadsheet the capability to \"FIX\" older T-Tips spreadsheets by replacing the appropriate section of their VBA code"]
["using the  fully functional code contained in this August 2024 T-Tip spreadsheet as my Template. "]
["See tab \"April 15 Repairs\" for step by step instructions."]
[]
["Things discovered along the way"]
["It turns out that there is a plethora of interesting information buried in the Summary Sheet HTML but not shown on the web page you and I see."]
["I pulled out and incorporated a couple of them by way of this April 15 fix:"]
["InputPriceData tab"]
["First Trade Date - the first date and time the current symbol was traded"]
["Market State - Will show correct Time Zone time and Time Zone code for the market where the current symbol is traded."]
["Example:  Retrieving  symbol \"^HIS\" at 10:am EDT will display \"HANG SENG INDEX (^HSI) -HKSE  (Daily) At Close: 4:08 PM HKT\" "]
["CalculationAndCharts tab"]
["Cell \"A2\" and the price chart title will now include market state,  market time, and TimeZone Code."]
["Follow tab"]
["Entries on the Follow Tab will also show Times and time zones for the market where traded"]
[]
["2024Feb04 - Added \"TallChart\" Check Box and supporting functionality that allows the user to expand the charting area to use all of the vertical area that is \"visible\" on the worksheet."]
["I found this to be a useful toggle when the number of user selected indicator subcharts scrunches them so tightly into the normal vertical space that much of the visual detail is lost."]
["Note: \"Visible\" vertical space is sensitive to the level of \"zoom\" you choose for the worksheet (Slider at the bottom right of the sheet display)"]
[]
["Just a note:"]
["November 2023 was the first T-Tip built using EXCEL 365. Specifically:"]
["Microsoft® Excel® for Microsoft 365 MSO (Version 2308 Build 16.0.16731.20052) 64-bit (plus any more recent updates to MSO as they happen)"]
["All previous T-Tip spreadsheets were built using EXCEL 2010."]

{"sheet":"InputPriceData","index":1,"n_rows":1036,"n_cols":244,"rows_kept":1036,"cut":false,"hidden":false,"merged":[[1,2,1,4],[4,29,8,29],[13,1,13,6],[13,10,13,14],[13,17,13,18],[11,22,14,22],[11,24,14,24],[11,25,14,25],[11,26,14,26],[11,27,14,27],[11,28,14,28],[11,29,14,29],[11,23,14,23],[10,22,10,29]]}
["E-Mini S&P 500 Dec 24 (ES=F) -CME  (Daily)"]
[null,"First trade was: ","2000-09-18",null,null,null,null,null,null,null,null,null,"To retrieve data for symbols traded on non US Exchanges,",null,null,null,null,null,null,null,null,null,null,null,null,null,null,null,null,null,null,null,null,null,null,null,null,null,null,null,null,null,null,null,null,null,null,null,null,null,null,null,null,null,null,null,null,null,null,null,null,null,null,null,null,null,null,null,null,null,null,null,null,null,null,null,null,null,null,null,null,null,null,null,null,null,null,null,null,null,null,null,null,null,null,null,null,null,null,null,null,null,null,null,null,null,null,null,null,null,null,null,null,null,null,null,null,null,null,null,null,null,null,null,null,null,null,null,null,null,null,null,null,null,null,null,null,null,null,null,null,null,null,null,null,null,null,null,null,null,null,null,null,null,null,null,null,null,null,null,null,null,null,null,null,null,null,null,null,null,null,null,null,null,null,null,null,null,null,null,null,null,null,null,null,null,null,null,null,null,null,null,null,null,null,null,null,null,null,null,null,null,null,null,null,null,null,null,null,null,null,null,null,null,null,null,null,null,null,null,null,null,null,null,null,null,null,null,null,null,null,null,null,null,null,null,null,null,null,null,null,null,null,241.79]
["Request Online Yahoo History for:",null,null,null,null,"Market State == >","As Of: ","16:59:00","EDT",null,null,null,"you will need to append the dot-suffix for the exchange to the symbol."]
["Symbol","ES=F",null,"Valid",null,null,null,null,{"$f":"OFFSET(I4,-2,0,1,1)","v":0},null,null,null,"The following links provide a description of how to use the exchange suffix "]
["From","2020-09-01",null,"Data",null,null,null,null,null,null,null,null,"along with a list of suffixes for the major world exchanges.",null,null,null,null,null,null,null,null,null,null,null,null,null,null,null,null,"Trailing 12 Div return (Cur Close)"]
["To",{"$f":"NOW()","v":"2024-09-23T11:40:32.550"},null,"Types",{"$f":"VLOOKUP(B7,D7:E10,2,FALSE)","v":"d"},null,null,null,null,null,null,null,"https://help.yahoo.com/kb/finance/SLN2310.html"]
["Data Type","Daily",null,"Daily","d",null,null,null,null,null,null,null,"And"]
["Crumb",null,null,"Weekly","w",null,null,null,null,null,null,null,"https://www.stockmarketeye.com/users-guide/ticker-symbols-and-data-providers/data-providers.html"]
["Available Data",null,null,"Monthly","m"]
["Bar Count: ",1021,null,null,null,null,null,null,null,null,null,null,"You may search on “exchange suffixes” for additional discussions",null,null,null,null,null,null,null,null,null,null,null,null,null,null,null,null,{"$f":"OFFSET(AC15,1,0,1,1)/OFFSET(N15,1,0,1,1)","v":0}]
["From: ",{"$f":"IF(B10<=0,\"\",OFFSET(B15,B10,IF(HistReqDataType=\"v\",1,0),1,1))","v":"2020-09-01T04:00:00"},null,null,null,null,null,null,null,null,null,null,null,null,null,null,null,null,null,null,null,null,"Trailing 12 Month Dividend Returns"]
["To: ",{"$f":"IF(B10<=0,\"\",IF(HistReqDataType=\"v\",OFFSET(B15,2,1,1,1),OFFSET(B15,1,0,1,1)))","v":"2024-09-20T20:59:58"},null,null,null,null,null,null,null,null,null,null,null,null,null,null,null,null,null,null,null,null,"Raw Close price on Dividend date","Div Year and Month","Looking for year ago Div Year and Month","Year ago Div Date we found","row offset to year ago div Date","Same month flag","Trailing 12 Div Total","Trailing 12 Div return"]
[null,null,null,null,null,null,null,null,null,null,null,null,null,null,null,null,"Split History",null,0,"Running","Dividend History"]
[null,"Raw Data Values",null,null,null,null,null,"Adjusted","Price Adjust","Vol Adjust","Adjusted Values",null,null,null,null,"Last","Effective","Shares",null,"Vol Adjust ",null,0]
["RelRow","Date","Open","High","Low","Close","Volume","Close","Factor","Factor","Open","High","Low","Close","Volume","Trade",45558,"New","Old",1,"Date","$ / Share"]
[1,"2024-09-20T20:59:58",5776,5776.75,5733.5,5758.25,1447611,5758.25,{"$f":"IF(F16=0,1,H16/F16)","v":1},{"$f":"INDEX(OFFSET($T$15,0,0,$S$13+1,1),MATCH(B16,OFFSET($Q$15,0,0,$S$13+1,1),-1))","v":1},{"$f":"ROUND($I16*C16,2)","v":5776},{"$f":"ROUND($I16*D16,2)","v":5776.75},5733.5,5758.25,{"$f":"G16*J16","v":1447611}]
[2,"2024-09-19T04:00:00",5631.5,5737.5,5631.5,5717.75,461433,5717.75,{"$f":"IF(F17=0,1,H17/F17)","v":1},{"$f":"INDEX(OFFSET($T$15,0,0,$S$13+1,1),MATCH(B17,OFFSET($Q$15,0,0,$S$13+1,1),-1))","v":1},{"$f":"ROUND($I17*C17,2)","v":5631.5},{"$f":"ROUND($I17*D17,2)","v":5737.5},{"$f":"ROUND($I17*E17,2)","v":5631.5},{"$f":"ROUND($I17*F17,2)","v":5717.75},{"$f":"G17*J17","v":461433}]
[3,"2024-09-18T04:00:00",5639.5,5696.25,5613.75,5620.75,605651,5620.75,1,1,5639.5,5696.25,5613.75,5620.75,605651]
[4,"2024-09-17T04:00:00",5633.25,5675.5,5617,5639,1056184,5639,1,1,5633.25,5675.5,5617,5639,1056184]
[5,"2024-09-16T04:00:00",5622.75,5641.5,5609.25,5638,1588010,5638,1,1,5622.75,5641.5,5609.25,5638,1588010]
[6,"2024-09-13T04:00:00",5598.5,5641.5,5597.25,5629.75,1706322,5629.75,1,1,5598.5,5641.5,5597.25,5629.75,1706322]
[7,"2024-09-12T04:00:00",5558,5607,5540.25,5602.25,1726434,5602.25,1,1,5558,5607,5540.25,5602.25,1726434]
[8,"2024-09-11T04:00:00",5499.25,5567.5,5412,5561.25,2309139,5561.25,1,1,5499.25,5567.5,5412,5561.25,2309139]
[9,"2024-09-10T04:00:00",5488.25,5506,5448.25,5504,1525620,5504,1,1,5488.25,5506,5448.25,5504,1525620]
[10,"2024-09-09T04:00:00",5410,5493,5405.25,5479.5,2377532,5479.5,1,1,5410,5493,5405.25,5479.5,2377532]
[11,"2024-09-06T04:00:00",5513,5532.5,5394,5419.5,2377532,5419.5,1,1,5513,5532.5,5394,5419.5,2377532]
[12,"2024-09-05T04:00:00",5527.5,5557.25,5490,5512.25,1737210,5512.25,1,1,5527.5,5557.25,5490,5512.25,1737210]
[13,"2024-09-04T04:00:00",5538.5,5565,5506.75,5530,1749591,5530,1,1,5538.5,5565,5506.75,5530,1749591]
[14,"2024-09-03T04:00:00",5656.25,5669.75,5516.75,5541.75,1910577,5541.75,1,1,5656.25,5669.75,5516.75,5541.75,1910577]
[15,"2024-08-30T04:00:00",5618.5,5665,5594.25,5661,1558874,5661,1,1,5618.5,5665,5594.25,5661,1558874]
[16,"2024-08-29T04:00:00",5580.5,5663.75,5561.25,5610,1571688,5610,1,1,5580.5,5663.75,5561.25,5610,1571688]
[17,"2024-08-28T04:00:00",5643.75,5650.5,5576,5610.25,1381099,5610.25,1,1,5643.75,5650.5,5576,5610.25,1381099]
[18,"2024-08-27T04:00:00",5630,5649.5,5611.5,5644.75,1027658,5644.75,1,1,5630,5649.5,5611.5,5644.75,1027658]
[19,"2024-08-26T04:00:00",5650.5,5669,5619.75,5637,1090361,5637,1,1,5650.5,5669,5619.75,5637,1090361]
[20,"2024-08-23T04:00:00",5597.75,5662.25,5597.75,5652.5,1415472,5652.5,1,1,5597.75,5662.25,5597.75,5652.5,1415472]
[21,"2024-08-22T04:00:00",5642,5665.25,5582.75,5594,1409474,5594,1,1,5642,5665.25,5582.75,5594,1409474]
[22,"2024-08-21T04:00:00",5619.5,5655.25,5613.5,5641.5,1086814,5641.5,1,1,5619.5,5655.25,5613.5,5641.5,1086814]
[23,"2024-08-20T04:00:00",5629.5,5643.75,5607.75,5619.75,1020393,5619.75,1,1,5629.5,5643.75,5607.75,5619.75,1020393]
[24,"2024-08-19T04:00:00",5584,5631.75,5565.25,5630,1010612,5630,1,1,5584,5631.75,5565.25,5630,1010612]
[25,"2024-08-16T04:00:00",5568.5,5586.25,5536.5,5578.25,1183498,5578.25,1,1,5568.5,5586.25,5536.5,5578.25,1183498]
[26,"2024-08-15T04:00:00",5481.25,5571.75,5471.75,5567.5,1440377,5567.5,1,1,5481.25,5571.75,5471.75,5567.5,1440377]
[27,"2024-08-14T04:00:00",5457.5,5487.75,5438.75,5477,1301826,5477,1,1,5457.5,5487.75,5438.75,5477,1301826]
[28,"2024-08-13T04:00:00",5372.5,5461.25,5367.5,5459,1271171,5459,1,1,5372.5,5461.25,5367.5,5459,1271171]
[29,"2024-08-12T04:00:00",5364.25,5396.75,5347.75,5369.75,1219995,5369.75,1,1,5364.25,5396.75,5347.75,5369.75,1219995]
[30,"2024-08-09T04:00:00",5348.25,5385.25,5319.5,5370.25,1412017,5370.25,1,1,5348.25,5385.25,5319.5,5370.25,1412017]
[31,"2024-08-08T04:00:00",5208.25,5361,5182,5348.25,1912347,5348.25,1,1,5208.25,5361,5182,5348.25,1912347]
[32,"2024-08-07T04:00:00",5241.5,5359.25,5196.75,5227.5,2247229,5227.5,1,1,5241.5,5359.25,5196.75,5227.5,2247229]
[33,"2024-08-06T04:00:00",5250,5342,5221.75,5266.25,2172067,5266.25,1,1,5250,5342,5221.75,5266.25,2172067]
[34,"2024-08-05T04:00:00",5330,5345.5,5120,5217.5,3436090,5217.5,1,1,5330,5345.5,5120,5217.5,3436090]
[35,"2024-08-02T04:00:00",5464.25,5473.25,5331.75,5376,3239738,5376,1,1,5464.25,5473.25,5331.75,5376,3239738]
[36,"2024-08-01T04:00:00",5574.75,5600.75,5444.75,5480.25,2751690,5480.25,1,1,5574.75,5600.75,5444.75,5480.25,2751690]
[37,"2024-07-31T04:00:00",5454.75,5588.5,5451.5,5558,2156505,5558,1,1,5454.75,5588.5,5451.5,5558,2156505]
[38,"2024-07-30T04:00:00",5504.5,5527.5,5433,5472.5,2053956,5472.5,1,1,5504.5,5527.5,5433,5472.5,2053956]
[39,"2024-07-29T04:00:00",5496.5,5534.5,5481,5503,1697647,5503,1,1,5496.5,5534.5,5481,5503,1697647]
[40,"2024-07-26T04:00:00",5446,5528.25,5445.25,5499,1977698,5499,1,1,5446,5528.25,5445.25,5499,1977698]
[41,"2024-07-25T04:00:00",5482.5,5533.25,5432.5,5441.25,2888086,5441.25,1,1,5482.5,5533.25,5432.5,5441.25,2888086]
[42,"2024-07-24T04:00:00",5585,5585,5462,5472,2178690,5472,1,1,5585,5585,5462,5472,2178690]
[43,"2024-07-23T04:00:00",5607.75,5629.75,5587.75,5599.25,1385653,5599.25,1,1,5607.75,5629.75,5587.75,5599.25,1385653]
[44,"2024-07-22T04:00:00",5564.5,5616,5553.5,5610.75,1671918,5610.75,1,1,5564.5,5616,5553.5,5610.75,1671918]
[45,"2024-07-19T04:00:00",5602.5,5607.5,5542,5553.75,2106581,5553.75,1,1,5602.5,5607.5,5542,5553.75,2106581]
[46,"2024-07-18T04:00:00",5644,5664,5570.25,5594.5,2528379,5594.5,1,1,5644,5664,5570.25,5594.5,2528379]
[47,"2024-07-17T04:00:00",5715,5717.75,5631.75,5639,2059862,5639,1,1,5715,5717.75,5631.75,5639,2059862]
[48,"2024-07-16T04:00:00",5688.75,5721.25,5673,5717.25,1485113,5717.25,1,1,5688.75,5721.25,5673,5717.25,1485113]
[49,"2024-07-15T04:00:00",5681,5718.75,5665.5,5683,1701349,5683,1,1,5681,5718.75,5665.5,5683,1701349]
[50,"2024-07-12T04:00:00",5638.5,5708.25,5621.25,5664.75,1684437,5664.75,1,1,5638.5,5708.25,5621.25,5664.75,1684437]
[51,"2024-07-11T04:00:00",5684.25,5707.75,5630,5639.75,1970766,5639.75,1,1,5684.25,5707.75,5630,5639.75,1970766]
[52,"2024-07-10T04:00:00",5631.75,5690.5,5630.75,5688,1200224,5688,1,1,5631.75,5690.5,5630.75,5688,1200224]
[53,"2024-07-09T04:00:00",5627.75,5645.75,5626.25,5631.25,1063568,5631.25,1,1,5627.75,5645.75,5626.25,5631.25,1063568]
[54,"2024-07-08T04:00:00",5612,5637.5,5610.75,5625.25,981186,5625.25,1,1,5612,5637.5,5610.75,5625.25,981186]
[55,"2024-07-05T04:00:00",5591,5626,5585,5621.5,1233173,5621.5,1,1,5591,5626,5585,5621.5,1233173]
[56,"2024-07-03T13:30:00",5563.75,5595.75,5559.75,5590.25,808966,5590.25,1,1,5563.75,5595.75,5559.75,5590.25,808966]
[57,"2024-07-02T04:00:00",5533.5,5569.75,5502.75,5568.75,1315097,5568.75,1,1,5533.5,5569.75,5502.75,5568.75,1315097]
[58,"2024-07-01T04:00:00",5534.25,5541,5504.5,5533.75,1432355,5533.75,1,1,5534.25,5541,5504.5,5533.75,1432355]
[59,"2024-06-28T04:00:00",5548.25,5585,5510.75,5521.5,1855777,5521.5,1,1,5548.25,5585,5510.75,5521.5,1855777]
[60,"2024-06-27T04:00:00",5533,5555,5515.75,5546,1257121,5546,1,1,5533,5555,5515.75,5546,1257121]
[61,"2024-06-26T04:00:00",5535,5551.75,5516.25,5543.5,1197372,5543.5,1,1,5535,5551.75,5516.25,5543.5,1197372]
[62,"2024-06-25T04:00:00",5516,5539.75,5511,5537,1141183,5537,1,1,5516,5539.75,5511,5537,1141183]
[63,"2024-06-24T04:00:00",5538.5,5558.5,5510.25,5517,1410359,5517,1,1,5538.5,5558.5,5510.25,5517,1410359]
[64,"2024-06-21T04:00:00",5477,5483.75,5460.5,5471.89,1392213,5471.89,1,1,5477,5483.75,5460.5,5471.89,1392213]
[65,"2024-06-20T04:00:00",5492.75,5518.5,5458.5,5476.75,571332,5476.75,1,1,5492.75,5518.5,5458.5,5476.75,571332]
[66,"2024-06-18T04:00:00",5480.25,5494,5473.5,5491,820053,5491,{"$f":"IF(F81=0,1,H81/F81)","v":1},{"$f":"INDEX(OFFSET($T$15,0,0,$S$13+1,1),MATCH(B81,OFFSET($Q$15,0,0,$S$13+1,1),-1))","v":1},{"$f":"ROUND($I81*C81,2)","v":5480.25},{"$f":"ROUND($I81*D81,2)","v":5494},{"$f":"ROUND($I81*E81,2)","v":5473.5},{"$f":"ROUND($I81*F81,2)","v":5491},{"$f":"G81*J81","v":820053}]
[67,"2024-06-17T04:00:00",5435.5,5494,5424.75,5478.5,1589643,5478.5,1,1,5435.5,5494,5424.75,5478.5,1589643]
[68,"2024-06-14T04:00:00",5436,5443,5397.75,5437.5,1789793,5437.5,1,1,5436,5443,5397.75,5437.5,1789793]
[69,"2024-06-13T04:00:00",5436.25,5452.75,5408.5,5438.5,1682858,5438.5,1,1,5436.25,5452.75,5408.5,5438.5,1682858]
[70,"2024-06-12T04:00:00",5384.5,5454.5,5380,5427.5,1899786,5427.5,1,1,5384.5,5454.5,5380,5427.5,1899786]
[71,"2024-06-11T04:00:00",5369.75,5386.25,5334.5,5384,1413433,5384,1,1,5369.75,5386.25,5334.5,5384,1413433]
[72,"2024-06-10T04:00:00",5351.5,5375.75,5338.25,5371.25,1185881,5371.25,1,1,5351.5,5375.75,5338.25,5371.25,1185881]
[73,"2024-06-07T04:00:00",5362,5385.5,5329,5355.75,1591439,5355.75,1,1,5362,5385.5,5329,5355.75,1591439]
[74,"2024-06-06T04:00:00",5367.75,5373.25,5345.25,5364,1228240,5364,1,1,5367.75,5373.25,5345.25,5364,1228240]
[75,"2024-06-05T04:00:00",5305,5368.25,5302.5,5366,1450596,5366,1,1,5305,5368.25,5302.5,5366,1450596]
[76,"2024-06-04T04:00:00",5300.25,5312.25,5262,5304,1679093,5304,1,1,5300.25,5312.25,5262,5304,1679093]
[77,"2024-06-03T04:00:00",5299.5,5313.25,5246.75,5297.25,1785532,5297.25,1,1,5299.5,5313.25,5246.75,5297.25,1785532]
[78,"2024-05-31T04:00:00",5250.5,5307,5205.5,5295.5,2452894,5295.5,1,1,5250.5,5307,5205.5,5295.5,2452894]
[79,"2024-05-30T04:00:00",5270.5,5277,5238.25,5253,1495148,5253,1,1,5270.5,5277,5238.25,5253,1495148]
[80,"2024-05-29T04:00:00",5323.75,5324,5268.25,5284,1445855,5284,1,1,5323.75,5324,5268.25,5284,1445855]
[81,"2024-05-28T04:00:00",5321.75,5339,5296.75,5324.75,1387872,5324.75,1,1,5321.75,5339,5296.75,5324.75,1387872]
[82,"2024-05-24T04:00:00",5285.75,5329.25,5285.75,5321.5,1264244,5321.5,1,1,5285.75,5329.25,5285.75,5321.5,1264244]
[83,"2024-05-23T04:00:00",5339,5368.25,5273.5,5285.25,2012153,5285.25,1,1,5339,5368.25,5273.5,5285.25,2012153]
[84,"2024-05-22T04:00:00",5343.5,5349.25,5306.75,5328,1257477,5328,1,1,5343.5,5349.25,5306.75,5328,1257477]
[85,"2024-05-21T04:00:00",5331.75,5347.5,5322.5,5345.25,1011849,5345.25,1,1,5331.75,5347.5,5322.5,5345.25,1011849]
[86,"2024-05-20T04:00:00",5329.25,5348.25,5323.75,5331.75,1031456,5331.75,1,1,5329.25,5348.25,5323.75,5331.75,1031456]
[87,"2024-05-17T04:00:00",5318.25,5328.75,5305.75,5327.25,1052765,5327.25,1,1,5318.25,5328.75,5305.75,5327.25,1052765]
[88,"2024-05-16T04:00:00",5331.5,5349,5315.5,5320.25,1207843,5320.25,1,1,5331.5,5349,5315.5,5320.25,1207843]
[89,"2024-05-15T04:00:00",5268.5,5337.25,5266.25,5333,1391029,5333,1,1,5268.5,5337.25,5266.25,5333,1391029]
[90,"2024-05-14T04:00:00",5241.75,5274.25,5216.75,5269.5,1252615,5269.5,1,1,5241.75,5274.25,5216.75,5269.5,1252615]
[91,"2024-05-13T04:00:00",5240.5,5264,5233.25,5245.5,922763,5245.5,1,1,5240.5,5264,5233.25,5245.5,922763]
[92,"2024-05-10T04:00:00",5240.75,5264,5232.75,5246.25,1112925,5246.25,1,1,5240.75,5264,5232.75,5246.25,1112925]
[93,"2024-05-09T04:00:00",5209.25,5244.75,5195,5239,1094931,5239,1,1,5209.25,5244.75,5195,5239,1094931]
[94,"2024-05-08T04:00:00",5211.75,5218,5188.75,5212.75,1013418,5212.75,1,1,5211.75,5218,5188.75,5212.75,1013418]
[95,"2024-05-07T04:00:00",5204.75,5226.75,5202.25,5213.75,1106457,5213.75,1,1,5204.75,5226.75,5202.25,5213.75,1106457]
[96,"2024-05-06T04:00:00",5166.75,5207.75,5155.75,5206.5,1019307,5206.5,1,1,5166.75,5207.75,5155.75,5206.5,1019307]
[97,"2024-05-03T04:00:00",5110.25,5166.75,5099.25,5154.75,1604172,5154.75,1,1,5110.25,5166.75,5099.25,5154.75,1604172]
[98,"2024-05-02T04:00:00",5057,5113,5036.25,5091.5,1573131,5091.5,1,1,5057,5113,5036.25,5091.5,1573131]
[99,"2024-05-01T04:00:00",5050,5126.75,5037.75,5046.5,1955160,5046.5,1,1,5050,5126.75,5037.75,5046.5,1955160]
[100,"2024-04-30T04:00:00",5148.5,5148.5,5051,5067,1675335,5067,1,1,5148.5,5148.5,5051,5067,1675335]
[101,"2024-04-29T04:00:00",5140.25,5154.25,5118.75,5147,1163440,5147,1,1,5140.25,5154.25,5118.75,5147,1163440]
[102,"2024-04-26T04:00:00",5132,5146.5,5104.5,5131.5,1455855,5131.5,1,1,5132,5146.5,5104.5,5131.5,1455855]
[103,"2024-04-25T04:00:00",5070,5132.75,5022.25,5082.25,1887635,5082.25,1,1,5070,5132.75,5022.25,5082.25,1887635]
[104,"2024-04-24T04:00:00",5115.25,5128.75,5072.25,5107.5,1512469,5107.5,1,1,5115.25,5128.75,5072.25,5107.5,1512469]
[105,"2024-04-23T04:00:00",5051,5113.5,5037.75,5106.5,1357493,5106.5,1,1,5051,5113.5,5037.75,5106.5,1357493]
[106,"2024-04-22T04:00:00",5014.25,5076.75,5006,5047.5,1584393,5047.5,1,1,5014.25,5076.75,5006,5047.5,1584393]
[107,"2024-04-19T04:00:00",5047.25,5058,4963.5,5003.75,2357143,5003.75,1,1,5047.25,5058,4963.5,5003.75,2357143]
[108,"2024-04-18T04:00:00",5063,5095.25,5038.5,5049,1701401,5049,1,1,5063,5095.25,5038.5,5049,1701401]
[109,"2024-04-17T04:00:00",5096.25,5120.5,5047,5062.25,1928645,5062.25,1,1,5096.25,5120.5,5047,5062.25,1928645]
[110,"2024-04-16T04:00:00",5101.25,5123.25,5078.75,5092.5,2098015,5092.5,1,1,5101.25,5123.25,5078.75,5092.5,2098015]
[111,"2024-04-15T04:00:00",5166.5,5213.25,5094,5104,2226105,5104,1,1,5166.5,5213.25,5094,5104,2226105]
[112,"2024-04-12T04:00:00",5244,5248.75,5150,5167.5,2005106,5167.5,1,1,5244,5248.75,5150,5167.5,2005106]
[113,"2024-04-11T04:00:00",5202,5257.5,5173.5,5243.25,1762470,5243.25,1,1,5202,5257.5,5173.5,5243.25,1762470]
[114,"2024-04-10T04:00:00",5264.25,5285,5176.5,5207.75,2369864,5207.75,1,1,5264.25,5285,5176.5,5207.75,2369864]
[115,"2024-04-09T04:00:00",5258,5274.25,5208.25,5260.25,1651973,5260.25,1,1,5258,5274.25,5208.25,5260.25,1651973]
[116,"2024-04-08T04:00:00",5263.25,5269.25,5236.5,5253.25,1167648,5253.25,1,1,5263.25,5269.25,5236.5,5253.25,1167648]
[117,"2024-04-05T04:00:00",5199.75,5272.5,5191.5,5253,1908306,5253,1,1,5199.75,5272.5,5191.5,5253,1908306]
[118,"2024-04-04T04:00:00",5270.75,5308.5,5192.5,5197.25,1941274,5197.25,1,1,5270.75,5308.5,5192.5,5197.25,1941274]
[119,"2024-04-03T04:00:00",5262.5,5280.75,5244.5,5266.5,1402981,5266.5,1,1,5262.5,5280.75,5244.5,5266.5,1402981]
[120,"2024-04-02T04:00:00",5294.5,5296,5235,5260.5,1426691,5260.5,1,1,5294.5,5296,5235,5260.5,1426691]
[121,"2024-04-01T04:00:00",5314.25,5333.5,5282.25,5295.25,1125234,5295.25,1,1,5314.25,5333.5,5282.25,5295.25,1125234]
[122,"2024-03-28T04:00:00",5308,5321,5301,5308.5,1317836,5308.5,1,1,5308,5321,5301,5308.5,1317836]
[123,"2024-03-27T04:00:00",5273.25,5313.75,5270.75,5308.25,1487671,5308.25,1,1,5273.25,5313.75,5270.75,5308.25,1487671]
[124,"2024-03-26T04:00:00",5280.75,5300.5,5263,5265.25,1092706,5265.25,1,1,5280.75,5300.5,5263,5265.25,1092706]
[125,"2024-03-25T04:00:00",5290.5,5295,5272.5,5278.25,920608,5278.25,1,1,5290.5,5295,5272.5,5278.25,920608]
[126,"2024-03-22T04:00:00",5306.75,5311.75,5287.75,5293.25,1162606,5293.25,1,1,5306.75,5311.75,5287.75,5293.25,1162606]
[127,"2024-03-21T04:00:00",5294.75,5322.75,5293.5,5302.5,1326994,5302.5,1,1,5294.75,5322.75,5293.5,5302.5,1326994]
[128,"2024-03-20T04:00:00",5239.75,5297.75,5233,5286.75,1404974,5286.75,1,1,5239.75,5297.75,5233,5286.75,1404974]
[129,"2024-03-19T04:00:00",5215.25,5244.75,5186,5241.75,1440289,5241.75,1,1,5215.25,5244.75,5186,5241.75,1440289]
[130,"2024-03-18T04:00:00",5185.75,5240.25,5181.75,5214.75,1377276,5214.75,{"$f":"IF(F145=0,1,H145/F145)","v":1},{"$f":"INDEX(OFFSET($T$15,0,0,$S$13+1,1),MATCH(B145,OFFSET($Q$15,0,0,$S$13+1,1),-1))","v":1},{"$f":"ROUND($I145*C145,2)","v":5185.75},{"$f":"ROUND($I145*D145,2)","v":5240.25},{"$f":"ROUND($I145*E145,2)","v":5181.75},{"$f":"ROUND($I145*F145,2)","v":5214.75},{"$f":"G145*J145","v":1377276}]
[131,"2024-03-15T04:00:00",5152.25,5167,5101.67,5101.67,1927775,5101.67,1,1,5152.25,5167,5101.67,5101.67,1927775]
[132,"2024-03-14T04:00:00",5171.5,5189.5,5124.25,5153.75,476074,5153.75,1,1,5171.5,5189.5,5124.25,5153.75,476074]
[133,"2024-03-13T04:00:00",5176,5183.75,5153,5168,540170,5168,1,1,5176,5183.75,5153,5168,540170]
[134,"2024-03-12T04:00:00",5129,5183,5112.75,5177.25,1211911,5177.25,1,1,5129,5183,5112.75,5177.25,1211911]
[135,"2024-03-11T04:00:00",5132.5,5133.25,5094.75,5123,1840000,5123,1,1,5132.5,5133.25,5094.75,5123,1840000]
[136,"2024-03-08T05:00:00",5159.25,5193,5121.75,5129,2786680,5129,1,1,5159.25,5193,5121.75,5129,2786680]
[137,"2024-03-07T05:00:00",5114.25,5170.5,5086.5,5161.75,1791666,5161.75,1,1,5114.25,5170.5,5086.5,5161.75,1791666]
[138,"2024-03-06T05:00:00",5091,5134.5,5083.75,5111.75,1996223,5111.75,1,1,5091,5134.5,5083.75,5111.75,1996223]
[139,"2024-03-05T05:00:00",5133.75,5135.5,5063,5085.75,1885769,5085.75,1,1,5133.75,5135.5,5063,5085.75,1885769]
[140,"2024-03-04T05:00:00",5142,5157.75,5132,5138.25,1208040,5138.25,1,1,5142,5157.75,5132,5138.25,1208040]
[141,"2024-03-01T05:00:00",5101.5,5149.25,5089.25,5146,1597331,5146,1,1,5101.5,5149.25,5089.25,5146,1597331]
[142,"2024-02-29T05:00:00",5072,5114.5,5060,5103.75,1790702,5103.75,1,1,5072,5114.5,5060,5103.75,1790702]
[143,"2024-02-28T05:00:00",5090.75,5091.25,5063.25,5081,1201011,5081,1,1,5090.75,5091.25,5063.25,5081,1201011]
[144,"2024-02-27T05:00:00",5077.5,5093,5067,5090,1026819,5090,1,1,5077.5,5093,5067,5090,1026819]
[145,"2024-02-26T05:00:00",5095,5108,5076.25,5080.25,1094682,5080.25,1,1,5095,5108,5076.25,5080.25,1094682]
[146,"2024-02-23T05:00:00",5094.25,5123.5,5092,5101.5,1340050,5101.5,1,1,5094.25,5123.5,5092,5101.5,1340050]
[147,"2024-02-22T05:00:00",5016,5107.75,5015.25,5097.75,1738869,5097.75,1,1,5016,5107.75,5015.25,5097.75,1738869]
[148,"2024-02-21T05:00:00",4990,5020.5,4959,4996.25,1485687,4996.25,1,1,4990,5020.5,4959,4996.25,1485687]
[149,"2024-02-20T05:00:00",5016.5,5029.5,4968.25,4991.5,1609827,4991.5,1,1,5016.5,5029.5,4968.25,4991.5,1609827]
[150,"2024-02-16T05:00:00",5049.5,5059.25,5012.75,5019.75,1527729,5019.75,1,1,5049.5,5059.25,5012.75,5019.75,1527729]
[151,"2024-02-15T05:00:00",5017.5,5051.75,5011,5046.5,1361757,5046.5,1,1,5017.5,5051.75,5011,5046.5,1361757]
[152,"2024-02-14T05:00:00",4974.25,5022.5,4968.75,5018,1632071,5018,1,1,4974.25,5022.5,4968.75,5018,1632071]
[153,"2024-02-13T05:00:00",5034,5040,4936.5,4971.25,2112726,4971.25,1,1,5034,5040,4936.5,4971.25,2112726]
[154,"2024-02-12T05:00:00",5042.5,5066.5,5031.5,5041.25,1141487,5041.25,1,1,5042.5,5066.5,5031.5,5041.25,1141487]
[155,"2024-02-09T05:00:00",5014.5,5048.5,5013,5044,1212336,5044,1,1,5014.5,5048.5,5013,5044,1212336]
[156,"2024-02-08T05:00:00",5015.75,5020,5003.75,5017.75,997431,5017.75,1,1,5015.75,5020,5003.75,5017.75,997431]
[157,"2024-02-07T05:00:00",4971.5,5020,4970,5015.25,1336172,5015.25,1,1,4971.5,5020,4970,5015.25,1336172]
[158,"2024-02-06T05:00:00",4959.5,4978.25,4954.5,4974.75,1267419,4974.75,1,1,4959.5,4978.25,4954.5,4974.75,1267419]
[159,"2024-02-05T05:00:00",4976,4980.75,4937.75,4962,1504676,4962,1,1,4976,4980.75,4937.75,4962,1504676]
[160,"2024-02-02T05:00:00",4952.75,4997.75,4925.75,4980.25,1957796,4980.25,1,1,4952.75,4997.75,4925.75,4980.25,1957796]
[161,"2024-02-01T05:00:00",4874.5,4963.75,4872.5,4928.5,1835510,4928.5,1,1,4874.5,4963.75,4872.5,4928.5,1835510]
[162,"2024-01-31T05:00:00",4930.25,4938,4866,4870.5,2285993,4870.5,1,1,4930.25,4938,4866,4870.5,2285993]
[163,"2024-01-30T05:00:00",4950.25,4957.25,4933,4951,1157425,4951,1,1,4950.25,4957.25,4933,4951,1157425]
[164,"2024-01-29T05:00:00",4908.75,4956,4901.75,4954.5,1197989,4954.5,1,1,4908.75,4956,4901.75,4954.5,1197989]
[165,"2024-01-26T05:00:00",4919.25,4934.25,4898.5,4916.25,1363612,4916.25,1,1,4919.25,4934.25,4898.5,4916.25,1363612]
[166,"2024-01-25T05:00:00",4899.5,4926.5,4893.25,4923.25,1532026,4923.25,1,1,4899.5,4926.5,4893.25,4923.25,1532026]
[167,"2024-01-24T05:00:00",4900.25,4933.25,4889,4898,1586824,4898,1,1,4900.25,4933.25,4889,4898,1586824]
[168,"2024-01-23T05:00:00",4881.75,4902,4874.25,4895,1130749,4895,1,1,4881.75,4902,4874.25,4895,1130749]
[169,"2024-01-22T05:00:00",4872.5,4898.25,4872.5,4881,1356050,4881,1,1,4872.5,4898.25,4872.5,4881,1356050]
[170,"2024-01-19T05:00:00",4811.25,4874.25,4808.5,4869.5,1876757,4869.5,1,1,4811.25,4874.25,4808.5,4869.5,1876757]
[171,"2024-01-18T05:00:00",4768,4817,4763.5,4811.25,1746936,4811.25,1,1,4768,4817,4763.5,4811.25,1746936]
[172,"2024-01-17T05:00:00",4799.75,4800.75,4746.25,4771.25,1663328,4771.25,1,1,4799.75,4800.75,4746.25,4771.25,1663328]
[173,"2024-01-16T05:00:00",4812,4823,4779.5,4798.5,1905532,4798.5,1,1,4812,4823,4779.5,4798.5,1905532]
[174,"2024-01-12T05:00:00",4811.25,4836.5,4791.5,4816.5,1519899,4816.5,1,1,4811.25,4836.5,4791.5,4816.5,1519899]
[175,"2024-01-11T05:00:00",4820.5,4838,4772.75,4815.5,1795564,4815.5,1,1,4820.5,4838,4772.75,4815.5,1795564]
[176,"2024-01-10T05:00:00",4790.75,4828.5,4786,4820.25,1377780,4820.25,1,1,4790.75,4828.5,4786,4820.25,1377780]
[177,"2024-01-09T05:00:00",4797.75,4804,4767.5,4792.75,1369103,4792.75,1,1,4797.75,4804,4767.5,4792.75,1369103]
[178,"2024-01-08T05:00:00",4735.75,4803.25,4715.25,4801.25,1417728,4801.25,1,1,4735.75,4803.25,4715.25,4801.25,1417728]
[179,"2024-01-05T05:00:00",4732.75,4760.25,4702,4734.75,1767245,4734.75,1,1,4732.75,4760.25,4702,4734.75,1767245]
[180,"2024-01-04T05:00:00",4750,4766.5,4727,4729.5,1395366,4729.5,1,1,4750,4766.5,4727,4729.5,1395366]
[181,"2024-01-03T05:00:00",4790.75,4790.75,4741,4746.5,1707174,4746.5,1,1,4790.75,4790.75,4741,4746.5,1707174]
[182,"2024-01-02T05:00:00",4818,4828,4765.5,4787.25,1678142,4787.25,1,1,4818,4828,4765.5,4787.25,1678142]
[183,"2023-12-29T05:00:00",4834.75,4841,4796.75,4820,1281733,4820,1,1,4834.75,4841,4796.75,4820,1281733]
[184,"2023-12-28T05:00:00",4834.5,4841.5,4828,4832.25,927035,4832.25,1,1,4834.5,4841.5,4828,4832.25,927035]
[185,"2023-12-27T05:00:00",4827.75,4836.5,4816.5,4833.5,1042284,4833.5,1,1,4827.75,4836.5,4816.5,4833.5,1042284]
[186,"2023-12-26T05:00:00",4800.25,4834.5,4800.25,4825,688201,4825,1,1,4800.25,4834.5,4800.25,4825,688201]
[187,"2023-12-22T05:00:00",4795.75,4821.75,4784.75,4805.25,1326697,4805.25,1,1,4795.75,4821.75,4784.75,4805.25,1326697]
[188,"2023-12-21T05:00:00",4751,4798.25,4751,4796.75,1687065,4796.75,1,1,4751,4798.25,4751,4796.75,1687065]
[189,"2023-12-20T05:00:00",4818.5,4830.75,4743.25,4749.75,1749145,4749.75,1,1,4818.5,4830.75,4743.25,4749.75,1749145]
[190,"2023-12-19T05:00:00",4790.5,4821.5,4787.75,4820.25,1122973,4820.25,1,1,4790.5,4821.5,4787.75,4820.25,1122973]
[191,"2023-12-18T05:00:00",4770.5,4802.25,4769.5,4793,1139029,4793,1,1,4770.5,4802.25,4769.5,4793,1139029]
[192,"2023-12-15T05:00:00",4716,4736.5,4694.2700000000004,4694.2700000000004,1801823,4694.2700000000004,1,1,4716,4736.5,4694.2700000000004,4694.2700000000004,1801823]
[193,"2023-12-14T05:00:00",4708,4739.25,4694.25,4721.75,560819,4721.75,1,1,4708,4739.25,4694.25,4721.75,560819]
[194,"2023-12-13T05:00:00",4649,4711.75,4645,4708.25,739684,4708.25,{"$f":"IF(F209=0,1,H209/F209)","v":1},{"$f":"INDEX(OFFSET($T$15,0,0,$S$13+1,1),MATCH(B209,OFFSET($Q$15,0,0,$S$13+1,1),-1))","v":1},{"$f":"ROUND($I209*C209,2)","v":4649},{"$f":"ROUND($I209*D209,2)","v":4711.75},{"$f":"ROUND($I209*E209,2)","v":4645},{"$f":"ROUND($I209*F209,2)","v":4708.25},{"$f":"G209*J209","v":739684}]
[195,"2023-12-12T05:00:00",4625,4649.75,4610.5,4645.75,1052077,4645.75,1,1,4625,4649.75,4610.5,4645.75,1052077]
[196,"2023-12-11T05:00:00",4607.75,4627.25,4599.5,4626,1663229,4626,1,1,4607.75,4627.25,4599.5,4626,1663229]
[197,"2023-12-08T05:00:00",4586.5,4613.75,4561.75,4607.5,2289425,4607.5,1,1,4586.5,4613.75,4561.75,4607.5,2289425]
[198,"2023-12-07T05:00:00",4556,4596,4548.75,4589.5,1832361,4589.5,1,1,4556,4596,4548.75,4589.5,1832361]
[199,"2023-12-06T05:00:00",4573.25,4598.5,4552,4556,1837961,4556,1,1,4573.25,4598.5,4552,4556,1837961]
[200,"2023-12-05T05:00:00",4573,4585.5,4555.5,4575,1890825,4575,1,1,4573,4585.5,4555.5,4575,1890825]
[201,"2023-12-04T05:00:00",4603.25,4604.5,4553.5,4576.5,1818991,4576.5,1,1,4603.25,4604.5,4553.5,4576.5,1818991]
[202,"2023-12-01T05:00:00",4571.75,4607.75,4562.5,4600.75,1914151,4600.75,1,1,4571.75,4607.75,4562.5,4600.75,1914151]
[203,"2023-11-30T05:00:00",4562.25,4579.5,4544.75,4576.75,2056268,4576.75,1,1,4562.25,4579.5,4544.75,4576.75,2056268]
[204,"2023-11-29T05:00:00",4564,4597,4555.5,4559.25,1592398,4559.25,1,1,4564,4597,4555.5,4559.25,1592398]
[205,"2023-11-28T05:00:00",4561.5,4577.25,4547,4563,1441119,4563,1,1,4561.5,4577.25,4547,4563,1441119]
[206,"2023-11-27T05:00:00",4568.5,4570,4552,4561,1124213,4561,1,1,4568.5,4570,4552,4561,1124213]
[207,"2023-11-24T14:30:00",4564,4574,4562,4568.25,572702,4568.25,1,1,4564,4574,4562,4568.25,572702]
[208,"2023-11-23T05:00:00",4564,4572.75,4562,4569.5,1403636,4569.5,1,1,4564,4572.75,4562,4569.5,1403636]
[209,"2023-11-22T05:00:00",4547.75,4580.5,4543,4567.25,1403636,4567.25,1,1,4547.75,4580.5,4543,4567.25,1403636]
[210,"2023-11-21T05:00:00",4561.75,4567,4536.75,4551.25,1101669,4551.25,1,1,4561.75,4567,4536.75,4551.25,1101669]
[211,"2023-11-20T05:00:00",4526.75,4571,4520,4562.25,1220790,4562.25,1,1,4526.75,4571,4520,4562.25,1220790]
[212,"2023-11-17T05:00:00",4527.75,4539.5,4512.75,4527.5,1331912,4527.5,1,1,4527.75,4539.5,4512.75,4527.5,1331912]
[213,"2023-11-16T05:00:00",4514.25,4529.5,4501.75,4523.25,1491734,4523.25,1,1,4514.25,4529.5,4501.75,4523.25,1491734]
[214,"2023-11-15T05:00:00",4515.5,4541.25,4510.75,4519.25,1573452,4519.25,1,1,4515.5,4541.25,4510.75,4519.25,1573452]
[215,"2023-11-14T05:00:00",4427.25,4524.25,4420.25,4511,1901847,4511,1,1,4427.25,4524.25,4420.25,4511,1901847]
[216,"2023-11-13T05:00:00",4425.75,4436.75,4407.25,4425.25,1276182,4425.25,1,1,4425.75,4436.75,4407.25,4425.25,1276182]
[217,"2023-11-10T05:00:00",4364.5,4435.5,4354.25,4430.5,1752002,4430.5,1,1,4364.5,4435.5,4354.25,4430.5,1752002]
[218,"2023-11-09T05:00:00",4393.25,4413,4357.75,4362.25,1972630,4362.25,1,1,4393.25,4413,4357.75,4362.25,1972630]
[219,"2023-11-08T05:00:00",4397.5,4407.75,4375,4399.5,1390288,4399.5,1,1,4397.5,4407.75,4375,4399.5,1390288]
[220,"2023-11-07T05:00:00",4380,4403.25,4366,4396,1371257,4396,1,1,4380,4403.25,4366,4396,1371257]
[221,"2023-11-06T05:00:00",4379.25,4389.5,4364.25,4384.25,1348878,4384.25,1,1,4379.25,4389.5,4364.25,4384.25,1348878]
[222,"2023-11-03T04:00:00",4327.5,4391.75,4325.5,4376,1803552,4376,1,1,4327.5,4391.75,4325.5,4376,1803552]
[223,"2023-11-02T04:00:00",4258.5,4339.75,4257.75,4335.75,1819596,4335.75,1,1,4258.5,4339.75,4257.75,4335.75,1819596]
[224,"2023-11-01T04:00:00",4205,4264.75,4191.25,4256,2027080,4256,1,1,4205,4264.75,4191.25,4256,2027080]
[225,"2023-10-31T04:00:00",4184.25,4215,4166.75,4212.25,1836212,4212.25,1,1,4184.25,4215,4166.75,4212.25,1836212]
[226,"2023-10-30T04:00:00",4148,4197.5,4143.5,4185.75,1904610,4185.75,1,1,4148,4197.5,4143.5,4185.75,1904610]
[227,"2023-10-27T04:00:00",4167,4185,4122.25,4137.75,2195767,4137.75,1,1,4167,4185,4122.25,4137.75,2195767]
[228,"2023-10-26T04:00:00",4202,4205,4146.25,4156.5,2419407,4156.5,1,1,4202,4205,4146.25,4156.5,2419407]
[229,"2023-10-25T04:00:00",4269.5,4273.5,4203.75,4209.75,1981633,4209.75,1,1,4269.5,4273.5,4203.75,4209.75,1981633]
[230,"2023-10-24T04:00:00",4250.25,4290.5,4242,4271.25,1807092,4271.25,1,1,4250.25,4290.5,4242,4271.25,1807092]
[231,"2023-10-23T04:00:00",4256.25,4280.75,4213.25,4241.75,1963670,4241.75,1,1,4256.25,4280.75,4213.25,4241.75,1963670]
[232,"2023-10-20T04:00:00",4295,4304.25,4243.5,4248.5,2328806,4248.5,1,1,4295,4304.25,4243.5,4248.5,2328806]
[233,"2023-10-19T04:00:00",4346.5,4366.5,4292.75,4303,2741942,4303,1,1,4346.5,4366.5,4292.75,4303,2741942]
[234,"2023-10-18T04:00:00",4398,4399.25,4330.75,4342.25,2271572,4342.25,1,1,4398,4399.25,4330.75,4342.25,2271572]
[235,"2023-10-17T04:00:00",4406.25,4423.25,4365.75,4401.75,1879736,4401.75,1,1,4406.25,4423.25,4365.75,4401.75,1879736]
[236,"2023-10-16T04:00:00",4356.75,4414.25,4354.5,4401,1668948,4401,1,1,4356.75,4414.25,4354.5,4401,1668948]
[237,"2023-10-13T04:00:00",4380.75,4407.75,4340.75,4357.25,2159101,4357.25,1,1,4380.75,4407.75,4340.75,4357.25,2159101]
[238,"2023-10-12T04:00:00",4417.75,4430.5,4355.5,4380.5,1881573,4380.5,1,1,4417.75,4430.5,4355.5,4380.5,1881573]
[239,"2023-10-11T04:00:00",4392,4419.75,4377.25,4409.75,1489644,4409.75,1,1,4392,4419.75,4377.25,4409.75,1489644]
[240,"2023-10-10T04:00:00",4368.75,4419,4366.25,4391.5,1610271,4391.5,1,1,4368.75,4419,4366.25,4391.5,1610271]
[241,"2023-10-09T04:00:00",4315,4375.75,4299.5,4368.75,1485254,4368.75,1,1,4315,4375.75,4299.5,4368.75,1485254]
[242,"2023-10-06T04:00:00",4287.5,4358.5,4242.25,4341.5,2216456,4341.5,1,1,4287.5,4358.5,4242.25,4341.5,2216456]
[243,"2023-10-05T04:00:00",4291.5,4302,4258,4290.75,1673477,4290.75,1,1,4291.5,4302,4258,4290.75,1673477]
[244,"2023-10-04T04:00:00",4262.75,4304,4235.5,4297.75,2168271,4297.75,1,1,4262.75,4304,4235.5,4297.75,2168271]
[245,"2023-10-03T04:00:00",4326,4335.75,4251.25,4264.75,2256808,4264.75,1,1,4326,4335.75,4251.25,4264.75,2256808]
[246,"2023-10-02T04:00:00",4349,4355.5,4295.5,4324.25,1950463,4324.25,1,1,4349,4355.5,4295.5,4324.25,1950463]
[247,"2023-09-29T04:00:00",4342,4371.25,4311,4325.5,2106053,4325.5,1,1,4342,4371.25,4311,4325.5,2106053]
[248,"2023-09-28T04:00:00",4323.25,4355.75,4301,4337.5,2012088,4337.5,1,1,4323.25,4355.75,4301,4337.5,2012088]
[249,"2023-09-27T04:00:00",4320.25,4336.5,4277,4313.5,1965913,4313.5,1,1,4320.25,4336.5,4277,4313.5,1965913]
[250,"2023-09-26T04:00:00",4382,4382,4305.5,4314.75,1758048,4314.75,1,1,4382,4382,4305.5,4314.75,1758048]
[251,"2023-09-25T04:00:00",4365,4383.5,4338.25,4378.75,1561595,4378.75,1,1,4365,4383.5,4338.25,4378.75,1561595]
[252,"2023-09-22T04:00:00",4370.25,4399,4357.25,4361,1736576,4361,1,1,4370.25,4399,4357.25,4361,1736576]
[253,"2023-09-21T04:00:00",4445,4447,4366.5,4372,1998638,4372,1,1,4445,4447,4366.5,4372,1998638]
[254,"2023-09-20T04:00:00",4491.25,4508,4443.25,4447,1482206,4447,1,1,4491.25,4508,4443.25,4447,1482206]
[255,"2023-09-19T04:00:00",4503.25,4509.5,4462.25,4490,1422950,4490,1,1,4503.25,4509.5,4462.25,4490,1422950]
[256,"2023-09-18T04:00:00",4499.5,4514.5,4487,4501.5,1155158,4501.5,1,1,4499.5,4514.5,4487,4501.5,1155158]
[257,"2023-09-15T04:00:00",4508,4517.75,4480,4491.72,1825966,4491.72,1,1,4508,4517.75,4480,4491.72,1825966]
[258,"2023-09-14T04:00:00",4471.75,4513,4470.25,4506,454906,4506,{"$f":"IF(F273=0,1,H273/F273)","v":1},{"$f":"INDEX(OFFSET($T$15,0,0,$S$13+1,1),MATCH(B273,OFFSET($Q$15,0,0,$S$13+1,1),-1))","v":1},{"$f":"ROUND($I273*C273,2)","v":4471.75},{"$f":"ROUND($I273*D273,2)","v":4513},{"$f":"ROUND($I273*E273,2)","v":4470.25},{"$f":"ROUND($I273*F273,2)","v":4506},{"$f":"G273*J273","v":454906}]
[259,"2023-09-13T04:00:00",4464.5,4481,4446.75,4468.75,690872,4468.75,1,1,4464.5,4481,4446.75,4468.75,690872]
[260,"2023-09-12T04:00:00",4487.75,4491,4458.75,4465,1153961,4465,1,1,4487.75,4491,4458.75,4465,1153961]
[261,"2023-09-11T04:00:00",4463.5,4493.5,4459.25,4490.25,1714266,4490.25,1,1,4463.5,4493.5,4459.25,4490.25,1714266]
[262,"2023-09-08T04:00:00",4458.25,4477.5,4443,4461.75,1686158,4461.75,1,1,4458.25,4477.5,4443,4461.75,1686158]
[263,"2023-09-07T04:00:00",4469.5,4471.75,4434.25,4456.25,1602226,4456.25,1,1,4469.5,4471.75,4434.25,4456.25,1602226]
[264,"2023-09-06T04:00:00",4500,4503.75,4447,4471.5,1600128,4471.5,1,1,4500,4503.75,4447,4471.5,1600128]
[265,"2023-09-05T04:00:00",4521.25,4531.25,4499.25,4502.5,1391805,4502.5,1,1,4521.25,4531.25,4499.25,4502.5,1391805]
[266,"2023-09-01T04:00:00",4516.75,4547.75,4507.25,4521.5,1416762,4521.5,1,1,4516.75,4547.75,4507.25,4521.5,1416762]
[267,"2023-08-31T04:00:00",4527,4541.25,4512.75,4516,1395751,4516,1,1,4527,4541.25,4512.75,4516,1395751]
[268,"2023-08-30T04:00:00",4508.75,4530.75,4496.25,4524.25,1397669,4524.25,1,1,4508.75,4530.75,4496.25,4524.25,1397669]
[269,"2023-08-29T04:00:00",4444,4509.5,4433.5,4506.75,1444714,4506.75,1,1,4444,4509.5,4433.5,4506.75,1444714]
[270,"2023-08-28T04:00:00",4418,4449.5,4414.5,4442.25,1266414,4442.25,1,1,4418,4449.5,4414.5,4442.25,1266414]
[271,"2023-08-25T04:00:00",4384.5,4429,4365.25,4414.25,1853335,4414.25,1,1,4384.5,4429,4365.25,4414.25,1853335]
[272,"2023-08-24T04:00:00",4470.5,4485.5,4378.5,4386,1783795,4386,1,1,4470.5,4485.5,4378.5,4386,1783795]
[273,"2023-08-23T04:00:00",4400,4476.25,4399.5,4447,1306640,4447,1,1,4400,4476.25,4399.5,4447,1306640]
[274,"2023-08-22T04:00:00",4410.25,4440,4394.25,4399.25,1375651,4399.25,1,1,4410.25,4440,4394.25,4399.25,1375651]
[275,"2023-08-21T04:00:00",4382.5,4421,4372.25,4412.5,1361470,4412.5,1,1,4382.5,4421,4372.25,4412.5,1361470]
[276,"2023-08-18T04:00:00",4379.25,4396,4350,4382.75,1746289,4382.75,1,1,4379.25,4396,4350,4382.75,1746289]
[277,"2023-08-17T04:00:00",4420.5,4436.75,4377.75,4384.5,1630481,4384.5,1,1,4420.5,4436.75,4377.75,4384.5,1630481]
[278,"2023-08-16T04:00:00",4453.25,4467.25,4417,4420,1499218,4420,1,1,4453.25,4467.25,4417,4420,1499218]
[279,"2023-08-15T04:00:00",4505.75,4517.75,4447,4454,1492516,4454,1,1,4505.75,4517.75,4447,4454,1492516]
[280,"2023-08-14T04:00:00",4485,4507.75,4465,4506,1277132,4506,1,1,4485,4507.75,4465,4506,1277132]
[281,"2023-08-11T04:00:00",4487.75,4496.25,4459,4480.75,1511048,4480.75,1,1,4487.75,4496.25,4459,4480.75,1511048]
[282,"2023-08-10T04:00:00",4493.25,4544.75,4473.5,4485.75,2227022,4485.75,1,1,4493.25,4544.75,4473.5,4485.75,2227022]
[283,"2023-08-09T04:00:00",4516.5,4536.25,4478.25,4485.75,1640285,4485.75,1,1,4516.5,4536.25,4478.25,4485.75,1640285]
[284,"2023-08-08T04:00:00",4539.5,4541,4482,4518.5,1696546,4518.5,1,1,4539.5,4541,4482,4518.5,1696546]
[285,"2023-08-07T04:00:00",4500.5,4541.75,4500.5,4537.75,1397301,4537.75,1,1,4500.5,4541.75,4500.5,4537.75,1397301]
[286,"2023-08-04T04:00:00",4523.5,4560.75,4493.75,4498,2044936,4498,1,1,4523.5,4560.75,4493.75,4498,2044936]
[287,"2023-08-03T04:00:00",4534.25,4547.5,4505.75,4521.75,1764076,4521.75,1,1,4534.25,4547.5,4505.75,4521.75,1764076]
[288,"2023-08-02T04:00:00",4580,4593.5,4527.75,4537.25,1917865,4537.25,1,1,4580,4593.5,4527.75,4537.25,1917865]
[289,"2023-08-01T04:00:00",4617.75,4621.75,4591,4601.25,1212261,4601.25,1,1,4617.75,4621.75,4591,4601.25,1212261]
[290,"2023-07-31T04:00:00",4608.75,4619.25,4595.25,4614.5,1299434,4614.5,1,1,4608.75,4619.25,4595.25,4614.5,1299434]
[291,"2023-07-28T04:00:00",4566,4616.5,4558,4606.5,1573973,4606.5,1,1,4566,4616.5,4558,4606.5,1573973]
[292,"2023-07-27T04:00:00",4594.75,4634.5,4553.75,4564.25,1924565,4564.25,1,1,4594.75,4634.5,4553.75,4564.25,1924565]
[293,"2023-07-26T04:00:00",4604.75,4610.75,4573.75,4595.25,1372426,4595.25,1,1,4604.75,4610.75,4573.75,4595.25,1372426]
[294,"2023-07-25T04:00:00",4584.5,4608.75,4579.25,4596,1219737,4596,1,1,4584.5,4608.75,4579.25,4596,1219737]
[295,"2023-07-24T04:00:00",4564.25,4592.5,4560,4583.5,1203661,4583.5,1,1,4564.25,4592.5,4560,4583.5,1203661]
[296,"2023-07-21T04:00:00",4566.25,4590,4561.75,4564.75,1432643,4564.75,1,1,4566.25,4590,4561.75,4564.75,1432643]
[297,"2023-07-20T04:00:00",4593.25,4594.25,4557.25,4565.5,1527727,4565.5,1,1,4593.25,4594.25,4557.25,4565.5,1527727]
[298,"2023-07-19T04:00:00",4582.75,4609.25,4582.25,4597,1538747,4597,1,1,4582.75,4609.25,4582.25,4597,1538747]
[299,"2023-07-18T04:00:00",4550.25,4594.5,4544.75,4587.75,1301460,4587.75,1,1,4550.25,4594.5,4544.75,4587.75,1301460]
[300,"2023-07-17T04:00:00",4536,4565.75,4528,4553.75,1057965,4553.75,1,1,4536,4565.75,4528,4553.75,1057965]
[301,"2023-07-14T04:00:00",4539.5,4560.5,4531,4536.75,1381069,4536.75,1,1,4539.5,4560.5,4531,4536.75,1381069]
[302,"2023-07-13T04:00:00",4510.5,4551.5,4509.25,4543.5,1158193,4543.5,1,1,4510.5,4551.5,4509.25,4543.5,1158193]
[303,"2023-07-12T04:00:00",4471,4523.75,4470,4507.5,1784296,4507.5,1,1,4471,4523.75,4470,4507.5,1784296]
[304,"2023-07-11T04:00:00",4445.75,4478.5,4439,4473.5,1340232,4473.5,1,1,4445.75,4478.5,4439,4473.5,1340232]
[305,"2023-07-10T04:00:00",4437.5,4448.25,4411.25,4444.25,1361155,4444.25,1,1,4437.5,4448.25,4411.25,4444.25,1361155]
[306,"2023-07-07T04:00:00",4441.25,4476,4431.5,4434,1691644,4434,1,1,4441.25,4476,4431.5,4434,1691644]
[307,"2023-07-06T04:00:00",4481.75,4483.5,4419.5,4447,1741520,4447,1,1,4481.75,4483.5,4419.5,4447,1741520]
[308,"2023-07-05T04:00:00",4492,4493.75,4466.25,4483.75,1193759,4483.75,1,1,4492,4493.75,4466.25,4483.75,1193759]
[309,"2023-07-03T13:30:00",4485.5,4494,4479.5,4492.25,641289,4492.25,1,1,4485.5,4494,4479.5,4492.25,641289]
[310,"2023-06-30T04:00:00",4435.25,4498,4433,4488.25,1774940,4488.25,1,1,4435.25,4498,4433,4488.25,1774940]
[311,"2023-06-29T04:00:00",4423.75,4438,4409.75,4435.75,1628750,4435.75,1,1,4423.75,4438,4409.75,4435.75,1628750]
[312,"2023-06-28T04:00:00",4414,4430.25,4399.25,4417.5,1689461,4417.5,1,1,4414,4430.25,4399.25,4417.5,1689461]
[313,"2023-06-27T04:00:00",4375.75,4424.75,4371.5,4418.75,1512256,4418.75,1,1,4375.75,4424.75,4371.5,4418.75,1512256]
[314,"2023-06-26T04:00:00",4390,4403,4368.5,4370.25,1622416,4370.25,1,1,4390,4403,4368.5,4370.25,1622416]
[315,"2023-06-23T04:00:00",4425.75,4426.25,4381.5,4389,1550992,4389,1,1,4425.75,4426.25,4381.5,4389,1550992]
[316,"2023-06-22T04:00:00",4410,4427,4393,4423.75,1384002,4423.75,1,1,4410,4427,4393,4423.75,1384002]
[317,"2023-06-21T04:00:00",4430.25,4438.5,4403.5,4409.25,1468258,4409.25,1,1,4430.25,4438.5,4403.5,4409.25,1468258]
[318,"2023-06-20T04:00:00",4458,4462,4410.5,4434.75,1540416,4434.75,1,1,4458,4462,4410.5,4434.75,1540416]
[319,"2023-06-16T04:00:00",4424.75,4453.3500000000004,4415.25,4453.3500000000004,1895105,4453.3500000000004,1,1,4424.75,4453.3500000000004,4415.25,4453.3500000000004,1895105]
[320,"2023-06-15T04:00:00",4378.75,4441,4350,4426.5,486414,4426.5,1,1,4378.75,4441,4350,4426.5,486414]
[321,"2023-06-14T04:00:00",4372,4394.75,4339.75,4374.25,758316,4374.25,1,1,4372,4394.75,4339.75,4374.25,758316]
[322,"2023-06-13T04:00:00",4345,4377.75,4335.75,4371.75,1317118,4371.75,{"$f":"IF(F337=0,1,H337/F337)","v":1},{"$f":"INDEX(OFFSET($T$15,0,0,$S$13+1,1),MATCH(B337,OFFSET($Q$15,0,0,$S$13+1,1),-1))","v":1},{"$f":"ROUND($I337*C337,2)","v":4345},{"$f":"ROUND($I337*D337,2)","v":4377.75},{"$f":"ROUND($I337*E337,2)","v":4335.75},{"$f":"ROUND($I337*F337,2)","v":4371.75},{"$f":"G337*J337","v":1317118}]
[323,"2023-06-12T04:00:00",4306.5,4346.5,4305.25,4342.75,1665175,4342.75,1,1,4306.5,4346.5,4305.25,4342.75,1665175]
[324,"2023-06-09T04:00:00",4297.75,4325.5,4284,4304.75,2176645,4304.75,1,1,4297.75,4325.5,4284,4304.75,2176645]
[325,"2023-06-08T04:00:00",4273.25,4302.5,4262.75,4298.25,1664333,4298.25,1,1,4273.25,4302.5,4262.75,4298.25,1664333]
[326,"2023-06-07T04:00:00",4292.25,4304.75,4269.25,4274.25,1925195,4274.25,1,1,4292.25,4304.75,4269.25,4274.25,1925195]
[327,"2023-06-06T04:00:00",4279.75,4294.75,4268.5,4289.75,1548125,4289.75,1,1,4279.75,4294.75,4268.5,4289.75,1548125]
[328,"2023-06-05T04:00:00",4288,4305.75,4273,4281,1668759,4281,1,1,4288,4305.75,4273,4281,1668759]
[329,"2023-06-02T04:00:00",4231.75,4297.75,4229,4288,1955603,4288,1,1,4231.75,4297.75,4229,4288,1955603]
[330,"2023-06-01T04:00:00",4188.5,4239.75,4178,4228,1868363,4228,1,1,4188.5,4239.75,4178,4228,1868363]
[331,"2023-05-31T04:00:00",4213,4217.75,4174,4190.5,2138566,4190.5,1,1,4213,4217.75,4174,4190.5,2138566]
[332,"2023-05-30T04:00:00",4239.75,4243.25,4200,4215,1957579,4215,1,1,4239.75,4243.25,4200,4215,1957579]
[333,"2023-05-26T04:00:00",4157,4221.25,4146,4213.25,1744425,4213.25,1,1,4157,4221.25,4146,4213.25,1744425]
[334,"2023-05-25T04:00:00",4157,4175.5,4131.5,4159.75,1966626,4159.75,1,1,4157,4175.5,4131.5,4159.75,1966626]
[335,"2023-05-24T04:00:00",4158,4166.25,4114,4126,1911903,4126,1,1,4158,4166.25,4114,4126,1911903]
[336,"2023-05-23T04:00:00",4207.5,4222.75,4153,4158.75,1685056,4158.75,1,1,4207.5,4222.75,4153,4158.75,1685056]
[337,"2023-05-22T04:00:00",4189,4221.75,4186.5,4205,1302845,4205,1,1,4189,4221.75,4186.5,4205,1302845]
[338,"2023-05-19T04:00:00",4215.5,4227.25,4191.5,4204.75,1713351,4204.75,1,1,4215.5,4227.25,4191.5,4204.75,1713351]
[339,"2023-05-18T04:00:00",4171.25,4215.75,4161.25,4212,1760668,4212,1,1,4171.25,4215.75,4161.25,4212,1760668]
[340,"2023-05-17T04:00:00",4126,4179,4122,4171.5,1584910,4171.5,1,1,4126,4179,4122,4171.5,1584910]
[341,"2023-05-16T04:00:00",4148.25,4151.5,4120,4123,1316691,4123,1,1,4148.25,4151.5,4120,4123,1316691]
[342,"2023-05-15T04:00:00",4132.25,4156.25,4123,4150,1179165,4150,1,1,4132.25,4156.25,4123,4150,1179165]
[343,"2023-05-12T04:00:00",4144.5,4164.5,4111.75,4138,1434601,4138,1,1,4144.5,4164.5,4111.75,4138,1434601]
[344,"2023-05-11T04:00:00",4152.75,4168.5,4121.5,4143.75,1473383,4143.75,1,1,4152.75,4168.5,4121.5,4143.75,1473383]
[345,"2023-05-10T04:00:00",4133,4173.25,4112.25,4152,1887587,4152,1,1,4133,4173.25,4112.25,4152,1887587]
[346,"2023-05-09T04:00:00",4150.5,4153,4131,4134,1000924,4134,1,1,4150.5,4153,4131,4134,1000924]
[347,"2023-05-08T04:00:00",4151,4161,4137.5,4152.75,1026014,4152.75,1,1,4151,4161,4137.5,4152.75,1026014]
[348,"2023-05-05T04:00:00",4077.25,4163.25,4076.75,4150.25,1545895,4150.25,1,1,4077.25,4163.25,4076.75,4150.25,1545895]
[349,"2023-05-04T04:00:00",4087,4118,4062.25,4075.75,1994772,4075.75,1,1,4087,4118,4062.25,4075.75,1994772]
[350,"2023-05-03T04:00:00",4133.25,4167,4095,4107.5,1658392,4107.5,1,1,4133.25,4167,4095,4107.5,1658392]
[351,"2023-05-02T04:00:00",4179.5,4191.5,4105.5,4136.75,2034176,4136.75,1,1,4179.5,4191.5,4105.5,4136.75,2034176]
[352,"2023-05-01T04:00:00",4190,4206.25,4178.5,4185.75,1240490,4185.75,1,1,4190,4206.25,4178.5,4185.75,1240490]
[353,"2023-04-28T04:00:00",4151,4193.75,4131.5,4188.5,1753803,4188.5,1,1,4151,4193.75,4131.5,4188.5,1753803]
[354,"2023-04-27T04:00:00",4085.5,4166.5,4080.75,4153.75,1686692,4153.75,1,1,4085.5,4166.5,4080.75,4153.75,1686692]
[355,"2023-04-26T04:00:00",4110.25,4116.25,4068.75,4076,1814741,4076,1,1,4110.25,4116.25,4068.75,4076,1814741]
[356,"2023-04-25T04:00:00",4157.25,4158.5,4091.5,4093.25,1770908,4093.25,1,1,4157.25,4158.5,4091.5,4093.25,1770908]
[357,"2023-04-24T04:00:00",4150,4164.25,4133.5,4159.5,1328041,4159.5,1,1,4150,4164.25,4133.5,4159.5,1328041]
[358,"2023-04-21T04:00:00",4153.75,4161,4135.25,4156.75,1645161,4156.75,1,1,4153.75,4161,4135.25,4156.75,1645161]
[359,"2023-04-20T04:00:00",4172.25,4173.5,4137,4152.5,1768379,4152.5,1,1,4172.25,4173.5,4137,4152.5,1768379]
[360,"2023-04-19T04:00:00",4176,4187.5,4150.5,4178.5,1292622,4178.5,1,1,4176,4187.5,4150.5,4178.5,1292622]
[361,"2023-04-18T04:00:00",4177,4198.25,4164.5,4180,1427797,4180,1,1,4177,4198.25,4164.5,4180,1427797]
[362,"2023-04-17T04:00:00",4174.25,4180.5,4148,4176.75,1298123,4176.75,1,1,4174.25,4180.5,4148,4176.75,1298123]
[363,"2023-04-14T04:00:00",4168.75,4189,4138,4163.75,1882896,4163.75,1,1,4168.75,4189,4138,4163.75,1882896]
[364,"2023-04-13T04:00:00",4117.5,4177,4110.25,4172.75,1458785,4172.75,1,1,4117.5,4177,4110.25,4172.75,1458785]
[365,"2023-04-12T04:00:00",4137.5,4177.75,4113.5,4119,1853671,4119,1,1,4137.5,4177.75,4113.5,4119,1853671]
[366,"2023-04-11T04:00:00",4138.5,4151.75,4128.75,4136.5,1221824,4136.5,1,1,4138.5,4151.75,4128.75,4136.5,1221824]
[367,"2023-04-10T04:00:00",4139,4143,4098.75,4136.25,1167715,4136.25,1,1,4139,4143,4098.75,4136.25,1167715]
[368,"2023-04-06T04:00:00",4113.75,4135.25,4096.5,4132,73009,4132,1,1,4113.75,4135.25,4096.5,4132,73009]
[369,"2023-04-05T04:00:00",4134,4135.5,4099,4117.25,1470176,4117.25,1,1,4134,4135.5,4099,4117.25,1470176]
[370,"2023-04-04T04:00:00",4152.5,4171.75,4115.25,4129,1582414,4129,1,1,4152.5,4171.75,4115.25,4129,1582414]
[371,"2023-04-03T04:00:00",4127,4157.75,4122.75,4153.75,1380286,4153.75,1,1,4127,4157.75,4122.75,4153.75,1380286]
[372,"2023-03-31T04:00:00",4081,4142.5,4078,4137.75,1695840,4137.75,1,1,4081,4142.5,4078,4137.75,1695840]
[373,"2023-03-30T04:00:00",4058,4087.75,4052.5,4080,1328529,4080,1,1,4058,4087.75,4052.5,4080,1328529]
[374,"2023-03-29T04:00:00",4006.5,4061.25,4006,4057.5,1389352,4057.5,1,1,4006.5,4061.25,4006,4057.5,1389352]
[375,"2023-03-28T04:00:00",4013.5,4023.75,3980.75,4001.5,1224495,4001.5,1,1,4013.5,4023.75,3980.75,4001.5,1224495]
[376,"2023-03-27T04:00:00",4008,4034.25,3997.5,4007.25,1304572,4007.25,1,1,4008,4034.25,3997.5,4007.25,1304572]
[377,"2023-03-24T04:00:00",3988.75,4010.75,3937,4001.25,1944981,4001.25,1,1,3988.75,4010.75,3937,4001.25,1944981]
[378,"2023-03-23T04:00:00",3972.75,4039.5,3948.5,3978,2236954,3978,1,1,3972.75,4039.5,3948.5,3978,2236954]
[379,"2023-03-22T04:00:00",4038.75,4073.75,3966.25,3970.5,1802929,3970.5,1,1,4038.75,4073.75,3966.25,3970.5,1802929]
[380,"2023-03-21T04:00:00",3986.5,4043.25,3981.75,4035.75,1531670,4035.75,1,1,3986.5,4043.25,3981.75,4035.75,1531670]
[381,"2023-03-20T04:00:00",3963.75,3989.5,3897.25,3983,1818807,3983,1,1,3963.75,3989.5,3897.25,3983,1818807]
[382,"2023-03-17T04:00:00",3962.25,3974,3923,3957.05,2224268,3957.05,1,1,3962.25,3974,3923,3957.05,2224268]
[383,"2023-03-16T04:00:00",3892.75,3966.5,3863.25,3960.5,466914,3960.5,1,1,3892.75,3966.5,3863.25,3960.5,466914]
[384,"2023-03-15T04:00:00",3920.5,3931,3834,3892.75,833643,3892.75,1,1,3920.5,3931,3834,3892.75,833643]
[385,"2023-03-14T04:00:00",3865.75,3938,3855.25,3920.5,1606509,3920.5,1,1,3865.75,3938,3855.25,3920.5,1606509]
[386,"2023-03-13T04:00:00",3887.75,3938.75,3808.75,3856.75,2750477,3856.75,{"$f":"IF(F401=0,1,H401/F401)","v":1},{"$f":"INDEX(OFFSET($T$15,0,0,$S$13+1,1),MATCH(B401,OFFSET($Q$15,0,0,$S$13+1,1),-1))","v":1},{"$f":"ROUND($I401*C401,2)","v":3887.75},{"$f":"ROUND($I401*D401,2)","v":3938.75},{"$f":"ROUND($I401*E401,2)","v":3808.75},{"$f":"ROUND($I401*F401,2)","v":3856.75},{"$f":"G401*J401","v":2750477}]
[387,"2023-03-10T05:00:00",3919,3941.75,3846.25,3862.75,3285811,3862.75,1,1,3919,3941.75,3846.25,3862.75,3285811]
[388,"2023-03-09T05:00:00",3997,4019.75,3909.5,3920,2547423,3920,1,1,3997,4019.75,3909.5,3920,2547423]
[389,"2023-03-08T05:00:00",3990,4003.25,3971.5,3995,1831712,3995,1,1,3990,4003.25,3971.5,3995,1831712]
[390,"2023-03-07T05:00:00",4053.75,4064.5,3982.5,3989.75,2141615,3989.75,1,1,4053.75,4064.5,3982.5,3989.75,2141615]
[391,"2023-03-06T05:00:00",4049.25,4082.5,4041.75,4052.5,1528845,4052.5,1,1,4049.25,4082.5,4041.75,4052.5,1528845]
[392,"2023-03-03T05:00:00",3983,4053,3974,4049.75,1665102,4049.75,1,1,3983,4053,3974,4049.75,1665102]
[393,"2023-03-02T05:00:00",3959.75,3995.25,3925,3984.75,1836555,3984.75,1,1,3959.75,3995.25,3925,3984.75,1836555]
[394,"2023-03-01T05:00:00",3968.5,3991,3943,3956.5,2042321,3956.5,1,1,3968.5,3991,3943,3956.5,2042321]
[395,"2023-02-28T05:00:00",3991.5,4003.75,3965,3975.5,1847930,3975.5,1,1,3991.5,4003.75,3965,3975.5,1847930]
[396,"2023-02-27T05:00:00",3976.5,4024.75,3973,3988,1621961,3988,1,1,3976.5,4024.75,3973,3988,1621961]
[397,"2023-02-24T05:00:00",4015.25,4023.25,3947.5,3975.75,2063242,3975.75,1,1,4015.25,4023.25,3947.5,3975.75,2063242]
[398,"2023-02-23T05:00:00",4010,4034.25,3974.25,4018.75,1955820,4018.75,1,1,4010,4034.25,3974.25,4018.75,1955820]
[399,"2023-02-22T05:00:00",4007.5,4025,3983.75,3999,1925300,3999,1,1,4007.5,4025,3983.75,3999,1925300]
[400,"2023-02-21T05:00:00",4083,4089.25,4002,4005.75,1883040,4005.75,1,1,4083,4089.25,4002,4005.75,1883040]
[401,"2023-02-17T05:00:00",4095.5,4096,4055.75,4087.5,2008448,4087.5,1,1,4095.5,4096,4055.75,4087.5,2008448]
[402,"2023-02-16T05:00:00",4159,4168.5,4095,4099.75,2042993,4099.75,1,1,4159,4168.5,4095,4099.75,2042993]
[403,"2023-02-15T05:00:00",4141.25,4161.75,4113,4158.25,1611550,4158.25,1,1,4141.25,4161.75,4113,4158.25,1611550]
[404,"2023-02-14T05:00:00",4149.75,4186.5,4103.75,4145.5,2379034,4145.5,1,1,4149.75,4186.5,4103.75,4145.5,2379034]
[405,"2023-02-13T05:00:00",4105,4150.75,4078.75,4147.25,1376325,4147.25,1,1,4105,4150.75,4078.75,4147.25,1376325]
[406,"2023-02-10T05:00:00",4098,4104.25,4060.75,4099.75,1744956,4099.75,1,1,4098,4104.25,4060.75,4099.75,1744956]
[407,"2023-02-09T05:00:00",4132.25,4170.25,4078.25,4091.75,1828571,4091.75,1,1,4132.25,4170.25,4078.25,4091.75,1828571]
[408,"2023-02-08T05:00:00",4167.25,4179.25,4121.25,4130.5,1804101,4130.5,1,1,4167.25,4179.25,4121.25,4130.5,1804101]
[409,"2023-02-07T05:00:00",4123.5,4188.25,4098.25,4175.75,2180936,4175.75,1,1,4123.5,4188.25,4098.25,4175.75,2180936]
[410,"2023-02-06T05:00:00",4134.25,4143,4104,4123.5,1560324,4123.5,1,1,4134.25,4143,4104,4123.5,1560324]
[411,"2023-02-03T05:00:00",4176,4194,4132.5,4147.75,2354996,4147.75,1,1,4176,4194,4132.5,4147.75,2354996]
[412,"2023-02-02T05:00:00",4145.5,4208.5,4136.75,4191.5,2290729,4191.5,1,1,4145.5,4208.5,4136.75,4191.5,2290729]
[413,"2023-02-01T05:00:00",4085.75,4163.25,4048.5,4132.25,2000400,4132.25,1,1,4085.75,4163.25,4048.5,4132.25,2000400]
[414,"2023-01-31T05:00:00",4039.25,4091.25,4007.5,4090,1790751,4090,1,1,4039.25,4091.25,4007.5,4090,1790751]
[415,"2023-01-30T05:00:00",4077,4086,4029.5,4032.5,1786112,4032.5,1,1,4077,4086,4029.5,4032.5,1786112]
[416,"2023-01-27T05:00:00",4065,4109.25,4057.25,4084.25,1587936,4084.25,1,1,4065,4109.25,4057.25,4084.25,1587936]
[417,"2023-01-26T05:00:00",4031,4077,4027.25,4075.5,1613804,4075.5,1,1,4031,4077,4027.25,4075.5,1613804]
[418,"2023-01-25T05:00:00",4039,4040.5,3963.25,4032,1760515,4032,1,1,4039,4040.5,3963.25,4032,1760515]
[419,"2023-01-24T05:00:00",4036.5,4047.5,4005.25,4032.75,1472856,4032.75,1,1,4036.5,4047.5,4005.25,4032.75,1472856]
[420,"2023-01-23T05:00:00",3987,4056.75,3980.25,4036.5,1594736,4036.5,1,1,3987,4056.75,3980.25,4036.5,1594736]
[421,"2023-01-20T05:00:00",3925,3990.5,3911.75,3988.5,1620355,3988.5,1,1,3925,3990.5,3911.75,3988.5,1620355]
[422,"2023-01-19T05:00:00",3945.25,3948.75,3901.75,3915.5,1896890,3915.5,1,1,3945.25,3948.75,3901.75,3915.5,1896890]
[423,"2023-01-18T05:00:00",4008.5,4033.5,3943.75,3945.75,1902551,3945.75,1,1,4008.5,4033.5,3943.75,3945.75,1902551]
[424,"2023-01-17T05:00:00",4020,4035.25,3996.75,4009.5,1423931,4009.5,1,1,4020,4035.25,3996.75,4009.5,1423931]
[425,"2023-01-13T05:00:00",4003,4024.25,3961.75,4018.25,1456784,4018.25,1,1,4003,4024.25,3961.75,4018.25,1456784]
[426,"2023-01-12T05:00:00",3991.75,4021.5,3954,4003.5,2102587,4003.5,1,1,3991.75,4021.5,3954,4003.5,2102587]
[427,"2023-01-11T05:00:00",3941,3992.5,3934.5,3990,1398769,3990,1,1,3941,3992.5,3934.5,3990,1398769]
[428,"2023-01-10T05:00:00",3914.5,3943.75,3891.5,3940.75,1520955,3940.75,1,1,3914.5,3943.75,3891.5,3940.75,1520955]
[429,"2023-01-09T05:00:00",3918.5,3973.25,3909.75,3913.75,1697887,3913.75,1,1,3918.5,3973.25,3909.75,3913.75,1697887]
[430,"2023-01-06T05:00:00",3833,3928.75,3819,3915.5,2026154,3915.5,1,1,3833,3928.75,3819,3915.5,2026154]
[431,"2023-01-05T05:00:00",3871,3885.5,3822.5,3829,1679973,3829,1,1,3871,3885.5,3822.5,3829,1679973]
[432,"2023-01-04T05:00:00",3842.75,3896.25,3836.5,3874.5,1912155,3874.5,1,1,3842.75,3896.25,3836.5,3874.5,1912155]
[433,"2023-01-03T05:00:00",3895,3906.75,3814.5,3846,1782473,3846,1,1,3895,3906.75,3814.5,3846,1782473]
[434,"2022-12-30T05:00:00",3869.75,3871,3821.5,3861,1401810,3861,1,1,3869.75,3871,3821.5,3861,1401810]
[435,"2022-12-29T05:00:00",3811,3882.75,3806.25,3871.75,1146984,3871.75,1,1,3811,3882.75,3806.25,3871.75,1146984]
[436,"2022-12-28T05:00:00",3858,3875,3804.5,3807.5,1282810,3807.5,1,1,3858,3875,3804.5,3807.5,1282810]
[437,"2022-12-27T05:00:00",3878,3900.5,3837.25,3855,1006414,3855,1,1,3878,3900.5,3837.25,3855,1006414]
[438,"2022-12-23T05:00:00",3850,3872.5,3821.25,3869.75,1374913,3869.75,1,1,3850,3872.5,3821.25,3869.75,1374913]
[439,"2022-12-22T05:00:00",3915,3919.75,3788.5,3849.25,1842326,3849.25,1,1,3915,3919.75,3788.5,3849.25,1842326]
[440,"2022-12-21T05:00:00",3857.25,3918.75,3855.5,3905.75,1522069,3905.75,1,1,3857.25,3918.75,3855.5,3905.75,1522069]
[441,"2022-12-20T05:00:00",3842.75,3866.5,3803.5,3849.25,1541868,3849.25,1,1,3842.75,3866.5,3803.5,3849.25,1541868]
[442,"2022-12-19T05:00:00",3874,3899,3827.25,3845.5,1405774,3845.5,1,1,3874,3899,3827.25,3845.5,1405774]
[443,"2022-12-16T05:00:00",3890.5,3904.25,3842,3871.47,1965701,3871.47,1,1,3890.5,3904.25,3842,3871.47,1965701]
[444,"2022-12-15T05:00:00",4004.25,4010.25,3878.5,3897,560669,3897,1,1,4004.25,4010.25,3878.5,3897,560669]
[445,"2022-12-14T05:00:00",4021.75,4073,3965.25,3998,712439,3998,1,1,4021.75,4073,3965.25,3998,712439]
[446,"2022-12-13T05:00:00",3989.25,4145,3985,4022.25,1419560,4022.25,1,1,3989.25,4145,3985,4022.25,1419560]
[447,"2022-12-12T05:00:00",3933,3992.75,3924.5,3991.75,1619977,3991.75,1,1,3933,3992.75,3924.5,3991.75,1619977]
[448,"2022-12-09T05:00:00",3964.75,3990,3930,3936.25,1739761,3936.25,1,1,3964.75,3990,3930,3936.25,1739761]
[449,"2022-12-08T05:00:00",3935.75,3977.25,3916,3965.75,1708915,3965.75,1,1,3935.75,3977.25,3916,3965.75,1708915]
[450,"2022-12-07T05:00:00",3944.5,3961.5,3914,3936.75,1756473,3936.75,{"$f":"IF(F465=0,1,H465/F465)","v":1},{"$f":"INDEX(OFFSET($T$15,0,0,$S$13+1,1),MATCH(B465,OFFSET($Q$15,0,0,$S$13+1,1),-1))","v":1},{"$f":"ROUND($I465*C465,2)","v":3944.5},{"$f":"ROUND($I465*D465,2)","v":3961.5},{"$f":"ROUND($I465*E465,2)","v":3914},{"$f":"ROUND($I465*F465,2)","v":3936.75},{"$f":"G465*J465","v":1756473}]
[451,"2022-12-06T05:00:00",4005.75,4014.75,3921.5,3945,1869101,3945,1,1,4005.75,4014.75,3921.5,3945,1869101]
[452,"2022-12-05T05:00:00",4074,4075.75,3987.25,4003.25,1497688,4003.25,1,1,4074,4075.75,3987.25,4003.25,1497688]
[453,"2022-12-02T05:00:00",4077.5,4085.5,4006.75,4075.5,1849784,4075.5,1,1,4077.5,4085.5,4006.75,4075.5,1849784]
[454,"2022-12-01T05:00:00",4094.5,4110,4054.5,4081.75,1834073,4081.75,1,1,4094.5,4110,4054.5,4081.75,1834073]
[455,"2022-11-30T05:00:00",3962.25,4093.5,3942.75,4081.25,2479997,4081.25,1,1,3962.25,4093.5,3942.75,4081.25,2479997]
[456,"2022-11-29T05:00:00",3972,3990.25,3941.25,3962,1500171,3962,1,1,3972,3990.25,3941.25,3962,1500171]
[457,"2022-11-28T05:00:00",4020.25,4024,3960.25,3970.25,1481503,3970.25,1,1,4020.25,4024,3960.25,3970.25,1481503]
[458,"2022-11-25T14:30:00",4038.75,4049.25,4024.75,4032.5,608795,4032.5,1,1,4038.75,4049.25,4024.75,4032.5,608795]
[459,"2022-11-23T05:00:00",4010,4039.5,4002,4033,1281153,4033,1,1,4010,4039.5,4002,4033,1281153]
[460,"2022-11-22T05:00:00",3957.75,4012.5,3945.25,4010.25,1161999,4010.25,1,1,3957.75,4012.5,3945.25,4010.25,1161999]
[461,"2022-11-21T05:00:00",3972.5,3982,3937.5,3958,1178421,3958,1,1,3972.5,3982,3937.5,3958,1178421]
[462,"2022-11-18T05:00:00",3960.5,3994,3942.5,3974,1534155,3974,1,1,3960.5,3994,3942.5,3974,1534155]
[463,"2022-11-17T05:00:00",3977.25,3990.25,3912.5,3955.25,1560808,3955.25,1,1,3977.25,3990.25,3912.5,3955.25,1560808]
[464,"2022-11-16T05:00:00",3992,4015.75,3962,3968.5,1502501,3968.5,1,1,3992,4015.75,3962,3968.5,1502501]
[465,"2022-11-15T05:00:00",3974.75,4050.75,3960,3999.5,2230543,3999.5,1,1,3974.75,4050.75,3960,3999.5,2230543]
[466,"2022-11-14T05:00:00",3984,4017.5,3964,3966,1592615,3966,1,1,3984,4017.5,3964,3966,1592615]
[467,"2022-11-11T05:00:00",3973,4009.75,3951,4000.25,1927068,4000.25,1,1,3973,4009.75,3951,4000.25,1927068]
[468,"2022-11-10T05:00:00",3757,3973.5,3751.5,3961,2408104,3961,1,1,3757,3973.5,3751.5,3961,2408104]
[469,"2022-11-09T05:00:00",3832.5,3848.75,3750,3755.5,1889153,3755.5,1,1,3832.5,3848.75,3750,3755.5,1889153]
[470,"2022-11-08T05:00:00",3812.75,3867,3792.75,3835.25,1878046,3835.25,1,1,3812.75,3867,3792.75,3835.25,1878046]
[471,"2022-11-07T05:00:00",3750,3821.75,3738.25,3815.25,1483146,3815.25,1,1,3750,3821.75,3738.25,3815.25,1483146]
[472,"2022-11-04T04:00:00",3724,3805.5,3711,3779.5,2494788,3779.5,1,1,3724,3805.5,3711,3779.5,2494788]
[473,"2022-11-03T04:00:00",3766.75,3782.5,3704.25,3727.75,1887557,3727.75,1,1,3766.75,3782.5,3704.25,3727.75,1887557]
[474,"2022-11-02T04:00:00",3863,3907,3760.25,3768.75,2210708,3768.75,1,1,3863,3907,3760.25,3768.75,2210708]
[475,"2022-11-01T04:00:00",3884,3928,3852.5,3866,1895614,3866,1,1,3884,3928,3852.5,3866,1895614]
[476,"2022-10-31T04:00:00",3911.5,3914.75,3872.25,3883,2002625,3883,1,1,3911.5,3914.75,3872.25,3883,2002625]
[477,"2022-10-28T04:00:00",3798.25,3924.25,3776.75,3911.25,2084386,3911.25,1,1,3798.25,3924.25,3776.75,3911.25,2084386]
[478,"2022-10-27T04:00:00",3844.25,3870.75,3757.5,3819.5,2211786,3819.5,1,1,3844.25,3870.75,3757.5,3819.5,2211786]
[479,"2022-10-26T04:00:00",3841,3897.5,3824.25,3841,2118534,3841,1,1,3841,3897.5,3824.25,3841,2118534]
[480,"2022-10-25T04:00:00",3803.25,3874.25,3790,3870.25,1836723,3870.25,1,1,3803.25,3874.25,3790,3870.25,1836723]
[481,"2022-10-24T04:00:00",3771,3822,3736.5,3809.25,2109780,3809.25,1,1,3771,3822,3736.5,3809.25,2109780]
[482,"2022-10-21T04:00:00",3677.75,3773.25,3641.5,3764,2681019,3764,1,1,3677.75,3773.25,3641.5,3764,2681019]
[483,"2022-10-20T04:00:00",3708,3748,3666.25,3675.25,2403705,3675.25,1,1,3708,3748,3666.25,3675.25,2403705]
[484,"2022-10-19T04:00:00",3759.75,3774.25,3676.75,3707.25,2348844,3707.25,1,1,3759.75,3774.25,3676.75,3707.25,2348844]
[485,"2022-10-18T04:00:00",3706.25,3777.25,3697.25,3732.75,2746886,3732.75,1,1,3706.25,3777.25,3697.25,3732.75,2746886]
[486,"2022-10-17T04:00:00",3591,3702.5,3590.5,3689.25,1951998,3689.25,1,1,3591,3702.5,3590.5,3689.25,1951998]
[487,"2022-10-14T04:00:00",3680.25,3733.75,3591.25,3597.5,2730405,3597.5,1,1,3680.25,3733.75,3591.25,3597.5,2730405]
[488,"2022-10-13T04:00:00",3596.25,3697.75,3502,3681.75,3288646,3681.75,1,1,3596.25,3697.75,3502,3681.75,3288646]
[489,"2022-10-12T04:00:00",3607,3635.25,3585.5,3588.5,1948173,3588.5,1,1,3607,3635.25,3585.5,3588.5,1948173]
[490,"2022-10-11T04:00:00",3624.75,3653.25,3579,3599.25,2398140,3599.25,1,1,3624.75,3653.25,3579,3599.25,2398140]
[491,"2022-10-10T04:00:00",3638.75,3667.5,3600,3625.25,2024447,3625.25,1,1,3638.75,3667.5,3600,3625.25,2024447]
[492,"2022-10-07T04:00:00",3745.75,3770.5,3632.5,3653.25,2238683,3653.25,1,1,3745.75,3770.5,3632.5,3653.25,2238683]
[493,"2022-10-06T04:00:00",3795.75,3819.5,3750,3756.75,2157569,3756.75,1,1,3795.75,3819.5,3750,3756.75,2157569]
[494,"2022-10-05T04:00:00",3801,3820,3734,3794,2089198,3794,1,1,3801,3820,3734,3794,2089198]
[495,"2022-10-04T04:00:00",3696.5,3808.75,3686.25,3803.25,2381497,3803.25,1,1,3696.5,3808.75,3686.25,3803.25,2381497]
[496,"2022-10-03T04:00:00",3593.25,3711.75,3571.75,3690.25,2315515,3690.25,1,1,3593.25,3711.75,3571.75,3690.25,2315515]
[497,"2022-09-30T04:00:00",3656.5,3693.75,3595.25,3601.5,2976179,3601.5,1,1,3656.5,3693.75,3595.25,3601.5,2976179]
[498,"2022-09-29T04:00:00",3730.25,3736,3622,3654.25,2860631,3654.25,1,1,3730.25,3736,3622,3654.25,2860631]
[499,"2022-09-28T04:00:00",3668.5,3751.25,3613,3732,2780935,3732,1,1,3668.5,3751.25,3613,3732,2780935]
[500,"2022-09-27T04:00:00",3668,3733,3635.25,3661,2963065,3661,1,1,3668,3733,3635.25,3661,2963065]
[501,"2022-09-26T04:00:00",3705.25,3730.5,3657.5,3670,2899415,3670,1,1,3705.25,3730.5,3657.5,3670,2899415]
[502,"2022-09-23T04:00:00",3777.25,3783.25,3660.25,3709,2913560,3709,1,1,3777.25,3783.25,3660.25,3709,2913560]
[503,"2022-09-22T04:00:00",3794,3833,3763.5,3772,2578314,3772,1,1,3794,3833,3763.5,3772,2578314]
[504,"2022-09-21T04:00:00",3878.75,3925.25,3792,3806.25,2440206,3806.25,1,1,3878.75,3925.25,3792,3806.25,2440206]
[505,"2022-09-20T04:00:00",3923,3936.25,3843.25,3872.75,2357296,3872.75,1,1,3923,3936.25,3843.25,3872.75,2357296]
[506,"2022-09-19T04:00:00",3889.5,3927,3846.25,3917.25,2100098,3917.25,1,1,3889.5,3927,3846.25,3917.25,2100098]
[507,"2022-09-16T04:00:00",3888.5,3888.5,3846,3871.24,2688630,3871.24,1,1,3888.5,3888.5,3846,3871.24,2688630]
[508,"2022-09-15T04:00:00",3955,3959.5,3888,3902,438921,3902,1,1,3955,3959.5,3888,3902,438921]
[509,"2022-09-14T04:00:00",3936.75,3962.75,3911.25,3947.5,662596,3947.5,1,1,3936.75,3962.75,3911.25,3947.5,662596]
[510,"2022-09-13T04:00:00",4118.25,4158,3919.75,3931.25,1418271,3931.25,1,1,4118.25,4158,3919.75,3931.25,1418271]
[511,"2022-09-12T04:00:00",4077.25,4119.75,4062.25,4110.75,1718859,4110.75,1,1,4077.25,4119.75,4062.25,4110.75,1718859]
[512,"2022-09-09T04:00:00",4010.25,4077.25,4005.75,4067.25,1677890,4067.25,1,1,4010.25,4077.25,4005.75,4067.25,1677890]
[513,"2022-09-08T04:00:00",3980,4011.5,3942.75,4005.5,2356008,4005.5,1,1,3980,4011.5,3942.75,4005.5,2356008]
[514,"2022-09-07T04:00:00",3907.5,3988.75,3883.5,3980,1956209,3980,{"$f":"IF(F529=0,1,H529/F529)","v":1},{"$f":"INDEX(OFFSET($T$15,0,0,$S$13+1,1),MATCH(B529,OFFSET($Q$15,0,0,$S$13+1,1),-1))","v":1},{"$f":"ROUND($I529*C529,2)","v":3907.5},{"$f":"ROUND($I529*D529,2)","v":3988.75},{"$f":"ROUND($I529*E529,2)","v":3883.5},{"$f":"ROUND($I529*F529,2)","v":3980},{"$f":"G529*J529","v":1956209}]
[515,"2022-09-06T04:00:00",3929,3963.25,3886.75,3910.5,2360326,3910.5,1,1,3929,3963.25,3886.75,3910.5,2360326]
[516,"2022-09-02T04:00:00",3967.5,4019.25,3906,3924.5,2510355,3924.5,1,1,3967.5,4019.25,3906,3924.5,2510355]
[517,"2022-09-01T04:00:00",3958,3971.25,3903.5,3968.75,2212034,3968.75,1,1,3958,3971.25,3903.5,3968.75,2212034]
[518,"2022-08-31T04:00:00",3987.25,4018.25,3953,3956.5,2366488,3956.5,1,1,3987.25,4018.25,3953,3956.5,2366488]
[519,"2022-08-30T04:00:00",4035.75,4072.75,3964.5,3987.5,2555455,3987.5,1,1,4035.75,4072.75,3964.5,3987.5,2555455]
[520,"2022-08-29T04:00:00",4024,4064,4006.75,4031.25,1963446,4031.25,1,1,4024,4064,4006.75,4031.25,1963446]
[521,"2022-08-26T04:00:00",4198.25,4217.25,4042.75,4059.5,2241117,4059.5,1,1,4198.25,4217.25,4042.75,4059.5,2241117]
[522,"2022-08-25T04:00:00",4148.75,4202.75,4143,4201,1635476,4201,1,1,4148.75,4202.75,4143,4201,1635476]
[523,"2022-08-24T04:00:00",4128.25,4158.5,4110.75,4142.75,1348612,4142.75,1,1,4128.25,4158.5,4110.75,4142.75,1348612]
[524,"2022-08-23T04:00:00",4147,4161.75,4118,4130.5,1575674,4130.5,1,1,4147,4161.75,4118,4130.5,1575674]
[525,"2022-08-22T04:00:00",4221,4221.5,4131.5,4141.25,1724203,4141.25,1,1,4221,4221.5,4131.5,4141.25,1724203]
[526,"2022-08-19T04:00:00",4287,4288,4220.75,4231.5,1701251,4231.5,1,1,4287,4288,4220.75,4231.5,1701251]
[527,"2022-08-18T04:00:00",4279.5,4295.5,4258,4286.5,1366220,4286.5,1,1,4279.5,4295.5,4258,4286.5,1366220]
[528,"2022-08-17T04:00:00",4309.25,4315,4255,4276.75,1638797,4276.75,1,1,4309.25,4315,4255,4276.75,1638797]
[529,"2022-08-16T04:00:00",4294.5,4327.5,4278.75,4307.75,1363248,4307.75,1,1,4294.5,4327.5,4278.75,4307.75,1363248]
[530,"2022-08-15T04:00:00",4277,4304.75,4249,4298.25,1317241,4298.25,1,1,4277,4304.75,4249,4298.25,1317241]
[531,"2022-08-12T04:00:00",4219.25,4282.75,4208.25,4281,1300170,4281,1,1,4219.25,4282.75,4208.25,4281,1300170]
[532,"2022-08-11T04:00:00",4210.75,4260.5,4202.75,4209.75,1598130,4209.75,1,1,4210.75,4260.5,4202.75,4209.75,1598130]
[533,"2022-08-10T04:00:00",4128.75,4213.5,4113.75,4210,1627940,4210,1,1,4128.75,4213.5,4113.75,4210,1627940]
[534,"2022-08-09T04:00:00",4148.5,4155,4113,4124.5,1280085,4124.5,1,1,4148.5,4155,4113,4124.5,1280085]
[535,"2022-08-08T04:00:00",4149.75,4188,4129.25,4141.75,1536449,4141.75,1,1,4149.75,4188,4129.25,4141.75,1536449]
[536,"2022-08-05T04:00:00",4152,4166.25,4103.75,4146.75,1722401,4146.75,1,1,4152,4166.25,4103.75,4146.75,1722401]
[537,"2022-08-04T04:00:00",4150.25,4173.25,4136,4152.25,1245063,4152.25,1,1,4150.25,4173.25,4136,4152.25,1245063]
[538,"2022-08-03T04:00:00",4097,4170,4084.5,4156.25,1696602,4156.25,1,1,4097,4170,4084.5,4156.25,1696602]
[539,"2022-08-02T04:00:00",4119.75,4143,4080.5,4093.75,1892241,4093.75,1,1,4119.75,4143,4080.5,4093.75,1892241]
[540,"2022-08-01T04:00:00",4137.5,4147.25,4097,4120.5,1776936,4120.5,1,1,4137.5,4147.25,4097,4120.5,1776936]
[541,"2022-07-29T04:00:00",4105,4144,4081,4133.5,1919598,4133.5,1,1,4105,4144,4081,4133.5,1919598]
[542,"2022-07-28T04:00:00",4022,4111,3994.5,4073.5,2014467,4073.5,1,1,4022,4111,3994.5,4073.5,2014467]
[543,"2022-07-27T04:00:00",3939.25,4042.75,3938.75,4024.5,1740431,4024.5,1,1,3939.25,4042.75,3938.75,4024.5,1740431]
[544,"2022-07-26T04:00:00",3959,3964.5,3913.25,3923.25,1589161,3923.25,1,1,3959,3964.5,3913.25,3923.25,1589161]
[545,"2022-07-25T04:00:00",3967.75,3988.75,3946,3970,1493471,3970,1,1,3967.75,3988.75,3946,3970,1493471]
[546,"2022-07-22T04:00:00",3988,4016.25,3941.5,3965,1736592,3965,1,1,3988,4016.25,3941.5,3965,1736592]
[547,"2022-07-21T04:00:00",3954,4004.75,3930.25,4001.25,1821097,4001.25,1,1,3954,4004.75,3930.25,4001.25,1821097]
[548,"2022-07-20T04:00:00",3947,3977.25,3922.25,3962.5,1734355,3962.5,1,1,3947,3977.25,3922.25,3962.5,1734355]
[549,"2022-07-19T04:00:00",3838.5,3948,3834,3937.5,1611604,3937.5,1,1,3838.5,3948,3834,3937.5,1611604]
[550,"2022-07-18T04:00:00",3878.5,3909.5,3820.25,3833.75,1439590,3833.75,1,1,3878.5,3909.5,3820.25,3833.75,1439590]
[551,"2022-07-15T04:00:00",3797.75,3868.25,3780.25,3865,1523753,3865,1,1,3797.75,3868.25,3780.25,3865,1523753]
[552,"2022-07-14T04:00:00",3795.75,3806.25,3723.75,3793.25,1916260,3793.25,1,1,3795.75,3806.25,3723.75,3793.25,1916260]
[553,"2022-07-13T04:00:00",3825,3873,3752,3804.5,2157968,3804.5,1,1,3825,3873,3752,3804.5,2157968]
[554,"2022-07-12T04:00:00",3862,3876.5,3804.75,3823.75,1640864,3823.75,1,1,3862,3876.5,3804.75,3823.75,1640864]
[555,"2022-07-11T04:00:00",3900,3900.75,3850,3856.75,1486103,3856.75,1,1,3900,3900.75,3850,3856.75,1486103]
[556,"2022-07-08T04:00:00",3897,3922,3868,3901.25,1485497,3901.25,1,1,3897,3922,3868,3901.25,1485497]
[557,"2022-07-07T04:00:00",3853.75,3914.25,3832.5,3905,1314443,3905,1,1,3853.75,3914.25,3832.5,3905,1314443]
[558,"2022-07-06T04:00:00",3838,3875,3808.75,3848.25,1684324,3848.25,1,1,3838,3875,3808.75,3848.25,1684324]
[559,"2022-07-05T04:00:00",3828.5,3857.75,3744,3834,2031501,3834,1,1,3828.5,3857.75,3744,3834,2031501]
[560,"2022-07-01T04:00:00",3782,3833.5,3744.5,3827.25,1752977,3827.25,1,1,3782,3833.5,3744.5,3827.25,1752977]
[561,"2022-06-30T04:00:00",3822.75,3825,3741.25,3789.5,2394361,3789.5,1,1,3822.75,3825,3741.25,3789.5,2394361]
[562,"2022-06-29T04:00:00",3828.25,3840,3801.25,3821.25,1717770,3821.25,1,1,3828.25,3840,3801.25,3821.25,1717770]
[563,"2022-06-28T04:00:00",3911.25,3950,3821.75,3825.5,1791690,3825.5,1,1,3911.25,3950,3821.75,3825.5,1791690]
[564,"2022-06-27T04:00:00",3915,3948,3892.5,3903.75,1497368,3903.75,1,1,3915,3948,3892.5,3903.75,1497368]
[565,"2022-06-24T04:00:00",3785.25,3919.75,3781.25,3916.25,1563128,3916.25,1,1,3785.25,3919.75,3781.25,3916.25,1563128]
[566,"2022-06-23T04:00:00",3761.25,3805.75,3735,3799.75,1607695,3799.75,1,1,3761.25,3805.75,3735,3799.75,1607695]
[567,"2022-06-22T04:00:00",3766.25,3805.5,3693.25,3762.75,1660579,3762.75,1,1,3766.25,3805.5,3693.25,3762.75,1660579]
[568,"2022-06-21T04:00:00",3684,3783.75,3661.5,3767.75,1566039,3767.75,1,1,3684,3783.75,3661.5,3767.75,1566039]
[569,"2022-06-17T04:00:00",3677.5,3710.75,3663.76,3663.76,2207570,3663.76,1,1,3677.5,3710.75,3663.76,3663.76,2207570]
[570,"2022-06-16T04:00:00",3794.25,3828.75,3639,3668.25,544027,3668.25,1,1,3794.25,3828.75,3639,3668.25,544027]
[571,"2022-06-15T04:00:00",3740,3839,3720.25,3789.25,777545,3789.25,1,1,3740,3839,3720.25,3789.25,777545]
[572,"2022-06-14T04:00:00",3758.25,3805,3705.25,3736.75,1341257,3736.75,1,1,3758.25,3805,3705.25,3736.75,1341257]
[573,"2022-06-13T04:00:00",3870.75,3876.5,3732.5,3750.5,2155159,3750.5,1,1,3870.75,3876.5,3732.5,3750.5,2155159]
[574,"2022-06-10T04:00:00",4025.25,4029.5,3895.25,3899,2117225,3899,1,1,4025.25,4029.5,3895.25,3899,2117225]
[575,"2022-06-09T04:00:00",4116,4144.25,4014.75,4016.25,2024783,4016.25,1,1,4116,4144.25,4014.75,4016.25,2024783]
[576,"2022-06-08T04:00:00",4150.75,4160,4105.25,4114,1706628,4114,1,1,4150.75,4160,4105.25,4114,1706628]
[577,"2022-06-07T04:00:00",4122,4164,4076,4158.75,1677883,4158.75,1,1,4122,4164,4076,4158.75,1677883]
[578,"2022-06-06T04:00:00",4110.5,4168.25,4104.5,4120.5,1457918,4120.5,{"$f":"IF(F593=0,1,H593/F593)","v":1},{"$f":"INDEX(OFFSET($T$15,0,0,$S$13+1,1),MATCH(B593,OFFSET($Q$15,0,0,$S$13+1,1),-1))","v":1},{"$f":"ROUND($I593*C593,2)","v":4110.5},{"$f":"ROUND($I593*D593,2)","v":4168.25},{"$f":"ROUND($I593*E593,2)","v":4104.5},{"$f":"ROUND($I593*F593,2)","v":4120.5},{"$f":"G593*J593","v":1457918}]
[579,"2022-06-03T04:00:00",4177.75,4189,4096.75,4107,1532766,4107,1,1,4177.75,4189,4096.75,4107,1532766]
[580,"2022-06-02T04:00:00",4097.75,4179,4072.25,4175.25,1513748,4175.25,1,1,4097.75,4179,4072.25,4175.25,1513748]
[581,"2022-06-01T04:00:00",4138.5,4165,4071.5,4099,1912031,4099,1,1,4138.5,4165,4071.5,4099,1912031]
[582,"2022-05-31T04:00:00",4164.5,4202.25,4102.75,4131.25,2222573,4131.25,1,1,4164.5,4202.25,4102.75,4131.25,2222573]
[583,"2022-05-27T04:00:00",4047.5,4168.25,4041.25,4155.75,1547507,4155.75,1,1,4047.5,4168.25,4041.25,4155.75,1547507]
[584,"2022-05-26T04:00:00",3972.25,4073.5,3960.5,4055.75,1493132,4055.75,1,1,3972.25,4073.5,3960.5,4055.75,1493132]
[585,"2022-05-25T04:00:00",3950,3997.75,3913.5,3976.75,1744116,3976.75,1,1,3950,3997.75,3913.5,3976.75,1744116]
[586,"2022-05-24T04:00:00",3951.75,3954.5,3872,3940.5,2017453,3940.5,1,1,3951.75,3954.5,3872,3940.5,2017453]
[587,"2022-05-23T04:00:00",3910.5,3982.25,3906.5,3971.75,1736162,3971.75,1,1,3910.5,3982.25,3906.5,3971.75,1736162]
[588,"2022-05-20T04:00:00",3900.5,3949.5,3807.5,3899.5,2408399,3899.5,1,1,3900.5,3949.5,3807.5,3899.5,2408399]
[589,"2022-05-19T04:00:00",3916.5,3943.5,3856,3897.75,2317604,3897.75,1,1,3916.5,3943.5,3856,3897.75,2317604]
[590,"2022-05-18T04:00:00",4091.25,4095,3905.5,3922.75,2202394,3922.75,1,1,4091.25,4095,3905.5,3922.75,2202394]
[591,"2022-05-17T04:00:00",4002,4091.5,4000.5,4084.75,1716498,4084.75,1,1,4002,4091.5,4000.5,4084.75,1716498]
[592,"2022-05-16T04:00:00",4025,4043.5,3979.5,4004.75,1695198,4004.75,1,1,4025,4043.5,3979.5,4004.75,1695198]
[593,"2022-05-13T04:00:00",3916.25,4036,3915.5,4019.75,1859074,4019.75,1,1,3916.25,4036,3915.5,4019.75,1859074]
[594,"2022-05-12T04:00:00",3939.75,3961.75,3855,3927.25,2380563,3927.25,1,1,3939.75,3961.75,3855,3927.25,2380563]
[595,"2022-05-11T04:00:00",3990.5,4050.5,3923.75,3930.25,2157244,3930.25,1,1,3990.5,4050.5,3923.75,3930.25,2157244]
[596,"2022-05-10T04:00:00",3993.25,4065.5,3953,3996.75,2247750,3996.75,1,1,3993.25,4065.5,3953,3996.75,2247750]
[597,"2022-05-09T04:00:00",4087.25,4099,3970,3987.5,2139992,3987.5,1,1,4087.25,4099,3970,3987.5,2139992]
[598,"2022-05-06T04:00:00",4146.5,4153.25,4062,4119.5,2310919,4119.5,1,1,4146.5,4153.25,4062,4119.5,2310919]
[599,"2022-05-05T04:00:00",4289.75,4300.75,4099.25,4143.25,2389422,4143.25,1,1,4289.75,4300.75,4099.25,4143.25,2389422]
[600,"2022-05-04T04:00:00",4171.25,4303,4142.75,4295.25,1783477,4295.25,1,1,4171.25,4303,4142.75,4295.25,1783477]
[601,"2022-05-03T04:00:00",4145.5,4195.75,4129,4169.25,1678497,4169.25,1,1,4145.5,4195.75,4129,4169.25,1678497]
[602,"2022-05-02T04:00:00",4144,4165.75,4056,4151,2351404,4151,1,1,4144,4165.75,4056,4151,2351404]
[603,"2022-04-29T04:00:00",4244,4279.75,4118.75,4127.5,2117160,4127.5,1,1,4244,4279.75,4118.75,4127.5,2117160]
[604,"2022-04-28T04:00:00",4213,4303.5,4182.5,4283.5,1798644,4283.5,1,1,4213,4303.5,4182.5,4283.5,1798644]
[605,"2022-04-27T04:00:00",4149.5,4236.25,4149,4180.25,2035627,4180.25,1,1,4149.5,4236.25,4149,4180.25,2035627]
[606,"2022-04-26T04:00:00",4294,4303.5,4136.75,4170.5,2018166,4170.5,1,1,4294,4303.5,4136.75,4170.5,2018166]
[607,"2022-04-25T04:00:00",4259,4296.5,4195.25,4292.75,2280374,4292.75,1,1,4259,4296.5,4195.25,4292.75,2280374]
[608,"2022-04-22T04:00:00",4385.75,4393.25,4247.5,4267.25,2039961,4267.25,1,1,4385.75,4393.25,4247.5,4267.25,2039961]
[609,"2022-04-21T04:00:00",4468,4509,4380,4390.5,1704137,4390.5,1,1,4468,4509,4380,4390.5,1704137]
[610,"2022-04-20T04:00:00",4441,4484.25,4432.75,4455.5,1423396,4455.5,1,1,4441,4484.25,4432.75,4455.5,1423396]
[611,"2022-04-19T04:00:00",4399,4467,4371.75,4459.25,1465764,4459.25,1,1,4399,4467,4371.75,4459.25,1465764]
[612,"2022-04-18T04:00:00",4390,4406.25,4355.5,4386.75,1149765,4386.75,1,1,4390,4406.25,4355.5,4386.75,1149765]
[613,"2022-04-14T04:00:00",4438.5,4455.75,4385,4387.5,1396074,4387.5,1,1,4438.5,4455.75,4385,4387.5,1396074]
[614,"2022-04-13T04:00:00",4396.75,4449.5,4384,4442.25,1254348,4442.25,1,1,4396.75,4449.5,4384,4442.25,1254348]
[615,"2022-04-12T04:00:00",4411,4466.75,4375.5,4393,1739771,4393,1,1,4411,4466.75,4375.5,4393,1739771]
[616,"2022-04-11T04:00:00",4488.75,4491.25,4403.5,4409,1431371,4409,1,1,4488.75,4491.25,4403.5,4409,1431371]
[617,"2022-04-08T04:00:00",4494.75,4519.75,4468.75,4483.5,1358450,4483.5,1,1,4494.75,4519.75,4468.75,4483.5,1358450]
[618,"2022-04-07T04:00:00",4471.25,4517.25,4444.5,4496.25,1446250,4496.25,1,1,4471.25,4517.25,4444.5,4496.25,1446250]
[619,"2022-04-06T04:00:00",4526.25,4528.75,4444.5,4475.75,1803684,4475.75,1,1,4526.25,4528.75,4444.5,4475.75,1803684]
[620,"2022-04-05T04:00:00",4576.25,4588.75,4507.75,4520.25,1303877,4520.25,1,1,4576.25,4588.75,4507.75,4520.25,1303877]
[621,"2022-04-04T04:00:00",4538.25,4580,4527.75,4577.75,1025558,4577.75,1,1,4538.25,4580,4527.75,4577.75,1025558]
[622,"2022-04-01T04:00:00",4541,4555.5,4501.25,4539.25,1441126,4539.25,1,1,4541,4555.5,4501.25,4539.25,1441126]
[623,"2022-03-31T04:00:00",4599,4614.25,4526.25,4530.75,1650667,4530.75,1,1,4599,4614.25,4526.25,4530.75,1650667]
[624,"2022-03-30T04:00:00",4621.25,4627.5,4574.75,4596,1206203,4596,1,1,4621.25,4627.5,4574.75,4596,1206203]
[625,"2022-03-29T04:00:00",4570.25,4631,4565.25,4625.5,1353683,4625.5,1,1,4570.25,4631,4565.25,4625.5,1353683]
[626,"2022-03-28T04:00:00",4535.25,4572.25,4509.75,4568,1182527,4568,1,1,4535.25,4572.25,4509.75,4568,1182527]
[627,"2022-03-25T04:00:00",4516.25,4539,4493.25,4536.5,1251078,4536.5,1,1,4516.25,4539,4493.25,4536.5,1251078]
[628,"2022-03-24T04:00:00",4449.25,4517.5,4445.75,4512.5,1221569,4512.5,1,1,4449.25,4517.5,4445.75,4512.5,1221569]
[629,"2022-03-23T04:00:00",4504,4514,4444.75,4447.5,1336967,4447.5,1,1,4504,4514,4444.75,4447.5,1336967]
[630,"2022-03-22T04:00:00",4456.75,4514.75,4433,4505,1205860,4505,1,1,4456.75,4514.75,4433,4505,1205860]
[631,"2022-03-21T04:00:00",4460,4473,4415,4452.25,1375090,4452.25,1,1,4460,4473,4415,4452.25,1375090]
[632,"2022-03-18T04:00:00",4393,4409.3500000000004,4373.75,4409.3500000000004,1405299,4409.3500000000004,1,1,4393,4409.3500000000004,4373.75,4409.3500000000004,1405299]
[633,"2022-03-17T04:00:00",4370.5,4415.25,4329,4410.25,434642,4410.25,1,1,4370.5,4415.25,4329,4410.25,434642]
[634,"2022-03-16T04:00:00",4257.5,4376,4246.25,4358,722600,4358,1,1,4257.5,4376,4246.25,4358,722600]
[635,"2022-03-15T04:00:00",4180.25,4271.5,4138,4262,1085846,4262,1,1,4180.25,4271.5,4138,4262,1085846]
[636,"2022-03-14T04:00:00",4216,4254.5,4160.75,4172,1438651,4172,1,1,4216,4254.5,4160.75,4172,1438651]
[637,"2022-03-11T05:00:00",4258.5,4335.5,4198,4201.5,1645055,4201.5,1,1,4258.5,4335.5,4198,4201.5,1645055]
[638,"2022-03-10T05:00:00",4279,4282.25,4207,4257.25,1745090,4257.25,1,1,4279,4282.25,4207,4257.25,1745090]
[639,"2022-03-09T05:00:00",4153,4298.25,4152,4275.25,1659520,4275.25,1,1,4153,4298.25,4152,4275.25,1659520]
[640,"2022-03-08T05:00:00",4186.5,4275,4138.75,4168.75,2333021,4168.75,1,1,4186.5,4275,4138.75,4168.75,2333021]
[641,"2022-03-07T05:00:00",4308.75,4325.25,4185.25,4198.5,1902001,4198.5,1,1,4308.75,4325.25,4185.25,4198.5,1902001]
[642,"2022-03-04T05:00:00",4366.5,4374.5,4281.25,4327.25,1842722,4327.25,{"$f":"IF(F657=0,1,H657/F657)","v":1},{"$f":"INDEX(OFFSET($T$15,0,0,$S$13+1,1),MATCH(B657,OFFSET($Q$15,0,0,$S$13+1,1),-1))","v":1},{"$f":"ROUND($I657*C657,2)","v":4366.5},{"$f":"ROUND($I657*D657,2)","v":4374.5},{"$f":"ROUND($I657*E657,2)","v":4281.25},{"$f":"ROUND($I657*F657,2)","v":4327.25},{"$f":"G657*J657","v":1842722}]
[643,"2022-03-03T05:00:00",4373.75,4418.75,4341,4359.25,1547676,4359.25,1,1,4373.75,4418.75,4341,4359.25,1547676]
[644,"2022-03-02T05:00:00",4308.75,4399.25,4278.25,4381.75,1712970,4381.75,1,1,4308.75,4399.25,4278.25,4381.75,1712970]
[645,"2022-03-01T05:00:00",4367.5,4399,4275,4303.75,1869277,4303.75,1,1,4367.5,4399,4275,4303.75,1869277]
[646,"2022-02-28T05:00:00",4299.5,4385.5,4251.5,4368,2189820,4368,1,1,4299.5,4385.5,4251.5,4368,2189820]
[647,"2022-02-25T05:00:00",4266.75,4384.25,4227.5,4380,1950397,4380,1,1,4266.75,4384.25,4227.5,4380,1950397]
[648,"2022-02-24T05:00:00",4215.5,4290,4101.75,4284,2945330,4284,1,1,4215.5,4290,4101.75,4284,2945330]
[649,"2022-02-23T05:00:00",4310.75,4345.5,4212.5,4222,1914227,4222,1,1,4310.75,4345.5,4212.5,4222,1914227]
[650,"2022-02-22T05:00:00",4324.25,4391.25,4250,4300,2589159,4300,1,1,4324.25,4391.25,4250,4300,2589159]
[651,"2022-02-18T05:00:00",4374.75,4411.5,4321,4343.5,1824590,4343.5,1,1,4374.75,4411.5,4321,4343.5,1824590]
[652,"2022-02-17T05:00:00",4464.25,4474.75,4367.25,4374.5,1629730,4374.5,1,1,4464.25,4474.75,4367.25,4374.5,1629730]
[653,"2022-02-16T05:00:00",4458.75,4484.5,4422.75,4470,1426847,4470,1,1,4458.75,4484.5,4422.75,4470,1426847]
[654,"2022-02-15T05:00:00",4393.5,4468,4381.75,4464.5,1523305,4464.5,1,1,4393.5,4468,4381.75,4464.5,1523305]
[655,"2022-02-14T05:00:00",4411.75,4428,4354,4394,2098618,4394,1,1,4411.75,4428,4354,4394,2098618]
[656,"2022-02-11T05:00:00",4494.5,4520.5,4393.25,4409.5,2479025,4409.5,1,1,4494.5,4520.5,4393.25,4409.5,2479025]
[657,"2022-02-10T05:00:00",4582.25,4583.75,4476,4497.5,2403026,4497.5,1,1,4582.25,4583.75,4476,4497.5,2403026]
[658,"2022-02-09T05:00:00",4519,4585,4517.25,4577.75,1383317,4577.75,1,1,4519,4585,4517.25,4577.75,1383317]
[659,"2022-02-08T05:00:00",4484,4523.75,4456.25,4512.5,1459766,4512.5,1,1,4484,4523.75,4456.25,4512.5,1459766]
[660,"2022-02-07T05:00:00",4497,4514.5,4462.75,4475.75,1495143,4475.75,1,1,4497,4514.5,4462.75,4475.75,1495143]
[661,"2022-02-04T05:00:00",4518,4532.5,4438.5,4492.5,1957881,4492.5,1,1,4518,4532.5,4438.5,4492.5,1957881]
[662,"2022-02-03T05:00:00",4545.75,4548.25,4462,4469,1800714,4469,1,1,4545.75,4548.25,4462,4469,1800714]
[663,"2022-02-02T05:00:00",4552,4586,4535.25,4577.25,1624220,4577.25,1,1,4552,4586,4535.25,4577.25,1624220]
[664,"2022-02-01T05:00:00",4493.25,4554.75,4474,4535,1618163,4535,1,1,4493.25,4554.75,4474,4535,1618163]
[665,"2022-01-31T05:00:00",4423.5,4507.75,4395.5,4504.25,1846145,4504.25,1,1,4423.5,4507.75,4395.5,4504.25,1846145]
[666,"2022-01-28T05:00:00",4348,4426,4266.25,4423.25,2251268,4423.25,1,1,4348,4426,4266.25,4423.25,2251268]
[667,"2022-01-27T05:00:00",4345.25,4422,4263.25,4317.75,2295458,4317.75,1,1,4345.25,4422,4263.25,4317.75,2295458]
[668,"2022-01-26T05:00:00",4308.75,4446.25,4294.25,4341.5,2423103,4341.5,1,1,4308.75,4446.25,4294.25,4341.5,2423103]
[669,"2022-01-25T05:00:00",4402.75,4406.75,4276.5,4349,2483392,4349,1,1,4402.75,4406.75,4276.5,4349,2483392]
[670,"2022-01-24T05:00:00",4389,4427.5,4212.75,4403.75,3846785,4403.75,1,1,4389,4427.5,4212.75,4403.75,3846785]
[671,"2022-01-21T05:00:00",4454.25,4487,4381.25,4390,3012106,4390,1,1,4454.25,4487,4381.25,4390,3012106]
[672,"2022-01-20T05:00:00",4526,4594.25,4437.75,4474.75,2040704,4474.75,1,1,4526,4594.25,4437.75,4474.75,2040704]
[673,"2022-01-19T05:00:00",4577.75,4603,4517.25,4524.25,2001348,4524.25,1,1,4577.75,4603,4517.25,4524.25,2001348]
[674,"2022-01-18T05:00:00",4666,4671.75,4560,4571.25,2268240,4571.25,1,1,4666,4671.75,4560,4571.25,2268240]
[675,"2022-01-14T05:00:00",4655,4667,4606,4654.75,2010610,4654.75,1,1,4655,4667,4606,4654.75,2010610]
[676,"2022-01-13T05:00:00",4719.25,4736.25,4642.5,4652,1824612,4652,1,1,4719.25,4736.25,4642.5,4652,1824612]
[677,"2022-01-12T05:00:00",4704,4739.5,4695,4716.25,1583216,4716.25,1,1,4704,4739.5,4695,4716.25,1583216]
[678,"2022-01-11T05:00:00",4663.5,4707.5,4627.25,4705,1729004,4705,1,1,4663.5,4707.5,4627.25,4705,1729004]
[679,"2022-01-10T05:00:00",4671.25,4681.75,4572.75,4662.25,2231980,4662.25,1,1,4671.25,4681.75,4572.75,4662.25,2231980]
[680,"2022-01-07T05:00:00",4695,4705.75,4653.75,4667.75,1618440,4667.75,1,1,4695,4705.75,4653.75,4667.75,1618440]
[681,"2022-01-06T05:00:00",4692,4715.75,4662,4687.5,1862918,4687.5,1,1,4692,4715.75,4662,4687.5,1862918]
[682,"2022-01-05T05:00:00",4783.5,4788.25,4689.5,4692.5,1856376,4692.5,1,1,4783.5,4788.25,4689.5,4692.5,1856376]
[683,"2022-01-04T05:00:00",4785.25,4808.25,4764.5,4784.25,1392809,4784.25,1,1,4785.25,4808.25,4764.5,4784.25,1392809]
[684,"2022-01-03T05:00:00",4771,4791.25,4747.5,4786,1322362,4786,1,1,4771,4791.25,4747.5,4786,1322362]
[685,"2021-12-31T05:00:00",4773.75,4778.5,4750.5,4758.5,954083,4758.5,1,1,4773.75,4778.5,4750.5,4758.5,954083]
[686,"2021-12-30T05:00:00",4784.75,4799.75,4767.25,4772.25,753935,4772.25,1,1,4784.75,4799.75,4767.25,4772.25,753935]
[687,"2021-12-29T05:00:00",4781,4796,4770,4784.5,876030,4784.5,1,1,4781,4796,4770,4784.5,876030]
[688,"2021-12-28T05:00:00",4780.5,4798,4770.5,4778.5,954520,4778.5,1,1,4780.5,4798,4770.5,4778.5,954520]
[689,"2021-12-27T05:00:00",4717,4784.25,4713.25,4782.25,898698,4782.25,1,1,4717,4784.25,4713.25,4782.25,898698]
[690,"2021-12-23T05:00:00",4689,4731.25,4684.25,4715.75,978022,4715.75,1,1,4689,4731.25,4684.25,4715.75,978022]
[691,"2021-12-22T05:00:00",4641.75,4690.5,4622.25,4686,1104688,4686,1,1,4641.75,4690.5,4622.25,4686,1104688]
[692,"2021-12-21T05:00:00",4567.75,4643,4565.75,4640.75,1493880,4640.75,1,1,4567.75,4643,4565.75,4640.75,1493880]
[693,"2021-12-20T05:00:00",4612,4621.5,4520.25,4558.5,2097624,4558.5,1,1,4612,4621.5,4520.25,4558.5,2097624]
[694,"2021-12-17T05:00:00",4674.25,4677.75,4629.5,4636.46,2472118,4636.46,1,1,4674.25,4677.75,4629.5,4636.46,2472118]
[695,"2021-12-16T05:00:00",4711.5,4752.5,4651.25,4668.75,435986,4668.75,1,1,4711.5,4752.5,4651.25,4668.75,435986]
[696,"2021-12-15T05:00:00",4637.75,4715,4611.25,4709.5,673190,4709.5,1,1,4637.75,4715,4611.25,4709.5,673190]
[697,"2021-12-14T05:00:00",4672,4686,4606,4637,1211592,4637,1,1,4672,4686,4606,4637,1211592]
[698,"2021-12-13T05:00:00",4711.25,4731,4664.75,4668.75,1605196,4668.75,1,1,4711.25,4731,4664.75,4668.75,1605196]
[699,"2021-12-10T05:00:00",4669.25,4712.75,4664.25,4711,1585049,4711,1,1,4669.25,4712.75,4664.25,4711,1585049]
[700,"2021-12-09T05:00:00",4697.25,4706,4662.25,4667,1593325,4667,1,1,4697.25,4706,4662.25,4667,1593325]
[701,"2021-12-08T05:00:00",4695.25,4712,4671.75,4699,1418355,4699,1,1,4695.25,4712,4671.75,4699,1418355]
[702,"2021-12-07T05:00:00",4594.25,4697.25,4587.25,4685,1771947,4685,1,1,4594.25,4697.25,4587.25,4685,1771947]
[703,"2021-12-06T05:00:00",4542.25,4611.75,4531.5,4590,2031995,4590,1,1,4542.25,4611.75,4531.5,4590,2031995]
[704,"2021-12-03T05:00:00",4587.25,4606.5,4492,4537.5,2747667,4537.5,1,1,4587.25,4606.5,4492,4537.5,2747667]
[705,"2021-12-02T05:00:00",4514.75,4593.75,4505.5,4575.75,2587324,4575.75,1,1,4514.75,4593.75,4505.5,4575.75,2587324]
[706,"2021-12-01T05:00:00",4587.5,4650.75,4497.75,4508.5,2670344,4508.5,{"$f":"IF(F721=0,1,H721/F721)","v":1},{"$f":"INDEX(OFFSET($T$15,0,0,$S$13+1,1),MATCH(B721,OFFSET($Q$15,0,0,$S$13+1,1),-1))","v":1},{"$f":"ROUND($I721*C721,2)","v":4587.5},{"$f":"ROUND($I721*D721,2)","v":4650.75},{"$f":"ROUND($I721*E721,2)","v":4497.75},{"$f":"ROUND($I721*F721,2)","v":4508.5},{"$f":"G721*J721","v":2670344}]
[707,"2021-11-30T05:00:00",4657.25,4667.5,4557,4566.25,2845560,4566.25,1,1,4657.25,4667.5,4557,4566.25,2845560]
[708,"2021-11-29T05:00:00",4589,4669.75,4588.75,4651,2014967,4651,1,1,4589,4669.75,4588.75,4651,2014967]
[709,"2021-11-26T14:30:00",4700.5,4717,4577.25,4595.75,2068167,4595.75,1,1,4700.5,4717,4577.25,4595.75,2068167]
[710,"2021-11-24T05:00:00",4686.25,4702.25,4656.25,4699,1408571,4699,1,1,4686.25,4702.25,4656.25,4699,1408571]
[711,"2021-11-23T05:00:00",4686,4695.5,4649,4688.5,1872492,4688.5,1,1,4686,4695.5,4649,4688.5,1872492]
[712,"2021-11-22T05:00:00",4701,4740.5,4674.25,4679.75,1685386,4679.75,1,1,4701,4740.5,4674.25,4679.75,1685386]
[713,"2021-11-19T05:00:00",4705.25,4723.5,4684.25,4694.5,1344893,4694.5,1,1,4705.25,4723.5,4684.25,4694.5,1344893]
[714,"2021-11-18T05:00:00",4685.25,4706.5,4668,4701.5,1168195,4701.5,1,1,4685.25,4706.5,4668,4701.5,1168195]
[715,"2021-11-17T05:00:00",4696.5,4701,4679.25,4686.25,1056696,4686.25,1,1,4696.5,4701,4679.25,4686.25,1056696]
[716,"2021-11-16T05:00:00",4680.75,4709.75,4670.75,4696,1043587,4696,1,1,4680.75,4709.75,4670.75,4696,1043587]
[717,"2021-11-15T05:00:00",4684.75,4697.5,4667,4679,1047123,4679,1,1,4684.75,4697.5,4667,4679,1047123]
[718,"2021-11-12T05:00:00",4647,4685.5,4643.75,4678.25,1155591,4678.25,1,1,4647,4685.5,4643.75,4678.25,1155591]
[719,"2021-11-11T05:00:00",4645,4661.5,4638,4643,936857,4643,1,1,4645,4661.5,4638,4643,936857]
[720,"2021-11-10T05:00:00",4674.75,4680.25,4625.25,4642,1639098,4642,1,1,4674.75,4680.25,4625.25,4642,1639098]
[721,"2021-11-09T05:00:00",4690.75,4700.5,4663.25,4678.25,1289857,4678.25,1,1,4690.75,4700.5,4663.25,4678.25,1289857]
[722,"2021-11-08T05:00:00",4678.5,4707,4676.25,4694,1000404,4694,1,1,4678.5,4707,4676.25,4694,1000404]
[723,"2021-11-05T04:00:00",4671.75,4711.75,4667.5,4690.25,1459142,4690.25,1,1,4671.75,4711.75,4667.5,4690.25,1459142]
[724,"2021-11-04T04:00:00",4651.5,4676.25,4650.75,4673.25,1169886,4673.25,1,1,4651.5,4676.25,4650.75,4673.25,1169886]
[725,"2021-11-03T04:00:00",4621.25,4657,4613,4652.25,1074650,4652.25,1,1,4621.25,4657,4613,4652.25,1074650]
[726,"2021-11-02T04:00:00",4605.75,4627,4593.25,4623.5,980833,4623.5,1,1,4605.75,4627,4593.25,4623.5,980833]
[727,"2021-11-01T04:00:00",4608,4619.5,4586.5,4605.75,1071118,4605.75,1,1,4608,4619.5,4586.5,4605.75,1071118]
[728,"2021-10-29T04:00:00",4577,4603.5,4559.25,4597,1418280,4597,1,1,4577,4603.5,4559.25,4597,1418280]
[729,"2021-10-28T04:00:00",4548.75,4589.75,4545.25,4587.5,1195785,4587.5,1,1,4548.75,4589.75,4545.25,4587.5,1195785]
[730,"2021-10-27T04:00:00",4563.75,4576.75,4543.75,4544.5,1263181,4544.5,1,1,4563.75,4576.75,4543.75,4544.5,1263181]
[731,"2021-10-26T04:00:00",4564.75,4590,4560.75,4565.25,1257346,4565.25,1,1,4564.75,4590,4560.75,4565.25,1257346]
[732,"2021-10-25T04:00:00",4528.75,4566.25,4522.5,4558,1031431,4558,1,1,4528.75,4566.25,4522.5,4558,1031431]
[733,"2021-10-22T04:00:00",4530,4551.5,4515.25,4536.5,1315668,4536.5,1,1,4530,4551.5,4515.25,4536.5,1315668]
[734,"2021-10-21T04:00:00",4525,4543.25,4510.25,4541.75,938565,4541.75,1,1,4525,4543.25,4510.25,4541.75,938565]
[735,"2021-10-20T04:00:00",4516,4532.25,4504,4528,1006857,4528,1,1,4516,4532.25,4504,4528,1006857]
[736,"2021-10-19T04:00:00",4475.75,4517.5,4471.75,4511.25,1018177,4511.25,1,1,4475.75,4517.5,4471.75,4511.25,1018177]
[737,"2021-10-18T04:00:00",4465.5,4479.75,4436.25,4477.5,1095216,4477.5,1,1,4465.5,4479.75,4436.25,4477.5,1095216]
[738,"2021-10-15T04:00:00",4433,4467.5,4426.25,4462.5,1185108,4462.5,1,1,4433,4467.5,4426.25,4462.5,1185108]
[739,"2021-10-14T04:00:00",4354.75,4437.25,4354,4429,1264458,4429,1,1,4354.75,4437.25,4354,4429,1264458]
[740,"2021-10-13T04:00:00",4327.5,4364.75,4318.75,4355,1372482,4355,1,1,4327.5,4364.75,4318.75,4355,1372482]
[741,"2021-10-12T04:00:00",4347.75,4365,4317.25,4340.75,1295686,4340.75,1,1,4347.75,4365,4317.25,4340.75,1295686]
[742,"2021-10-11T04:00:00",4381,4407.5,4344,4351,1245705,4351,1,1,4381,4407.5,4344,4351,1245705]
[743,"2021-10-08T04:00:00",4390.5,4407.75,4376.25,4382.25,1428160,4382.25,1,1,4390.5,4407.75,4376.25,4382.25,1428160]
[744,"2021-10-07T04:00:00",4355.25,4421.5,4355,4390,1406808,4390,1,1,4355.25,4421.5,4355,4390,1406808]
[745,"2021-10-06T04:00:00",4334,4357.5,4273.75,4354,2202805,4354,1,1,4334,4357.5,4273.75,4354,2202805]
[746,"2021-10-05T04:00:00",4295.75,4359.75,4269,4334,1650217,4334,1,1,4295.75,4359.75,4269,4334,1650217]
[747,"2021-10-04T04:00:00",4349,4362,4267.5,4291.25,2135338,4291.25,1,1,4349,4362,4267.5,4291.25,2135338]
[748,"2021-10-01T04:00:00",4301,4365.75,4260,4343.75,2269695,4343.75,1,1,4301,4365.75,4260,4343.75,2269695]
[749,"2021-09-30T04:00:00",4360,4389,4294.25,4297.75,2373423,4297.75,1,1,4360,4389,4294.25,4297.75,2373423]
[750,"2021-09-29T04:00:00",4347.5,4378.75,4344.25,4349.75,1815726,4349.75,1,1,4347.5,4378.75,4344.25,4349.75,1815726]
[751,"2021-09-28T04:00:00",4429.75,4442,4334.75,4343.5,2307037,4343.5,1,1,4429.75,4442,4334.75,4343.5,2307037]
[752,"2021-09-27T04:00:00",4446,4472,4425,4433,1306188,4433,1,1,4446,4472,4425,4433,1306188]
[753,"2021-09-24T04:00:00",4439,4453,4410.75,4445.75,1182037,4445.75,1,1,4439,4453,4410.75,4445.75,1182037]
[754,"2021-09-23T04:00:00",4386,4455,4385.75,4438,1447395,4438,1,1,4386,4455,4385.75,4438,1447395]
[755,"2021-09-22T04:00:00",4336.5,4406.5,4321.25,4384,1767853,4384,1,1,4336.5,4406.5,4321.25,4384,1767853]
[756,"2021-09-21T04:00:00",4342.5,4395.75,4329.25,4343.25,1941006,4343.25,1,1,4342.5,4395.75,4329.25,4343.25,1941006]
[757,"2021-09-20T04:00:00",4411.75,4418,4293.75,4348.25,2711340,4348.25,1,1,4411.75,4418,4293.75,4348.25,2711340]
[758,"2021-09-17T04:00:00",4471,4482.5,4459,4464.33,1968041,4464.33,1,1,4471,4482.5,4459,4464.33,1968041]
[759,"2021-09-16T04:00:00",4486,4487.5,4443,4474.25,268026,4474.25,1,1,4486,4487.5,4443,4474.25,268026]
[760,"2021-09-15T04:00:00",4446.75,4487.5,4437.5,4481.75,518985,4481.75,1,1,4446.75,4487.5,4437.5,4481.75,518985]
[761,"2021-09-14T04:00:00",4475.5,4489.5,4435,4444.5,893788,4444.5,1,1,4475.5,4489.5,4435,4444.5,893788]
[762,"2021-09-13T04:00:00",4461,4492.75,4444.75,4469,1534719,4469,1,1,4461,4492.75,4444.75,4469,1534719]
[763,"2021-09-10T04:00:00",4491.25,4518.25,4456.5,4458.25,1721413,4458.25,1,1,4491.25,4518.25,4456.5,4458.25,1721413]
[764,"2021-09-09T04:00:00",4511,4529.5,4485.5,4492.25,1696301,4492.25,1,1,4511,4529.5,4485.5,4492.25,1696301]
[765,"2021-09-08T04:00:00",4517.5,4524.75,4492,4512.5,1606757,4512.5,1,1,4517.5,4524.75,4492,4512.5,1606757]
[766,"2021-09-07T04:00:00",4533,4548,4510.75,4519.25,1277938,4519.25,1,1,4533,4548,4510.75,4519.25,1277938]
[767,"2021-09-03T04:00:00",4536.75,4549.5,4519.25,4534.5,1156146,4534.5,1,1,4536.75,4549.5,4519.25,4534.5,1156146]
[768,"2021-09-02T04:00:00",4522.5,4544,4516,4535.25,1016806,4535.25,1,1,4522.5,4544,4516,4535.25,1016806]
[769,"2021-09-01T04:00:00",4527.75,4540,4519.25,4521.25,1061414,4521.25,1,1,4527.75,4540,4519.25,4521.25,1061414]
[770,"2021-08-31T04:00:00",4529.5,4542.25,4512.5,4520.5,1378199,4520.5,{"$f":"IF(F785=0,1,H785/F785)","v":1},{"$f":"INDEX(OFFSET($T$15,0,0,$S$13+1,1),MATCH(B785,OFFSET($Q$15,0,0,$S$13+1,1),-1))","v":1},{"$f":"ROUND($I785*C785,2)","v":4529.5},{"$f":"ROUND($I785*D785,2)","v":4542.25},{"$f":"ROUND($I785*E785,2)","v":4512.5},{"$f":"ROUND($I785*F785,2)","v":4520.5},{"$f":"G785*J785","v":1378199}]
[771,"2021-08-30T04:00:00",4508.75,4534.5,4500.75,4525.25,975807,4525.25,1,1,4508.75,4534.5,4500.75,4525.25,975807]
[772,"2021-08-27T04:00:00",4470,4510,4462.25,4505.5,1216414,4505.5,1,1,4470,4510,4462.25,4505.5,1216414]
[773,"2021-08-26T04:00:00",4493.75,4494.25,4465,4466.5,1306718,4466.5,1,1,4493.75,4494.25,4465,4466.5,1306718]
[774,"2021-08-25T04:00:00",4483.5,4498,4476.25,4493,801106,4493,1,1,4483.5,4498,4476.25,4493,801106]
[775,"2021-08-24T04:00:00",4481,4492,4476.75,4482.5,787503,4482.5,1,1,4481,4492,4476.75,4482.5,787503]
[776,"2021-08-23T04:00:00",4435,4485.75,4433.5,4475.5,997026,4475.5,1,1,4435,4485.75,4433.5,4475.5,997026]
[777,"2021-08-20T04:00:00",4403.75,4440.5,4371.75,4437,1328852,4437,1,1,4403.75,4440.5,4371.75,4437,1328852]
[778,"2021-08-19T04:00:00",4389.75,4414.75,4347.75,4401.5,1924058,4401.5,1,1,4389.75,4414.75,4347.75,4401.5,1924058]
[779,"2021-08-18T04:00:00",4436.75,4449.75,4381.5,4394.5,1546011,4394.5,1,1,4436.75,4449.75,4381.5,4394.5,1546011]
[780,"2021-08-17T04:00:00",4472,4472.25,4411.75,4443.5,1789568,4443.5,1,1,4472,4472.25,4411.75,4443.5,1789568]
[781,"2021-08-16T04:00:00",4456.25,4476.5,4432.5,4474,1239520,4474,1,1,4456.25,4476.5,4432.5,4474,1239520]
[782,"2021-08-13T04:00:00",4455.75,4463.25,4451,4462.5,789104,4462.5,1,1,4455.75,4463.25,4451,4462.5,789104]
[783,"2021-08-12T04:00:00",4440,4456.25,4430.25,4454.5,850527,4454.5,1,1,4440,4456.25,4430.25,4454.5,850527]
[784,"2021-08-11T04:00:00",4429.25,4443.25,4420.75,4440.5,1001054,4440.5,1,1,4429.25,4443.25,4420.75,4440.5,1001054]
[785,"2021-08-10T04:00:00",4427.25,4438.25,4416.5,4430,950320,4430,1,1,4427.25,4438.25,4416.5,4430,950320]
[786,"2021-08-09T04:00:00",4428,4432,4412.25,4425.75,789726,4425.75,1,1,4428,4432,4412.25,4425.75,789726]
[787,"2021-08-06T04:00:00",4420.25,4433.25,4416,4429.5,951045,4429.5,1,1,4420.25,4433.25,4416,4429.5,951045]
[788,"2021-08-05T04:00:00",4396.25,4422.75,4393.75,4421.5,763343,4421.5,1,1,4396.25,4422.75,4393.75,4421.5,763343]
[789,"2021-08-04T04:00:00",4409.75,4415,4391.25,4394.75,1047251,4394.75,1,1,4409.75,4415,4391.25,4394.75,1047251]
[790,"2021-08-03T04:00:00",4383.75,4417,4365.25,4415,1296856,4415,1,1,4383.75,4417,4365.25,4415,1296856]
[791,"2021-08-02T04:00:00",4396.5,4419.75,4377.25,4379.75,1193301,4379.75,1,1,4396.5,4419.75,4377.25,4379.75,1193301]
[792,"2021-07-30T04:00:00",4394.25,4405,4370.75,4389.5,1376982,4389.5,1,1,4394.25,4405,4370.75,4389.5,1376982]
[793,"2021-07-29T04:00:00",4393.75,4422.5,4380.5,4411.75,1009496,4411.75,1,1,4393.75,4422.5,4380.5,4411.75,1009496]
[794,"2021-07-28T04:00:00",4380,4407.75,4377.5,4393.75,1221313,4393.75,1,1,4380,4407.75,4377.5,4393.75,1221313]
[795,"2021-07-27T04:00:00",4415.75,4416,4364.75,4394.5,1575473,4394.5,1,1,4415.75,4416,4364.75,4394.5,1575473]
[796,"2021-07-26T04:00:00",4400.5,4416.75,4375.5,4414.25,938628,4414.25,1,1,4400.5,4416.75,4375.5,4414.25,938628]
[797,"2021-07-23T04:00:00",4371.5,4408.25,4367.25,4403,1173337,4403,1,1,4371.5,4408.25,4367.25,4403,1173337]
[798,"2021-07-22T04:00:00",4355,4371.5,4341.5,4359.5,981969,4359.5,1,1,4355,4371.5,4341.5,4359.5,981969]
[799,"2021-07-21T04:00:00",4318.75,4355.25,4310,4350.5,1191429,4350.5,1,1,4318.75,4355.25,4310,4350.5,1191429]
[800,"2021-07-20T04:00:00",4262.75,4329,4252.75,4315.5,1844380,4315.5,1,1,4262.75,4329,4252.75,4315.5,1844380]
[801,"2021-07-19T04:00:00",4320,4320.75,4224,4251.25,2599774,4251.25,1,1,4320,4320.75,4224,4251.25,2599774]
[802,"2021-07-16T04:00:00",4347.75,4368,4314.25,4318.5,1636065,4318.5,1,1,4347.75,4368,4314.25,4318.5,1636065]
[803,"2021-07-15T04:00:00",4366.5,4370.25,4332.5,4352,1611726,4352,1,1,4366.5,4370.25,4332.5,4352,1611726]
[804,"2021-07-14T04:00:00",4359.5,4384.5,4350,4367.75,1308582,4367.75,1,1,4359.5,4384.5,4350,4367.75,1308582]
[805,"2021-07-13T04:00:00",4377,4383.75,4356.5,4361.25,1249893,4361.25,1,1,4377,4383.75,4356.5,4361.25,1249893]
[806,"2021-07-12T04:00:00",4362,4379.25,4341.75,4376.5,1055739,4376.5,1,1,4362,4379.25,4341.75,4376.5,1055739]
[807,"2021-07-09T04:00:00",4310.25,4364,4293.25,4360,1311506,4360,1,1,4310.25,4364,4293.25,4360,1311506]
[808,"2021-07-08T04:00:00",4352.25,4352.25,4279.25,4313,1991636,4313,1,1,4352.25,4352.25,4279.25,4313,1991636]
[809,"2021-07-07T04:00:00",4328,4353.25,4320.25,4349.75,1221078,4349.75,1,1,4328,4353.25,4320.25,4349.75,1221078]
[810,"2021-07-06T04:00:00",4341,4348,4305.25,4334,1368133,4334,1,1,4341,4348,4305.25,4334,1368133]
[811,"2021-07-02T04:00:00",4309.75,4347,4308,4342.75,999780,4342.75,1,1,4309.75,4347,4308,4342.75,999780]
[812,"2021-07-01T04:00:00",4294.25,4312,4286,4310.75,985190,4310.75,1,1,4294.25,4312,4286,4310.75,985190]
[813,"2021-06-30T04:00:00",4284.75,4294.25,4269.25,4288.5,1100062,4288.5,1,1,4284.75,4294.25,4269.25,4288.5,1100062]
[814,"2021-06-29T04:00:00",4280.5,4291,4271.75,4282,741471,4282,1,1,4280.5,4291,4271.75,4282,741471]
[815,"2021-06-28T04:00:00",4275,4282,4264.25,4280.5,823723,4280.5,1,1,4275,4282,4264.25,4280.5,823723]
[816,"2021-06-25T04:00:00",4262,4276.75,4253.5,4271.25,906160,4271.25,1,1,4262,4276.75,4253.5,4271.25,906160]
[817,"2021-06-24T04:00:00",4233.75,4263.75,4231.75,4256,878788,4256,1,1,4233.75,4263.75,4231.75,4256,878788]
[818,"2021-06-23T04:00:00",4237.5,4248.25,4230.5,4231.5,938299,4231.5,1,1,4237.5,4248.25,4230.5,4231.5,938299]
[819,"2021-06-22T04:00:00",4219.25,4245.5,4205.75,4236.25,1063749,4236.25,1,1,4219.25,4245.5,4205.75,4236.25,1063749]
[820,"2021-06-21T04:00:00",4142.5,4219.75,4126.75,4213.75,1425623,4213.75,1,1,4142.5,4219.75,4126.75,4213.75,1425623]
[821,"2021-06-18T04:00:00",4225.75,4231,4183.75,4187.25,1951342,4187.25,1,1,4225.75,4231,4183.75,4187.25,1951342]
[822,"2021-06-17T04:00:00",4214.25,4232.5,4193,4222.25,326193,4222.25,1,1,4214.25,4232.5,4193,4222.25,326193]
[823,"2021-06-16T04:00:00",4248,4251.25,4200.75,4223,511740,4223,1,1,4248,4251.25,4200.75,4223,511740]
[824,"2021-06-15T04:00:00",4255.25,4267.5,4238,4246.5,981189,4246.5,1,1,4255.25,4267.5,4238,4246.5,981189]
[825,"2021-06-14T04:00:00",4248,4257.5,4233.5,4254.75,1116773,4254.75,1,1,4248,4257.5,4233.5,4254.75,1116773]
[826,"2021-06-11T04:00:00",4239.5,4247.75,4230.75,4245.75,1084830,4245.75,1,1,4239.5,4247.75,4230.75,4245.75,1084830]
[827,"2021-06-10T04:00:00",4222.25,4249,4207,4238,1563728,4238,1,1,4222.25,4249,4207,4238,1563728]
[828,"2021-06-09T04:00:00",4225.5,4235,4217,4218.5,1057216,4218.5,1,1,4225.5,4235,4217,4218.5,1057216]
[829,"2021-06-08T04:00:00",4227.5,4236.75,4205.75,4225.75,1305814,4225.75,1,1,4227.5,4236.75,4205.75,4225.75,1305814]
[830,"2021-06-07T04:00:00",4232.25,4232.5,4214,4225.5,934681,4225.5,1,1,4232.25,4232.5,4214,4225.5,934681]
[831,"2021-06-04T04:00:00",4190.75,4232,4177,4228.25,1051573,4228.25,1,1,4190.75,4232,4177,4228.25,1051573]
[832,"2021-06-03T04:00:00",4208,4213.25,4165.25,4191.25,1384271,4191.25,1,1,4208,4213.25,4165.25,4191.25,1384271]
[833,"2021-06-02T04:00:00",4198.5,4215,4190.75,4206.25,1059938,4206.25,1,1,4198.5,4215,4190.75,4206.25,1059938]
[834,"2021-06-01T04:00:00",4206.5,4230,4190,4198.5,1366344,4198.5,{"$f":"IF(F849=0,1,H849/F849)","v":1},{"$f":"INDEX(OFFSET($T$15,0,0,$S$13+1,1),MATCH(B849,OFFSET($Q$15,0,0,$S$13+1,1),-1))","v":1},{"$f":"ROUND($I849*C849,2)","v":4206.5},{"$f":"ROUND($I849*D849,2)","v":4230},{"$f":"ROUND($I849*E849,2)","v":4190},{"$f":"ROUND($I849*F849,2)","v":4198.5},{"$f":"G849*J849","v":1366344}]
[835,"2021-05-28T04:00:00",4211.25,4217.5,4201,4202.5,1110833,4202.5,1,1,4211.25,4217.5,4201,4202.5,1110833]
[836,"2021-05-27T04:00:00",4193,4211.5,4177.75,4199,1179928,4199,1,1,4193,4211.5,4177.75,4199,1179928]
[837,"2021-05-26T04:00:00",4188,4204.25,4180.5,4193,1051147,4193,1,1,4188,4204.25,4180.5,4193,1051147]
[838,"2021-05-25T04:00:00",4199.25,4212.75,4179.25,4185.5,1221701,4185.5,1,1,4199.25,4212.75,4179.25,4185.5,1221701]
[839,"2021-05-24T04:00:00",4151.5,4206.25,4142.5,4193.75,1046500,4193.75,1,1,4151.5,4206.25,4142.5,4193.75,1046500]
[840,"2021-05-21T04:00:00",4152.5,4185,4147,4151.75,1466725,4151.75,1,1,4152.5,4185,4147,4151.75,1466725]
[841,"2021-05-20T04:00:00",4107.75,4169.25,4084.5,4154.25,1486599,4154.25,1,1,4107.75,4169.25,4084.5,4154.25,1486599]
[842,"2021-05-19T04:00:00",4114,4123,4055.5,4111.5,2313119,4111.5,1,1,4114,4123,4055.5,4111.5,2313119]
[843,"2021-05-18T04:00:00",4159,4179.5,4111.5,4123,1285520,4123,1,1,4159,4179.5,4111.5,4123,1285520]
[844,"2021-05-17T04:00:00",4169,4178.75,4136.5,4157.75,1480730,4157.75,1,1,4169,4178.75,4136.5,4157.75,1480730]
[845,"2021-05-14T04:00:00",4112.5,4178.25,4105.25,4169,1513171,4169,1,1,4112.5,4178.25,4105.25,4169,1513171]
[846,"2021-05-13T04:00:00",4053.5,4126.75,4029.25,4107,2381081,4107,1,1,4053.5,4126.75,4029.25,4107,2381081]
[847,"2021-05-12T04:00:00",4140,4150.5,4051,4058.75,2629953,4058.75,1,1,4140,4150.5,4051,4058.75,2629953]
[848,"2021-05-11T04:00:00",4176.75,4185.5,4103.75,4146.25,2520859,4146.25,1,1,4176.75,4185.5,4103.75,4146.25,2520859]
[849,"2021-05-10T04:00:00",4226.75,4238.25,4172,4183.5,1662210,4183.5,1,1,4226.75,4238.25,4172,4183.5,1662210]
[850,"2021-05-07T04:00:00",4197.5,4232.25,4191.75,4225.25,1652592,4225.25,1,1,4197.5,4232.25,4191.75,4225.25,1652592]
[851,"2021-05-06T04:00:00",4158.75,4197.25,4140.5,4194.25,1751616,4194.25,1,1,4158.75,4197.25,4140.5,4194.25,1751616]
[852,"2021-05-05T04:00:00",4158.25,4180,4153,4160,1418246,4160,1,1,4158.25,4180,4153,4160,1418246]
[853,"2021-05-04T04:00:00",4184.25,4185.5,4120.5,4158.25,2003587,4158.25,1,1,4184.25,4185.5,4120.5,4158.25,2003587]
[854,"2021-05-03T04:00:00",4181.5,4202.5,4181,4185.75,1256240,4185.75,1,1,4181.5,4202.5,4181,4185.75,1256240]
[855,"2021-04-30T04:00:00",4200.75,4201.5,4167.25,4174.5,1898434,4174.5,1,1,4200.75,4201.5,4167.25,4174.5,1898434]
[856,"2021-04-29T04:00:00",4184.75,4211,4168,4203.5,1746965,4203.5,1,1,4184.75,4211,4168,4203.5,1746965]
[857,"2021-04-28T04:00:00",4180.25,4193.75,4172.75,4176.25,1282972,4176.25,1,1,4180.25,4193.75,4172.75,4176.25,1282972]
[858,"2021-04-27T04:00:00",4181.5,4192.5,4166.75,4179,992029,4179,1,1,4181.5,4192.5,4166.75,4179,992029]
[859,"2021-04-26T04:00:00",4170.75,4186,4163.75,4179.5,1019731,4179.5,1,1,4170.75,4186,4163.75,4179.5,1019731]
[860,"2021-04-23T04:00:00",4129,4186.75,4127.5,4171.5,1509514,4171.5,1,1,4129,4186.75,4127.5,4171.5,1509514]
[861,"2021-04-22T04:00:00",4157.5,4171.75,4115.25,4127.75,1944942,4127.75,1,1,4157.5,4171.75,4115.25,4127.75,1944942]
[862,"2021-04-21T04:00:00",4121.25,4167.25,4113,4164.75,1505474,4164.75,1,1,4121.25,4167.25,4113,4164.75,1505474]
[863,"2021-04-20T04:00:00",4156.25,4167.25,4110.5,4126.5,1700883,4126.5,1,1,4156.25,4167.25,4110.5,4126.5,1700883]
[864,"2021-04-19T04:00:00",4165,4174.75,4141.75,4155.5,1618649,4155.5,1,1,4165,4174.75,4141.75,4155.5,1618649]
[865,"2021-04-16T04:00:00",4162.75,4183.5,4154.25,4176.25,1304078,4176.25,1,1,4162.75,4183.5,4154.25,4176.25,1304078]
[866,"2021-04-15T04:00:00",4123.5,4166.5,4119.5,4162.5,1277980,4162.5,1,1,4123.5,4166.5,4119.5,4162.5,1277980]
[867,"2021-04-14T04:00:00",4134.75,4144,4113,4118,1529562,4118,1,1,4134.75,4144,4113,4118,1529562]
[868,"2021-04-13T04:00:00",4122.75,4139.75,4101.25,4132.75,1081282,4132.75,1,1,4122.75,4139.75,4101.25,4132.75,1081282]
[869,"2021-04-12T04:00:00",4114.25,4124.5,4104.5,4120.25,1089291,4120.25,1,1,4114.25,4124.5,4104.5,4120.25,1089291]
[870,"2021-04-09T04:00:00",4098,4121.5,4081,4119.5,1090560,4119.5,1,1,4098,4121.5,4081,4119.5,1090560]
[871,"2021-04-08T04:00:00",4074.25,4098.5,4072.5,4089,988346,4089,1,1,4074.25,4098.5,4072.5,4089,988346]
[872,"2021-04-07T04:00:00",4067,4075.5,4056.5,4070,1101579,4070,1,1,4067,4075.5,4056.5,4070,1101579]
[873,"2021-04-06T04:00:00",4069.75,4076,4052.25,4064,1252163,4064,1,1,4069.75,4076,4052.25,4064,1252163]
[874,"2021-04-05T04:00:00",4030,4073.75,4021,4067.75,1250666,4067.75,1,1,4030,4073.75,4021,4067.75,1250666]
[875,"2021-04-01T04:00:00",3967.5,4015.25,3964.5,4010,1245846,4010,1,1,3967.5,4015.25,3964.5,4010,1245846]
[876,"2021-03-31T04:00:00",3949.5,3983.75,3941.5,3967.5,1642169,3967.5,1,1,3949.5,3983.75,3941.5,3967.5,1642169]
[877,"2021-03-30T04:00:00",3965.25,3968.5,3933.75,3947.75,1590486,3947.75,1,1,3965.25,3968.5,3933.75,3947.75,1590486]
[878,"2021-03-29T04:00:00",3962.25,3971.25,3928.75,3959,2003052,3959,1,1,3962.25,3971.25,3928.75,3959,2003052]
[879,"2021-03-26T04:00:00",3907.5,3968,3900.75,3964.75,1984060,3964.75,1,1,3907.5,3968,3900.75,3964.75,1984060]
[880,"2021-03-25T04:00:00",3882.75,3909.5,3843.25,3900.5,2279488,3900.5,1,1,3882.75,3909.5,3843.25,3900.5,2279488]
[881,"2021-03-24T04:00:00",3905.75,3931.5,3877.5,3880.75,2063480,3880.75,1,1,3905.75,3931.5,3877.5,3880.75,2063480]
[882,"2021-03-23T04:00:00",3933.25,3938.75,3890.5,3899.75,1877976,3899.75,1,1,3933.25,3938.75,3890.5,3899.75,1877976]
[883,"2021-03-22T04:00:00",3893.5,3944.5,3885,3930,1325987,3930,1,1,3893.5,3944.5,3885,3930,1325987]
[884,"2021-03-19T04:00:00",3923.75,3934.25,3908,3912.62,2047619,3912.62,1,1,3923.75,3934.25,3908,3912.62,2047619]
[885,"2021-03-18T04:00:00",3972,3988.75,3911,3916.5,335435,3916.5,1,1,3972,3988.75,3911,3916.5,335435]
[886,"2021-03-17T04:00:00",3967.5,3983.75,3935.25,3974,520411,3974,1,1,3967.5,3983.75,3935.25,3974,520411]
[887,"2021-03-16T04:00:00",3967,3980.5,3952.75,3962.5,887247,3962.5,1,1,3967,3980.5,3952.75,3962.5,887247]
[888,"2021-03-15T04:00:00",3945.75,3969.75,3922.25,3967.5,1295099,3967.5,1,1,3945.75,3969.75,3922.25,3967.5,1295099]
[889,"2021-03-12T05:00:00",3937.5,3947.5,3910.25,3942.25,1448886,3942.25,1,1,3937.5,3947.5,3910.25,3942.25,1448886]
[890,"2021-03-11T05:00:00",3907.75,3958.5,3893,3936.75,1599748,3936.75,1,1,3907.75,3958.5,3893,3936.75,1599748]
[891,"2021-03-10T05:00:00",3878.5,3916.25,3856.25,3896.5,1845205,3896.5,1,1,3878.5,3916.25,3856.25,3896.5,1845205]
[892,"2021-03-09T05:00:00",3831.25,3901.25,3826.25,3873.25,1704837,3873.25,1,1,3831.25,3901.25,3826.25,3873.25,1704837]
[893,"2021-03-08T05:00:00",3854.75,3878.75,3796.25,3819.25,2198363,3819.25,1,1,3854.75,3878.75,3796.25,3819.25,2198363]
[894,"2021-03-05T05:00:00",3765.5,3850,3728.5,3839,2948117,3839,1,1,3765.5,3850,3728.5,3839,2948117]
[895,"2021-03-04T05:00:00",3818,3842.25,3720.5,3765.5,3192468,3765.5,1,1,3818,3842.25,3720.5,3765.5,3192468]
[896,"2021-03-03T05:00:00",3867.5,3898,3813,3816.75,2203398,3816.75,1,1,3867.5,3898,3813,3816.75,2203398]
[897,"2021-03-02T05:00:00",3903.25,3906.5,3865.5,3867.5,1641396,3867.5,1,1,3903.25,3906.5,3865.5,3867.5,1641396]
[898,"2021-03-01T05:00:00",3817.25,3912,3812.5,3898.75,1692835,3898.75,{"$f":"IF(F913=0,1,H913/F913)","v":1},{"$f":"INDEX(OFFSET($T$15,0,0,$S$13+1,1),MATCH(B913,OFFSET($Q$15,0,0,$S$13+1,1),-1))","v":1},{"$f":"ROUND($I913*C913,2)","v":3817.25},{"$f":"ROUND($I913*D913,2)","v":3912},{"$f":"ROUND($I913*E913,2)","v":3812.5},{"$f":"ROUND($I913*F913,2)","v":3898.75},{"$f":"G913*J913","v":1692835}]
[899,"2021-02-26T05:00:00",3823.25,3858.5,3785,3809.25,3010481,3809.25,1,1,3823.25,3858.5,3785,3809.25,3010481]
[900,"2021-02-25T05:00:00",3923.5,3934.5,3810.25,3828,2863387,3828,1,1,3923.5,3934.5,3810.25,3828,2863387]
[901,"2021-02-24T05:00:00",3876.25,3927.75,3851.75,3922.5,1944661,3922.5,1,1,3876.25,3927.75,3851.75,3922.5,1944661]
[902,"2021-02-23T05:00:00",3878,3896,3804.75,3878,2282940,3878,1,1,3878,3896,3804.75,3878,2282940]
[903,"2021-02-22T05:00:00",3905.5,3914.5,3861.25,3873.5,1514278,3873.5,1,1,3905.5,3914.5,3861.25,3873.5,1514278]
[904,"2021-02-19T05:00:00",3910.5,3931,3890.25,3903,1427294,3903,1,1,3910.5,3931,3890.25,3903,1427294]
[905,"2021-02-18T05:00:00",3928.25,3936,3880.5,3909.5,1536949,3909.5,1,1,3928.25,3936,3880.5,3909.5,1536949]
[906,"2021-02-17T05:00:00",3929,3932.25,3896.5,3928,1382825,3928,1,1,3929,3932.25,3896.5,3928,1382825]
[907,"2021-02-16T05:00:00",3936.5,3959.25,3918.75,3927.75,1450425,3927.75,1,1,3936.5,3959.25,3918.75,3927.75,1450425]
[908,"2021-02-12T05:00:00",3905.25,3936.25,3890.25,3931,1050298,3931,1,1,3905.25,3936.25,3890.25,3931,1050298]
[909,"2021-02-11T05:00:00",3907,3920.5,3884.5,3912,1296054,3912,1,1,3907,3920.5,3884.5,3912,1296054]
[910,"2021-02-10T05:00:00",3912.25,3928.5,3878.25,3903,1560824,3903,1,1,3912.25,3928.5,3878.25,3903,1560824]
[911,"2021-02-09T05:00:00",3910.5,3913.25,3895,3905.5,881922,3905.5,1,1,3910.5,3913.25,3895,3905.5,881922]
[912,"2021-02-08T05:00:00",3889,3911.25,3885.5,3908,972437,3908,1,1,3889,3911.25,3885.5,3908,972437]
[913,"2021-02-05T05:00:00",3864.25,3888.25,3860,3880.25,1138874,3880.25,1,1,3864.25,3888.25,3860,3880.25,1138874]
[914,"2021-02-04T05:00:00",3832.75,3869.75,3811.25,3864.5,1136404,3864.5,1,1,3832.75,3869.75,3811.25,3864.5,1136404]
[915,"2021-02-03T05:00:00",3829.5,3843.5,3807.75,3823.5,1285692,3823.5,1,1,3829.5,3843.5,3807.75,3823.5,1285692]
[916,"2021-02-02T05:00:00",3764.75,3835.75,3760,3818.25,1419765,3818.25,1,1,3764.75,3835.75,3760,3818.25,1419765]
[917,"2021-02-01T05:00:00",3692.25,3777,3656.5,3765.75,1687396,3765.75,1,1,3692.25,3777,3656.5,3765.75,1687396]
[918,"2021-01-29T05:00:00",3770.25,3777.25,3685.5,3705.25,2691820,3705.25,1,1,3770.25,3777.25,3685.5,3705.25,2691820]
[919,"2021-01-28T05:00:00",3735.25,3823.5,3703.5,3779.25,2149910,3779.25,1,1,3735.25,3823.5,3703.5,3779.25,2149910]
[920,"2021-01-27T05:00:00",3845.25,3853,3706.5,3744.25,2572020,3744.25,1,1,3845.25,3853,3706.5,3744.25,2572020]
[921,"2021-01-26T05:00:00",3845,3862.25,3821.5,3842.5,1172461,3842.5,1,1,3845,3862.25,3821.5,3842.5,1172461]
[922,"2021-01-25T05:00:00",3835.5,3853.25,3788.5,3848.5,1763898,3848.5,1,1,3835.5,3853.25,3788.5,3848.5,1763898]
[923,"2021-01-22T05:00:00",3846.75,3849,3813.25,3834.25,1186856,3834.25,1,1,3846.75,3849,3813.25,3834.25,1186856]
[924,"2021-01-21T05:00:00",3841.5,3859.75,3836.5,3846,1068271,3846,1,1,3841.5,3859.75,3836.5,3846,1068271]
[925,"2021-01-20T05:00:00",3796.75,3852.5,3788.5,3845,1248787,3845,1,1,3796.75,3852.5,3788.5,3845,1248787]
[926,"2021-01-19T05:00:00",3750,3797,3740.5,3790.5,1315580,3790.5,1,1,3750,3797,3740.5,3790.5,1315580]
[927,"2021-01-15T05:00:00",3793,3797.75,3741.5,3762.25,1781463,3762.25,1,1,3793,3797.75,3741.5,3762.25,1781463]
[928,"2021-01-14T05:00:00",3808.5,3817.75,3786.25,3791.25,1170812,3791.25,1,1,3808.5,3817.75,3786.25,3791.25,1170812]
[929,"2021-01-13T05:00:00",3792,3813.5,3776.5,3803.75,1049186,3803.75,1,1,3792,3813.5,3776.5,3803.75,1049186]
[930,"2021-01-12T05:00:00",3794.25,3806.75,3768,3794.5,1216214,3794.5,1,1,3794.25,3806.75,3768,3794.5,1216214]
[931,"2021-01-11T05:00:00",3815.5,3820.75,3776.5,3792,1292422,3792,1,1,3815.5,3820.75,3776.5,3792,1292422]
[932,"2021-01-08T05:00:00",3797.75,3824.5,3775,3817.5,1619438,3817.5,1,1,3797.75,3824.5,3775,3817.5,1619438]
[933,"2021-01-07T05:00:00",3752.5,3804,3742,3795.5,1302021,3795.5,1,1,3752.5,3804,3742,3795.5,1302021]
[934,"2021-01-06T05:00:00",3717.5,3774.75,3685.5,3740.5,2127155,3740.5,1,1,3717.5,3774.75,3685.5,3740.5,2127155]
[935,"2021-01-05T05:00:00",3695,3730,3673.25,3718.25,1414022,3718.25,1,1,3695,3730,3673.25,3718.25,1414022]
[936,"2021-01-04T05:00:00",3748.75,3773.25,3652.5,3692.25,2037616,3692.25,1,1,3748.75,3773.25,3652.5,3692.25,2037616]
[937,"2020-12-31T05:00:00",3725,3753,3715,3748.75,993343,3748.75,1,1,3725,3753,3715,3748.75,993343]
[938,"2020-12-30T05:00:00",3724.5,3738.25,3716.5,3724.25,769995,3724.25,1,1,3724.5,3738.25,3716.5,3724.25,769995]
[939,"2020-12-29T05:00:00",3731,3747.75,3714.5,3720,992636,3720,1,1,3731,3747.75,3714.5,3720,992636]
[940,"2020-12-28T05:00:00",3682,3732.25,3676,3727.5,760654,3727.5,1,1,3682,3732.25,3676,3727.5,760654]
[941,"2020-12-24T14:30:00",3685.25,3696,3678.5,3695,369650,3695,1,1,3685.25,3696,3678.5,3695,369650]
[942,"2020-12-23T05:00:00",3674.25,3701.75,3651,3681.5,1021819,3681.5,1,1,3674.25,3701.75,3651,3681.5,1021819]
[943,"2020-12-22T05:00:00",3685,3695,3663.75,3677.25,1104998,3677.25,1,1,3685,3695,3663.75,3677.25,1104998]
[944,"2020-12-21T05:00:00",3718.25,3724,3596,3685.75,1837575,3685.75,1,1,3718.25,3724,3596,3685.75,1837575]
[945,"2020-12-18T05:00:00",3721.5,3733.25,3707.75,3726.25,1731161,3726.25,1,1,3721.5,3733.25,3707.75,3726.25,1731161]
[946,"2020-12-17T05:00:00",3704.5,3724.75,3699.5,3721.25,292916,3721.25,1,1,3704.5,3724.75,3699.5,3721.25,292916]
[947,"2020-12-16T05:00:00",3697.75,3711.5,3687,3700.75,584711,3700.75,1,1,3697.75,3711.5,3687,3700.75,584711]
[948,"2020-12-15T05:00:00",3653,3695.75,3642.75,3694.5,1029503,3694.5,1,1,3653,3695.75,3642.75,3694.5,1029503]
[949,"2020-12-14T05:00:00",3677.75,3698,3642.75,3646.5,1486250,3646.5,1,1,3677.75,3698,3642.75,3646.5,1486250]
[950,"2020-12-11T05:00:00",3670,3674.75,3628.25,3661.25,1538362,3661.25,1,1,3670,3674.75,3628.25,3661.25,1538362]
[951,"2020-12-10T05:00:00",3669.5,3681.25,3644,3668.5,1601203,3668.5,1,1,3669.5,3681.25,3644,3668.5,1601203]
[952,"2020-12-09T05:00:00",3707.75,3714.75,3659.5,3672.5,1792176,3672.5,1,1,3707.75,3714.75,3659.5,3672.5,1792176]
[953,"2020-12-08T05:00:00",3682.75,3708,3664.25,3702,1119000,3702,1,1,3682.75,3708,3664.25,3702,1119000]
[954,"2020-12-07T05:00:00",3694.75,3705,3672.25,3690.75,1078372,3690.75,1,1,3694.75,3705,3672.25,3690.75,1078372]
[955,"2020-12-04T05:00:00",3668.25,3700,3665.5,3698,991860,3698,1,1,3668.25,3700,3665.5,3698,991860]
[956,"2020-12-03T05:00:00",3671,3682,3655.25,3664.5,1124033,3664.5,1,1,3671,3682,3655.25,3664.5,1124033]
[957,"2020-12-02T05:00:00",3661.25,3672.75,3642.25,3667.25,1106696,3667.25,1,1,3661.25,3672.75,3642.25,3667.25,1106696]
[958,"2020-12-01T05:00:00",3631,3677.5,3626,3660.5,1365328,3660.5,1,1,3631,3677.5,3626,3660.5,1365328]
[959,"2020-11-30T05:00:00",3643.75,3652,3592.25,3623.25,1712274,3623.25,1,1,3643.75,3652,3592.25,3623.25,1712274]
[960,"2020-11-27T14:30:00",3630.25,3642.75,3612.75,3636.5,639268,3636.5,1,1,3630.25,3642.75,3612.75,3636.5,639268]
[961,"2020-11-25T05:00:00",3635.5,3655,3615.25,3627.25,1016343,3627.25,1,1,3635.5,3655,3615.25,3627.25,1016343]
[962,"2020-11-24T05:00:00",3576,3640,3575.25,3632.75,1288993,3632.75,{"$f":"IF(F977=0,1,H977/F977)","v":1},{"$f":"INDEX(OFFSET($T$15,0,0,$S$13+1,1),MATCH(B977,OFFSET($Q$15,0,0,$S$13+1,1),-1))","v":1},{"$f":"ROUND($I977*C977,2)","v":3576},{"$f":"ROUND($I977*D977,2)","v":3640},{"$f":"ROUND($I977*E977,2)","v":3575.25},{"$f":"ROUND($I977*F977,2)","v":3632.75},{"$f":"G977*J977","v":1288993}]
[963,"2020-11-23T05:00:00",3546.5,3588,3545.5,3576,1204848,3576,1,1,3546.5,3588,3545.5,3576,1204848]
[964,"2020-11-20T05:00:00",3560,3582.5,3542.75,3554.25,1189621,3554.25,1,1,3560,3582.5,3542.75,3554.25,1189621]
[965,"2020-11-19T05:00:00",3562,3582.75,3542.25,3580,1291117,3580,1,1,3562,3582.75,3542.25,3580,1291117]
[966,"2020-11-18T05:00:00",3604.5,3623.25,3556.5,3565,1325309,3565,1,1,3604.5,3623.25,3556.5,3565,1325309]
[967,"2020-11-17T05:00:00",3625.5,3630,3584.25,3606.75,1268206,3606.75,1,1,3625.5,3630,3584.25,3606.75,1268206]
[968,"2020-11-16T05:00:00",3587,3637,3586.5,3623,1303941,3623,1,1,3587,3637,3586.5,3623,1303941]
[969,"2020-11-13T05:00:00",3537.5,3590,3518,3582,1334530,3582,1,1,3537.5,3590,3518,3582,1334530]
[970,"2020-11-12T05:00:00",3574.5,3574.5,3513,3532.5,1685890,3532.5,1,1,3574.5,3574.5,3513,3532.5,1685890]
[971,"2020-11-11T05:00:00",3546.25,3576.75,3531,3568,1324983,3568,1,1,3546.25,3576.75,3531,3568,1324983]
[972,"2020-11-10T05:00:00",3549.5,3562.75,3506.5,3541,2160319,3541,1,1,3549.5,3562.75,3506.5,3541,2160319]
[973,"2020-11-09T05:00:00",3522.5,3668,3515.75,3544,2605322,3544,1,1,3522.5,3668,3515.75,3544,2605322]
[974,"2020-11-06T05:00:00",3508.75,3519,3456.75,3500.75,1640000,3500.75,1,1,3508.75,3519,3456.75,3500.75,1640000]
[975,"2020-11-05T05:00:00",3448,3522.5,3428.25,3504.75,1671417,3504.75,1,1,3448,3522.5,3428.25,3504.75,1671417]
[976,"2020-11-04T05:00:00",3362.75,3480,3319,3435,2813083,3435,1,1,3362.75,3480,3319,3435,2813083]
[977,"2020-11-03T05:00:00",3304,3382.75,3301.25,3361.5,1664690,3361.5,1,1,3304,3382.75,3301.25,3361.5,1664690]
[978,"2020-11-02T05:00:00",3260,3323.5,3243.25,3300.5,1849320,3300.5,1,1,3260,3323.5,3243.25,3300.5,1849320]
[979,"2020-10-30T04:00:00",3268,3296.25,3225,3264.75,2494925,3264.75,1,1,3268,3296.25,3225,3264.75,2494925]
[980,"2020-10-29T04:00:00",3279,3333.75,3250.25,3302.25,1965277,3302.25,1,1,3279,3333.75,3250.25,3302.25,1965277]
[981,"2020-10-28T04:00:00",3369,3370.25,3260.75,3263.5,2627180,3263.5,1,1,3369,3370.25,3260.75,3263.5,2627180]
[982,"2020-10-27T04:00:00",3394.25,3410,3368.25,3383,1566246,3383,1,1,3394.25,3410,3368.25,3383,1566246]
[983,"2020-10-26T04:00:00",3445.75,3446.25,3356,3393.5,1957780,3393.5,1,1,3445.75,3446.25,3356,3393.5,1957780]
[984,"2020-10-23T04:00:00",3455.75,3462.5,3431.5,3451.75,1216313,3451.75,1,1,3455.75,3462.5,3431.5,3451.75,1216313]
[985,"2020-10-22T04:00:00",3430.25,3453,3402.5,3449.25,1501259,3449.25,1,1,3430.25,3453,3402.5,3449.25,1501259]
[986,"2020-10-21T04:00:00",3437,3458,3420.5,3432.5,1681275,3432.5,1,1,3437,3458,3420.5,3432.5,1681275]
[987,"2020-10-20T04:00:00",3436,3469.75,3418.75,3432.25,1702183,3432.25,1,1,3436,3469.75,3418.75,3432.25,1702183]
[988,"2020-10-19T04:00:00",3471,3496.5,3410.75,3422.75,1645853,3422.75,1,1,3471,3496.5,3410.75,3422.75,1645853]
[989,"2020-10-16T04:00:00",3478.5,3508.5,3461.25,3462.25,1398947,3462.25,1,1,3478.5,3508.5,3461.25,3462.25,1398947]
[990,"2020-10-15T04:00:00",3479.25,3486.5,3431.5,3475.5,1650150,3475.5,1,1,3479.25,3486.5,3431.5,3475.5,1650150]
[991,"2020-10-14T04:00:00",3502,3524,3472,3481,1539718,3481,1,1,3502,3524,3472,3481,1539718]
[992,"2020-10-13T04:00:00",3534,3535.75,3491.5,3504.75,1617226,3504.75,1,1,3534,3535.75,3491.5,3504.75,1617226]
[993,"2020-10-12T04:00:00",3467.5,3541,3464.25,3532.75,1401063,3532.75,1,1,3467.5,3541,3464.25,3532.75,1401063]
[994,"2020-10-09T04:00:00",3447.25,3480,3445.25,3473.25,1185272,3473.25,1,1,3447.25,3480,3445.25,3473.25,1185272]
[995,"2020-10-08T04:00:00",3406.25,3447.25,3405.5,3437.5,1104986,3437.5,1,1,3406.25,3447.25,3405.5,3437.5,1104986]
[996,"2020-10-07T04:00:00",3338,3416.75,3332.25,3406.75,1400616,3406.75,1,1,3338,3416.75,3332.25,3406.75,1400616]
[997,"2020-10-06T04:00:00",3392,3421.75,3330.5,3353.25,1701062,3353.25,1,1,3392,3421.75,3330.5,3353.25,1701062]
[998,"2020-10-05T04:00:00",3360,3400,3346.5,3393,1077474,3393,1,1,3360,3400,3346.5,3393,1077474]
[999,"2020-10-02T04:00:00",3367,3375.5,3300.25,3339.25,2028921,3339.25,1,1,3367,3375.5,3300.25,3339.25,2028921]
[1000,"2020-10-01T04:00:00",3344.75,3388,3343.25,3367.75,1517912,3367.75,1,1,3344.75,3388,3343.25,3367.75,1517912]
[1001,"2020-09-30T04:00:00",3330,3384,3291.25,3352,2170601,3352,1,1,3330,3384,3291.25,3352,2170601]
[1002,"2020-09-29T04:00:00",3348.75,3363,3316.5,3333.75,1326597,3333.75,1,1,3348.75,3363,3316.5,3333.75,1326597]
[1003,"2020-09-28T04:00:00",3291,3351.25,3287.5,3346,1495804,3346,1,1,3291,3351.25,3287.5,3346,1495804]
[1004,"2020-09-25T04:00:00",3243.5,3296.25,3206.5,3287.25,1697090,3287.25,1,1,3243.5,3296.25,3206.5,3287.25,1697090]
[1005,"2020-09-24T04:00:00",3228,3268.25,3198,3238,2277010,3238,1,1,3228,3268.25,3198,3238,2277010]
[1006,"2020-09-23T04:00:00",3303.75,3319.75,3221,3231.25,1979661,3231.25,1,1,3303.75,3319.75,3221,3231.25,1979661]
[1007,"2020-09-22T04:00:00",3271.5,3309.5,3256.5,3299.25,1576319,3299.25,1,1,3271.5,3309.5,3256.5,3299.25,1576319]
[1008,"2020-09-21T04:00:00",3314.5,3326.25,3217.75,3275,2507980,3275,1,1,3314.5,3326.25,3217.75,3275,2507980]
[1009,"2020-09-18T04:00:00",3355.75,3374.25,3341.75,3353.6,2365554,3353.6,1,1,3355.75,3374.25,3341.75,3353.6,2365554]
[1010,"2020-09-17T04:00:00",3392.75,3396.5,3320.5,3361.5,384917,3361.5,1,1,3392.75,3396.5,3320.5,3361.5,384917]
[1011,"2020-09-16T04:00:00",3405,3429.75,3384,3389.5,571749,3389.5,1,1,3405,3429.75,3384,3389.5,571749]
[1012,"2020-09-15T04:00:00",3379.5,3419,3376,3405.25,874366,3405.25,1,1,3379.5,3419,3376,3405.25,874366]
[1013,"2020-09-14T04:00:00",3350,3402.75,3345.5,3382.5,1378626,3382.5,1,1,3350,3402.75,3345.5,3382.5,1378626]
[1014,"2020-09-11T04:00:00",3345.25,3375,3308.75,3333.75,1876451,3333.75,1,1,3345.25,3375,3308.75,3333.75,1876451]
[1015,"2020-09-10T04:00:00",3396,3424.25,3327.25,3340.5,2332667,3340.5,1,1,3396,3424.25,3327.25,3340.5,2332667]
[1016,"2020-09-09T04:00:00",3315.25,3424,3295.5,3400.25,2011132,3400.25,1,1,3315.25,3424,3295.5,3400.25,2011132]
[1017,"2020-09-08T04:00:00",3420.5,3447,3327.5,3335.5,2732946,3335.5,1,1,3420.5,3447,3327.5,3335.5,2732946]
[1018,"2020-09-04T04:00:00",3454.75,3484.25,3347.75,3417.5,2994363,3417.5,1,1,3454.75,3484.25,3347.75,3417.5,2994363]
[1019,"2020-09-03T04:00:00",3578.75,3586.5,3424.5,3461.5,2872337,3461.5,1,1,3578.75,3586.5,3424.5,3461.5,2872337]
[1020,"2020-09-02T04:00:00",3529,3587,3526.25,3579.25,1853078,3579.25,1,1,3529,3587,3526.25,3579.25,1853078]
[1021,"2020-09-01T04:00:00",3493.25,3530,3484.25,3527,1283622,3527,1,1,3493.25,3530,3484.25,3527,1283622]

{"sheet":"CalculationsAndCharts","index":2,"n_rows":1282,"n_cols":76,"rows_kept":1282,"cut":false,"hidden":false,"merged":[[15,0,15,1],[30,11,30,15],[14,0,14,5],[24,3,24,5],[28,4,28,5],[29,2,29,6],[30,0,31,0],[15,3,15,4],[29,86,31,86],[29,85,31,85],[28,84,31,84],[31,74,31,75],[31,72,31,73],[27,52,27,53],[31,58,31,59],[30,54,30,55],[30,52,30,53],[31,70,31,71],[31,68,31,69],[31,64,31,65],[31,66,31,67],[31,60,31,61],[31,62,31,63]]}
["UltimateStrengthIndex.xlsm"]
[{"$f":"InputPriceData!A1 & CHAR(13) & InputPriceData!G3 &   UPPER(TEXT(InputPriceData!B16,\"yyyy mmm dd\")) & \", \" &  TEXT(InputPriceData!H3,\"hh:mm am/pm \") & InputPriceData!I3","v":"E-Mini S&P 500 Dec 24 (ES=F) -CME  (Daily)\rAs Of: 2024 SEP 20, 04:59 PM EDT"}]
[null,null,null,null,null,null,null,{"$f":"\"Subtracting HiPass(\" & $A$18 & \") from HiPass(\" & $A$17 & \") to arive at Trend(\" & $A$17 & \", \" & $A$18 & \")\"","v":"Subtracting HiPass(28) from HiPass(112) to arive at Trend(112, 28)"}]
["User Charting Controls",null,null,null,"Click to Shift Chart One Bar:"]
["Data Control",null,false]
[{"$f":"InputPriceData!$B$10","v":1021}," Available Input Data Rows",null,null,"Earliest: ",{"$f":"OFFSET(InputPriceData!B15,CalculationsAndCharts!A6,0,1,1)","v":"2020-09-01T04:00:00"}]
[{"$f":"MAX(A33:A56896)","v":1250}," Available Calculation Rows",null,null,"Latest: ",{"$f":"OFFSET(InputPriceData!B15,1,0,1,1)","v":"2024-09-20T20:59:58"}]
[{"$f":"MIN(AvailableInputRows-DataPanRows,A7)","v":972}," Logically Available for Calc / Plot",null,null,"$ Change:",{"$f":"G33-G34","v":25}]
[]
["Historical Price Windowing Specifications",null,null,null,null,"Click to Shift "]
[49,"Input Data Offset (Pan)",null,null,null,"Points to Plot"]
[234,"Data Points to Plot (Zoom)"]
[null,"First: ",{"$f":"OFFSET(B32,A12,0,1,1)","v":"2023-08-09T04:00:00"}]
[null,{"$f":"\"Last: \" & IF(OFFSET(InputPriceData!P15,1+A11,0,1,1)=\"\",\"\",TEXT(OFFSET(InputPriceData!P15,1+A11,0,1,1),\"H:MM AM/PM\"))","v":"Last: "},{"$f":"B33","v":"2024-07-12T04:00:00"}]
["User Controls"]
["Ultimate Smoothers",null,"Lag"]
[112,"Length1",2]
[28,"Length2",2]
[]
[]
[]
[]
[]
[]
["Help! I would like to plot data"]
["From","2023-08-09T04:00:00",{"$f":"OFFSET(InputPriceData!$A$15,MATCH(B26,OFFSET(InputPriceData!B15,1,0,InputPriceData!$B$10,1),0),0,1,1)-C27","v":234},null,47]
["To","2024-07-12T04:00:00",{"$f":"OFFSET(InputPriceData!$A$15,MATCH(B27,OFFSET(InputPriceData!$B$15,1,0,InputPriceData!$B$10,1),0),0,1,1)-1","v":49},null,{"$f":"$A$12-$E$26+1","v":188}]
[null,null,null,null,null,null,null,"Value @ Cursor =>",{"$f":"OFFSET(A32,$E$27,0,1,1)&\"(RR)\"","v":"188(RR)"},{"$f":"OFFSET($B$32,E27,0,1,1)","v":"2023-10-13T04:00:00"},{"$f":"TEXT(OFFSET(D32,$E$27,0,1,1),\"#,##0.00\")&\"(o)\"","v":"4,380.75(o)"},{"$f":"TEXT(OFFSET(E32,$E$27,0,1,1),\"#,##0.00\")&\"(h)\"","v":"4,407.75(h)"},{"$f":"TEXT(OFFSET(F32,$E$27,0,1,1),\"#,##0.00\")&\"(l)\"","v":"4,340.75(l)"},{"$f":"TEXT(OFFSET(G32,$E$27,0,1,1),\"#,##0.00\")&\"(c)\"","v":"4,357.25(c)"},{"$f":"TEXT(OFFSET(C32,$E$27,0,1,1),\"#,##0.00,,\"\"M\"\"\")&\"(v)\"","v":"2.16M(v)"}]
[null,null,null,null,"Cursor ==>",null,null,null,null,null,null,null,null,null,null,null,null,null,null,null,null,null,null,null,null,null,null,null,null,null,null,null,null,null,null,null,null,null,null,null,null,null,null,null,null,null,null,null,null,null,null,null,null,null,null,null,"Work Area For Chart Cursors"]
[null,{"$f":"LogicallyAvailableRows","v":972},"<== Calculation Rel Row Limits ==>",null,null,null,null,{"$f":"B30-1","v":971},null,{"$f":"H30-3","v":968},null,null,null,{"$f":"J30-2","v":966},null,null,{"$f":"N30-C17","v":964}]
["Rel Row",null,null,null,null,null,null,"Deltas",null,null,null,{"$f":"\"Ultimate Smoother for Length 1 = \"&$A$17","v":"Ultimate Smoother for Length 1 = 112"},null,null,null,null,null,{"$f":"\"Ultimate Smoother for Length 2 = \"&$A$18","v":"Ultimate Smoother for Length 2 = 28"},null,null,null,null,null,null,null,null,null,null,null,null,null,null,null,null,null,null,null,null,null,null,null,null,null,null,null,null,null,null,null,null,null,null,null,null,"Used To Color Vol Bars"]
[null,"Date","Volume","Open","High","Low","Close","UP","Down","Avg(Up,4)","Avg(Down,4)",{"$f":"\"Coeffients for USmooth \"&$A$17","v":"Coeffients for USmooth 112"},null,{"$f":"\"US_UP(\"&$A$17&\")\"","v":"US_UP(112)"},{"$f":"\"US_DN(\"&$A$17&\")\"","v":"US_DN(112)"},{"$f":"\"USI(\"&$A$17&\")\"","v":"USI(112)"},{"$f":"\"Lag(\"&$C$17&\")\"","v":"Lag(2)"},{"$f":"\"Coeffients for USmooth \"&$A$18","v":"Coeffients for USmooth 28"},null,{"$f":"\"US_UP(\"&$A$18&\")\"","v":"US_UP(28)"},{"$f":"\"US_DN(\"&$A$18&\")\"","v":"US_DN(28)"},{"$f":"\"USI(\"&$A$18&\")\"","v":"USI(28)"},{"$f":"\"Lag(\"&$C$18&\")\"","v":"Lag(2)"},null,null,null,null,null,null,null,null,null,null,null,null,null,null,null,null,null,null,null,null,null,null,null,null,null,null,null,null,null,null,null,"Up Vol","Dn Vol","Volume Cursor",{"$f":"MAX(OFFSET(C33,0,0,A12,1))","v":2786680},"Price Chart Cursor",null,"Indicator01Cursor",null,"Indicator02Cursor",null,"Indicator03Cursor",null,"Indicator04Cursor",null,"Indicator05Cursor",null,"Indicator06Cursor",null,"Indicator07Cursor",null,"Indicator08Cursor"]
[1,{"$f":"IF($A33>$A$8,\"\",OFFSET(InputPriceData!$B$15,$A33+$A$11,0,1,1))","v":"2024-07-12T04:00:00"},{"$f":"IF($A33>$A$8,\"\",OFFSET(InputPriceData!$G$15,CalculationsAndCharts!$A33+$A$11,IF($C$5,8,0),1,1))","v":1684437},{"$f":"IF(A33>$A$8,\"\",OFFSET(InputPriceData!$C$15,CalculationsAndCharts!$A33+$A$11,IF($C$5,8,0),1,1))","v":5638.5},{"$f":"IF(A33>$A$8,\"\",OFFSET(InputPriceData!$D$15,CalculationsAndCharts!$A33+$A$11,IF($C$5,8,0),1,1))","v":5708.25},{"$f":"IF(A33>$A$8,\"\",OFFSET(InputPriceData!$E$15,CalculationsAndCharts!$A33+$A$11,IF($C$5,8,0),1,1))","v":5621.25},{"$f":"IF(A33>$A$8,\"\",OFFSET(InputPriceData!$F$15,CalculationsAndCharts!$A33+$A$11,IF($C$5,8,0),1,1))","v":5664.75},{"$f":"IF($A33>$H$30,NA(),IF($G33>$G34,$G33-$G34,0))","v":25},{"$f":"IF($A33>$H$30,NA(),IF(G33<G34,G34-G33,0))","v":0},{"$f":"IF($A33>$J$30,NA(),AVERAGE(H33:H36))","v":21.9375},{"$f":"IF($A33>$J$30,NA(),AVERAGE(I33:I36))","v":12.0625},"a1",{"$f":"EXP(-1.414*PI()/$A$17)","v":0.9611136572331993},{"$f":"IF($A33>$J$30,NA(),IF($A33>$N$30,0,(1-M$35)*$J33+(2*M$35-M$36)*$J34-(M$35+M$37)*$J35+M$36*N34+M$37*N35))","v":16.632699830116664},{"$f":"IF($A33>$J$30,NA(),IF($A33>$N$30,0,(1-M$35)*$K33+(2*M$35-M$36)*$K34-(M$35+M$37)*$K35+M$36*O34+M$37*O35))","v":1.6575847960549044},{"$f":"IF($A33>$N$30,NA(),(N33-O33)/(N33+O33))","v":0.81874696540445668},{"$f":"IF($A33>$N$30,NA(),OFFSET(P33,$C$17,0,1,1))","v":0.89281984175953144},"a2",{"$f":"EXP(-1.414*PI()/$A$18)","v":0.85329459387807172},{"$f":"IF($A33>$J$30,NA(),IF($A33>$N$30,0,(1-S$35)*$J33+(2*S$35-S$36)*$J34-(S$35+S$37)*$J35+S$36*T34+S$37*T35))","v":20.085456539237622},{"$f":"IF($A33>$J$30,NA(),IF($A33>$N$30,0,(1-S$35)*$K33+(2*S$35-S$36)*$K34-(S$35+S$37)*$K35+S$36*U34+S$37*U35))","v":5.4631415592807295},{"$f":"IF($A33>$N$30,NA(),(T33-U33)/(T33+U33))","v":0.5723333594889064},{"$f":"IF($A33>$N$30,NA(),OFFSET(V33,$C$18,0,1,1))","v":0.83936624595944043},null,null,null,null,null,null,null,null,null,null,null,null,null,null,null,null,null,null,null,null,null,null,null,null,null,null,null,null,null,null,null,{"$f":"IF(G33>=G34,C33,NA())","v":1684437},{"$f":"IF(G33<G34,C33,NA())","v":{"$error":"#N/A"}},{"$f":"$E$27","v":188},0,{"$f":"$E$27","v":188},4102.4250000000002,{"$f":"$E$27","v":188},-0.45788674230821386,{"$f":"$E$27","v":188},-1.4000000000000001,{"$f":"$E$27","v":188},null,{"$f":"$E$27","v":188},-1,188,null,188,0,188,0,188]
[2,{"$f":"IF($A34>$A$8,\"\",OFFSET(InputPriceData!$B$15,$A34+$A$11,0,1,1))","v":"2024-07-11T04:00:00"},{"$f":"IF($A34>$A$8,\"\",OFFSET(InputPriceData!$G$15,CalculationsAndCharts!$A34+$A$11,IF($C$5,8,0),1,1))","v":1970766},{"$f":"IF(A34>$A$8,\"\",OFFSET(InputPriceData!$C$15,CalculationsAndCharts!$A34+$A$11,IF($C$5,8,0),1,1))","v":5684.25},{"$f":"IF(A34>$A$8,\"\",OFFSET(InputPriceData!$D$15,CalculationsAndCharts!$A34+$A$11,IF($C$5,8,0),1,1))","v":5707.75},{"$f":"IF(A34>$A$8,\"\",OFFSET(InputPriceData!$E$15,CalculationsAndCharts!$A34+$A$11,IF($C$5,8,0),1,1))","v":5630},{"$f":"IF(A34>$A$8,\"\",OFFSET(InputPriceData!$F$15,CalculationsAndCharts!$A34+$A$11,IF($C$5,8,0),1,1))","v":5639.75},{"$f":"IF($A34>$H$30,NA(),IF($G34>$G35,$G34-$G35,0))","v":0},{"$f":"IF($A34>$H$30,NA(),IF(G34<G35,G35-G34,0))","v":48.25},{"$f":"IF($A34>$J$30,NA(),AVERAGE(H34:H37))","v":16.625},12.0625,"b1",{"$f":"2*M33*COS(RADIANS(1.414*180/$A$17))","v":1.9207155632262132},{"$f":"IF($A34>$J$30,NA(),IF($A34>$N$30,0,(1-$M$35)*J34+(2*$M$35-$M$36)*J35-($M$35+$M$37)*J36+$M$36*N35+$M$37*N36))","v":16.389152697743246},1.0459395759040171,{"$f":"IF($A34>$N$30,NA(),(N34-O34)/(N34+O34))","v":0.88001903752641097},{"$f":"IF($A34>$N$30,NA(),OFFSET(P34,$C$17,0,1,1))","v":0.85109298238167974},"b2",{"$f":"2*S33*COS(RADIANS(1.414*180/$A$18))","v":1.6851568091060745},19.740415974208972,2.7479612320598559,0.75561053544638701,0.75740496611338826,null,null,null,null,null,null,null,null,null,null,null,null,null,null,null,null,null,null,null,null,null,null,null,null,null,null,null,null,null,null,null,{"$f":"IF(G34>=G35,C34,NA())","v":{"$error":"#N/A"}},{"$f":"IF(G34<G35,C34,NA())","v":1970766},{"$f":"$E$27","v":188},{"$f":"CEILING(BF32,10^INT(LOG10(BF32))/8)","v":2875000},{"$f":"$E$27","v":188},5728.0749999999998,{"$f":"$E$27","v":188},0.89540839432674479,{"$f":"$E$27","v":188},1.4000000000000001,188,0,188,1.129295984172088,188,0,188,0,188,0,188,0]
[3,{"$f":"IF(A35>$A$8,\"\",OFFSET(InputPriceData!B$15,$A35+$A$11,0,1,1))","v":"2024-07-10T04:00:00"},{"$f":"IF(A35>$A$8,\"\",OFFSET(InputPriceData!G$15,CalculationsAndCharts!$A35+$A$11,IF($C$5,8,0),1,1))","v":1200224},{"$f":"IF(A35>$A$8,\"\",OFFSET(InputPriceData!C$15,CalculationsAndCharts!$A35+$A$11,IF($C$5,8,0),1,1))","v":5631.75},{"$f":"IF(A35>$A$8,\"\",OFFSET(InputPriceData!D$15,CalculationsAndCharts!$A35+$A$11,IF($C$5,8,0),1,1))","v":5690.5},{"$f":"IF(A35>$A$8,\"\",OFFSET(InputPriceData!E$15,CalculationsAndCharts!$A35+$A$11,IF($C$5,8,0),1,1))","v":5630.75},{"$f":"IF(A35>$A$8,\"\",OFFSET(InputPriceData!$F$15,CalculationsAndCharts!$A35+$A$11,IF($C$5,8,0),1,1))","v":5688},56.75,0,{"$f":"IF($A35>$J$30,NA(),AVERAGE(H35:H38))","v":24.4375},0,"c1",{"$f":"(1+M36-M37)/4","v":0.96111375633659724},{"$f":"IF($A35>$J$30,NA(),IF($A35>$N$30,0,(1-$M$35)*J35+(2*$M$35-$M$36)*J36-($M$35+$M$37)*J37+$M$36*N36+$M$37*N37))","v":16.033817160461368},0.90790841396690847,0.89281984175953144,0.80738146908714492,"c1",{"$f":"(1+S36-S37)/4","v":0.85331711826190448},18.809545556712813,1.6426570408198793,0.83936624595944043,0.66112214727027008,null,null,null,null,null,null,null,null,null,null,null,null,null,null,null,null,null,null,null,null,null,null,null,null,null,null,null,null,null,null,null,1200224,{"$error":"#N/A"}]
[4,{"$f":"IF(A36>$A$8,\"\",OFFSET(InputPriceData!B$15,$A36+$A$11,0,1,1))","v":"2024-07-09T04:00:00"},{"$f":"IF(A36>$A$8,\"\",OFFSET(InputPriceData!G$15,CalculationsAndCharts!$A36+$A$11,IF($C$5,8,0),1,1))","v":1063568},{"$f":"IF(A36>$A$8,\"\",OFFSET(InputPriceData!C$15,CalculationsAndCharts!$A36+$A$11,IF($C$5,8,0),1,1))","v":5627.75},{"$f":"IF(A36>$A$8,\"\",OFFSET(InputPriceData!D$15,CalculationsAndCharts!$A36+$A$11,IF($C$5,8,0),1,1))","v":5645.75},{"$f":"IF(A36>$A$8,\"\",OFFSET(InputPriceData!E$15,CalculationsAndCharts!$A36+$A$11,IF($C$5,8,0),1,1))","v":5626.25},{"$f":"IF(A36>$A$8,\"\",OFFSET(InputPriceData!F$15,CalculationsAndCharts!$A36+$A$11,IF($C$5,8,0),1,1))","v":5631.25},6,0,{"$f":"IF($A36>$J$30,NA(),AVERAGE(H36:H39))","v":15.625},0,"c2",{"$f":"M34","v":1.9207155632262132},{"$f":"IF($A36>$J$30,NA(),IF($A36>$N$30,0,(1-$M$35)*J36+(2*$M$35-$M$36)*J37-($M$35+$M$37)*J38+$M$36*N37+$M$37*N38))","v":15.704328735037025},1.2632994549108367,0.85109298238167974,0.75598226618027276,"c2",{"$f":"S34","v":1.6851568091060745},17.804604371203169,2.457776485246979,0.75740496611338826,0.50820094180245845,null,null,null,null,null,null,null,null,null,null,null,null,null,null,null,null,null,null,null,null,null,null,null,null,null,null,null,null,null,null,null,1063568,{"$error":"#N/A"}]
[5,{"$f":"IF(A37>$A$8,\"\",OFFSET(InputPriceData!B$15,$A37+$A$11,0,1,1))","v":"2024-07-08T04:00:00"},{"$f":"IF(A37>$A$8,\"\",OFFSET(InputPriceData!G$15,CalculationsAndCharts!$A37+$A$11,IF($C$5,8,0),1,1))","v":981186},{"$f":"IF(A37>$A$8,\"\",OFFSET(InputPriceData!C$15,CalculationsAndCharts!$A37+$A$11,IF($C$5,8,0),1,1))","v":5612},{"$f":"IF(A37>$A$8,\"\",OFFSET(InputPriceData!D$15,CalculationsAndCharts!$A37+$A$11,IF($C$5,8,0),1,1))","v":5637.5},{"$f":"IF(A37>$A$8,\"\",OFFSET(InputPriceData!E$15,CalculationsAndCharts!$A37+$A$11,IF($C$5,8,0),1,1))","v":5610.75},{"$f":"IF(A37>$A$8,\"\",OFFSET(InputPriceData!F$15,CalculationsAndCharts!$A37+$A$11,IF($C$5,8,0),1,1))","v":5625.25},3.75,0,{"$f":"IF($A37>$J$30,NA(),AVERAGE(H37:H40))","v":22.875},0,"c3",{"$f":"-M33*M33","v":-0.92373946212017577},{"$f":"IF($A37>$J$30,NA(),IF($A37>$N$30,0,(1-$M$35)*J37+(2*$M$35-$M$36)*J38-($M$35+$M$37)*J39+$M$36*N38+$M$37*N39))","v":15.425021713020648},1.6438948127323494,0.80738146908714492,0.72940145714587812,"c3",{"$f":"-S33*S33","v":-0.72811166394154336},16.824449185231067,3.4322781275421264,0.66112214727027008,0.41794028017860752,null,null,null,null,null,null,null,null,null,null,null,null,null,null,null,null,null,null,null,null,null,null,null,null,null,null,null,null,null,null,null,981186,{"$error":"#N/A"}]
[6,{"$f":"IF(A38>$A$8,\"\",OFFSET(InputPriceData!B$15,$A38+$A$11,0,1,1))","v":"2024-07-05T04:00:00"},{"$f":"IF(A38>$A$8,\"\",OFFSET(InputPriceData!G$15,CalculationsAndCharts!$A38+$A$11,IF($C$5,8,0),1,1))","v":1233173},{"$f":"IF(A38>$A$8,\"\",OFFSET(InputPriceData!C$15,CalculationsAndCharts!$A38+$A$11,IF($C$5,8,0),1,1))","v":5591},{"$f":"IF(A38>$A$8,\"\",OFFSET(InputPriceData!D$15,CalculationsAndCharts!$A38+$A$11,IF($C$5,8,0),1,1))","v":5626},{"$f":"IF(A38>$A$8,\"\",OFFSET(InputPriceData!E$15,CalculationsAndCharts!$A38+$A$11,IF($C$5,8,0),1,1))","v":5585},{"$f":"IF(A38>$A$8,\"\",OFFSET(InputPriceData!F$15,CalculationsAndCharts!$A38+$A$11,IF($C$5,8,0),1,1))","v":5621.5},31.25,0,{"$f":"IF($A38>$J$30,NA(),AVERAGE(H38:H41))","v":25},0,null,null,{"$f":"IF($A38>$J$30,NA(),IF($A38>$N$30,0,(1-$M$35)*J38+(2*$M$35-$M$36)*J39-($M$35+$M$37)*J40+$M$36*N39+$M$37*N40))","v":14.755866926382893},2.0505293688152562,0.75598226618027276,0.73447979045518863,null,null,14.009266791386599,4.5681871845326238,0.50820094180245845,0.47807220429626512,null,null,null,null,null,null,null,null,null,null,null,null,null,null,null,null,null,null,null,null,null,null,null,null,null,null,null,null,null,null,null,1233173,{"$error":"#N/A"}]
[7,{"$f":"IF(A39>$A$8,\"\",OFFSET(InputPriceData!B$15,$A39+$A$11,0,1,1))","v":"2024-07-03T13:30:00"},{"$f":"IF(A39>$A$8,\"\",OFFSET(InputPriceData!G$15,CalculationsAndCharts!$A39+$A$11,IF($C$5,8,0),1,1))","v":808966},{"$f":"IF(A39>$A$8,\"\",OFFSET(InputPriceData!C$15,CalculationsAndCharts!$A39+$A$11,IF($C$5,8,0),1,1))","v":5563.75},{"$f":"IF(A39>$A$8,\"\",OFFSET(InputPriceData!D$15,CalculationsAndCharts!$A39+$A$11,IF($C$5,8,0),1,1))","v":5595.75},{"$f":"IF(A39>$A$8,\"\",OFFSET(InputPriceData!E$15,CalculationsAndCharts!$A39+$A$11,IF($C$5,8,0),1,1))","v":5559.75},{"$f":"IF(A39>$A$8,\"\",OFFSET(InputPriceData!F$15,CalculationsAndCharts!$A39+$A$11,IF($C$5,8,0),1,1))","v":5590.25},21.5,0,{"$f":"IF($A39>$J$30,NA(),AVERAGE(H39:H42))","v":17.1875},6.125,null,null,{"$f":"IF($A39>$J$30,NA(),IF($A39>$N$30,0,(1-$M$35)*J39+(2*$M$35-$M$36)*J40-($M$35+$M$37)*J41+$M$36*N40+$M$37*N41))","v":14.2916406204053},2.236205544349926,0.72940145714587812,0.74604786950949253,null,null,11.706583509165,4.8055131888572999,0.41794028017860752,0.62637403977794692,null,null,null,null,null,null,null,null,null,null,null,null,null,null,null,null,null,null,null,null,null,null,null,null,null,null,null,null,null,null,null,808966,{"$error":"#N/A"}]
[8,{"$f":"IF(A40>$A$8,\"\",OFFSET(InputPriceData!B$15,$A40+$A$11,0,1,1))","v":"2024-07-02T04:00:00"},{"$f":"IF(A40>$A$8,\"\",OFFSET(InputPriceData!G$15,CalculationsAndCharts!$A40+$A$11,IF($C$5,8,0),1,1))","v":1315097},{"$f":"IF(A40>$A$8,\"\",OFFSET(InputPriceData!C$15,CalculationsAndCharts!$A40+$A$11,IF($C$5,8,0),1,1))","v":5533.5},{"$f":"IF(A40>$A$8,\"\",OFFSET(InputPriceData!D$15,CalculationsAndCharts!$A40+$A$11,IF($C$5,8,0),1,1))","v":5569.75},{"$f":"IF(A40>$A$8,\"\",OFFSET(InputPriceData!E$15,CalculationsAndCharts!$A40+$A$11,IF($C$5,8,0),1,1))","v":5502.75},{"$f":"IF(A40>$A$8,\"\",OFFSET(InputPriceData!F$15,CalculationsAndCharts!$A40+$A$11,IF($C$5,8,0),1,1))","v":5568.75},35,0,{"$f":"IF($A40>$J$30,NA(),AVERAGE(H40:H43))","v":12.4375},6.125,null,null,{"$f":"IF($A40>$J$30,NA(),IF($A40>$N$30,0,(1-$M$35)*J40+(2*$M$35-$M$36)*J41-($M$35+$M$37)*J42+$M$36*N41+$M$37*N42))","v":14.319632448411024},2.1920992272322501,0.73447979045518863,0.75917344261039255,null,null,11.258073473459701,3.9753818891893222,0.47807220429626512,0.79979804484434247,null,null,null,null,null,null,null,null,null,null,null,null,null,null,null,null,null,null,null,null,null,null,null,null,null,null,null,null,null,null,null,{"$f":"IF(G40>=G41,C40,NA())","v":1315097},{"$f":"IF(G40<G41,C40,NA())","v":{"$error":"#N/A"}}]
[9,{"$f":"IF(A41>$A$8,\"\",OFFSET(InputPriceData!B$15,$A41+$A$11,0,1,1))","v":"2024-07-01T04:00:00"},{"$f":"IF(A41>$A$8,\"\",OFFSET(InputPriceData!G$15,CalculationsAndCharts!$A41+$A$11,IF($C$5,8,0),1,1))","v":1432355},{"$f":"IF(A41>$A$8,\"\",OFFSET(InputPriceData!C$15,CalculationsAndCharts!$A41+$A$11,IF($C$5,8,0),1,1))","v":5534.25},{"$f":"IF(A41>$A$8,\"\",OFFSET(InputPriceData!D$15,CalculationsAndCharts!$A41+$A$11,IF($C$5,8,0),1,1))","v":5541},{"$f":"IF(A41>$A$8,\"\",OFFSET(InputPriceData!E$15,CalculationsAndCharts!$A41+$A$11,IF($C$5,8,0),1,1))","v":5504.5},{"$f":"IF(A41>$A$8,\"\",OFFSET(InputPriceData!F$15,CalculationsAndCharts!$A41+$A$11,IF($C$5,8,0),1,1))","v":5533.75},12.25,0,{"$f":"IF($A41>$J$30,NA(),AVERAGE(H41:H44))","v":5.3125},6.125,null,null,{"$f":"IF($A41>$J$30,NA(),IF($A41>$N$30,0,(1-$M$35)*J41+(2*$M$35-$M$36)*J42-($M$35+$M$37)*J43+$M$36*N42+$M$37*N43))","v":14.832008473122061},2.1572261660046812,0.74604786950949253,0.7397271021275319,null,null,12.893790450403342,2.9620829649934808,0.62637403977794692,0.84608850660682,null,null,null,null,null,null,null,null,null,null,null,null,null,null,null,null,null,null,null,null,null,null,null,null,null,null,null,null,null,null,null,1432355,{"$error":"#N/A"}]
[10,{"$f":"IF(A42>$A$8,\"\",OFFSET(InputPriceData!B$15,$A42+$A$11,0,1,1))","v":"2024-06-28T04:00:00"},{"$f":"IF(A42>$A$8,\"\",OFFSET(InputPriceData!G$15,CalculationsAndCharts!$A42+$A$11,IF($C$5,8,0),1,1))","v":1855777},{"$f":"IF(A42>$A$8,\"\",OFFSET(InputPriceData!C$15,CalculationsAndCharts!$A42+$A$11,IF($C$5,8,0),1,1))","v":5548.25},{"$f":"IF(A42>$A$8,\"\",OFFSET(InputPriceData!D$15,CalculationsAndCharts!$A42+$A$11,IF($C$5,8,0),1,1))","v":5585},{"$f":"IF(A42>$A$8,\"\",OFFSET(InputPriceData!E$15,CalculationsAndCharts!$A42+$A$11,IF($C$5,8,0),1,1))","v":5510.75},{"$f":"IF(A42>$A$8,\"\",OFFSET(InputPriceData!F$15,CalculationsAndCharts!$A42+$A$11,IF($C$5,8,0),1,1))","v":5521.5},0,24.5,{"$f":"IF($A42>$J$30,NA(),AVERAGE(H42:H45))","v":7.25},6.125,null,null,{"$f":"IF($A42>$J$30,NA(),IF($A42>$N$30,0,(1-$M$35)*J42+(2*$M$35-$M$36)*J43-($M$35+$M$37)*J44+$M$36*N43+$M$37*N44))","v":15.577068972157001},2.1324627827592004,0.75917344261039255,0.6943829311304458,null,null,15.79525984780731,1.7569981880918026,0.79979804484434247,0.79476258464929828,null,null,null,null,null,null,null,null,null,null,null,null,null,null,null,null,null,null,null,null,null,null,null,null,null,null,null,null,null,null,null,{"$error":"#N/A"},1855777]
[11,{"$f":"IF(A43>$A$8,\"\",OFFSET(InputPriceData!B$15,$A43+$A$11,0,1,1))","v":"2024-06-27T04:00:00"},{"$f":"IF(A43>$A$8,\"\",OFFSET(InputPriceData!G$15,CalculationsAndCharts!$A43+$A$11,IF($C$5,8,0),1,1))","v":1257121},{"$f":"IF(A43>$A$8,\"\",OFFSET(InputPriceData!C$15,CalculationsAndCharts!$A43+$A$11,IF($C$5,8,0),1,1))","v":5533},{"$f":"IF(A43>$A$8,\"\",OFFSET(InputPriceData!D$15,CalculationsAndCharts!$A43+$A$11,IF($C$5,8,0),1,1))","v":5555},{"$f":"IF(A43>$A$8,\"\",OFFSET(InputPriceData!E$15,CalculationsAndCharts!$A43+$A$11,IF($C$5,8,0),1,1))","v":5515.75},{"$f":"IF(A43>$A$8,\"\",OFFSET(InputPriceData!F$15,CalculationsAndCharts!$A43+$A$11,IF($C$5,8,0),1,1))","v":5546},2.5,0,{"$f":"IF($A43>$J$30,NA(),AVERAGE(H43:H46))","v":18.527499999999918},0,null,null,{"$f":"IF($A43>$J$30,NA(),IF($A43>$N$30,0,(1-$M$35)*J43+(2*$M$35-$M$36)*J44-($M$35+$M$37)*J45+$M$36*N44+$M$37*N45))","v":15.81853271101753},2.3665409038877838,0.7397271021275319,0.66637907407792829,null,null,16.946465697342934,1.4128552525406393,0.84608850660682,0.81799361108773971,null,null,null,null,null,null,null,null,null,null,null,null,null,null,null,null,null,null,null,null,null,null,null,null,null,null,null,null,null,null,null,1257121,{"$error":"#N/A"}]
[12,{"$f":"IF(A44>$A$8,\"\",OFFSET(InputPriceData!B$15,$A44+$A$11,0,1,1))","v":"2024-06-26T04:00:00"},{"$f":"IF(A44>$A$8,\"\",OFFSET(InputPriceData!G$15,CalculationsAndCharts!$A44+$A$11,IF($C$5,8,0),1,1))","v":1197372},{"$f":"IF(A44>$A$8,\"\",OFFSET(InputPriceData!C$15,CalculationsAndCharts!$A44+$A$11,IF($C$5,8,0),1,1))","v":5535},{"$f":"IF(A44>$A$8,\"\",OFFSET(InputPriceData!D$15,CalculationsAndCharts!$A44+$A$11,IF($C$5,8,0),1,1))","v":5551.75},{"$f":"IF(A44>$A$8,\"\",OFFSET(InputPriceData!E$15,CalculationsAndCharts!$A44+$A$11,IF($C$5,8,0),1,1))","v":5516.25},{"$f":"IF(A44>$A$8,\"\",OFFSET(InputPriceData!F$15,CalculationsAndCharts!$A44+$A$11,IF($C$5,8,0),1,1))","v":5543.5},6.5,0,{"$f":"IF($A44>$J$30,NA(),AVERAGE(H44:H47))","v":17.902499999999918},1.2149999999999181,null,null,{"$f":"IF($A44>$J$30,NA(),IF($A44>$N$30,0,(1-$M$35)*J44+(2*$M$35-$M$36)*J45-($M$35+$M$37)*J46+$M$36*N45+$M$37*N46))","v":15.639342253353872},2.8208794191103719,0.6943829311304458,0.65207849385730554,null,null,16.456370758575915,1.8818438881167965,0.79476258464929828,0.91386852641371619,null,null,null,null,null,null,null,null,null,null,null,null,null,null,null,null,null,null,null,null,null,null,null,null,null,null,null,null,null,null,null,1197372,{"$error":"#N/A"}]
[13,{"$f":"IF(A45>$A$8,\"\",OFFSET(InputPriceData!B$15,$A45+$A$11,0,1,1))","v":"2024-06-25T04:00:00"},{"$f":"IF(A45>$A$8,\"\",OFFSET(InputPriceData!G$15,CalculationsAndCharts!$A45+$A$11,IF($C$5,8,0),1,1))","v":1141183},{"$f":"IF(A45>$A$8,\"\",OFFSET(InputPriceData!C$15,CalculationsAndCharts!$A45+$A$11,IF($C$5,8,0),1,1))","v":5516},{"$f":"IF(A45>$A$8,\"\",OFFSET(InputPriceData!D$15,CalculationsAndCharts!$A45+$A$11,IF($C$5,8,0),1,1))","v":5539.75},{"$f":"IF(A45>$A$8,\"\",OFFSET(InputPriceData!E$15,CalculationsAndCharts!$A45+$A$11,IF($C$5,8,0),1,1))","v":5511},{"$f":"IF(A45>$A$8,\"\",OFFSET(InputPriceData!F$15,CalculationsAndCharts!$A45+$A$11,IF($C$5,8,0),1,1))","v":5537},20,0,{"$f":"IF($A45>$J$30,NA(),AVERAGE(H45:H48))","v":16.277499999999918},4.7774999999999181,null,null,{"$f":"IF($A45>$J$30,NA(),IF($A45>$N$30,0,(1-$M$35)*J45+(2*$M$35-$M$36)*J46-($M$35+$M$37)*J47+$M$36*N46+$M$37*N47))","v":15.544824512534392},3.112184272979722,0.66637907407792829,0.63874592002325958,null,null,16.273924838052807,1.6292457108423704,0.81799361108773971,1.0251529008432743,null,null,null,null,null,null,null,null,null,null,null,null,null,null,null,null,null,null,null,null,null,null,null,null,null,null,null,null,null,null,null,{"$f":"IF(G45>=G46,C45,NA())","v":1141183},{"$f":"IF(G45<G46,C45,NA())","v":{"$error":"#N/A"}}]
[14,{"$f":"IF(A46>$A$8,\"\",OFFSET(InputPriceData!B$15,$A46+$A$11,0,1,1))","v":"2024-06-24T04:00:00"},{"$f":"IF(A46>$A$8,\"\",OFFSET(InputPriceData!G$15,CalculationsAndCharts!$A46+$A$11,IF($C$5,8,0),1,1))","v":1410359},{"$f":"IF(A46>$A$8,\"\",OFFSET(InputPriceData!C$15,CalculationsAndCharts!$A46+$A$11,IF($C$5,8,0),1,1))","v":5538.5},{"$f":"IF(A46>$A$8,\"\",OFFSET(InputPriceData!D$15,CalculationsAndCharts!$A46+$A$11,IF($C$5,8,0),1,1))","v":5558.5},{"$f":"IF(A46>$A$8,\"\",OFFSET(InputPriceData!E$15,CalculationsAndCharts!$A46+$A$11,IF($C$5,8,0),1,1))","v":5510.25},{"$f":"IF(A46>$A$8,\"\",OFFSET(InputPriceData!F$15,CalculationsAndCharts!$A46+$A$11,IF($C$5,8,0),1,1))","v":5517},45.109999999999673,0,{"$f":"IF($A46>$J$30,NA(),AVERAGE(H46:H49))","v":14.402499999999918},4.7774999999999181,null,null,{"$f":"IF($A46>$J$30,NA(),IF($A46>$N$30,0,(1-$M$35)*J46+(2*$M$35-$M$36)*J47-($M$35+$M$37)*J48+$M$36*N47+$M$37*N48))","v":15.589171154705006},3.2830207086574932,0.65207849385730554,0.62195717857923227,null,null,16.673351978307728,0.75036521876737639,0.91386852641371619,1.1221976795072386,null,null,null,null,null,null,null,null,null,null,null,null,null,null,null,null,null,null,null,null,null,null,null,null,null,null,null,null,null,null,null,1410359,{"$error":"#N/A"}]
[15,{"$f":"IF(A47>$A$8,\"\",OFFSET(InputPriceData!B$15,$A47+$A$11,0,1,1))","v":"2024-06-21T04:00:00"},{"$f":"IF(A47>$A$8,\"\",OFFSET(InputPriceData!G$15,CalculationsAndCharts!$A47+$A$11,IF($C$5,8,0),1,1))","v":1392213},{"$f":"IF(A47>$A$8,\"\",OFFSET(InputPriceData!C$15,CalculationsAndCharts!$A47+$A$11,IF($C$5,8,0),1,1))","v":5477},{"$f":"IF(A47>$A$8,\"\",OFFSET(InputPriceData!D$15,CalculationsAndCharts!$A47+$A$11,IF($C$5,8,0),1,1))","v":5483.75},{"$f":"IF(A47>$A$8,\"\",OFFSET(InputPriceData!E$15,CalculationsAndCharts!$A47+$A$11,IF($C$5,8,0),1,1))","v":5460.5},{"$f":"IF(A47>$A$8,\"\",OFFSET(InputPriceData!F$15,CalculationsAndCharts!$A47+$A$11,IF($C$5,8,0),1,1))","v":5471.89},0,4.8599999999996726,{"$f":"IF($A47>$J$30,NA(),AVERAGE(H47:H50))","v":13.375},4.7774999999999181,null,null,{"$f":"IF($A47>$J$30,NA(),IF($A47>$N$30,0,(1-$M$35)*J47+(2*$M$35-$M$36)*J48-($M$35+$M$37)*J49+$M$36*N48+$M$37*N49))","v":15.753797728528776},3.4728530121854098,0.63874592002325958,0.58765144791214108,null,null,17.642381957758257,-0.21912275554003047,1.0251529008432743,1.1272034179011365,null,null,null,null,null,null,null,null,null,null,null,null,null,null,null,null,null,null,null,null,null,null,null,null,null,null,null,null,null,null,null,{"$error":"#N/A"},1392213]
[16,{"$f":"IF(A48>$A$8,\"\",OFFSET(InputPriceData!B$15,$A48+$A$11,0,1,1))","v":"2024-06-20T04:00:00"},{"$f":"IF(A48>$A$8,\"\",OFFSET(InputPriceData!G$15,CalculationsAndCharts!$A48+$A$11,IF($C$5,8,0),1,1))","v":571332},{"$f":"IF(A48>$A$8,\"\",OFFSET(InputPriceData!C$15,CalculationsAndCharts!$A48+$A$11,IF($C$5,8,0),1,1))","v":5492.75},{"$f":"IF(A48>$A$8,\"\",OFFSET(InputPriceData!D$15,CalculationsAndCharts!$A48+$A$11,IF($C$5,8,0),1,1))","v":5518.5},{"$f":"IF(A48>$A$8,\"\",OFFSET(InputPriceData!E$15,CalculationsAndCharts!$A48+$A$11,IF($C$5,8,0),1,1))","v":5458.5},{"$f":"IF(A48>$A$8,\"\",OFFSET(InputPriceData!F$15,CalculationsAndCharts!$A48+$A$11,IF($C$5,8,0),1,1))","v":5476.75},0,14.25,{"$f":"IF($A48>$J$30,NA(),AVERAGE(H48:H51))","v":13.375},3.8125,null,null,{"$f":"IF($A48>$J$30,NA(),IF($A48>$N$30,0,(1-$M$35)*J48+(2*$M$35-$M$36)*J49-($M$35+$M$37)*J50+$M$36*N49+$M$37*N50))","v":15.967482380383537},3.7216716752992323,0.62195717857923227,0.53293289809966449,null,null,18.928505933363994,-1.0899170816797545,1.1221976795072386,1.0563819009503177,null,null,null,null,null,null,null,null,null,null,null,null,null,null,null,null,null,null,null,null,null,null,null,null,null,null,null,null,null,null,null,{"$error":"#N/A"},571332]
[17,{"$f":"IF(A49>$A$8,\"\",OFFSET(InputPriceData!B$15,$A49+$A$11,0,1,1))","v":"2024-06-18T04:00:00"},{"$f":"IF(A49>$A$8,\"\",OFFSET(InputPriceData!G$15,CalculationsAndCharts!$A49+$A$11,IF($C$5,8,0),1,1))","v":820053},{"$f":"IF(A49>$A$8,\"\",OFFSET(InputPriceData!C$15,CalculationsAndCharts!$A49+$A$11,IF($C$5,8,0),1,1))","v":5480.25},{"$f":"IF(A49>$A$8,\"\",OFFSET(InputPriceData!D$15,CalculationsAndCharts!$A49+$A$11,IF($C$5,8,0),1,1))","v":5494},{"$f":"IF(A49>$A$8,\"\",OFFSET(InputPriceData!E$15,CalculationsAndCharts!$A49+$A$11,IF($C$5,8,0),1,1))","v":5473.5},{"$f":"IF(A49>$A$8,\"\",OFFSET(InputPriceData!F$15,CalculationsAndCharts!$A49+$A$11,IF($C$5,8,0),1,1))","v":5491},12.5,0,{"$f":"IF($A49>$J$30,NA(),AVERAGE(H49:H52))","v":16.125},0.25,null,null,{"$f":"IF($A49>$J$30,NA(),IF($A49>$N$30,0,(1-$M$35)*J49+(2*$M$35-$M$36)*J50-($M$35+$M$37)*J51+$M$36*N50+$M$37*N51))","v":16.079057063920803},4.1760903553263473,0.58765144791214108,0.47629001631233342,null,null,19.894372804967418,-1.1896521961628821,1.1272034179011365,0.95264243921008629,null,null,null,null,null,null,null,null,null,null,null,null,null,null,null,null,null,null,null,null,null,null,null,null,null,null,null,null,null,null,null,820053,{"$error":"#N/A"}]
[18,{"$f":"IF(A50>$A$8,\"\",OFFSET(InputPriceData!B$15,$A50+$A$11,0,1,1))","v":"2024-06-17T04:00:00"},{"$f":"IF(A50>$A$8,\"\",OFFSET(InputPriceData!G$15,CalculationsAndCharts!$A50+$A$11,IF($C$5,8,0),1,1))","v":1589643},{"$f":"IF(A50>$A$8,\"\",OFFSET(InputPriceData!C$15,CalculationsAndCharts!$A50+$A$11,IF($C$5,8,0),1,1))","v":5435.5},{"$f":"IF(A50>$A$8,\"\",OFFSET(InputPriceData!D$15,CalculationsAndCharts!$A50+$A$11,IF($C$5,8,0),1,1))","v":5494},{"$f":"IF(A50>$A$8,\"\",OFFSET(InputPriceData!E$15,CalculationsAndCharts!$A50+$A$11,IF($C$5,8,0),1,1))","v":5424.75},{"$f":"IF(A50>$A$8,\"\",OFFSET(InputPriceData!F$15,CalculationsAndCharts!$A50+$A$11,IF($C$5,8,0),1,1))","v":5478.5},41,0,{"$f":"IF($A50>$J$30,NA(),AVERAGE(H50:H53))","v":23.875},0.25,null,null,{"$f":"IF($A50>$J$30,NA(),IF($A50>$N$30,0,(1-$M$35)*J50+(2*$M$35-$M$36)*J51-($M$35+$M$37)*J52+$M$36*N51+$M$37*N52))","v":15.770664544598402},4.8051409119207582,0.53293289809966449,0.42130422268959239,null,null,19.111846972689278,-0.52400882467104826,1.0563819009503177,0.81077678665088437,null,null,null,null,null,null,null,null,null,null,null,null,null,null,null,null,null,null,null,null,null,null,null,null,null,null,null,null,null,null,null,1589643,{"$error":"#N/A"}]
[19,{"$f":"IF(A51>$A$8,\"\",OFFSET(InputPriceData!B$15,$A51+$A$11,0,1,1))","v":"2024-06-14T04:00:00"},{"$f":"IF(A51>$A$8,\"\",OFFSET(InputPriceData!G$15,CalculationsAndCharts!$A51+$A$11,IF($C$5,8,0),1,1))","v":1789793},{"$f":"IF(A51>$A$8,\"\",OFFSET(InputPriceData!C$15,CalculationsAndCharts!$A51+$A$11,IF($C$5,8,0),1,1))","v":5436},{"$f":"IF(A51>$A$8,\"\",OFFSET(InputPriceData!D$15,CalculationsAndCharts!$A51+$A$11,IF($C$5,8,0),1,1))","v":5443},{"$f":"IF(A51>$A$8,\"\",OFFSET(InputPriceData!E$15,CalculationsAndCharts!$A51+$A$11,IF($C$5,8,0),1,1))","v":5397.75},{"$f":"IF(A51>$A$8,\"\",OFFSET(InputPriceData!F$15,CalculationsAndCharts!$A51+$A$11,IF($C$5,8,0),1,1))","v":5437.5},0,1,{"$f":"IF($A51>$J$30,NA(),AVERAGE(H51:H54))","v":16.8125},0.25,null,null,{"$f":"IF($A51>$J$30,NA(),IF($A51>$N$30,0,(1-$M$35)*J51+(2*$M$35-$M$36)*J52-($M$35+$M$37)*J53+$M$36*N52+$M$37*N53))","v":15.422841076005909},5.4712121324972003,0.47629001631233342,0.36936173914254306,null,null,17.971288265982103,0.43585879290506746,0.95264243921008629,0.66028011800683506,null,null,null,null,null,null,null,null,null,null,null,null,null,null,null,null,null,null,null,null,null,null,null,null,null,null,null,null,null,null,null,{"$error":"#N/A"},1789793]
[20,{"$f":"IF(A52>$A$8,\"\",OFFSET(InputPriceData!B$15,$A52+$A$11,0,1,1))","v":"2024-06-13T04:00:00"},{"$f":"IF(A52>$A$8,\"\",OFFSET(InputPriceData!G$15,CalculationsAndCharts!$A52+$A$11,IF($C$5,8,0),1,1))","v":1682858},{"$f":"IF(A52>$A$8,\"\",OFFSET(InputPriceData!C$15,CalculationsAndCharts!$A52+$A$11,IF($C$5,8,0),1,1))","v":5436.25},{"$f":"IF(A52>$A$8,\"\",OFFSET(InputPriceData!D$15,CalculationsAndCharts!$A52+$A$11,IF($C$5,8,0),1,1))","v":5452.75},{"$f":"IF(A52>$A$8,\"\",OFFSET(InputPriceData!E$15,CalculationsAndCharts!$A52+$A$11,IF($C$5,8,0),1,1))","v":5408.5},{"$f":"IF(A52>$A$8,\"\",OFFSET(InputPriceData!F$15,CalculationsAndCharts!$A52+$A$11,IF($C$5,8,0),1,1))","v":5438.5},11,0,{"$f":"IF($A52>$J$30,NA(),AVERAGE(H52:H55))","v":20.6875},0,null,null,{"$f":"IF($A52>$J$30,NA(),IF($A52>$N$30,0,(1-$M$35)*J52+(2*$M$35-$M$36)*J53-($M$35+$M$37)*J54+$M$36*N53+$M$37*N54))","v":15.191376920264045},6.185294840433011,0.42130422268959239,0.33945604820485137,null,null,17.092909847744146,1.7861811299552932,0.81077678665088437,0.56175252142677579,null,null,null,null,null,null,null,null,null,null,null,null,null,null,null,null,null,null,null,null,null,null,null,null,null,null,null,null,null,null,null,1682858,{"$error":"#N/A"}]
[21,{"$f":"IF(A53>$A$8,\"\",OFFSET(InputPriceData!B$15,$A53+$A$11,0,1,1))","v":"2024-06-12T04:00:00"},{"$f":"IF(A53>$A$8,\"\",OFFSET(InputPriceData!G$15,CalculationsAndCharts!$A53+$A$11,IF($C$5,8,0),1,1))","v":1899786},{"$f":"IF(A53>$A$8,\"\",OFFSET(InputPriceData!C$15,CalculationsAndCharts!$A53+$A$11,IF($C$5,8,0),1,1))","v":5384.5},{"$f":"IF(A53>$A$8,\"\",OFFSET(InputPriceData!D$15,CalculationsAndCharts!$A53+$A$11,IF($C$5,8,0),1,1))","v":5454.5},{"$f":"IF(A53>$A$8,\"\",OFFSET(InputPriceData!E$15,CalculationsAndCharts!$A53+$A$11,IF($C$5,8,0),1,1))","v":5380},{"$f":"IF(A53>$A$8,\"\",OFFSET(InputPriceData!F$15,CalculationsAndCharts!$A53+$A$11,IF($C$5,8,0),1,1))","v":5427.5},43.5,0,{"$f":"IF($A53>$J$30,NA(),AVERAGE(H53:H56))","v":17.9375},2.0625,null,null,{"$f":"IF($A53>$J$30,NA(),IF($A53>$N$30,0,(1-$M$35)*J53+(2*$M$35-$M$36)*J54-($M$35+$M$37)*J55+$M$36*N54+$M$37*N55))","v":14.906935980891994},6.865157622696362,0.36936173914254306,0.30967594150230127,null,null,15.790836918055382,3.2310579378708217,0.66028011800683506,0.45790993907852012,null,null,null,null,null,null,null,null,null,null,null,null,null,null,null,null,null,null,null,null,null,null,null,null,null,null,null,null,null,null,null,1899786,{"$error":"#N/A"}]
[22,{"$f":"IF(A54>$A$8,\"\",OFFSET(InputPriceData!B$15,$A54+$A$11,0,1,1))","v":"2024-06-11T04:00:00"},{"$f":"IF(A54>$A$8,\"\",OFFSET(InputPriceData!G$15,CalculationsAndCharts!$A54+$A$11,IF($C$5,8,0),1,1))","v":1413433},{"$f":"IF(A54>$A$8,\"\",OFFSET(InputPriceData!C$15,CalculationsAndCharts!$A54+$A$11,IF($C$5,8,0),1,1))","v":5369.75},{"$f":"IF(A54>$A$8,\"\",OFFSET(InputPriceData!D$15,CalculationsAndCharts!$A54+$A$11,IF($C$5,8,0),1,1))","v":5386.25},{"$f":"IF(A54>$A$8,\"\",OFFSET(InputPriceData!E$15,CalculationsAndCharts!$A54+$A$11,IF($C$5,8,0),1,1))","v":5334.5},{"$f":"IF(A54>$A$8,\"\",OFFSET(InputPriceData!F$15,CalculationsAndCharts!$A54+$A$11,IF($C$5,8,0),1,1))","v":5384},12.75,0,{"$f":"IF($A54>$J$30,NA(),AVERAGE(H54:H57))","v":7.0625},2.5625,null,null,{"$f":"IF($A54>$J$30,NA(),IF($A54>$N$30,0,(1-$M$35)*J54+(2*$M$35-$M$36)*J55-($M$35+$M$37)*J56+$M$36*N55+$M$37*N56))","v":15.164698920828382},7.4783716616699696,0.33945604820485137,0.2681863196126959,null,null,16.553252821249984,4.6450517681703287,0.56175252142677579,0.30369664436033472,null,null,null,null,null,null,null,null,null,null,null,null,null,null,null,null,null,null,null,null,null,null,null,null,null,null,null,null,null,null,null,1413433,{"$error":"#N/A"}]
[23,{"$f":"IF(A55>$A$8,\"\",OFFSET(InputPriceData!B$15,$A55+$A$11,0,1,1))","v":"2024-06-10T04:00:00"},{"$f":"IF(A55>$A$8,\"\",OFFSET(InputPriceData!G$15,CalculationsAndCharts!$A55+$A$11,IF($C$5,8,0),1,1))","v":1185881},{"$f":"IF(A55>$A$8,\"\",OFFSET(InputPriceData!C$15,CalculationsAndCharts!$A55+$A$11,IF($C$5,8,0),1,1))","v":5351.5},{"$f":"IF(A55>$A$8,\"\",OFFSET(InputPriceData!D$15,CalculationsAndCharts!$A55+$A$11,IF($C$5,8,0),1,1))","v":5375.75},{"$f":"IF(A55>$A$8,\"\",OFFSET(InputPriceData!E$15,CalculationsAndCharts!$A55+$A$11,IF($C$5,8,0),1,1))","v":5338.25},{"$f":"IF(A55>$A$8,\"\",OFFSET(InputPriceData!F$15,CalculationsAndCharts!$A55+$A$11,IF($C$5,8,0),1,1))","v":5371.25},15.5,0,{"$f":"IF($A55>$J$30,NA(),AVERAGE(H55:H58))","v":19.375},2.5625,null,null,{"$f":"IF($A55>$J$30,NA(),IF($A55>$N$30,0,(1-$M$35)*J55+(2*$M$35-$M$36)*J56-($M$35+$M$37)*J57+$M$36*N56+$M$37*N57))","v":15.37685788979895},8.1050698184560943,0.30967594150230127,0.2244856038317202,null,null,17.11405440743858,6.3634649491488524,0.45790993907852012,0.12500142713542853,null,null,null,null,null,null,null,null,null,null,null,null,null,null,null,null,null,null,null,null,null,null,null,null,null,null,null,null,null,null,null,1185881,{"$error":"#N/A"}]
[24,{"$f":"IF(A56>$A$8,\"\",OFFSET(InputPriceData!B$15,$A56+$A$11,0,1,1))","v":"2024-06-07T04:00:00"},{"$f":"IF(A56>$A$8,\"\",OFFSET(InputPriceData!G$15,CalculationsAndCharts!$A56+$A$11,IF($C$5,8,0),1,1))","v":1591439},{"$f":"IF(A56>$A$8,\"\",OFFSET(InputPriceData!C$15,CalculationsAndCharts!$A56+$A$11,IF($C$5,8,0),1,1))","v":5362},{"$f":"IF(A56>$A$8,\"\",OFFSET(InputPriceData!D$15,CalculationsAndCharts!$A56+$A$11,IF($C$5,8,0),1,1))","v":5385.5},{"$f":"IF(A56>$A$8,\"\",OFFSET(InputPriceData!E$15,CalculationsAndCharts!$A56+$A$11,IF($C$5,8,0),1,1))","v":5329},{"$f":"IF(A56>$A$8,\"\",OFFSET(InputPriceData!F$15,CalculationsAndCharts!$A56+$A$11,IF($C$5,8,0),1,1))","v":5355.75},0,8.25,{"$f":"IF($A56>$J$30,NA(),AVERAGE(H56:H59))","v":17.1875},2.5625,null,null,{"$f":"IF($A56>$J$30,NA(),IF($A56>$N$30,0,(1-$M$35)*J56+(2*$M$35-$M$36)*J57-($M$35+$M$37)*J58+$M$36*N57+$M$37*N58))","v":15.189812010395739},8.7653620448404155,0.2681863196126959,0.16161235518152733,null,null,15.913378855238207,8.49932317031036,0.30369664436033472,-0.15117536991098879,null,null,null,null,null,null,null,null,null,null,null,null,null,null,null,null,null,null,null,null,null,null,null,null,null,null,null,null,null,null,null,{"$error":"#N/A"},1591439]
[25,{"$f":"IF(A57>$A$8,\"\",OFFSET(InputPriceData!B$15,$A57+$A$11,0,1,1))","v":"2024-06-06T04:00:00"},{"$f":"IF(A57>$A$8,\"\",OFFSET(InputPriceData!G$15,CalculationsAndCharts!$A57+$A$11,IF($C$5,8,0),1,1))","v":1228240},{"$f":"IF(A57>$A$8,\"\",OFFSET(InputPriceData!C$15,CalculationsAndCharts!$A57+$A$11,IF($C$5,8,0),1,1))","v":5367.75},{"$f":"IF(A57>$A$8,\"\",OFFSET(InputPriceData!D$15,CalculationsAndCharts!$A57+$A$11,IF($C$5,8,0),1,1))","v":5373.25},{"$f":"IF(A57>$A$8,\"\",OFFSET(InputPriceData!E$15,CalculationsAndCharts!$A57+$A$11,IF($C$5,8,0),1,1))","v":5345.25},{"$f":"IF(A57>$A$8,\"\",OFFSET(InputPriceData!F$15,CalculationsAndCharts!$A57+$A$11,IF($C$5,8,0),1,1))","v":5364},0,2,{"$f":"IF($A57>$J$30,NA(),AVERAGE(H57:H60))","v":17.625},0.5,null,null,{"$f":"IF($A57>$J$30,NA(),IF($A57>$N$30,0,(1-$M$35)*J57+(2*$M$35-$M$36)*J58-($M$35+$M$37)*J59+$M$36*N58+$M$37*N59))","v":15.068248871424474},9.5433085438234855,0.2244856038317202,0.11774195126153331,null,null,14.704972934250183,11.437168008083017,0.12500142713542853,-0.38899166465634782,null,null,null,null,null,null,null,null,null,null,null,null,null,null,null,null,null,null,null,null,null,null,null,null,null,null,null,null,null,null,null,{"$error":"#N/A"},1228240]
[26,{"$f":"IF(A58>$A$8,\"\",OFFSET(InputPriceData!B$15,$A58+$A$11,0,1,1))","v":"2024-06-05T04:00:00"},{"$f":"IF(A58>$A$8,\"\",OFFSET(InputPriceData!G$15,CalculationsAndCharts!$A58+$A$11,IF($C$5,8,0),1,1))","v":1450596},{"$f":"IF(A58>$A$8,\"\",OFFSET(InputPriceData!C$15,CalculationsAndCharts!$A58+$A$11,IF($C$5,8,0),1,1))","v":5305},{"$f":"IF(A58>$A$8,\"\",OFFSET(InputPriceData!D$15,CalculationsAndCharts!$A58+$A$11,IF($C$5,8,0),1,1))","v":5368.25},{"$f":"IF(A58>$A$8,\"\",OFFSET(InputPriceData!E$15,CalculationsAndCharts!$A58+$A$11,IF($C$5,8,0),1,1))","v":5302.5},{"$f":"IF(A58>$A$8,\"\",OFFSET(InputPriceData!F$15,CalculationsAndCharts!$A58+$A$11,IF($C$5,8,0),1,1))","v":5366},62,0,{"$f":"IF($A58>$J$30,NA(),AVERAGE(H58:H61))","v":28.25},0,null,null,{"$f":"IF($A58>$J$30,NA(),IF($A58>$N$30,0,(1-$M$35)*J58+(2*$M$35-$M$36)*J59-($M$35+$M$37)*J60+$M$36*N59+$M$37*N60))","v":14.496717166476094},10.462929830754174,0.16161235518152733,0.12889382207379779,null,null,11.302392783609637,15.328297191596247,-0.15117536991098879,-0.43305965417119208,null,null,null,null,null,null,null,null,null,null,null,null,null,null,null,null,null,null,null,null,null,null,null,null,null,null,null,null,null,null,null,1450596,{"$error":"#N/A"}]
[27,{"$f":"IF(A59>$A$8,\"\",OFFSET(InputPriceData!B$15,$A59+$A$11,0,1,1))","v":"2024-06-04T04:00:00"},{"$f":"IF(A59>$A$8,\"\",OFFSET(InputPriceData!G$15,CalculationsAndCharts!$A59+$A$11,IF($C$5,8,0),1,1))","v":1679093},{"$f":"IF(A59>$A$8,\"\",OFFSET(InputPriceData!C$15,CalculationsAndCharts!$A59+$A$11,IF($C$5,8,0),1,1))","v":5300.25},{"$f":"IF(A59>$A$8,\"\",OFFSET(InputPriceData!D$15,CalculationsAndCharts!$A59+$A$11,IF($C$5,8,0),1,1))","v":5312.25},{"$f":"IF(A59>$A$8,\"\",OFFSET(InputPriceData!E$15,CalculationsAndCharts!$A59+$A$11,IF($C$5,8,0),1,1))","v":5262},{"$f":"IF(A59>$A$8,\"\",OFFSET(InputPriceData!F$15,CalculationsAndCharts!$A59+$A$11,IF($C$5,8,0),1,1))","v":5304},6.75,0,{"$f":"IF($A59>$J$30,NA(),AVERAGE(H59:H62))","v":12.75},7.75,null,null,{"$f":"IF($A59>$J$30,NA(),IF($A59>$N$30,0,(1-$M$35)*J59+(2*$M$35-$M$36)*J60-($M$35+$M$37)*J61+$M$36*N60+$M$37*N61))","v":14.102874571580516},11.131705835218002,0.11774195126153331,0.16046672391032799,null,null,8.1539482072051221,18.536189178953645,-0.38899166465634782,-0.42175969215845216,null,null,null,null,null,null,null,null,null,null,null,null,null,null,null,null,null,null,null,null,null,null,null,null,null,null,null,null,null,null,null,1679093,{"$error":"#N/A"}]
[28,{"$f":"IF(A60>$A$8,\"\",OFFSET(InputPriceData!B$15,$A60+$A$11,0,1,1))","v":"2024-06-03T04:00:00"},{"$f":"IF(A60>$A$8,\"\",OFFSET(InputPriceData!G$15,CalculationsAndCharts!$A60+$A$11,IF($C$5,8,0),1,1))","v":1785532},{"$f":"IF(A60>$A$8,\"\",OFFSET(InputPriceData!C$15,CalculationsAndCharts!$A60+$A$11,IF($C$5,8,0),1,1))","v":5299.5},{"$f":"IF(A60>$A$8,\"\",OFFSET(InputPriceData!D$15,CalculationsAndCharts!$A60+$A$11,IF($C$5,8,0),1,1))","v":5313.25},{"$f":"IF(A60>$A$8,\"\",OFFSET(InputPriceData!E$15,CalculationsAndCharts!$A60+$A$11,IF($C$5,8,0),1,1))","v":5246.75},{"$f":"IF(A60>$A$8,\"\",OFFSET(InputPriceData!F$15,CalculationsAndCharts!$A60+$A$11,IF($C$5,8,0),1,1))","v":5297.25},1.75,0,{"$f":"IF($A60>$J$30,NA(),AVERAGE(H60:H63))","v":11.0625},17.9375,null,null,{"$f":"IF($A60>$J$30,NA(),IF($A60>$N$30,0,(1-$M$35)*J60+(2*$M$35-$M$36)*J61-($M$35+$M$37)*J62+$M$36*N61+$M$37*N62))","v":14.392861476374947},11.10619112705769,0.12889382207379779,0.19489825729379037,null,null,7.5137263967218768,18.992506408909865,-0.43305965417119208,-0.37585575093407264,null,null,null,null,null,null,null,null,null,null,null,null,null,null,null,null,null,null,null,null,null,null,null,null,null,null,null,null,null,null,null,1785532,{"$error":"#N/A"}]
[29,{"$f":"IF(A61>$A$8,\"\",OFFSET(InputPriceData!B$15,$A61+$A$11,0,1,1))","v":"2024-05-31T04:00:00"},{"$f":"IF(A61>$A$8,\"\",OFFSET(InputPriceData!G$15,CalculationsAndCharts!$A61+$A$11,IF($C$5,8,0),1,1))","v":2452894},{"$f":"IF(A61>$A$8,\"\",OFFSET(InputPriceData!C$15,CalculationsAndCharts!$A61+$A$11,IF($C$5,8,0),1,1))","v":5250.5},{"$f":"IF(A61>$A$8,\"\",OFFSET(InputPriceData!D$15,CalculationsAndCharts!$A61+$A$11,IF($C$5,8,0),1,1))","v":5307},{"$f":"IF(A61>$A$8,\"\",OFFSET(InputPriceData!E$15,CalculationsAndCharts!$A61+$A$11,IF($C$5,8,0),1,1))","v":5205.5},{"$f":"IF(A61>$A$8,\"\",OFFSET(InputPriceData!F$15,CalculationsAndCharts!$A61+$A$11,IF($C$5,8,0),1,1))","v":5295.5},42.5,0,{"$f":"IF($A61>$J$30,NA(),AVERAGE(H61:H64))","v":11.4375},17.9375,null,null,{"$f":"IF($A61>$J$30,NA(),IF($A61>$N$30,0,(1-$M$35)*J61+(2*$M$35-$M$36)*J62-($M$35+$M$37)*J63+$M$36*N62+$M$37*N63))","v":14.751752070373655},10.672073992757058,0.16046672391032799,0.2382569762809279,null,null,7.1192684417526975,17.5046408402808,-0.42175969215845216,-0.25211897393202565,null,null,null,null,null,null,null,null,null,null,null,null,null,null,null,null,null,null,null,null,null,null,null,null,null,null,null,null,null,null,null,2452894,{"$error":"#N/A"}]
[30,{"$f":"IF(A62>$A$8,\"\",OFFSET(InputPriceData!B$15,$A62+$A$11,0,1,1))","v":"2024-05-30T04:00:00"},{"$f":"IF(A62>$A$8,\"\",OFFSET(InputPriceData!G$15,CalculationsAndCharts!$A62+$A$11,IF($C$5,8,0),1,1))","v":1495148},{"$f":"IF(A62>$A$8,\"\",OFFSET(InputPriceData!C$15,CalculationsAndCharts!$A62+$A$11,IF($C$5,8,0),1,1))","v":5270.5},{"$f":"IF(A62>$A$8,\"\",OFFSET(InputPriceData!D$15,CalculationsAndCharts!$A62+$A$11,IF($C$5,8,0),1,1))","v":5277},{"$f":"IF(A62>$A$8,\"\",OFFSET(InputPriceData!E$15,CalculationsAndCharts!$A62+$A$11,IF($C$5,8,0),1,1))","v":5238.25},{"$f":"IF(A62>$A$8,\"\",OFFSET(InputPriceData!F$15,CalculationsAndCharts!$A62+$A$11,IF($C$5,8,0),1,1))","v":5253},0,31,{"$f":"IF($A62>$J$30,NA(),AVERAGE(H62:H65))","v":9.875},17.9375,null,null,{"$f":"IF($A62>$J$30,NA(),IF($A62>$N$30,0,(1-$M$35)*J62+(2*$M$35-$M$36)*J63-($M$35+$M$37)*J64+$M$36*N63+$M$37*N64))","v":15.176854212558728},10.225901411056155,0.19489825729379037,0.27728969939892306,null,null,7.0254071469823476,15.486719360620112,-0.37585575093407264,-5.6605614859156821E-2,null,null,null,null,null,null,null,null,null,null,null,null,null,null,null,null,null,null,null,null,null,null,null,null,null,null,null,null,null,null,null,{"$error":"#N/A"},1495148]
[31,{"$f":"IF(A63>$A$8,\"\",OFFSET(InputPriceData!B$15,$A63+$A$11,0,1,1))","v":"2024-05-29T04:00:00"},{"$f":"IF(A63>$A$8,\"\",OFFSET(InputPriceData!G$15,CalculationsAndCharts!$A63+$A$11,IF($C$5,8,0),1,1))","v":1445855},{"$f":"IF(A63>$A$8,\"\",OFFSET(InputPriceData!C$15,CalculationsAndCharts!$A63+$A$11,IF($C$5,8,0),1,1))","v":5323.75},{"$f":"IF(A63>$A$8,\"\",OFFSET(InputPriceData!D$15,CalculationsAndCharts!$A63+$A$11,IF($C$5,8,0),1,1))","v":5324},{"$f":"IF(A63>$A$8,\"\",OFFSET(InputPriceData!E$15,CalculationsAndCharts!$A63+$A$11,IF($C$5,8,0),1,1))","v":5268.25},{"$f":"IF(A63>$A$8,\"\",OFFSET(InputPriceData!F$15,CalculationsAndCharts!$A63+$A$11,IF($C$5,8,0),1,1))","v":5284},0,40.75,{"$f":"IF($A63>$J$30,NA(),AVERAGE(H63:H66))","v":9.875},20.875,null,null,{"$f":"IF($A63>$J$30,NA(),IF($A63>$N$30,0,(1-$M$35)*J63+(2*$M$35-$M$36)*J64-($M$35+$M$37)*J65+$M$36*N64+$M$37*N65))","v":15.685471248082441},9.6492880927344213,0.2382569762809279,0.30230518056470046,null,null,7.3793838349696985,12.354727815829133,-0.25211897393202565,0.18590273714463482,null,null,null,null,null,null,null,null,null,null,null,null,null,null,null,null,null,null,null,null,null,null,null,null,null,null,null,null,null,null,null,{"$error":"#N/A"},1445855]
[32,{"$f":"IF(A64>$A$8,\"\",OFFSET(InputPriceData!B$15,$A64+$A$11,0,1,1))","v":"2024-05-28T04:00:00"},{"$f":"IF(A64>$A$8,\"\",OFFSET(InputPriceData!G$15,CalculationsAndCharts!$A64+$A$11,IF($C$5,8,0),1,1))","v":1387872},{"$f":"IF(A64>$A$8,\"\",OFFSET(InputPriceData!C$15,CalculationsAndCharts!$A64+$A$11,IF($C$5,8,0),1,1))","v":5321.75},{"$f":"IF(A64>$A$8,\"\",OFFSET(InputPriceData!D$15,CalculationsAndCharts!$A64+$A$11,IF($C$5,8,0),1,1))","v":5339},{"$f":"IF(A64>$A$8,\"\",OFFSET(InputPriceData!E$15,CalculationsAndCharts!$A64+$A$11,IF($C$5,8,0),1,1))","v":5296.75},{"$f":"IF(A64>$A$8,\"\",OFFSET(InputPriceData!F$15,CalculationsAndCharts!$A64+$A$11,IF($C$5,8,0),1,1))","v":5324.75},3.25,0,{"$f":"IF($A64>$J$30,NA(),AVERAGE(H64:H67))","v":9.875},15,null,null,{"$f":"IF($A64>$J$30,NA(),IF($A64>$N$30,0,(1-$M$35)*J64+(2*$M$35-$M$36)*J65-($M$35+$M$37)*J66+$M$36*N65+$M$37*N66))","v":16.21705702316255},9.1758621098956734,0.27728969939892306,0.33306367353624539,null,null,8.0127695379053723,8.9743350370473678,-5.6605614859156821E-2,0.65699562022597446,null,null,null,null,null,null,null,null,null,null,null,null,null,null,null,null,null,null,null,null,null,null,null,null,null,null,null,null,null,null,null,1387872,{"$error":"#N/A"}]
[33,{"$f":"IF(A65>$A$8,\"\",OFFSET(InputPriceData!B$15,$A65+$A$11,0,1,1))","v":"2024-05-24T04:00:00"},{"$f":"IF(A65>$A$8,\"\",OFFSET(InputPriceData!G$15,CalculationsAndCharts!$A65+$A$11,IF($C$5,8,0),1,1))","v":1264244},{"$f":"IF(A65>$A$8,\"\",OFFSET(InputPriceData!C$15,CalculationsAndCharts!$A65+$A$11,IF($C$5,8,0),1,1))","v":5285.75},{"$f":"IF(A65>$A$8,\"\",OFFSET(InputPriceData!D$15,CalculationsAndCharts!$A65+$A$11,IF($C$5,8,0),1,1))","v":5329.25},{"$f":"IF(A65>$A$8,\"\",OFFSET(InputPriceData!E$15,CalculationsAndCharts!$A65+$A$11,IF($C$5,8,0),1,1))","v":5285.75},{"$f":"IF(A65>$A$8,\"\",OFFSET(InputPriceData!F$15,CalculationsAndCharts!$A65+$A$11,IF($C$5,8,0),1,1))","v":5321.5},36.25,0,{"$f":"IF($A65>$J$30,NA(),AVERAGE(H65:H68))","v":12.4375},15,null,null,{"$f":"IF($A65>$J$30,NA(),IF($A65>$N$30,0,(1-$M$35)*J65+(2*$M$35-$M$36)*J66-($M$35+$M$37)*J67+$M$36*N66+$M$37*N67))","v":16.668089401898943},8.9297345961157024,0.30230518056470046,0.34762416742444741,null,null,8.551888171555948,5.870691191312905,0.18590273714463482,1.0553023204017222,null,null,null,null,null,null,null,null,null,null,null,null,null,null,null,null,null,null,null,null,null,null,null,null,null,null,null,null,null,null,null,1264244,{"$error":"#N/A"}]
[34,{"$f":"IF(A66>$A$8,\"\",OFFSET(InputPriceData!B$15,$A66+$A$11,0,1,1))","v":"2024-05-23T04:00:00"},{"$f":"IF(A66>$A$8,\"\",OFFSET(InputPriceData!G$15,CalculationsAndCharts!$A66+$A$11,IF($C$5,8,0),1,1))","v":2012153},{"$f":"IF(A66>$A$8,\"\",OFFSET(InputPriceData!C$15,CalculationsAndCharts!$A66+$A$11,IF($C$5,8,0),1,1))","v":5339},{"$f":"IF(A66>$A$8,\"\",OFFSET(InputPriceData!D$15,CalculationsAndCharts!$A66+$A$11,IF($C$5,8,0),1,1))","v":5368.25},{"$f":"IF(A66>$A$8,\"\",OFFSET(InputPriceData!E$15,CalculationsAndCharts!$A66+$A$11,IF($C$5,8,0),1,1))","v":5273.5},{"$f":"IF(A66>$A$8,\"\",OFFSET(InputPriceData!F$15,CalculationsAndCharts!$A66+$A$11,IF($C$5,8,0),1,1))","v":5285.25},0,42.75,{"$f":"IF($A66>$J$30,NA(),AVERAGE(H66:H69))","v":4.5},15,null,null,{"$f":"IF($A66>$J$30,NA(),IF($A66>$N$30,0,(1-$M$35)*J66+(2*$M$35-$M$36)*J67-($M$35+$M$37)*J68+$M$36*N67+$M$37*N68))","v":17.355785436471852},8.6831589605827961,0.33306367353624539,0.33682948084566339,null,null,10.370246536721023,2.1466803762261213,0.65699562022597446,1.1459793798001192,null,null,null,null,null,null,null,null,null,null,null,null,null,null,null,null,null,null,null,null,null,null,null,null,null,null,null,null,null,null,null,{"$error":"#N/A"},2012153]
[35,{"$f":"IF(A67>$A$8,\"\",OFFSET(InputPriceData!B$15,$A67+$A$11,0,1,1))","v":"2024-05-22T04:00:00"},{"$f":"IF(A67>$A$8,\"\",OFFSET(InputPriceData!G$15,CalculationsAndCharts!$A67+$A$11,IF($C$5,8,0),1,1))","v":1257477},{"$f":"IF(A67>$A$8,\"\",OFFSET(InputPriceData!C$15,CalculationsAndCharts!$A67+$A$11,IF($C$5,8,0),1,1))","v":5343.5},{"$f":"IF(A67>$A$8,\"\",OFFSET(InputPriceData!D$15,CalculationsAndCharts!$A67+$A$11,IF($C$5,8,0),1,1))","v":5349.25},{"$f":"IF(A67>$A$8,\"\",OFFSET(InputPriceData!E$15,CalculationsAndCharts!$A67+$A$11,IF($C$5,8,0),1,1))","v":5306.75},{"$f":"IF(A67>$A$8,\"\",OFFSET(InputPriceData!F$15,CalculationsAndCharts!$A67+$A$11,IF($C$5,8,0),1,1))","v":5328},0,17.25,{"$f":"IF($A67>$J$30,NA(),AVERAGE(H67:H70))","v":6.25},4.3125,null,null,{"$f":"IF($A67>$J$30,NA(),IF($A67>$N$30,0,(1-$M$35)*J67+(2*$M$35-$M$36)*J68-($M$35+$M$37)*J69+$M$36*N68+$M$37*N69))","v":18.321507937232575},8.8693192683202575,0.34762416742444741,0.31295954129217052,null,null,13.819427109481271,-0.37184134820000669,1.0553023204017222,1.2025535744002975,null,null,null,null,null,null,null,null,null,null,null,null,null,null,null,null,null,null,null,null,null,null,null,null,null,null,null,null,null,null,null,{"$error":"#N/A"},1257477]
[36,{"$f":"IF(A68>$A$8,\"\",OFFSET(InputPriceData!B$15,$A68+$A$11,0,1,1))","v":"2024-05-21T04:00:00"},{"$f":"IF(A68>$A$8,\"\",OFFSET(InputPriceData!G$15,CalculationsAndCharts!$A68+$A$11,IF($C$5,8,0),1,1))","v":1011849},{"$f":"IF(A68>$A$8,\"\",OFFSET(InputPriceData!C$15,CalculationsAndCharts!$A68+$A$11,IF($C$5,8,0),1,1))","v":5331.75},{"$f":"IF(A68>$A$8,\"\",OFFSET(InputPriceData!D$15,CalculationsAndCharts!$A68+$A$11,IF($C$5,8,0),1,1))","v":5347.5},{"$f":"IF(A68>$A$8,\"\",OFFSET(InputPriceData!E$15,CalculationsAndCharts!$A68+$A$11,IF($C$5,8,0),1,1))","v":5322.5},{"$f":"IF(A68>$A$8,\"\",OFFSET(InputPriceData!F$15,CalculationsAndCharts!$A68+$A$11,IF($C$5,8,0),1,1))","v":5345.25},13.5,0,{"$f":"IF($A68>$J$30,NA(),AVERAGE(H68:H71))","v":6.25},3.1875,null,null,{"$f":"IF($A68>$J$30,NA(),IF($A68>$N$30,0,(1-$M$35)*J68+(2*$M$35-$M$36)*J69-($M$35+$M$37)*J70+$M$36*N69+$M$37*N70))","v":19.253771405628033},9.5513554733039197,0.33682948084566339,0.27333228239052759,null,null,17.757479511390542,-1.2079453653126697,1.1459793798001192,1.2765125521241869,null,null,null,null,null,null,null,null,null,null,null,null,null,null,null,null,null,null,null,null,null,null,null,null,null,null,null,null,null,null,null,1011849,{"$error":"#N/A"}]
[37,{"$f":"IF(A69>$A$8,\"\",OFFSET(InputPriceData!B$15,$A69+$A$11,0,1,1))","v":"2024-05-20T04:00:00"},{"$f":"IF(A69>$A$8,\"\",OFFSET(InputPriceData!G$15,CalculationsAndCharts!$A69+$A$11,IF($C$5,8,0),1,1))","v":1031456},{"$f":"IF(A69>$A$8,\"\",OFFSET(InputPriceData!C$15,CalculationsAndCharts!$A69+$A$11,IF($C$5,8,0),1,1))","v":5329.25},{"$f":"IF(A69>$A$8,\"\",OFFSET(InputPriceData!D$15,CalculationsAndCharts!$A69+$A$11,IF($C$5,8,0),1,1))","v":5348.25},{"$f":"IF(A69>$A$8,\"\",OFFSET(InputPriceData!E$15,CalculationsAndCharts!$A69+$A$11,IF($C$5,8,0),1,1))","v":5323.75},{"$f":"IF(A69>$A$8,\"\",OFFSET(InputPriceData!F$15,CalculationsAndCharts!$A69+$A$11,IF($C$5,8,0),1,1))","v":5331.75},4.5,0,{"$f":"IF($A69>$J$30,NA(),AVERAGE(H69:H72))","v":18.75},3.1875,null,null,{"$f":"IF($A69>$J$30,NA(),IF($A69>$N$30,0,(1-$M$35)*J69+(2*$M$35-$M$36)*J70-($M$35+$M$37)*J71+$M$36*N70+$M$37*N71))","v":19.714683511452932},10.316224359554891,0.31295954129217052,0.23042784952167861,null,null,20.337691042134097,-1.8703163743723255,1.2025535744002975,1.354183360949416,null,null,null,null,null,null,null,null,null,null,null,null,null,null,null,null,null,null,null,null,null,null,null,null,null,null,null,null,null,null,null,1031456,{"$error":"#N/A"}]
[38,{"$f":"IF(A70>$A$8,\"\",OFFSET(InputPriceData!B$15,$A70+$A$11,0,1,1))","v":"2024-05-17T04:00:00"},{"$f":"IF(A70>$A$8,\"\",OFFSET(InputPriceData!G$15,CalculationsAndCharts!$A70+$A$11,IF($C$5,8,0),1,1))","v":1052765},{"$f":"IF(A70>$A$8,\"\",OFFSET(InputPriceData!C$15,CalculationsAndCharts!$A70+$A$11,IF($C$5,8,0),1,1))","v":5318.25},{"$f":"IF(A70>$A$8,\"\",OFFSET(InputPriceData!D$15,CalculationsAndCharts!$A70+$A$11,IF($C$5,8,0),1,1))","v":5328.75},{"$f":"IF(A70>$A$8,\"\",OFFSET(InputPriceData!E$15,CalculationsAndCharts!$A70+$A$11,IF($C$5,8,0),1,1))","v":5305.75},{"$f":"IF(A70>$A$8,\"\",OFFSET(InputPriceData!F$15,CalculationsAndCharts!$A70+$A$11,IF($C$5,8,0),1,1))","v":5327.25},7,0,{"$f":"IF($A70>$J$30,NA(),AVERAGE(H70:H73))","v":23.625},3.1875,null,null,{"$f":"IF($A70>$J$30,NA(),IF($A70>$N$30,0,(1-$M$35)*J70+(2*$M$35-$M$36)*J71-($M$35+$M$37)*J72+$M$36*N71+$M$37*N72))","v":19.487040611805288},11.120901841708452,0.27333228239052759,0.18218394464272628,null,null,20.431220488700724,-2.4816418934616209,1.2765125521241869,1.3407083174829941,null,null,null,null,null,null,null,null,null,null,null,null,null,null,null,null,null,null,null,null,null,null,null,null,null,null,null,null,null,null,null,1052765,{"$error":"#N/A"}]
[39,{"$f":"IF(A71>$A$8,\"\",OFFSET(InputPriceData!B$15,$A71+$A$11,0,1,1))","v":"2024-05-16T04:00:00"},{"$f":"IF(A71>$A$8,\"\",OFFSET(InputPriceData!G$15,CalculationsAndCharts!$A71+$A$11,IF($C$5,8,0),1,1))","v":1207843},{"$f":"IF(A71>$A$8,\"\",OFFSET(InputPriceData!C$15,CalculationsAndCharts!$A71+$A$11,IF($C$5,8,0),1,1))","v":5331.5},{"$f":"IF(A71>$A$8,\"\",OFFSET(InputPriceData!D$15,CalculationsAndCharts!$A71+$A$11,IF($C$5,8,0),1,1))","v":5349},{"$f":"IF(A71>$A$8,\"\",OFFSET(InputPriceData!E$15,CalculationsAndCharts!$A71+$A$11,IF($C$5,8,0),1,1))","v":5315.5},{"$f":"IF(A71>$A$8,\"\",OFFSET(InputPriceData!F$15,CalculationsAndCharts!$A71+$A$11,IF($C$5,8,0),1,1))","v":5320.25},0,12.75,{"$f":"IF($A71>$J$30,NA(),AVERAGE(H71:H74))","v":21.875},3.375,null,null,{"$f":"IF($A71>$J$30,NA(),IF($A71>$N$30,0,(1-$M$35)*J71+(2*$M$35-$M$36)*J72-($M$35+$M$37)*J73+$M$36*N72+$M$37*N73))","v":19.119734065182261},11.958454018117287,0.23042784952167861,0.13721175892282389,null,null,20.06691960643537,-3.0190380018838843,1.354183360949416,1.1953214707237443,null,null,null,null,null,null,null,null,null,null,null,null,null,null,null,null,null,null,null,null,null,null,null,null,null,null,null,null,null,null,null,{"$error":"#N/A"},1207843]
[40,{"$f":"IF(A72>$A$8,\"\",OFFSET(InputPriceData!B$15,$A72+$A$11,0,1,1))","v":"2024-05-15T04:00:00"},{"$f":"IF(A72>$A$8,\"\",OFFSET(InputPriceData!G$15,CalculationsAndCharts!$A72+$A$11,IF($C$5,8,0),1,1))","v":1391029},{"$f":"IF(A72>$A$8,\"\",OFFSET(InputPriceData!C$15,CalculationsAndCharts!$A72+$A$11,IF($C$5,8,0),1,1))","v":5268.5},{"$f":"IF(A72>$A$8,\"\",OFFSET(InputPriceData!D$15,CalculationsAndCharts!$A72+$A$11,IF($C$5,8,0),1,1))","v":5337.25},{"$f":"IF(A72>$A$8,\"\",OFFSET(InputPriceData!E$15,CalculationsAndCharts!$A72+$A$11,IF($C$5,8,0),1,1))","v":5266.25},{"$f":"IF(A72>$A$8,\"\",OFFSET(InputPriceData!F$15,CalculationsAndCharts!$A72+$A$11,IF($C$5,8,0),1,1))","v":5333},63.5,0,{"$f":"IF($A72>$J$30,NA(),AVERAGE(H72:H75))","v":23.6875},0.1875,null,null,{"$f":"IF($A72>$J$30,NA(),IF($A72>$N$30,0,(1-$M$35)*J72+(2*$M$35-$M$36)*J73-($M$35+$M$37)*J74+$M$36*N73+$M$37*N74))","v":18.731459126658734},12.958125580600443,0.18218394464272628,0.10984575532191782,null,null,19.714123590296364,-2.8695441584641088,1.3407083174829941,1.0291633823622308,null,null,null,null,null,null,null,null,null,null,null,null,null,null,null,null,null,null,null,null,null,null,null,null,null,null,null,null,null,null,null,1391029,{"$error":"#N/A"}]
[41,{"$f":"IF(A73>$A$8,\"\",OFFSET(InputPriceData!B$15,$A73+$A$11,0,1,1))","v":"2024-05-14T04:00:00"},{"$f":"IF(A73>$A$8,\"\",OFFSET(InputPriceData!G$15,CalculationsAndCharts!$A73+$A$11,IF($C$5,8,0),1,1))","v":1252615},{"$f":"IF(A73>$A$8,\"\",OFFSET(InputPriceData!C$15,CalculationsAndCharts!$A73+$A$11,IF($C$5,8,0),1,1))","v":5241.75},{"$f":"IF(A73>$A$8,\"\",OFFSET(InputPriceData!D$15,CalculationsAndCharts!$A73+$A$11,IF($C$5,8,0),1,1))","v":5274.25},{"$f":"IF(A73>$A$8,\"\",OFFSET(InputPriceData!E$15,CalculationsAndCharts!$A73+$A$11,IF($C$5,8,0),1,1))","v":5216.75},{"$f":"IF(A73>$A$8,\"\",OFFSET(InputPriceData!F$15,CalculationsAndCharts!$A73+$A$11,IF($C$5,8,0),1,1))","v":5269.5},24,0,{"$f":"IF($A73>$J$30,NA(),AVERAGE(H73:H76))","v":14.375},0.1875,null,null,{"$f":"IF($A73>$J$30,NA(),IF($A73>$N$30,0,(1-$M$35)*J73+(2*$M$35-$M$36)*J74-($M$35+$M$37)*J75+$M$36*N74+$M$37*N75))","v":18.627835131275891},14.13270394179934,0.13721175892282389,8.8308476491396615E-2,null,null,20.700226267278339,-1.8417342028300496,1.1953214707237443,0.89115344348596237,null,null,null,null,null,null,null,null,null,null,null,null,null,null,null,null,null,null,null,null,null,null,null,null,null,null,null,null,null,null,null,1252615,{"$error":"#N/A"}]
[42,{"$f":"IF(A74>$A$8,\"\",OFFSET(InputPriceData!B$15,$A74+$A$11,0,1,1))","v":"2024-05-13T04:00:00"},{"$f":"IF(A74>$A$8,\"\",OFFSET(InputPriceData!G$15,CalculationsAndCharts!$A74+$A$11,IF($C$5,8,0),1,1))","v":922763},{"$f":"IF(A74>$A$8,\"\",OFFSET(InputPriceData!C$15,CalculationsAndCharts!$A74+$A$11,IF($C$5,8,0),1,1))","v":5240.5},{"$f":"IF(A74>$A$8,\"\",OFFSET(InputPriceData!D$15,CalculationsAndCharts!$A74+$A$11,IF($C$5,8,0),1,1))","v":5264},{"$f":"IF(A74>$A$8,\"\",OFFSET(InputPriceData!E$15,CalculationsAndCharts!$A74+$A$11,IF($C$5,8,0),1,1))","v":5233.25},{"$f":"IF(A74>$A$8,\"\",OFFSET(InputPriceData!F$15,CalculationsAndCharts!$A74+$A$11,IF($C$5,8,0),1,1))","v":5245.5},0,0.75,{"$f":"IF($A74>$J$30,NA(),AVERAGE(H74:H77))","v":8.375},0.4375,null,null,{"$f":"IF($A74>$J$30,NA(),IF($A74>$N$30,0,(1-$M$35)*J74+(2*$M$35-$M$36)*J75-($M$35+$M$37)*J76+$M$36*N75+$M$37*N76))","v":19.136517275809329},15.348486039374158,0.10984575532191782,5.5036849136645638E-2,null,null,24.58921844143071,-0.3533992312442833,1.0291633823622308,0.76352650363138519,null,null,null,null,null,null,null,null,null,null,null,null,null,null,null,null,null,null,null,null,null,null,null,null,null,null,null,null,null,null,null,{"$error":"#N/A"},922763]
[43,{"$f":"IF(A75>$A$8,\"\",OFFSET(InputPriceData!B$15,$A75+$A$11,0,1,1))","v":"2024-05-10T04:00:00"},{"$f":"IF(A75>$A$8,\"\",OFFSET(InputPriceData!G$15,CalculationsAndCharts!$A75+$A$11,IF($C$5,8,0),1,1))","v":1112925},{"$f":"IF(A75>$A$8,\"\",OFFSET(InputPriceData!C$15,CalculationsAndCharts!$A75+$A$11,IF($C$5,8,0),1,1))","v":5240.75},{"$f":"IF(A75>$A$8,\"\",OFFSET(InputPriceData!D$15,CalculationsAndCharts!$A75+$A$11,IF($C$5,8,0),1,1))","v":5264},{"$f":"IF(A75>$A$8,\"\",OFFSET(InputPriceData!E$15,CalculationsAndCharts!$A75+$A$11,IF($C$5,8,0),1,1))","v":5232.75},{"$f":"IF(A75>$A$8,\"\",OFFSET(InputPriceData!F$15,CalculationsAndCharts!$A75+$A$11,IF($C$5,8,0),1,1))","v":5246.25},7.25,0,{"$f":"IF($A75>$J$30,NA(),AVERAGE(H75:H78))","v":10.1875},0.25,null,null,{"$f":"IF($A75>$J$30,NA(),IF($A75>$N$30,0,(1-$M$35)*J75+(2*$M$35-$M$36)*J76-($M$35+$M$37)*J77+$M$36*N76+$M$37*N77))","v":19.831212029442604},16.612888991210202,8.8308476491396615E-2,2.2356776249122796E-3,null,null,29.870929159241438,1.7192405989357367,0.89115344348596237,0.61819946025948103,null,null,null,null,null,null,null,null,null,null,null,null,null,null,null,null,null,null,null,null,null,null,null,null,null,null,null,null,null,null,null,1112925,{"$error":"#N/A"}]
[44,{"$f":"IF(A76>$A$8,\"\",OFFSET(InputPriceData!B$15,$A76+$A$11,0,1,1))","v":"2024-05-09T04:00:00"},{"$f":"IF(A76>$A$8,\"\",OFFSET(InputPriceData!G$15,CalculationsAndCharts!$A76+$A$11,IF($C$5,8,0),1,1))","v":1094931},{"$f":"IF(A76>$A$8,\"\",OFFSET(InputPriceData!C$15,CalculationsAndCharts!$A76+$A$11,IF($C$5,8,0),1,1))","v":5209.25},{"$f":"IF(A76>$A$8,\"\",OFFSET(InputPriceData!D$15,CalculationsAndCharts!$A76+$A$11,IF($C$5,8,0),1,1))","v":5244.75},{"$f":"IF(A76>$A$8,\"\",OFFSET(InputPriceData!E$15,CalculationsAndCharts!$A76+$A$11,IF($C$5,8,0),1,1))","v":5195},{"$f":"IF(A76>$A$8,\"\",OFFSET(InputPriceData!F$15,CalculationsAndCharts!$A76+$A$11,IF($C$5,8,0),1,1))","v":5239},26.25,0,{"$f":"IF($A76>$J$30,NA(),AVERAGE(H76:H79))","v":21.3125},0.25,null,null,{"$f":"IF($A76>$J$30,NA(),IF($A76>$N$30,0,(1-$M$35)*J76+(2*$M$35-$M$36)*J77-($M$35+$M$37)*J78+$M$36*N77+$M$37*N78))","v":20.025274111931431},17.936004924565633,5.5036849136645638E-2,-7.3399883341172312E-2,null,null,33.685506799862708,4.5169321546966046,0.76352650363138519,0.42498288307878984,null,null,null,null,null,null,null,null,null,null,null,null,null,null,null,null,null,null,null,null,null,null,null,null,null,null,null,null,null,null,null,1094931,{"$error":"#N/A"}]
[45,{"$f":"IF(A77>$A$8,\"\",OFFSET(InputPriceData!B$15,$A77+$A$11,0,1,1))","v":"2024-05-08T04:00:00"},{"$f":"IF(A77>$A$8,\"\",OFFSET(InputPriceData!G$15,CalculationsAndCharts!$A77+$A$11,IF($C$5,8,0),1,1))","v":1013418},{"$f":"IF(A77>$A$8,\"\",OFFSET(InputPriceData!C$15,CalculationsAndCharts!$A77+$A$11,IF($C$5,8,0),1,1))","v":5211.75},{"$f":"IF(A77>$A$8,\"\",OFFSET(InputPriceData!D$15,CalculationsAndCharts!$A77+$A$11,IF($C$5,8,0),1,1))","v":5218},{"$f":"IF(A77>$A$8,\"\",OFFSET(InputPriceData!E$15,CalculationsAndCharts!$A77+$A$11,IF($C$5,8,0),1,1))","v":5188.75},{"$f":"IF(A77>$A$8,\"\",OFFSET(InputPriceData!F$15,CalculationsAndCharts!$A77+$A$11,IF($C$5,8,0),1,1))","v":5212.75},0,1,{"$f":"IF($A77>$J$30,NA(),AVERAGE(H77:H80))","v":30.5625},0.25,null,null,{"$f":"IF($A77>$J$30,NA(),IF($A77>$N$30,0,(1-$M$35)*J77+(2*$M$35-$M$36)*J78-($M$35+$M$37)*J79+$M$36*N78+$M$37*N79))","v":19.39699397166639},19.310456590527096,2.2356776249122796E-3,-0.15941850934754329,null,null,34.362737288364855,8.1075985784568196,0.61819946025948103,0.19689476411003956,null,null,null,null,null,null,null,null,null,null,null,null,null,null,null,null,null,null,null,null,null,null,null,null,null,null,null,null,null,null,null,{"$error":"#N/A"},1013418]
[46,{"$f":"IF(A78>$A$8,\"\",OFFSET(InputPriceData!B$15,$A78+$A$11,0,1,1))","v":"2024-05-07T04:00:00"},{"$f":"IF(A78>$A$8,\"\",OFFSET(InputPriceData!G$15,CalculationsAndCharts!$A78+$A$11,IF($C$5,8,0),1,1))","v":1106457},{"$f":"IF(A78>$A$8,\"\",OFFSET(InputPriceData!C$15,CalculationsAndCharts!$A78+$A$11,IF($C$5,8,0),1,1))","v":5204.75},{"$f":"IF(A78>$A$8,\"\",OFFSET(InputPriceData!D$15,CalculationsAndCharts!$A78+$A$11,IF($C$5,8,0),1,1))","v":5226.75},{"$f":"IF(A78>$A$8,\"\",OFFSET(InputPriceData!E$15,CalculationsAndCharts!$A78+$A$11,IF($C$5,8,0),1,1))","v":5202.25},{"$f":"IF(A78>$A$8,\"\",OFFSET(InputPriceData!F$15,CalculationsAndCharts!$A78+$A$11,IF($C$5,8,0),1,1))","v":5213.75},7.25,0,{"$f":"IF($A78>$J$30,NA(),AVERAGE(H78:H81))","v":41.8125},0,null,null,{"$f":"IF($A78>$J$30,NA(),IF($A78>$N$30,0,(1-$M$35)*J78+(2*$M$35-$M$36)*J79-($M$35+$M$37)*J80+$M$36*N79+$M$37*N80))","v":17.908830480630208},20.746097699622123,-7.3399883341172312E-2,-0.21102485075264493,null,null,31.270648147045868,12.618508022301409,0.42498288307878984,7.6888345803818745E-2,null,null,null,null,null,null,null,null,null,null,null,null,null,null,null,null,null,null,null,null,null,null,null,null,null,null,null,null,null,null,null,1106457,{"$error":"#N/A"}]
[47,{"$f":"IF(A79>$A$8,\"\",OFFSET(InputPriceData!B$15,$A79+$A$11,0,1,1))","v":"2024-05-06T04:00:00"},{"$f":"IF(A79>$A$8,\"\",OFFSET(InputPriceData!G$15,CalculationsAndCharts!$A79+$A$11,IF($C$5,8,0),1,1))","v":1019307},{"$f":"IF(A79>$A$8,\"\",OFFSET(InputPriceData!C$15,CalculationsAndCharts!$A79+$A$11,IF($C$5,8,0),1,1))","v":5166.75},{"$f":"IF(A79>$A$8,\"\",OFFSET(InputPriceData!D$15,CalculationsAndCharts!$A79+$A$11,IF($C$5,8,0),1,1))","v":5207.75},{"$f":"IF(A79>$A$8,\"\",OFFSET(InputPriceData!E$15,CalculationsAndCharts!$A79+$A$11,IF($C$5,8,0),1,1))","v":5155.75},{"$f":"IF(A79>$A$8,\"\",OFFSET(InputPriceData!F$15,CalculationsAndCharts!$A79+$A$11,IF($C$5,8,0),1,1))","v":5206.5},51.75,0,{"$f":"IF($A79>$J$30,NA(),AVERAGE(H79:H82))","v":40},5.125,null,null,{"$f":"IF($A79>$J$30,NA(),IF($A79>$N$30,0,(1-$M$35)*J79+(2*$M$35-$M$36)*J80-($M$35+$M$37)*J81+$M$36*N80+$M$37*N81))","v":15.975806486978817},22.035514639253563,-0.15941850934754329,-0.21582056362059909,null,null,25.691129015482549,17.238508218890999,0.19689476411003956,0.11585485422475623,null,null,null,null,null,null,null,null,null,null,null,null,null,null,null,null,null,null,null,null,null,null,null,null,null,null,null,null,null,null,null,1019307,{"$error":"#N/A"}]
[48,{"$f":"IF(A80>$A$8,\"\",OFFSET(InputPriceData!B$15,$A80+$A$11,0,1,1))","v":"2024-05-03T04:00:00"},{"$f":"IF(A80>$A$8,\"\",OFFSET(InputPriceData!G$15,CalculationsAndCharts!$A80+$A$11,IF($C$5,8,0),1,1))","v":1604172},{"$f":"IF(A80>$A$8,\"\",OFFSET(InputPriceData!C$15,CalculationsAndCharts!$A80+$A$11,IF($C$5,8,0),1,1))","v":5110.25},{"$f":"IF(A80>$A$8,\"\",OFFSET(InputPriceData!D$15,CalculationsAndCharts!$A80+$A$11,IF($C$5,8,0),1,1))","v":5166.75},{"$f":"IF(A80>$A$8,\"\",OFFSET(InputPriceData!E$15,CalculationsAndCharts!$A80+$A$11,IF($C$5,8,0),1,1))","v":5099.25},{"$f":"IF(A80>$A$8,\"\",OFFSET(InputPriceData!F$15,CalculationsAndCharts!$A80+$A$11,IF($C$5,8,0),1,1))","v":5154.75},63.25,0,{"$f":"IF($A80>$J$30,NA(),AVERAGE(H80:H83))","v":27.0625},25.125,null,null,{"$f":"IF($A80>$J$30,NA(),IF($A80>$N$30,0,(1-$M$35)*J80+(2*$M$35-$M$36)*J81-($M$35+$M$37)*J82+$M$36*N81+$M$37*N82))","v":14.561591692694977},22.351083457050983,-0.21102485075264493,-0.20557256692781053,null,null,21.462141183485443,18.397406497784182,7.6888345803818745E-2,0.20695378985147442,null,null,null,null,null,null,null,null,null,null,null,null,null,null,null,null,null,null,null,null,null,null,null,null,null,null,null,null,null,null,null,1604172,{"$error":"#N/A"}]
[49,{"$f":"IF(A81>$A$8,\"\",OFFSET(InputPriceData!B$15,$A81+$A$11,0,1,1))","v":"2024-05-02T04:00:00"},{"$f":"IF(A81>$A$8,\"\",OFFSET(InputPriceData!G$15,CalculationsAndCharts!$A81+$A$11,IF($C$5,8,0),1,1))","v":1573131},{"$f":"IF(A81>$A$8,\"\",OFFSET(InputPriceData!C$15,CalculationsAndCharts!$A81+$A$11,IF($C$5,8,0),1,1))","v":5057},{"$f":"IF(A81>$A$8,\"\",OFFSET(InputPriceData!D$15,CalculationsAndCharts!$A81+$A$11,IF($C$5,8,0),1,1))","v":5113},{"$f":"IF(A81>$A$8,\"\",OFFSET(InputPriceData!E$15,CalculationsAndCharts!$A81+$A$11,IF($C$5,8,0),1,1))","v":5036.25},{"$f":"IF(A81>$A$8,\"\",OFFSET(InputPriceData!F$15,CalculationsAndCharts!$A81+$A$11,IF($C$5,8,0),1,1))","v":5091.5},45,0,{"$f":"IF($A81>$J$30,NA(),AVERAGE(H81:H84))","v":15.125},25.125,null,null,{"$f":"IF($A81>$J$30,NA(),IF($A81>$N$30,0,(1-$M$35)*J81+(2*$M$35-$M$36)*J82-($M$35+$M$37)*J83+$M$36*N82+$M$37*N83))","v":14.099159465435127},21.859854023956313,-0.21582056362059909,-0.19457887797378923,null,null,20.643481947422003,16.356817633232918,0.11585485422475623,0.31718171630033709,null,null,null,null,null,null,null,null,null,null,null,null,null,null,null,null,null,null,null,null,null,null,null,null,null,null,null,null,null,null,null,1573131,{"$error":"#N/A"}]
[50,{"$f":"IF(A82>$A$8,\"\",OFFSET(InputPriceData!B$15,$A82+$A$11,0,1,1))","v":"2024-05-01T04:00:00"},{"$f":"IF(A82>$A$8,\"\",OFFSET(InputPriceData!G$15,CalculationsAndCharts!$A82+$A$11,IF($C$5,8,0),1,1))","v":1955160},{"$f":"IF(A82>$A$8,\"\",OFFSET(InputPriceData!C$15,CalculationsAndCharts!$A82+$A$11,IF($C$5,8,0),1,1))","v":5050},{"$f":"IF(A82>$A$8,\"\",OFFSET(InputPriceData!D$15,CalculationsAndCharts!$A82+$A$11,IF($C$5,8,0),1,1))","v":5126.75},{"$f":"IF(A82>$A$8,\"\",OFFSET(InputPriceData!E$15,CalculationsAndCharts!$A82+$A$11,IF($C$5,8,0),1,1))","v":5037.75},{"$f":"IF(A82>$A$8,\"\",OFFSET(InputPriceData!F$15,CalculationsAndCharts!$A82+$A$11,IF($C$5,8,0),1,1))","v":5046.5},0,20.5,{"$f":"IF($A82>$J$30,NA(),AVERAGE(H82:H85))","v":16.1875},25.125,null,null,{"$f":"IF($A82>$J$30,NA(),IF($A82>$N$30,0,(1-$M$35)*J82+(2*$M$35-$M$36)*J83-($M$35+$M$37)*J84+$M$36*N83+$M$37*N84))","v":14.061447703078326},21.338759081574754,-0.20557256692781053,-0.20057188853439506,null,null,21.415741624546435,14.07151862455029,0.20695378985147442,0.30941996264693405,null,null,null,null,null,null,null,null,null,null,null,null,null,null,null,null,null,null,null,null,null,null,null,null,null,null,null,null,null,null,null,{"$error":"#N/A"},1955160]
[51,{"$f":"IF(A83>$A$8,\"\",OFFSET(InputPriceData!B$15,$A83+$A$11,0,1,1))","v":"2024-04-30T04:00:00"},{"$f":"IF(A83>$A$8,\"\",OFFSET(InputPriceData!G$15,CalculationsAndCharts!$A83+$A$11,IF($C$5,8,0),1,1))","v":1675335},{"$f":"IF(A83>$A$8,\"\",OFFSET(InputPriceData!C$15,CalculationsAndCharts!$A83+$A$11,IF($C$5,8,0),1,1))","v":5148.5},{"$f":"IF(A83>$A$8,\"\",OFFSET(InputPriceData!D$15,CalculationsAndCharts!$A83+$A$11,IF($C$5,8,0),1,1))","v":5148.5},{"$f":"IF(A83>$A$8,\"\",OFFSET(InputPriceData!E$15,CalculationsAndCharts!$A83+$A$11,IF($C$5,8,0),1,1))","v":5051},{"$f":"IF(A83>$A$8,\"\",OFFSET(InputPriceData!F$15,CalculationsAndCharts!$A83+$A$11,IF($C$5,8,0),1,1))","v":5067},0,80,{"$f":"IF($A83>$J$30,NA(),AVERAGE(H83:H86))","v":16.1875},26.3125,null,null,{"$f":"IF($A83>$J$30,NA(),IF($A83>$N$30,0,(1-$M$35)*J83+(2*$M$35-$M$36)*J84-($M$35+$M$37)*J85+$M$36*N84+$M$37*N85))","v":13.982854731751358},20.73899288151825,-0.19457887797378923,-0.24014041261444657,null,null,21.953888140603361,11.380750305892578,0.31718171630033709,0.1239691252442954,null,null,null,null,null,null,null,null,null,null,null,null,null,null,null,null,null,null,null,null,null,null,null,null,null,null,null,null,null,null,null,{"$error":"#N/A"},1675335]
[52,{"$f":"IF(A84>$A$8,\"\",OFFSET(InputPriceData!B$15,$A84+$A$11,0,1,1))","v":"2024-04-29T04:00:00"},{"$f":"IF(A84>$A$8,\"\",OFFSET(InputPriceData!G$15,CalculationsAndCharts!$A84+$A$11,IF($C$5,8,0),1,1))","v":1163440},{"$f":"IF(A84>$A$8,\"\",OFFSET(InputPriceData!C$15,CalculationsAndCharts!$A84+$A$11,IF($C$5,8,0),1,1))","v":5140.25},{"$f":"IF(A84>$A$8,\"\",OFFSET(InputPriceData!D$15,CalculationsAndCharts!$A84+$A$11,IF($C$5,8,0),1,1))","v":5154.25},{"$f":"IF(A84>$A$8,\"\",OFFSET(InputPriceData!E$15,CalculationsAndCharts!$A84+$A$11,IF($C$5,8,0),1,1))","v":5118.75},{"$f":"IF(A84>$A$8,\"\",OFFSET(InputPriceData!F$15,CalculationsAndCharts!$A84+$A$11,IF($C$5,8,0),1,1))","v":5147},15.5,0,{"$f":"IF($A84>$J$30,NA(),AVERAGE(H84:H87))","v":16.4375},6.3125,null,null,{"$f":"IF($A84>$J$30,NA(),IF($A84>$N$30,0,(1-$M$35)*J84+(2*$M$35-$M$36)*J85-($M$35+$M$37)*J86+$M$36*N85+$M$37*N86))","v":13.894875465058231},20.867163211776695,-0.20057188853439506,-0.29394014238121746,null,null,22.30980990344036,11.766056571578204,0.30941996264693405,-0.12476173194037078,null,null,null,null,null,null,null,null,null,null,null,null,null,null,null,null,null,null,null,null,null,null,null,null,null,null,null,null,null,null,null,1163440,{"$error":"#N/A"}]
[53,{"$f":"IF(A85>$A$8,\"\",OFFSET(InputPriceData!B$15,$A85+$A$11,0,1,1))","v":"2024-04-26T04:00:00"},{"$f":"IF(A85>$A$8,\"\",OFFSET(InputPriceData!G$15,CalculationsAndCharts!$A85+$A$11,IF($C$5,8,0),1,1))","v":1455855},{"$f":"IF(A85>$A$8,\"\",OFFSET(InputPriceData!C$15,CalculationsAndCharts!$A85+$A$11,IF($C$5,8,0),1,1))","v":5132},{"$f":"IF(A85>$A$8,\"\",OFFSET(InputPriceData!D$15,CalculationsAndCharts!$A85+$A$11,IF($C$5,8,0),1,1))","v":5146.5},{"$f":"IF(A85>$A$8,\"\",OFFSET(InputPriceData!E$15,CalculationsAndCharts!$A85+$A$11,IF($C$5,8,0),1,1))","v":5104.5},{"$f":"IF(A85>$A$8,\"\",OFFSET(InputPriceData!F$15,CalculationsAndCharts!$A85+$A$11,IF($C$5,8,0),1,1))","v":5131.5},49.25,0,{"$f":"IF($A85>$J$30,NA(),AVERAGE(H85:H88))","v":27.3125},6.3125,null,null,{"$f":"IF($A85>$J$30,NA(),IF($A85>$N$30,0,(1-$M$35)*J85+(2*$M$35-$M$36)*J86-($M$35+$M$37)*J87+$M$36*N86+$M$37*N87))","v":13.357432107865161},21.80020051166666,-0.24014041261444657,-0.34343345551691978,null,null,20.531782497898675,16.00264186795938,0.1239691252442954,-0.38442692558626212,null,null,null,null,null,null,null,null,null,null,null,null,null,null,null,null,null,null,null,null,null,null,null,null,null,null,null,null,null,null,null,1455855,{"$error":"#N/A"}]
[54,{"$f":"IF(A86>$A$8,\"\",OFFSET(InputPriceData!B$15,$A86+$A$11,0,1,1))","v":"2024-04-25T04:00:00"},{"$f":"IF(A86>$A$8,\"\",OFFSET(InputPriceData!G$15,CalculationsAndCharts!$A86+$A$11,IF($C$5,8,0),1,1))","v":1887635},{"$f":"IF(A86>$A$8,\"\",OFFSET(InputPriceData!C$15,CalculationsAndCharts!$A86+$A$11,IF($C$5,8,0),1,1))","v":5070},{"$f":"IF(A86>$A$8,\"\",OFFSET(InputPriceData!D$15,CalculationsAndCharts!$A86+$A$11,IF($C$5,8,0),1,1))","v":5132.75},{"$f":"IF(A86>$A$8,\"\",OFFSET(InputPriceData!E$15,CalculationsAndCharts!$A86+$A$11,IF($C$5,8,0),1,1))","v":5022.25},{"$f":"IF(A86>$A$8,\"\",OFFSET(InputPriceData!F$15,CalculationsAndCharts!$A86+$A$11,IF($C$5,8,0),1,1))","v":5082.25},0,25.25,{"$f":"IF($A86>$J$30,NA(),AVERAGE(H86:H89))","v":25.9375},6.3125,null,null,{"$f":"IF($A86>$J$30,NA(),IF($A86>$N$30,0,(1-$M$35)*J86+(2*$M$35-$M$36)*J87-($M$35+$M$37)*J88+$M$36*N87+$M$37*N88))","v":12.419134109713781},22.759566323979897,-0.29394014238121746,-0.38841302317220167,null,null,16.535442852660548,21.249565998287004,-0.12476173194037078,-0.66632103113769114,null,null,null,null,null,null,null,null,null,null,null,null,null,null,null,null,null,null,null,null,null,null,null,null,null,null,null,null,null,null,null,{"$error":"#N/A"},1887635]
[55,{"$f":"IF(A87>$A$8,\"\",OFFSET(InputPriceData!B$15,$A87+$A$11,0,1,1))","v":"2024-04-24T04:00:00"},{"$f":"IF(A87>$A$8,\"\",OFFSET(InputPriceData!G$15,CalculationsAndCharts!$A87+$A$11,IF($C$5,8,0),1,1))","v":1512469},{"$f":"IF(A87>$A$8,\"\",OFFSET(InputPriceData!C$15,CalculationsAndCharts!$A87+$A$11,IF($C$5,8,0),1,1))","v":5115.25},{"$f":"IF(A87>$A$8,\"\",OFFSET(InputPriceData!D$15,CalculationsAndCharts!$A87+$A$11,IF($C$5,8,0),1,1))","v":5128.75},{"$f":"IF(A87>$A$8,\"\",OFFSET(InputPriceData!E$15,CalculationsAndCharts!$A87+$A$11,IF($C$5,8,0),1,1))","v":5072.25},{"$f":"IF(A87>$A$8,\"\",OFFSET(InputPriceData!F$15,CalculationsAndCharts!$A87+$A$11,IF($C$5,8,0),1,1))","v":5107.5},1,0,{"$f":"IF($A87>$J$30,NA(),AVERAGE(H87:H90))","v":25.9375},11.3125,null,null,{"$f":"IF($A87>$J$30,NA(),IF($A87>$N$30,0,(1-$M$35)*J87+(2*$M$35-$M$36)*J88-($M$35+$M$37)*J89+$M$36*N88+$M$37*N89))","v":11.505509352887504},23.541994817297955,-0.34343345551691978,-0.40311300643733206,null,null,11.878483143247449,26.714768046500669,-0.38442692558626212,-0.86914014580689491,null,null,null,null,null,null,null,null,null,null,null,null,null,null,null,null,null,null,null,null,null,null,null,null,null,null,null,null,null,null,null,1512469,{"$error":"#N/A"}]
[56,{"$f":"IF(A88>$A$8,\"\",OFFSET(InputPriceData!B$15,$A88+$A$11,0,1,1))","v":"2024-04-23T04:00:00"},{"$f":"IF(A88>$A$8,\"\",OFFSET(InputPriceData!G$15,CalculationsAndCharts!$A88+$A$11,IF($C$5,8,0),1,1))","v":1357493},{"$f":"IF(A88>$A$8,\"\",OFFSET(InputPriceData!C$15,CalculationsAndCharts!$A88+$A$11,IF($C$5,8,0),1,1))","v":5051},{"$f":"IF(A88>$A$8,\"\",OFFSET(InputPriceData!D$15,CalculationsAndCharts!$A88+$A$11,IF($C$5,8,0),1,1))","v":5113.5},{"$f":"IF(A88>$A$8,\"\",OFFSET(InputPriceData!E$15,CalculationsAndCharts!$A88+$A$11,IF($C$5,8,0),1,1))","v":5037.75},{"$f":"IF(A88>$A$8,\"\",OFFSET(InputPriceData!F$15,CalculationsAndCharts!$A88+$A$11,IF($C$5,8,0),1,1))","v":5106.5},59,0,{"$f":"IF($A88>$J$30,NA(),AVERAGE(H88:H91))","v":25.6875},14.625,null,null,{"$f":"IF($A88>$J$30,NA(),IF($A88>$N$30,0,(1-$M$35)*J88+(2*$M$35-$M$36)*J89-($M$35+$M$37)*J90+$M$36*N89+$M$37*N90))","v":10.573817747181563},24.004478219898139,-0.38841302317220167,-0.36811428143127056,null,null,6.3549411966035576,31.735210054288707,-0.66632103113769114,-0.87506990663314954,null,null,null,null,null,null,null,null,null,null,null,null,null,null,null,null,null,null,null,null,null,null,null,null,null,null,null,null,null,null,null,1357493,{"$error":"#N/A"}]
[57,{"$f":"IF(A89>$A$8,\"\",OFFSET(InputPriceData!B$15,$A89+$A$11,0,1,1))","v":"2024-04-22T04:00:00"},{"$f":"IF(A89>$A$8,\"\",OFFSET(InputPriceData!G$15,CalculationsAndCharts!$A89+$A$11,IF($C$5,8,0),1,1))","v":1584393},{"$f":"IF(A89>$A$8,\"\",OFFSET(InputPriceData!C$15,CalculationsAndCharts!$A89+$A$11,IF($C$5,8,0),1,1))","v":5014.25},{"$f":"IF(A89>$A$8,\"\",OFFSET(InputPriceData!D$15,CalculationsAndCharts!$A89+$A$11,IF($C$5,8,0),1,1))","v":5076.75},{"$f":"IF(A89>$A$8,\"\",OFFSET(InputPriceData!E$15,CalculationsAndCharts!$A89+$A$11,IF($C$5,8,0),1,1))","v":5006},{"$f":"IF(A89>$A$8,\"\",OFFSET(InputPriceData!F$15,CalculationsAndCharts!$A89+$A$11,IF($C$5,8,0),1,1))","v":5047.5},43.75,0,{"$f":"IF($A89>$J$30,NA(),AVERAGE(H89:H92))","v":10.9375},22.1875,null,null,{"$f":"IF($A89>$J$30,NA(),IF($A89>$N$30,0,(1-$M$35)*J89+(2*$M$35-$M$36)*J90-($M$35+$M$37)*J91+$M$36*N90+$M$37*N91))","v":10.221990233713706},24.029016553018987,-0.40311300643733206,-0.30889908058131826,null,null,2.4961051730516086,35.653183444803638,-0.86914014580689491,-0.7891020976104578,null,null,null,null,null,null,null,null,null,null,null,null,null,null,null,null,null,null,null,null,null,null,null,null,null,null,null,null,null,null,null,1584393,{"$error":"#N/A"}]
[58,{"$f":"IF(A90>$A$8,\"\",OFFSET(InputPriceData!B$15,$A90+$A$11,0,1,1))","v":"2024-04-19T04:00:00"},{"$f":"IF(A90>$A$8,\"\",OFFSET(InputPriceData!G$15,CalculationsAndCharts!$A90+$A$11,IF($C$5,8,0),1,1))","v":2357143},{"$f":"IF(A90>$A$8,\"\",OFFSET(InputPriceData!C$15,CalculationsAndCharts!$A90+$A$11,IF($C$5,8,0),1,1))","v":5047.25},{"$f":"IF(A90>$A$8,\"\",OFFSET(InputPriceData!D$15,CalculationsAndCharts!$A90+$A$11,IF($C$5,8,0),1,1))","v":5058},{"$f":"IF(A90>$A$8,\"\",OFFSET(InputPriceData!E$15,CalculationsAndCharts!$A90+$A$11,IF($C$5,8,0),1,1))","v":4963.5},{"$f":"IF(A90>$A$8,\"\",OFFSET(InputPriceData!F$15,CalculationsAndCharts!$A90+$A$11,IF($C$5,8,0),1,1))","v":5003.75},0,45.25,{"$f":"IF($A90>$J$30,NA(),AVERAGE(H90:H93))","v":0},25.0625,null,null,{"$f":"IF($A90>$J$30,NA(),IF($A90>$N$30,0,(1-$M$35)*J90+(2*$M$35-$M$36)*J91-($M$35+$M$37)*J92+$M$36*N91+$M$37*N92))","v":10.906912312606149},23.614875384419694,-0.36811428143127056,-0.23029672377129376,null,null,2.5466057074274842,38.221885515091842,-0.87506990663314954,-0.67246574905136236,null,null,null,null,null,null,null,null,null,null,null,null,null,null,null,null,null,null,null,null,null,null,null,null,null,null,null,null,null,null,null,{"$error":"#N/A"},2357143]
[59,{"$f":"IF(A91>$A$8,\"\",OFFSET(InputPriceData!B$15,$A91+$A$11,0,1,1))","v":"2024-04-18T04:00:00"},{"$f":"IF(A91>$A$8,\"\",OFFSET(InputPriceData!G$15,CalculationsAndCharts!$A91+$A$11,IF($C$5,8,0),1,1))","v":1701401},{"$f":"IF(A91>$A$8,\"\",OFFSET(InputPriceData!C$15,CalculationsAndCharts!$A91+$A$11,IF($C$5,8,0),1,1))","v":5063},{"$f":"IF(A91>$A$8,\"\",OFFSET(InputPriceData!D$15,CalculationsAndCharts!$A91+$A$11,IF($C$5,8,0),1,1))","v":5095.25},{"$f":"IF(A91>$A$8,\"\",OFFSET(InputPriceData!E$15,CalculationsAndCharts!$A91+$A$11,IF($C$5,8,0),1,1))","v":5038.5},{"$f":"IF(A91>$A$8,\"\",OFFSET(InputPriceData!F$15,CalculationsAndCharts!$A91+$A$11,IF($C$5,8,0),1,1))","v":5049},0,13.25,{"$f":"IF($A91>$J$30,NA(),AVERAGE(H91:H94))","v":0},29.625,null,null,{"$f":"IF($A91>$J$30,NA(),IF($A91>$N$30,0,(1-$M$35)*J91+(2*$M$35-$M$36)*J92-($M$35+$M$37)*J93+$M$36*N92+$M$37*N93))","v":12.073105826099377},22.865657780971638,-0.30889908058131826,-0.14993946890980095,null,null,4.6691585402367215,39.609693808066702,-0.7891020976104578,-0.57021803423626671,null,null,null,null,null,null,null,null,null,null,null,null,null,null,null,null,null,null,null,null,null,null,null,null,null,null,null,null,null,null,null,{"$error":"#N/A"},1701401]
[60,{"$f":"IF(A92>$A$8,\"\",OFFSET(InputPriceData!B$15,$A92+$A$11,0,1,1))","v":"2024-04-17T04:00:00"},{"$f":"IF(A92>$A$8,\"\",OFFSET(InputPriceData!G$15,CalculationsAndCharts!$A92+$A$11,IF($C$5,8,0),1,1))","v":1928645},{"$f":"IF(A92>$A$8,\"\",OFFSET(InputPriceData!C$15,CalculationsAndCharts!$A92+$A$11,IF($C$5,8,0),1,1))","v":5096.25},{"$f":"IF(A92>$A$8,\"\",OFFSET(InputPriceData!D$15,CalculationsAndCharts!$A92+$A$11,IF($C$5,8,0),1,1))","v":5120.5},{"$f":"IF(A92>$A$8,\"\",OFFSET(InputPriceData!E$15,CalculationsAndCharts!$A92+$A$11,IF($C$5,8,0),1,1))","v":5047},{"$f":"IF(A92>$A$8,\"\",OFFSET(InputPriceData!F$15,CalculationsAndCharts!$A92+$A$11,IF($C$5,8,0),1,1))","v":5062.25},0,30.25,{"$f":"IF($A92>$J$30,NA(),AVERAGE(H92:H95))","v":0},45.25,null,null,{"$f":"IF($A92>$J$30,NA(),IF($A92>$N$30,0,(1-$M$35)*J92+(2*$M$35-$M$36)*J93-($M$35+$M$37)*J94+$M$36*N93+$M$37*N94))","v":13.296054188125753},21.252464958816326,-0.23029672377129376,-6.8698629772377437E-2,null,null,7.3088495391490618,37.320678627633107,-0.67246574905136236,-0.47524993220573408,null,null,null,null,null,null,null,null,null,null,null,null,null,null,null,null,null,null,null,null,null,null,null,null,null,null,null,null,null,null,null,{"$error":"#N/A"},1928645]
[61,{"$f":"IF(A93>$A$8,\"\",OFFSET(InputPriceData!B$15,$A93+$A$11,0,1,1))","v":"2024-04-16T04:00:00"},{"$f":"IF(A93>$A$8,\"\",OFFSET(InputPriceData!G$15,CalculationsAndCharts!$A93+$A$11,IF($C$5,8,0),1,1))","v":2098015},{"$f":"IF(A93>$A$8,\"\",OFFSET(InputPriceData!C$15,CalculationsAndCharts!$A93+$A$11,IF($C$5,8,0),1,1))","v":5101.25},{"$f":"IF(A93>$A$8,\"\",OFFSET(InputPriceData!D$15,CalculationsAndCharts!$A93+$A$11,IF($C$5,8,0),1,1))","v":5123.25},{"$f":"IF(A93>$A$8,\"\",OFFSET(InputPriceData!E$15,CalculationsAndCharts!$A93+$A$11,IF($C$5,8,0),1,1))","v":5078.75},{"$f":"IF(A93>$A$8,\"\",OFFSET(InputPriceData!F$15,CalculationsAndCharts!$A93+$A$11,IF($C$5,8,0),1,1))","v":5092.5},0,11.5,{"$f":"IF($A93>$J$30,NA(),AVERAGE(H93:H96))","v":8.875},37.6875,null,null,{"$f":"IF($A93>$J$30,NA(),IF($A93>$N$30,0,(1-$M$35)*J93+(2*$M$35-$M$36)*J94-($M$35+$M$37)*J95+$M$36*N94+$M$37*N95))","v":14.217358963120171},19.232868269254606,-0.14993946890980095,1.5599276455938609E-2,null,null,8.9769206345575991,32.797380521170929,-0.57021803423626671,-0.34339136080888816,null,null,null,null,null,null,null,null,null,null,null,null,null,null,null,null,null,null,null,null,null,null,null,null,null,null,null,null,null,null,null,{"$error":"#N/A"},2098015]
[62,{"$f":"IF(A94>$A$8,\"\",OFFSET(InputPriceData!B$15,$A94+$A$11,0,1,1))","v":"2024-04-15T04:00:00"},{"$f":"IF(A94>$A$8,\"\",OFFSET(InputPriceData!G$15,CalculationsAndCharts!$A94+$A$11,IF($C$5,8,0),1,1))","v":2226105},{"$f":"IF(A94>$A$8,\"\",OFFSET(InputPriceData!C$15,CalculationsAndCharts!$A94+$A$11,IF($C$5,8,0),1,1))","v":5166.5},{"$f":"IF(A94>$A$8,\"\",OFFSET(InputPriceData!D$15,CalculationsAndCharts!$A94+$A$11,IF($C$5,8,0),1,1))","v":5213.25},{"$f":"IF(A94>$A$8,\"\",OFFSET(InputPriceData!E$15,CalculationsAndCharts!$A94+$A$11,IF($C$5,8,0),1,1))","v":5094},{"$f":"IF(A94>$A$8,\"\",OFFSET(InputPriceData!F$15,CalculationsAndCharts!$A94+$A$11,IF($C$5,8,0),1,1))","v":5104},0,63.5,{"$f":"IF($A94>$J$30,NA(),AVERAGE(H94:H97))","v":8.875},47.9375,null,null,{"$f":"IF($A94>$J$30,NA(),IF($A94>$N$30,0,(1-$M$35)*J94+(2*$M$35-$M$36)*J95-($M$35+$M$37)*J96+$M$36*N95+$M$37*N96))","v":14.823627973038391},17.010595505909777,-6.8698629772377437E-2,5.8887123290365405E-2,null,null,9.4739357928669357,26.634437980917113,-0.47524993220573408,-0.293369057255982,null,null,null,null,null,null,null,null,null,null,null,null,null,null,null,null,null,null,null,null,null,null,null,null,null,null,null,null,null,null,null,{"$error":"#N/A"},2226105]
[63,{"$f":"IF(A95>$A$8,\"\",OFFSET(InputPriceData!B$15,$A95+$A$11,0,1,1))","v":"2024-04-12T04:00:00"},{"$f":"IF(A95>$A$8,\"\",OFFSET(InputPriceData!G$15,CalculationsAndCharts!$A95+$A$11,IF($C$5,8,0),1,1))","v":2005106},{"$f":"IF(A95>$A$8,\"\",OFFSET(InputPriceData!C$15,CalculationsAndCharts!$A95+$A$11,IF($C$5,8,0),1,1))","v":5244},{"$f":"IF(A95>$A$8,\"\",OFFSET(InputPriceData!D$15,CalculationsAndCharts!$A95+$A$11,IF($C$5,8,0),1,1))","v":5248.75},{"$f":"IF(A95>$A$8,\"\",OFFSET(InputPriceData!E$15,CalculationsAndCharts!$A95+$A$11,IF($C$5,8,0),1,1))","v":5150},{"$f":"IF(A95>$A$8,\"\",OFFSET(InputPriceData!F$15,CalculationsAndCharts!$A95+$A$11,IF($C$5,8,0),1,1))","v":5167.5},0,75.75,{"$f":"IF($A95>$J$30,NA(),AVERAGE(H95:H98))","v":10.625},32.0625,null,null,{"$f":"IF($A95>$J$30,NA(),IF($A95>$N$30,0,(1-$M$35)*J95+(2*$M$35-$M$36)*J96-($M$35+$M$37)*J97+$M$36*N96+$M$37*N97))","v":15.389670636508791},14.916909908158358,1.5599276455938609E-2,7.1022666518558458E-2,null,null,9.8202815880231356,20.091848718763323,-0.34339136080888816,-0.34627529363170212,null,null,null,null,null,null,null,null,null,null,null,null,null,null,null,null,null,null,null,null,null,null,null,null,null,null,null,null,null,null,null,{"$error":"#N/A"},2005106]
[64,{"$f":"IF(A96>$A$8,\"\",OFFSET(InputPriceData!B$15,$A96+$A$11,0,1,1))","v":"2024-04-11T04:00:00"},{"$f":"IF(A96>$A$8,\"\",OFFSET(InputPriceData!G$15,CalculationsAndCharts!$A96+$A$11,IF($C$5,8,0),1,1))","v":1762470},{"$f":"IF(A96>$A$8,\"\",OFFSET(InputPriceData!C$15,CalculationsAndCharts!$A96+$A$11,IF($C$5,8,0),1,1))","v":5202},{"$f":"IF(A96>$A$8,\"\",OFFSET(InputPriceData!D$15,CalculationsAndCharts!$A96+$A$11,IF($C$5,8,0),1,1))","v":5257.5},{"$f":"IF(A96>$A$8,\"\",OFFSET(InputPriceData!E$15,CalculationsAndCharts!$A96+$A$11,IF($C$5,8,0),1,1))","v":5173.5},{"$f":"IF(A96>$A$8,\"\",OFFSET(InputPriceData!F$15,CalculationsAndCharts!$A96+$A$11,IF($C$5,8,0),1,1))","v":5243.25},35.5,0,{"$f":"IF($A96>$J$30,NA(),AVERAGE(H96:H99))","v":10.6875},13.125,null,null,{"$f":"IF($A96>$J$30,NA(),IF($A96>$N$30,0,(1-$M$35)*J96+(2*$M$35-$M$36)*J97-($M$35+$M$37)*J98+$M$36*N97+$M$37*N98))","v":15.910648662389073},14.140993882755174,5.8887123290365405E-2,8.3579518304421216E-2,null,null,9.9801361536804603,18.266960173364573,-0.293369057255982,-0.4268407589506531,null,null,null,null,null,null,null,null,null,null,null,null,null,null,null,null,null,null,null,null,null,null,null,null,null,null,null,null,null,null,null,1762470,{"$error":"#N/A"}]
[65,{"$f":"IF(A97>$A$8,\"\",OFFSET(InputPriceData!B$15,$A97+$A$11,0,1,1))","v":"2024-04-10T04:00:00"},{"$f":"IF(A97>$A$8,\"\",OFFSET(InputPriceData!G$15,CalculationsAndCharts!$A97+$A$11,IF($C$5,8,0),1,1))","v":2369864},{"$f":"IF(A97>$A$8,\"\",OFFSET(InputPriceData!C$15,CalculationsAndCharts!$A97+$A$11,IF($C$5,8,0),1,1))","v":5264.25},{"$f":"IF(A97>$A$8,\"\",OFFSET(InputPriceData!D$15,CalculationsAndCharts!$A97+$A$11,IF($C$5,8,0),1,1))","v":5285},{"$f":"IF(A97>$A$8,\"\",OFFSET(InputPriceData!E$15,CalculationsAndCharts!$A97+$A$11,IF($C$5,8,0),1,1))","v":5176.5},{"$f":"IF(A97>$A$8,\"\",OFFSET(InputPriceData!F$15,CalculationsAndCharts!$A97+$A$11,IF($C$5,8,0),1,1))","v":5207.75},0,52.5,{"$f":"IF($A97>$J$30,NA(),AVERAGE(H97:H100))","v":15.75},13.125,null,null,{"$f":"IF($A97>$J$30,NA(),IF($A97>$N$30,0,(1-$M$35)*J97+(2*$M$35-$M$36)*J98-($M$35+$M$37)*J99+$M$36*N98+$M$37*N99))","v":16.250079866289177},14.094898581480395,7.1022666518558458E-2,0.10350509734753587,null,null,{"$f":"IF($A97>$J$30,NA(),IF($A97>$N$30,0,(1-S$35)*$J97+(2*S$35-S$36)*$J98-(S$35+S$37)*$J99+S$36*T98+S$37*T99))","v":9.3582795923358084},{"$f":"IF($A97>$J$30,NA(),IF($A97>$N$30,0,(1-S$35)*$K97+(2*S$35-S$36)*$K98-(S$35+S$37)*$K99+S$36*U98+S$37*U99))","v":19.272364166945657},{"$f":"IF($A97>$N$30,NA(),(T97-U97)/(T97+U97))","v":-0.34627529363170212},{"$f":"IF($A97>$N$30,NA(),OFFSET(V97,$C$18,0,1,1))","v":-0.50120726263233517},null,null,null,null,null,null,null,null,null,null,null,null,null,null,null,null,null,null,null,null,null,null,null,null,null,null,null,null,null,null,null,{"$error":"#N/A"},2369864]
[66,{"$f":"IF(A98>$A$8,\"\",OFFSET(InputPriceData!B$15,$A98+$A$11,0,1,1))","v":"2024-04-09T04:00:00"},{"$f":"IF(A98>$A$8,\"\",OFFSET(InputPriceData!G$15,CalculationsAndCharts!$A98+$A$11,IF($C$5,8,0),1,1))","v":1651973},{"$f":"IF(A98>$A$8,\"\",OFFSET(InputPriceData!C$15,CalculationsAndCharts!$A98+$A$11,IF($C$5,8,0),1,1))","v":5258},{"$f":"IF(A98>$A$8,\"\",OFFSET(InputPriceData!D$15,CalculationsAndCharts!$A98+$A$11,IF($C$5,8,0),1,1))","v":5274.25},{"$f":"IF(A98>$A$8,\"\",OFFSET(InputPriceData!E$15,CalculationsAndCharts!$A98+$A$11,IF($C$5,8,0),1,1))","v":5208.25},{"$f":"IF(A98>$A$8,\"\",OFFSET(InputPriceData!F$15,CalculationsAndCharts!$A98+$A$11,IF($C$5,8,0),1,1))","v":5260.25},{"$f":"IF($A98>$H$30,NA(),IF($G98>$G99,$G98-$G99,0))","v":7},{"$f":"IF($A98>$H$30,NA(),IF(G98<G99,G99-G98,0))","v":0},{"$f":"IF($A98>$J$30,NA(),AVERAGE(H98:H101))","v":15.75},17.3125,null,null,{"$f":"IF($A98>$J$30,NA(),IF($A98>$N$30,0,(1-$M$35)*J98+(2*$M$35-$M$36)*J99-($M$35+$M$37)*J100+$M$36*N99+$M$37*N100))","v":16.402782452011571},13.872397495425139,{"$f":"IF($A98>$N$30,NA(),(N98-O98)/(N98+O98))","v":8.3579518304421216E-2},{"$f":"IF($A98>$N$30,NA(),OFFSET(P98,$C$17,0,1,1))","v":0.13865546694534228},null,null,7.8614168419388566,19.570459952182368,-0.4268407589506531,-0.55263160249004839,null,null,null,null,null,null,null,null,null,null,null,null,null,null,null,null,null,null,null,null,null,null,null,null,null,null,null,null,null,null,null,1651973,{"$error":"#N/A"}]
[67,{"$f":"IF(A99>$A$8,\"\",OFFSET(InputPriceData!B$15,$A99+$A$11,0,1,1))","v":"2024-04-08T04:00:00"},{"$f":"IF(A99>$A$8,\"\",OFFSET(InputPriceData!G$15,CalculationsAndCharts!$A99+$A$11,IF($C$5,8,0),1,1))","v":1167648},{"$f":"IF(A99>$A$8,\"\",OFFSET(InputPriceData!C$15,CalculationsAndCharts!$A99+$A$11,IF($C$5,8,0),1,1))","v":5263.25},{"$f":"IF(A99>$A$8,\"\",OFFSET(InputPriceData!D$15,CalculationsAndCharts!$A99+$A$11,IF($C$5,8,0),1,1))","v":5269.25},{"$f":"IF(A99>$A$8,\"\",OFFSET(InputPriceData!E$15,CalculationsAndCharts!$A99+$A$11,IF($C$5,8,0),1,1))","v":5236.5},{"$f":"IF(A99>$A$8,\"\",OFFSET(InputPriceData!F$15,CalculationsAndCharts!$A99+$A$11,IF($C$5,8,0),1,1))","v":5253.25},0.25,0,{"$f":"IF($A99>$J$30,NA(),AVERAGE(H99:H102))","v":15.5},17.3125,null,null,{"$f":"IF($A99>$J$30,NA(),IF($A99>$N$30,0,(1-$M$35)*J99+(2*$M$35-$M$36)*J100-($M$35+$M$37)*J101+$M$36*N100+$M$37*N101))","v":16.576069637095625},13.466509553411164,0.10350509734753587,0.21284157866932882,null,null,6.3139777632877605,19.003061921809611,-0.50120726263233517,-0.33823056602460561,null,null,null,null,null,null,null,null,null,null,null,null,null,null,null,null,null,null,null,null,null,null,null,null,null,null,null,null,null,null,null,1167648,{"$error":"#N/A"}]
[68,{"$f":"IF(A100>$A$8,\"\",OFFSET(InputPriceData!B$15,$A100+$A$11,0,1,1))","v":"2024-04-05T04:00:00"},{"$f":"IF(A100>$A$8,\"\",OFFSET(InputPriceData!G$15,CalculationsAndCharts!$A100+$A$11,IF($C$5,8,0),1,1))","v":1908306},{"$f":"IF(A100>$A$8,\"\",OFFSET(InputPriceData!C$15,CalculationsAndCharts!$A100+$A$11,IF($C$5,8,0),1,1))","v":5199.75},{"$f":"IF(A100>$A$8,\"\",OFFSET(InputPriceData!D$15,CalculationsAndCharts!$A100+$A$11,IF($C$5,8,0),1,1))","v":5272.5},{"$f":"IF(A100>$A$8,\"\",OFFSET(InputPriceData!E$15,CalculationsAndCharts!$A100+$A$11,IF($C$5,8,0),1,1))","v":5191.5},{"$f":"IF(A100>$A$8,\"\",OFFSET(InputPriceData!F$15,CalculationsAndCharts!$A100+$A$11,IF($C$5,8,0),1,1))","v":5253},55.75,0,{"$f":"IF($A100>$J$30,NA(),AVERAGE(H100:H103))","v":15.4375},26,null,null,{"$f":"IF($A100>$J$30,NA(),IF($A100>$N$30,0,(1-$M$35)*J100+(2*$M$35-$M$36)*J101-($M$35+$M$37)*J102+$M$36*N101+$M$37*N102))","v":16.773193091348681},12.688208672867022,0.13865546694534228,0.28170185807898407,null,null,4.791740419048252,16.630159052255649,-0.55263160249004839,8.6711316228565177E-2,null,null,null,null,null,null,null,null,null,null,null,null,null,null,null,null,null,null,null,null,null,null,null,null,null,null,null,null,null,null,null,1908306,{"$error":"#N/A"}]
[69,{"$f":"IF(A101>$A$8,\"\",OFFSET(InputPriceData!B$15,$A101+$A$11,0,1,1))","v":"2024-04-04T04:00:00"},{"$f":"IF(A101>$A$8,\"\",OFFSET(InputPriceData!G$15,CalculationsAndCharts!$A101+$A$11,IF($C$5,8,0),1,1))","v":1941274},{"$f":"IF(A101>$A$8,\"\",OFFSET(InputPriceData!C$15,CalculationsAndCharts!$A101+$A$11,IF($C$5,8,0),1,1))","v":5270.75},{"$f":"IF(A101>$A$8,\"\",OFFSET(InputPriceData!D$15,CalculationsAndCharts!$A101+$A$11,IF($C$5,8,0),1,1))","v":5308.5},{"$f":"IF(A101>$A$8,\"\",OFFSET(InputPriceData!E$15,CalculationsAndCharts!$A101+$A$11,IF($C$5,8,0),1,1))","v":5192.5},{"$f":"IF(A101>$A$8,\"\",OFFSET(InputPriceData!F$15,CalculationsAndCharts!$A101+$A$11,IF($C$5,8,0),1,1))","v":5197.25},0,69.25,{"$f":"IF($A101>$J$30,NA(),AVERAGE(H101:H104))","v":1.5},29.3125,null,null,{"$f":"IF($A101>$J$30,NA(),IF($A101>$N$30,0,(1-$M$35)*J101+(2*$M$35-$M$36)*J102-($M$35+$M$37)*J103+$M$36*N102+$M$37*N103))","v":17.548757088168152},11.389494035151351,0.21284157866932882,0.31144016868625679,null,null,5.7383924876897172,11.604180901407245,-0.33823056602460561,0.29904380657468466,null,null,null,null,null,null,null,null,null,null,null,null,null,null,null,null,null,null,null,null,null,null,null,null,null,null,null,null,null,null,null,{"$error":"#N/A"},1941274]
[70,{"$f":"IF(A102>$A$8,\"\",OFFSET(InputPriceData!B$15,$A102+$A$11,0,1,1))","v":"2024-04-03T04:00:00"},{"$f":"IF(A102>$A$8,\"\",OFFSET(InputPriceData!G$15,CalculationsAndCharts!$A102+$A$11,IF($C$5,8,0),1,1))","v":1402981},{"$f":"IF(A102>$A$8,\"\",OFFSET(InputPriceData!C$15,CalculationsAndCharts!$A102+$A$11,IF($C$5,8,0),1,1))","v":5262.5},{"$f":"IF(A102>$A$8,\"\",OFFSET(InputPriceData!D$15,CalculationsAndCharts!$A102+$A$11,IF($C$5,8,0),1,1))","v":5280.75},{"$f":"IF(A102>$A$8,\"\",OFFSET(InputPriceData!E$15,CalculationsAndCharts!$A102+$A$11,IF($C$5,8,0),1,1))","v":5244.5},{"$f":"IF(A102>$A$8,\"\",OFFSET(InputPriceData!F$15,CalculationsAndCharts!$A102+$A$11,IF($C$5,8,0),1,1))","v":5266.5},6,0,{"$f":"IF($A102>$J$30,NA(),AVERAGE(H102:H105))","v":1.5625},12,null,null,{"$f":"IF($A102>$J$30,NA(),IF($A102>$N$30,0,(1-$M$35)*J102+(2*$M$35-$M$36)*J103-($M$35+$M$37)*J104+$M$36*N103+$M$37*N104))","v":18.920004455660656},10.60324907853953,0.28170185807898407,0.32316548329216332,null,null,9.5855494508991228,8.0558412436706188,8.6711316228565177E-2,0.39784867493894743,null,null,null,null,null,null,null,null,null,null,null,null,null,null,null,null,null,null,null,null,null,null,null,null,null,null,null,null,null,null,null,1402981,{"$error":"#N/A"}]
[71,{"$f":"IF(A103>$A$8,\"\",OFFSET(InputPriceData!B$15,$A103+$A$11,0,1,1))","v":"2024-04-02T04:00:00"},{"$f":"IF(A103>$A$8,\"\",OFFSET(InputPriceData!G$15,CalculationsAndCharts!$A103+$A$11,IF($C$5,8,0),1,1))","v":1426691},{"$f":"IF(A103>$A$8,\"\",OFFSET(InputPriceData!C$15,CalculationsAndCharts!$A103+$A$11,IF($C$5,8,0),1,1))","v":5294.5},{"$f":"IF(A103>$A$8,\"\",OFFSET(InputPriceData!D$15,CalculationsAndCharts!$A103+$A$11,IF($C$5,8,0),1,1))","v":5296},{"$f":"IF(A103>$A$8,\"\",OFFSET(InputPriceData!E$15,CalculationsAndCharts!$A103+$A$11,IF($C$5,8,0),1,1))","v":5235},{"$f":"IF(A103>$A$8,\"\",OFFSET(InputPriceData!F$15,CalculationsAndCharts!$A103+$A$11,IF($C$5,8,0),1,1))","v":5260.5},0,34.75,{"$f":"IF($A103>$J$30,NA(),AVERAGE(H103:H106))","v":10.8125},12,null,null,{"$f":"IF($A103>$J$30,NA(),IF($A103>$N$30,0,(1-$M$35)*J103+(2*$M$35-$M$36)*J104-($M$35+$M$37)*J105+$M$36*N104+$M$37*N105))","v":19.970752482608049},10.485463453821399,0.31144016868625679,0.32634214363297603,null,null,12.792763428896537,6.9028978939166823,0.29904380657468466,0.44076898956980187,null,null,null,null,null,null,null,null,null,null,null,null,null,null,null,null,null,null,null,null,null,null,null,null,null,null,null,null,null,null,null,{"$error":"#N/A"},1426691]
[72,{"$f":"IF(A104>$A$8,\"\",OFFSET(InputPriceData!B$15,$A104+$A$11,0,1,1))","v":"2024-04-01T04:00:00"},{"$f":"IF(A104>$A$8,\"\",OFFSET(InputPriceData!G$15,CalculationsAndCharts!$A104+$A$11,IF($C$5,8,0),1,1))","v":1125234},{"$f":"IF(A104>$A$8,\"\",OFFSET(InputPriceData!C$15,CalculationsAndCharts!$A104+$A$11,IF($C$5,8,0),1,1))","v":5314.25},{"$f":"IF(A104>$A$8,\"\",OFFSET(InputPriceData!D$15,CalculationsAndCharts!$A104+$A$11,IF($C$5,8,0),1,1))","v":5333.5},{"$f":"IF(A104>$A$8,\"\",OFFSET(InputPriceData!E$15,CalculationsAndCharts!$A104+$A$11,IF($C$5,8,0),1,1))","v":5282.25},{"$f":"IF(A104>$A$8,\"\",OFFSET(InputPriceData!F$15,CalculationsAndCharts!$A104+$A$11,IF($C$5,8,0),1,1))","v":5295.25},0,13.25,{"$f":"IF($A104>$J$30,NA(),AVERAGE(H104:H107))","v":10.8125},6.5625,null,null,{"$f":"IF($A104>$J$30,NA(),IF($A104>$N$30,0,(1-$M$35)*J104+(2*$M$35-$M$36)*J105-($M$35+$M$37)*J106+$M$36*N105+$M$37*N106))","v":20.688873414656989},10.582911824451692,0.32316548329216332,0.33388660804300407,null,null,15.217302797266715,6.5551580850692748,0.39784867493894743,0.50027745134448132,null,null,null,null,null,null,null,null,null,null,null,null,null,null,null,null,null,null,null,null,null,null,null,null,null,null,null,null,null,null,null,{"$error":"#N/A"},1125234]
[73,{"$f":"IF(A105>$A$8,\"\",OFFSET(InputPriceData!B$15,$A105+$A$11,0,1,1))","v":"2024-03-28T04:00:00"},{"$f":"IF(A105>$A$8,\"\",OFFSET(InputPriceData!G$15,CalculationsAndCharts!$A105+$A$11,IF($C$5,8,0),1,1))","v":1317836},{"$f":"IF(A105>$A$8,\"\",OFFSET(InputPriceData!C$15,CalculationsAndCharts!$A105+$A$11,IF($C$5,8,0),1,1))","v":5308},{"$f":"IF(A105>$A$8,\"\",OFFSET(InputPriceData!D$15,CalculationsAndCharts!$A105+$A$11,IF($C$5,8,0),1,1))","v":5321},{"$f":"IF(A105>$A$8,\"\",OFFSET(InputPriceData!E$15,CalculationsAndCharts!$A105+$A$11,IF($C$5,8,0),1,1))","v":5301},{"$f":"IF(A105>$A$8,\"\",OFFSET(InputPriceData!F$15,CalculationsAndCharts!$A105+$A$11,IF($C$5,8,0),1,1))","v":5308.5},0.25,0,{"$f":"IF($A105>$J$30,NA(),AVERAGE(H105:H108))","v":10.8125},7,null,null,{"$f":"IF($A105>$J$30,NA(),IF($A105>$N$30,0,(1-$M$35)*J105+(2*$M$35-$M$36)*J106-($M$35+$M$37)*J107+$M$36*N106+$M$37*N107))","v":21.433949061662812},10.886443025032415,0.32634214363297603,0.35017741329682561,null,null,18.287342482572708,7.0981879042703788,0.44076898956980187,0.5816091921780896,null,null,null,null,null,null,null,null,null,null,null,null,null,null,null,null,null,null,null,null,null,null,null,null,null,null,null,null,null,null,null,1317836,{"$error":"#N/A"}]
[74,{"$f":"IF(A106>$A$8,\"\",OFFSET(InputPriceData!B$15,$A106+$A$11,0,1,1))","v":"2024-03-27T04:00:00"},{"$f":"IF(A106>$A$8,\"\",OFFSET(InputPriceData!G$15,CalculationsAndCharts!$A106+$A$11,IF($C$5,8,0),1,1))","v":1487671},{"$f":"IF(A106>$A$8,\"\",OFFSET(InputPriceData!C$15,CalculationsAndCharts!$A106+$A$11,IF($C$5,8,0),1,1))","v":5273.25},{"$f":"IF(A106>$A$8,\"\",OFFSET(InputPriceData!D$15,CalculationsAndCharts!$A106+$A$11,IF($C$5,8,0),1,1))","v":5313.75},{"$f":"IF(A106>$A$8,\"\",OFFSET(InputPriceData!E$15,CalculationsAndCharts!$A106+$A$11,IF($C$5,8,0),1,1))","v":5270.75},{"$f":"IF(A106>$A$8,\"\",OFFSET(InputPriceData!F$15,CalculationsAndCharts!$A106+$A$11,IF($C$5,8,0),1,1))","v":5308.25},43,0,{"$f":"IF($A106>$J$30,NA(),AVERAGE(H106:H109))","v":10.75},9.3125,null,null,{"$f":"IF($A106>$J$30,NA(),IF($A106>$N$30,0,(1-$M$35)*J106+(2*$M$35-$M$36)*J107-($M$35+$M$37)*J108+$M$36*N107+$M$37*N108))","v":22.208294406488459},11.090329738289626,0.33388660804300407,0.35767365829669956,null,null,22.073553291943067,7.3524082489195761,0.50027745134448132,0.61509311050460458,null,null,null,null,null,null,null,null,null,null,null,null,null,null,null,null,null,null,null,null,null,null,null,null,null,null,null,null,null,null,null,1487671,{"$error":"#N/A"}]
[75,{"$f":"IF(A107>$A$8,\"\",OFFSET(InputPriceData!B$15,$A107+$A$11,0,1,1))","v":"2024-03-26T04:00:00"},{"$f":"IF(A107>$A$8,\"\",OFFSET(InputPriceData!G$15,CalculationsAndCharts!$A107+$A$11,IF($C$5,8,0),1,1))","v":1092706},{"$f":"IF(A107>$A$8,\"\",OFFSET(InputPriceData!C$15,CalculationsAndCharts!$A107+$A$11,IF($C$5,8,0),1,1))","v":5280.75},{"$f":"IF(A107>$A$8,\"\",OFFSET(InputPriceData!D$15,CalculationsAndCharts!$A107+$A$11,IF($C$5,8,0),1,1))","v":5300.5},{"$f":"IF(A107>$A$8,\"\",OFFSET(InputPriceData!E$15,CalculationsAndCharts!$A107+$A$11,IF($C$5,8,0),1,1))","v":5263},{"$f":"IF(A107>$A$8,\"\",OFFSET(InputPriceData!F$15,CalculationsAndCharts!$A107+$A$11,IF($C$5,8,0),1,1))","v":5265.25},0,13,{"$f":"IF($A107>$J$30,NA(),AVERAGE(H107:H110))","v":3.9375},9.3125,null,null,{"$f":"IF($A107>$J$30,NA(),IF($A107>$N$30,0,(1-$M$35)*J107+(2*$M$35-$M$36)*J108-($M$35+$M$37)*J109+$M$36*N108+$M$37*N109))","v":23.287320941019939},11.207880521664297,0.35017741329682561,0.34159183906881885,null,null,27.789625791907142,7.3513254991473458,0.5816091921780896,0.57213169536211117,null,null,null,null,null,null,null,null,null,null,null,null,null,null,null,null,null,null,null,null,null,null,null,null,null,null,null,null,null,null,null,{"$error":"#N/A"},1092706]
[76,{"$f":"IF(A108>$A$8,\"\",OFFSET(InputPriceData!B$15,$A108+$A$11,0,1,1))","v":"2024-03-25T04:00:00"},{"$f":"IF(A108>$A$8,\"\",OFFSET(InputPriceData!G$15,CalculationsAndCharts!$A108+$A$11,IF($C$5,8,0),1,1))","v":920608},{"$f":"IF(A108>$A$8,\"\",OFFSET(InputPriceData!C$15,CalculationsAndCharts!$A108+$A$11,IF($C$5,8,0),1,1))","v":5290.5},{"$f":"IF(A108>$A$8,\"\",OFFSET(InputPriceData!D$15,CalculationsAndCharts!$A108+$A$11,IF($C$5,8,0),1,1))","v":5295},{"$f":"IF(A108>$A$8,\"\",OFFSET(InputPriceData!E$15,CalculationsAndCharts!$A108+$A$11,IF($C$5,8,0),1,1))","v":5272.5},{"$f":"IF(A108>$A$8,\"\",OFFSET(InputPriceData!F$15,CalculationsAndCharts!$A108+$A$11,IF($C$5,8,0),1,1))","v":5278.25},0,15,{"$f":"IF($A108>$J$30,NA(),AVERAGE(H108:H111))","v":15.1875},6.0625,null,null,{"$f":"IF($A108>$J$30,NA(),IF($A108>$N$30,0,(1-$M$35)*J108+(2*$M$35-$M$36)*J109-($M$35+$M$37)*J110+$M$36*N109+$M$37*N110))","v":24.223695744610623},11.460425541208553,0.35767365829669956,0.29001753934289926,null,null,33.670899066133764,8.024404872861977,0.61509311050460458,0.4367448551053304,null,null,null,null,null,null,null,null,null,null,null,null,null,null,null,null,null,null,null,null,null,null,null,null,null,null,null,null,null,null,null,{"$error":"#N/A"},920608]
[77,{"$f":"IF(A109>$A$8,\"\",OFFSET(InputPriceData!B$15,$A109+$A$11,0,1,1))","v":"2024-03-22T04:00:00"},{"$f":"IF(A109>$A$8,\"\",OFFSET(InputPriceData!G$15,CalculationsAndCharts!$A109+$A$11,IF($C$5,8,0),1,1))","v":1162606},{"$f":"IF(A109>$A$8,\"\",OFFSET(InputPriceData!C$15,CalculationsAndCharts!$A109+$A$11,IF($C$5,8,0),1,1))","v":5306.75},{"$f":"IF(A109>$A$8,\"\",OFFSET(InputPriceData!D$15,CalculationsAndCharts!$A109+$A$11,IF($C$5,8,0),1,1))","v":5311.75},{"$f":"IF(A109>$A$8,\"\",OFFSET(InputPriceData!E$15,CalculationsAndCharts!$A109+$A$11,IF($C$5,8,0),1,1))","v":5287.75},{"$f":"IF(A109>$A$8,\"\",OFFSET(InputPriceData!F$15,CalculationsAndCharts!$A109+$A$11,IF($C$5,8,0),1,1))","v":5293.25},0,9.25,{"$f":"IF($A109>$J$30,NA(),AVERAGE(H109:H112))","v":21.9375},2.3125,null,null,{"$f":"IF($A109>$J$30,NA(),IF($A109>$N$30,0,(1-$M$35)*J109+(2*$M$35-$M$36)*J110-($M$35+$M$37)*J111+$M$36*N110+$M$37*N111))","v":24.461104173168444},12.004687375096449,0.34159183906881885,0.22884272042148165,null,null,37.230795772398992,10.132660968829766,0.57213169536211117,0.26767118355124636,null,null,null,null,null,null,null,null,null,null,null,null,null,null,null,null,null,null,null,null,null,null,null,null,null,null,null,null,null,null,null,{"$f":"IF(G109>=G110,C109,NA())","v":{"$error":"#N/A"}},{"$f":"IF(G109<G110,C109,NA())","v":1162606}]
[78,{"$f":"IF(A110>$A$8,\"\",OFFSET(InputPriceData!B$15,$A110+$A$11,0,1,1))","v":"2024-03-21T04:00:00"},{"$f":"IF(A110>$A$8,\"\",OFFSET(InputPriceData!G$15,CalculationsAndCharts!$A110+$A$11,IF($C$5,8,0),1,1))","v":1326994},{"$f":"IF(A110>$A$8,\"\",OFFSET(InputPriceData!C$15,CalculationsAndCharts!$A110+$A$11,IF($C$5,8,0),1,1))","v":5294.75},{"$f":"IF(A110>$A$8,\"\",OFFSET(InputPriceData!D$15,CalculationsAndCharts!$A110+$A$11,IF($C$5,8,0),1,1))","v":5322.75},{"$f":"IF(A110>$A$8,\"\",OFFSET(InputPriceData!E$15,CalculationsAndCharts!$A110+$A$11,IF($C$5,8,0),1,1))","v":5293.5},{"$f":"IF(A110>$A$8,\"\",OFFSET(InputPriceData!F$15,CalculationsAndCharts!$A110+$A$11,IF($C$5,8,0),1,1))","v":5302.5},15.75,0,{"$f":"IF($A110>$J$30,NA(),AVERAGE(H110:H113))","v":50.207499999999982},0,null,null,{"$f":"IF($A110>$J$30,NA(),IF($A110>$N$30,0,(1-$M$35)*J110+(2*$M$35-$M$36)*J111-($M$35+$M$37)*J112+$M$36*N111+$M$37*N112))","v":23.281901397705859},12.813578993305015,0.29001753934289926,0.19801596177902389,null,null,34.996671091361868,13.719941280006184,0.4367448551053304,0.15635165603191473,null,null,null,null,null,null,null,null,null,null,null,null,null,null,null,null,null,null,null,null,null,null,null,null,null,null,null,null,null,null,null,1326994,{"$error":"#N/A"}]
[79,{"$f":"IF(A111>$A$8,\"\",OFFSET(InputPriceData!B$15,$A111+$A$11,0,1,1))","v":"2024-03-20T04:00:00"},{"$f":"IF(A111>$A$8,\"\",OFFSET(InputPriceData!G$15,CalculationsAndCharts!$A111+$A$11,IF($C$5,8,0),1,1))","v":1404974},{"$f":"IF(A111>$A$8,\"\",OFFSET(InputPriceData!C$15,CalculationsAndCharts!$A111+$A$11,IF($C$5,8,0),1,1))","v":5239.75},{"$f":"IF(A111>$A$8,\"\",OFFSET(InputPriceData!D$15,CalculationsAndCharts!$A111+$A$11,IF($C$5,8,0),1,1))","v":5297.75},{"$f":"IF(A111>$A$8,\"\",OFFSET(InputPriceData!E$15,CalculationsAndCharts!$A111+$A$11,IF($C$5,8,0),1,1))","v":5233},{"$f":"IF(A111>$A$8,\"\",OFFSET(InputPriceData!F$15,CalculationsAndCharts!$A111+$A$11,IF($C$5,8,0),1,1))","v":5286.75},45,0,{"$f":"IF($A111>$J$30,NA(),AVERAGE(H111:H114))","v":46.269999999999982},13.019999999999982,null,null,{"$f":"IF($A111>$J$30,NA(),IF($A111>$N$30,0,(1-$M$35)*J111+(2*$M$35-$M$36)*J112-($M$35+$M$37)*J113+$M$36*N112+$M$37*N113))","v":21.062730953463895},13.217865909639258,0.22884272042148165,0.19065640468936676,null,null,27.80756180645799,16.06432258639861,0.26767118355124636,9.6832083956620629E-2,null,null,null,null,null,null,null,null,null,null,null,null,null,null,null,null,null,null,null,null,null,null,null,null,null,null,null,null,null,null,null,1404974,{"$error":"#N/A"}]
[80,{"$f":"IF(A112>$A$8,\"\",OFFSET(InputPriceData!B$15,$A112+$A$11,0,1,1))","v":"2024-03-19T04:00:00"},{"$f":"IF(A112>$A$8,\"\",OFFSET(InputPriceData!G$15,CalculationsAndCharts!$A112+$A$11,IF($C$5,8,0),1,1))","v":1440289},{"$f":"IF(A112>$A$8,\"\",OFFSET(InputPriceData!C$15,CalculationsAndCharts!$A112+$A$11,IF($C$5,8,0),1,1))","v":5215.25},{"$f":"IF(A112>$A$8,\"\",OFFSET(InputPriceData!D$15,CalculationsAndCharts!$A112+$A$11,IF($C$5,8,0),1,1))","v":5244.75},{"$f":"IF(A112>$A$8,\"\",OFFSET(InputPriceData!E$15,CalculationsAndCharts!$A112+$A$11,IF($C$5,8,0),1,1))","v":5186},{"$f":"IF(A112>$A$8,\"\",OFFSET(InputPriceData!F$15,CalculationsAndCharts!$A112+$A$11,IF($C$5,8,0),1,1))","v":5241.75},27,0,{"$f":"IF($A112>$J$30,NA(),AVERAGE(H112:H115))","v":35.019999999999982},16.582499999999982,null,null,{"$f":"IF($A112>$J$30,NA(),IF($A112>$N$30,0,(1-$M$35)*J112+(2*$M$35-$M$36)*J113-($M$35+$M$37)*J114+$M$36*N113+$M$37*N114))","v":19.363798644898331},12.962646515554409,0.19801596177902389,0.20973729004769875,null,null,21.750890909893826,15.868964255157302,0.15635165603191473,0.13931653306839809,null,null,null,null,null,null,null,null,null,null,null,null,null,null,null,null,null,null,null,null,null,null,null,null,null,null,null,null,null,null,null,1440289,{"$error":"#N/A"}]
[81,{"$f":"IF(A113>$A$8,\"\",OFFSET(InputPriceData!B$15,$A113+$A$11,0,1,1))","v":"2024-03-18T04:00:00"},{"$f":"IF(A113>$A$8,\"\",OFFSET(InputPriceData!G$15,CalculationsAndCharts!$A113+$A$11,IF($C$5,8,0),1,1))","v":1377276},{"$f":"IF(A113>$A$8,\"\",OFFSET(InputPriceData!C$15,CalculationsAndCharts!$A113+$A$11,IF($C$5,8,0),1,1))","v":5185.75},{"$f":"IF(A113>$A$8,\"\",OFFSET(InputPriceData!D$15,CalculationsAndCharts!$A113+$A$11,IF($C$5,8,0),1,1))","v":5240.25},{"$f":"IF(A113>$A$8,\"\",OFFSET(InputPriceData!E$15,CalculationsAndCharts!$A113+$A$11,IF($C$5,8,0),1,1))","v":5181.75},{"$f":"IF(A113>$A$8,\"\",OFFSET(InputPriceData!F$15,CalculationsAndCharts!$A113+$A$11,IF($C$5,8,0),1,1))","v":5214.75},113.07999999999993,0,{"$f":"IF($A113>$J$30,NA(),AVERAGE(H113:H116))","v":28.269999999999982},18.894999999999982,null,null,{"$f":"IF($A113>$J$30,NA(),IF($A113>$N$30,0,(1-$M$35)*J113+(2*$M$35-$M$36)*J114-($M$35+$M$37)*J115+$M$36*N114+$M$37*N115))","v":18.322549622990724},12.454674689292615,0.19065640468936676,0.22704992716902947,null,null,17.642483980394609,14.527406449419557,9.6832083956620629E-2,0.19267676254777458,null,null,null,null,null,null,null,null,null,null,null,null,null,null,null,null,null,null,null,null,null,null,null,null,null,null,null,null,null,null,null,1377276,{"$error":"#N/A"}]
[82,{"$f":"IF(A114>$A$8,\"\",OFFSET(InputPriceData!B$15,$A114+$A$11,0,1,1))","v":"2024-03-15T04:00:00"},{"$f":"IF(A114>$A$8,\"\",OFFSET(InputPriceData!G$15,CalculationsAndCharts!$A114+$A$11,IF($C$5,8,0),1,1))","v":1927775},{"$f":"IF(A114>$A$8,\"\",OFFSET(InputPriceData!C$15,CalculationsAndCharts!$A114+$A$11,IF($C$5,8,0),1,1))","v":5152.25},{"$f":"IF(A114>$A$8,\"\",OFFSET(InputPriceData!D$15,CalculationsAndCharts!$A114+$A$11,IF($C$5,8,0),1,1))","v":5167},{"$f":"IF(A114>$A$8,\"\",OFFSET(InputPriceData!E$15,CalculationsAndCharts!$A114+$A$11,IF($C$5,8,0),1,1))","v":5101.67},{"$f":"IF(A114>$A$8,\"\",OFFSET(InputPriceData!F$15,CalculationsAndCharts!$A114+$A$11,IF($C$5,8,0),1,1))","v":5101.67},0,52.079999999999927,{"$f":"IF($A114>$J$30,NA(),AVERAGE(H114:H117))","v":13.5625},18.894999999999982,null,null,{"$f":"IF($A114>$J$30,NA(),IF($A114>$N$30,0,(1-$M$35)*J114+(2*$M$35-$M$36)*J115-($M$35+$M$37)*J116+$M$36*N115+$M$37*N116))","v":18.107116192938836},11.828500972710229,0.20973729004769875,0.23359914927033987,null,null,16.515823206927788,12.476687175498606,0.13931653306839809,0.20624882622940502,null,null,null,null,null,null,null,null,null,null,null,null,null,null,null,null,null,null,null,null,null,null,null,null,null,null,null,null,null,null,null,{"$error":"#N/A"},1927775]
[83,{"$f":"IF(A115>$A$8,\"\",OFFSET(InputPriceData!B$15,$A115+$A$11,0,1,1))","v":"2024-03-14T04:00:00"},{"$f":"IF(A115>$A$8,\"\",OFFSET(InputPriceData!G$15,CalculationsAndCharts!$A115+$A$11,IF($C$5,8,0),1,1))","v":476074},{"$f":"IF(A115>$A$8,\"\",OFFSET(InputPriceData!C$15,CalculationsAndCharts!$A115+$A$11,IF($C$5,8,0),1,1))","v":5171.5},{"$f":"IF(A115>$A$8,\"\",OFFSET(InputPriceData!D$15,CalculationsAndCharts!$A115+$A$11,IF($C$5,8,0),1,1))","v":5189.5},{"$f":"IF(A115>$A$8,\"\",OFFSET(InputPriceData!E$15,CalculationsAndCharts!$A115+$A$11,IF($C$5,8,0),1,1))","v":5124.25},{"$f":"IF(A115>$A$8,\"\",OFFSET(InputPriceData!F$15,CalculationsAndCharts!$A115+$A$11,IF($C$5,8,0),1,1))","v":5153.75},0,14.25,{"$f":"IF($A115>$J$30,NA(),AVERAGE(H115:H118))","v":13.5625},7.375,null,null,{"$f":"IF($A115>$J$30,NA(),IF($A115>$N$30,0,(1-$M$35)*J115+(2*$M$35-$M$36)*J116-($M$35+$M$37)*J117+$M$36*N116+$M$37*N117))","v":18.478155379639414},11.639861777610289,0.22704992716902947,0.23150661674168344,null,null,17.757141242086988,12.019813922453157,0.19267676254777458,0.18332741046613577,null,null,null,null,null,null,null,null,null,null,null,null,null,null,null,null,null,null,null,null,null,null,null,null,null,null,null,null,null,null,null,{"$error":"#N/A"},476074]
[84,{"$f":"IF(A116>$A$8,\"\",OFFSET(InputPriceData!B$15,$A116+$A$11,0,1,1))","v":"2024-03-13T04:00:00"},{"$f":"IF(A116>$A$8,\"\",OFFSET(InputPriceData!G$15,CalculationsAndCharts!$A116+$A$11,IF($C$5,8,0),1,1))","v":540170},{"$f":"IF(A116>$A$8,\"\",OFFSET(InputPriceData!C$15,CalculationsAndCharts!$A116+$A$11,IF($C$5,8,0),1,1))","v":5176},{"$f":"IF(A116>$A$8,\"\",OFFSET(InputPriceData!D$15,CalculationsAndCharts!$A116+$A$11,IF($C$5,8,0),1,1))","v":5183.75},{"$f":"IF(A116>$A$8,\"\",OFFSET(InputPriceData!E$15,CalculationsAndCharts!$A116+$A$11,IF($C$5,8,0),1,1))","v":5153},{"$f":"IF(A116>$A$8,\"\",OFFSET(InputPriceData!F$15,CalculationsAndCharts!$A116+$A$11,IF($C$5,8,0),1,1))","v":5168},0,9.25,{"$f":"IF($A116>$J$30,NA(),AVERAGE(H116:H119))","v":13.5625},12,null,null,{"$f":"IF($A116>$J$30,NA(),IF($A116>$N$30,0,(1-$M$35)*J116+(2*$M$35-$M$36)*J117-($M$35+$M$37)*J118+$M$36*N117+$M$37*N118))","v":18.863734600232078},11.71951379352657,0.23359914927033987,0.22000493351130052,null,null,19.214524610695786,12.643785537067306,0.20624882622940502,0.11709882206906085,null,null,null,null,null,null,null,null,null,null,null,null,null,null,null,null,null,null,null,null,null,null,null,null,null,null,null,null,null,null,null,{"$error":"#N/A"},540170]
[85,{"$f":"IF(A117>$A$8,\"\",OFFSET(InputPriceData!B$15,$A117+$A$11,0,1,1))","v":"2024-03-12T04:00:00"},{"$f":"IF(A117>$A$8,\"\",OFFSET(InputPriceData!G$15,CalculationsAndCharts!$A117+$A$11,IF($C$5,8,0),1,1))","v":1211911},{"$f":"IF(A117>$A$8,\"\",OFFSET(InputPriceData!C$15,CalculationsAndCharts!$A117+$A$11,IF($C$5,8,0),1,1))","v":5129},{"$f":"IF(A117>$A$8,\"\",OFFSET(InputPriceData!D$15,CalculationsAndCharts!$A117+$A$11,IF($C$5,8,0),1,1))","v":5183},{"$f":"IF(A117>$A$8,\"\",OFFSET(InputPriceData!E$15,CalculationsAndCharts!$A117+$A$11,IF($C$5,8,0),1,1))","v":5112.75},{"$f":"IF(A117>$A$8,\"\",OFFSET(InputPriceData!F$15,CalculationsAndCharts!$A117+$A$11,IF($C$5,8,0),1,1))","v":5177.25},54.25,0,{"$f":"IF($A117>$J$30,NA(),AVERAGE(H117:H120))","v":26.0625},9.6875,null,null,{"$f":"IF($A117>$J$30,NA(),IF($A117>$N$30,0,(1-$M$35)*J117+(2*$M$35-$M$36)*J118-($M$35+$M$37)*J119+$M$36*N118+$M$37*N119))","v":18.758044783394759},11.705526468905514,0.23150661674168344,0.23466650405559161,null,null,18.733188128352623,12.928696761093578,0.18332741046613577,0.15033044835297565,null,null,null,null,null,null,null,null,null,null,null,null,null,null,null,null,null,null,null,null,null,null,null,null,null,null,null,null,null,null,null,1211911,{"$error":"#N/A"}]
[86,{"$f":"IF(A118>$A$8,\"\",OFFSET(InputPriceData!B$15,$A118+$A$11,0,1,1))","v":"2024-03-11T04:00:00"},{"$f":"IF(A118>$A$8,\"\",OFFSET(InputPriceData!G$15,CalculationsAndCharts!$A118+$A$11,IF($C$5,8,0),1,1))","v":1840000},{"$f":"IF(A118>$A$8,\"\",OFFSET(InputPriceData!C$15,CalculationsAndCharts!$A118+$A$11,IF($C$5,8,0),1,1))","v":5132.5},{"$f":"IF(A118>$A$8,\"\",OFFSET(InputPriceData!D$15,CalculationsAndCharts!$A118+$A$11,IF($C$5,8,0),1,1))","v":5133.25},{"$f":"IF(A118>$A$8,\"\",OFFSET(InputPriceData!E$15,CalculationsAndCharts!$A118+$A$11,IF($C$5,8,0),1,1))","v":5094.75},{"$f":"IF(A118>$A$8,\"\",OFFSET(InputPriceData!F$15,CalculationsAndCharts!$A118+$A$11,IF($C$5,8,0),1,1))","v":5123},0,6,{"$f":"IF($A118>$J$30,NA(),AVERAGE(H118:H121))","v":19},9.6875,null,null,{"$f":"IF($A118>$J$30,NA(),IF($A118>$N$30,0,(1-$M$35)*J118+(2*$M$35-$M$36)*J119-($M$35+$M$37)*J120+$M$36*N119+$M$37*N120))","v":18.427081358952346},11.781126579875078,0.22000493351130052,0.25988768592293576,null,null,17.200759092123235,13.594652651780397,0.11709882206906085,0.24246968371216776,null,null,null,null,null,null,null,null,null,null,null,null,null,null,null,null,null,null,null,null,null,null,null,null,null,null,null,null,null,null,null,{"$error":"#N/A"},1840000]
[87,{"$f":"IF(A119>$A$8,\"\",OFFSET(InputPriceData!B$15,$A119+$A$11,0,1,1))","v":"2024-03-08T05:00:00"},{"$f":"IF(A119>$A$8,\"\",OFFSET(InputPriceData!G$15,CalculationsAndCharts!$A119+$A$11,IF($C$5,8,0),1,1))","v":2786680},{"$f":"IF(A119>$A$8,\"\",OFFSET(InputPriceData!C$15,CalculationsAndCharts!$A119+$A$11,IF($C$5,8,0),1,1))","v":5159.25},{"$f":"IF(A119>$A$8,\"\",OFFSET(InputPriceData!D$15,CalculationsAndCharts!$A119+$A$11,IF($C$5,8,0),1,1))","v":5193},{"$f":"IF(A119>$A$8,\"\",OFFSET(InputPriceData!E$15,CalculationsAndCharts!$A119+$A$11,IF($C$5,8,0),1,1))","v":5121.75},{"$f":"IF(A119>$A$8,\"\",OFFSET(InputPriceData!F$15,CalculationsAndCharts!$A119+$A$11,IF($C$5,8,0),1,1))","v":5129},0,32.75,{"$f":"IF($A119>$J$30,NA(),AVERAGE(H119:H122))","v":19},21.3125,null,null,{"$f":"IF($A119>$J$30,NA(),IF($A119>$N$30,0,(1-$M$35)*J119+(2*$M$35-$M$36)*J120-($M$35+$M$37)*J121+$M$36*N120+$M$37*N121))","v":18.367977160459706},11.385769458769346,0.23466650405559161,0.27812587186500987,null,null,16.62503002101765,12.27975998053555,0.15033044835297565,0.33175744788924788,null,null,null,null,null,null,null,null,null,null,null,null,null,null,null,null,null,null,null,null,null,null,null,null,null,null,null,null,null,null,null,{"$error":"#N/A"},2786680]
[88,{"$f":"IF(A120>$A$8,\"\",OFFSET(InputPriceData!B$15,$A120+$A$11,0,1,1))","v":"2024-03-07T05:00:00"},{"$f":"IF(A120>$A$8,\"\",OFFSET(InputPriceData!G$15,CalculationsAndCharts!$A120+$A$11,IF($C$5,8,0),1,1))","v":1791666},{"$f":"IF(A120>$A$8,\"\",OFFSET(InputPriceData!C$15,CalculationsAndCharts!$A120+$A$11,IF($C$5,8,0),1,1))","v":5114.25},{"$f":"IF(A120>$A$8,\"\",OFFSET(InputPriceData!D$15,CalculationsAndCharts!$A120+$A$11,IF($C$5,8,0),1,1))","v":5170.5},{"$f":"IF(A120>$A$8,\"\",OFFSET(InputPriceData!E$15,CalculationsAndCharts!$A120+$A$11,IF($C$5,8,0),1,1))","v":5086.5},{"$f":"IF(A120>$A$8,\"\",OFFSET(InputPriceData!F$15,CalculationsAndCharts!$A120+$A$11,IF($C$5,8,0),1,1))","v":5161.75},50,0,{"$f":"IF($A120>$J$30,NA(),AVERAGE(H120:H123))","v":19},15.0625,null,null,{"$f":"IF($A120>$J$30,NA(),IF($A120>$N$30,0,(1-$M$35)*J120+(2*$M$35-$M$36)*J121-($M$35+$M$37)*J122+$M$36*N121+$M$37*N122))","v":18.306062488983049},10.753769896905967,0.25988768592293576,0.30046423335764921,null,null,15.974425719672693,9.7395630063063159,0.24246968371216776,0.47241648405908016,null,null,null,null,null,null,null,null,null,null,null,null,null,null,null,null,null,null,null,null,null,null,null,null,null,null,null,null,null,null,null,1791666,{"$error":"#N/A"}]
[89,{"$f":"IF(A121>$A$8,\"\",OFFSET(InputPriceData!B$15,$A121+$A$11,0,1,1))","v":"2024-03-06T05:00:00"},{"$f":"IF(A121>$A$8,\"\",OFFSET(InputPriceData!G$15,CalculationsAndCharts!$A121+$A$11,IF($C$5,8,0),1,1))","v":1996223},{"$f":"IF(A121>$A$8,\"\",OFFSET(InputPriceData!C$15,CalculationsAndCharts!$A121+$A$11,IF($C$5,8,0),1,1))","v":5091},{"$f":"IF(A121>$A$8,\"\",OFFSET(InputPriceData!D$15,CalculationsAndCharts!$A121+$A$11,IF($C$5,8,0),1,1))","v":5134.5},{"$f":"IF(A121>$A$8,\"\",OFFSET(InputPriceData!E$15,CalculationsAndCharts!$A121+$A$11,IF($C$5,8,0),1,1))","v":5083.75},{"$f":"IF(A121>$A$8,\"\",OFFSET(InputPriceData!F$15,CalculationsAndCharts!$A121+$A$11,IF($C$5,8,0),1,1))","v":5111.75},26,0,{"$f":"IF($A121>$J$30,NA(),AVERAGE(H121:H124))","v":17.0625},15.0625,null,null,{"$f":"IF($A121>$J$30,NA(),IF($A121>$N$30,0,(1-$M$35)*J121+(2*$M$35-$M$36)*J122-($M$35+$M$37)*J123+$M$36*N122+$M$37*N123))","v":18.319698823638269},10.346803008308243,0.27812587186500987,0.30460227795043304,null,null,15.592539748929342,7.8239461489232145,0.33175744788924788,0.52253349343259248,null,null,null,null,null,null,null,null,null,null,null,null,null,null,null,null,null,null,null,null,null,null,null,null,null,null,null,null,null,null,null,1996223,{"$error":"#N/A"}]
[90,{"$f":"IF(A122>$A$8,\"\",OFFSET(InputPriceData!B$15,$A122+$A$11,0,1,1))","v":"2024-03-05T05:00:00"},{"$f":"IF(A122>$A$8,\"\",OFFSET(InputPriceData!G$15,CalculationsAndCharts!$A122+$A$11,IF($C$5,8,0),1,1))","v":1885769},{"$f":"IF(A122>$A$8,\"\",OFFSET(InputPriceData!C$15,CalculationsAndCharts!$A122+$A$11,IF($C$5,8,0),1,1))","v":5133.75},{"$f":"IF(A122>$A$8,\"\",OFFSET(InputPriceData!D$15,CalculationsAndCharts!$A122+$A$11,IF($C$5,8,0),1,1))","v":5135.5},{"$f":"IF(A122>$A$8,\"\",OFFSET(InputPriceData!E$15,CalculationsAndCharts!$A122+$A$11,IF($C$5,8,0),1,1))","v":5063},{"$f":"IF(A122>$A$8,\"\",OFFSET(InputPriceData!F$15,CalculationsAndCharts!$A122+$A$11,IF($C$5,8,0),1,1))","v":5085.75},0,52.5,{"$f":"IF($A122>$J$30,NA(),AVERAGE(H122:H125))","v":16.25},15.0625,null,null,{"$f":"IF($A122>$J$30,NA(),IF($A122>$N$30,0,(1-$M$35)*J122+(2*$M$35-$M$36)*J123-($M$35+$M$37)*J124+$M$36*N123+$M$37*N124))","v":18.444781066423936},9.9216754547241006,0.30046423335764921,0.28323701959077768,null,null,15.684810587023687,5.6200454191854101,0.47241648405908016,0.41271830455679354,null,null,null,null,null,null,null,null,null,null,null,null,null,null,null,null,null,null,null,null,null,null,null,null,null,null,null,null,null,null,null,{"$error":"#N/A"},1885769]
[91,{"$f":"IF(A123>$A$8,\"\",OFFSET(InputPriceData!B$15,$A123+$A$11,0,1,1))","v":"2024-03-04T05:00:00"},{"$f":"IF(A123>$A$8,\"\",OFFSET(InputPriceData!G$15,CalculationsAndCharts!$A123+$A$11,IF($C$5,8,0),1,1))","v":1208040},{"$f":"IF(A123>$A$8,\"\",OFFSET(InputPriceData!C$15,CalculationsAndCharts!$A123+$A$11,IF($C$5,8,0),1,1))","v":5142},{"$f":"IF(A123>$A$8,\"\",OFFSET(InputPriceData!D$15,CalculationsAndCharts!$A123+$A$11,IF($C$5,8,0),1,1))","v":5157.75},{"$f":"IF(A123>$A$8,\"\",OFFSET(InputPriceData!E$15,CalculationsAndCharts!$A123+$A$11,IF($C$5,8,0),1,1))","v":5132},{"$f":"IF(A123>$A$8,\"\",OFFSET(InputPriceData!F$15,CalculationsAndCharts!$A123+$A$11,IF($C$5,8,0),1,1))","v":5138.25},0,7.75,{"$f":"IF($A123>$J$30,NA(),AVERAGE(H123:H126))","v":16.25},4.1875,null,null,{"$f":"IF($A123>$J$30,NA(),IF($A123>$N$30,0,(1-$M$35)*J123+(2*$M$35-$M$36)*J124-($M$35+$M$37)*J125+$M$36*N124+$M$37*N125))","v":18.607208380483417},9.9182797241608061,0.30460227795043304,0.27583190737285362,null,null,16.008563550160417,5.0202855611569062,0.52253349343259248,0.36632098309272854,null,null,null,null,null,null,null,null,null,null,null,null,null,null,null,null,null,null,null,null,null,null,null,null,null,null,null,null,null,null,null,{"$error":"#N/A"},1208040]
[92,{"$f":"IF(A124>$A$8,\"\",OFFSET(InputPriceData!B$15,$A124+$A$11,0,1,1))","v":"2024-03-01T05:00:00"},{"$f":"IF(A124>$A$8,\"\",OFFSET(InputPriceData!G$15,CalculationsAndCharts!$A124+$A$11,IF($C$5,8,0),1,1))","v":1597331},{"$f":"IF(A124>$A$8,\"\",OFFSET(InputPriceData!C$15,CalculationsAndCharts!$A124+$A$11,IF($C$5,8,0),1,1))","v":5101.5},{"$f":"IF(A124>$A$8,\"\",OFFSET(InputPriceData!D$15,CalculationsAndCharts!$A124+$A$11,IF($C$5,8,0),1,1))","v":5149.25},{"$f":"IF(A124>$A$8,\"\",OFFSET(InputPriceData!E$15,CalculationsAndCharts!$A124+$A$11,IF($C$5,8,0),1,1))","v":5089.25},{"$f":"IF(A124>$A$8,\"\",OFFSET(InputPriceData!F$15,CalculationsAndCharts!$A124+$A$11,IF($C$5,8,0),1,1))","v":5146},42.25,0,{"$f":"IF($A124>$J$30,NA(),AVERAGE(H124:H127))","v":18.6875},2.25,null,null,{"$f":"IF($A124>$J$30,NA(),IF($A124>$N$30,0,(1-$M$35)*J124+(2*$M$35-$M$36)*J125-($M$35+$M$37)*J126+$M$36*N125+$M$37*N126))","v":18.676707968543692},10.432034506014384,0.28323701959077768,0.29191839276619019,null,null,16.0483040698069,6.6714469492636299,0.41271830455679354,0.41684453613371086,null,null,null,null,null,null,null,null,null,null,null,null,null,null,null,null,null,null,null,null,null,null,null,null,null,null,null,null,null,null,null,1597331,{"$error":"#N/A"}]
[93,{"$f":"IF(A125>$A$8,\"\",OFFSET(InputPriceData!B$15,$A125+$A$11,0,1,1))","v":"2024-02-29T05:00:00"},{"$f":"IF(A125>$A$8,\"\",OFFSET(InputPriceData!G$15,CalculationsAndCharts!$A125+$A$11,IF($C$5,8,0),1,1))","v":1790702},{"$f":"IF(A125>$A$8,\"\",OFFSET(InputPriceData!C$15,CalculationsAndCharts!$A125+$A$11,IF($C$5,8,0),1,1))","v":5072},{"$f":"IF(A125>$A$8,\"\",OFFSET(InputPriceData!D$15,CalculationsAndCharts!$A125+$A$11,IF($C$5,8,0),1,1))","v":5114.5},{"$f":"IF(A125>$A$8,\"\",OFFSET(InputPriceData!E$15,CalculationsAndCharts!$A125+$A$11,IF($C$5,8,0),1,1))","v":5060},{"$f":"IF(A125>$A$8,\"\",OFFSET(InputPriceData!F$15,CalculationsAndCharts!$A125+$A$11,IF($C$5,8,0),1,1))","v":5103.75},22.75,0,{"$f":"IF($A125>$J$30,NA(),AVERAGE(H125:H128))","v":8.125},7.5625,null,null,{"$f":"IF($A125>$J$30,NA(),IF($A125>$N$30,0,(1-$M$35)*J125+(2*$M$35-$M$36)*J126-($M$35+$M$37)*J127+$M$36*N126+$M$37*N127))","v":19.076726589547015},10.82803826122257,0.27583190737285362,0.28540035640028877,null,null,17.58385134929981,8.1551244358747361,0.36632098309272854,0.38008903967716734,null,null,null,null,null,null,null,null,null,null,null,null,null,null,null,null,null,null,null,null,null,null,null,null,null,null,null,null,null,null,null,1790702,{"$error":"#N/A"}]
[94,{"$f":"IF(A126>$A$8,\"\",OFFSET(InputPriceData!B$15,$A126+$A$11,0,1,1))","v":"2024-02-28T05:00:00"},{"$f":"IF(A126>$A$8,\"\",OFFSET(InputPriceData!G$15,CalculationsAndCharts!$A126+$A$11,IF($C$5,8,0),1,1))","v":1201011},{"$f":"IF(A126>$A$8,\"\",OFFSET(InputPriceData!C$15,CalculationsAndCharts!$A126+$A$11,IF($C$5,8,0),1,1))","v":5090.75},{"$f":"IF(A126>$A$8,\"\",OFFSET(InputPriceData!D$15,CalculationsAndCharts!$A126+$A$11,IF($C$5,8,0),1,1))","v":5091.25},{"$f":"IF(A126>$A$8,\"\",OFFSET(InputPriceData!E$15,CalculationsAndCharts!$A126+$A$11,IF($C$5,8,0),1,1))","v":5063.25},{"$f":"IF(A126>$A$8,\"\",OFFSET(InputPriceData!F$15,CalculationsAndCharts!$A126+$A$11,IF($C$5,8,0),1,1))","v":5081},0,9,{"$f":"IF($A126>$J$30,NA(),AVERAGE(H126:H129))","v":3.375},7.5625,null,null,{"$f":"IF($A126>$J$30,NA(),IF($A126>$N$30,0,(1-$M$35)*J126+(2*$M$35-$M$36)*J127-($M$35+$M$37)*J128+$M$36*N127+$M$37*N128))","v":20.110747103418532},11.022406841945493,0.29191839276619019,0.25271203191623159,null,null,22.079463356851171,9.087630553256524,0.41684453613371086,0.24590167064119675,null,null,null,null,null,null,null,null,null,null,null,null,null,null,null,null,null,null,null,null,null,null,null,null,null,null,null,null,null,null,null,{"$error":"#N/A"},1201011]
[95,{"$f":"IF(A127>$A$8,\"\",OFFSET(InputPriceData!B$15,$A127+$A$11,0,1,1))","v":"2024-02-27T05:00:00"},{"$f":"IF(A127>$A$8,\"\",OFFSET(InputPriceData!G$15,CalculationsAndCharts!$A127+$A$11,IF($C$5,8,0),1,1))","v":1026819},{"$f":"IF(A127>$A$8,\"\",OFFSET(InputPriceData!C$15,CalculationsAndCharts!$A127+$A$11,IF($C$5,8,0),1,1))","v":5077.5},{"$f":"IF(A127>$A$8,\"\",OFFSET(InputPriceData!D$15,CalculationsAndCharts!$A127+$A$11,IF($C$5,8,0),1,1))","v":5093},{"$f":"IF(A127>$A$8,\"\",OFFSET(InputPriceData!E$15,CalculationsAndCharts!$A127+$A$11,IF($C$5,8,0),1,1))","v":5067},{"$f":"IF(A127>$A$8,\"\",OFFSET(InputPriceData!F$15,CalculationsAndCharts!$A127+$A$11,IF($C$5,8,0),1,1))","v":5090},9.75,0,{"$f":"IF($A127>$J$30,NA(),AVERAGE(H127:H130))","v":28.75},5.3125,null,null,{"$f":"IF($A127>$J$30,NA(),IF($A127>$N$30,0,(1-$M$35)*J127+(2*$M$35-$M$36)*J128-($M$35+$M$37)*J129+$M$36*N128+$M$37*N129))","v":20.348639125343144},11.312530134526485,0.28540035640028877,0.22210085654466166,null,null,23.743795689613457,10.66528228577231,0.38008903967716734,0.10151475379561009,null,null,null,null,null,null,null,null,null,null,null,null,null,null,null,null,null,null,null,null,null,null,null,null,null,null,null,null,null,null,null,1026819,{"$error":"#N/A"}]
[96,{"$f":"IF(A128>$A$8,\"\",OFFSET(InputPriceData!B$15,$A128+$A$11,0,1,1))","v":"2024-02-26T05:00:00"},{"$f":"IF(A128>$A$8,\"\",OFFSET(InputPriceData!G$15,CalculationsAndCharts!$A128+$A$11,IF($C$5,8,0),1,1))","v":1094682},{"$f":"IF(A128>$A$8,\"\",OFFSET(InputPriceData!C$15,CalculationsAndCharts!$A128+$A$11,IF($C$5,8,0),1,1))","v":5095},{"$f":"IF(A128>$A$8,\"\",OFFSET(InputPriceData!D$15,CalculationsAndCharts!$A128+$A$11,IF($C$5,8,0),1,1))","v":5108},{"$f":"IF(A128>$A$8,\"\",OFFSET(InputPriceData!E$15,CalculationsAndCharts!$A128+$A$11,IF($C$5,8,0),1,1))","v":5076.25},{"$f":"IF(A128>$A$8,\"\",OFFSET(InputPriceData!F$15,CalculationsAndCharts!$A128+$A$11,IF($C$5,8,0),1,1))","v":5080.25},0,21.25,{"$f":"IF($A128>$J$30,NA(),AVERAGE(H128:H131))","v":27.5},5.3125,null,null,{"$f":"IF($A128>$J$30,NA(),IF($A128>$N$30,0,(1-$M$35)*J128+(2*$M$35-$M$36)*J129-($M$35+$M$37)*J130+$M$36*N129+$M$37*N130))","v":19.616047626162384},11.701680832398637,0.25271203191623159,0.20403958572379957,null,null,21.427944594900794,12.969544548641352,0.24590167064119675,-2.1501701154244931E-2,null,null,null,null,null,null,null,null,null,null,null,null,null,null,null,null,null,null,null,null,null,null,null,null,null,null,null,null,null,null,null,{"$error":"#N/A"},1094682]
[97,{"$f":"IF(A129>$A$8,\"\",OFFSET(InputPriceData!B$15,$A129+$A$11,0,1,1))","v":"2024-02-23T05:00:00"},{"$f":"IF(A129>$A$8,\"\",OFFSET(InputPriceData!G$15,CalculationsAndCharts!$A129+$A$11,IF($C$5,8,0),1,1))","v":1340050},{"$f":"IF(A129>$A$8,\"\",OFFSET(InputPriceData!C$15,CalculationsAndCharts!$A129+$A$11,IF($C$5,8,0),1,1))","v":5094.25},{"$f":"IF(A129>$A$8,\"\",OFFSET(InputPriceData!D$15,CalculationsAndCharts!$A129+$A$11,IF($C$5,8,0),1,1))","v":5123.5},{"$f":"IF(A129>$A$8,\"\",OFFSET(InputPriceData!E$15,CalculationsAndCharts!$A129+$A$11,IF($C$5,8,0),1,1))","v":5092},{"$f":"IF(A129>$A$8,\"\",OFFSET(InputPriceData!F$15,CalculationsAndCharts!$A129+$A$11,IF($C$5,8,0),1,1))","v":5101.5},3.75,0,{"$f":"IF($A129>$J$30,NA(),AVERAGE(H129:H132))","v":27.5},7.0625,null,null,{"$f":"IF($A129>$J$30,NA(),IF($A129>$N$30,0,(1-$M$35)*J129+(2*$M$35-$M$36)*J130-($M$35+$M$37)*J131+$M$36*N130+$M$37*N131))","v":18.901405189838361},12.03123852547616,0.22210085654466166,0.21632468381204034,null,null,18.857359165834858,15.381599687609436,0.10151475379561009,-2.9402409288646545E-2,null,null,null,null,null,null,null,null,null,null,null,null,null,null,null,null,null,null,null,null,null,null,null,null,null,null,null,null,null,null,null,1340050,{"$error":"#N/A"}]
[98,{"$f":"IF(A130>$A$8,\"\",OFFSET(InputPriceData!B$15,$A130+$A$11,0,1,1))","v":"2024-02-22T05:00:00"},{"$f":"IF(A130>$A$8,\"\",OFFSET(InputPriceData!G$15,CalculationsAndCharts!$A130+$A$11,IF($C$5,8,0),1,1))","v":1738869},{"$f":"IF(A130>$A$8,\"\",OFFSET(InputPriceData!C$15,CalculationsAndCharts!$A130+$A$11,IF($C$5,8,0),1,1))","v":5016},{"$f":"IF(A130>$A$8,\"\",OFFSET(InputPriceData!D$15,CalculationsAndCharts!$A130+$A$11,IF($C$5,8,0),1,1))","v":5107.75},{"$f":"IF(A130>$A$8,\"\",OFFSET(InputPriceData!E$15,CalculationsAndCharts!$A130+$A$11,IF($C$5,8,0),1,1))","v":5015.25},{"$f":"IF(A130>$A$8,\"\",OFFSET(InputPriceData!F$15,CalculationsAndCharts!$A130+$A$11,IF($C$5,8,0),1,1))","v":5097.75},101.5,0,{"$f":"IF($A130>$J$30,NA(),AVERAGE(H130:H133))","v":26.5625},13.75,null,null,{"$f":"IF($A130>$J$30,NA(),IF($A130>$N$30,0,(1-$M$35)*J130+(2*$M$35-$M$36)*J131-($M$35+$M$37)*J132+$M$36*N131+$M$37*N132))","v":18.193843392424306},12.027494191733627,0.20403958572379957,0.23755271843272949,null,null,15.99795993310798,16.701044146877258,-2.1501701154244931E-2,7.768571641251356E-3,null,null,null,null,null,null,null,null,null,null,null,null,null,null,null,null,null,null,null,null,null,null,null,null,null,null,null,null,null,null,null,1738869,{"$error":"#N/A"}]
[99,{"$f":"IF(A131>$A$8,\"\",OFFSET(InputPriceData!B$15,$A131+$A$11,0,1,1))","v":"2024-02-21T05:00:00"},{"$f":"IF(A131>$A$8,\"\",OFFSET(InputPriceData!G$15,CalculationsAndCharts!$A131+$A$11,IF($C$5,8,0),1,1))","v":1485687},{"$f":"IF(A131>$A$8,\"\",OFFSET(InputPriceData!C$15,CalculationsAndCharts!$A131+$A$11,IF($C$5,8,0),1,1))","v":4990},{"$f":"IF(A131>$A$8,\"\",OFFSET(InputPriceData!D$15,CalculationsAndCharts!$A131+$A$11,IF($C$5,8,0),1,1))","v":5020.5},{"$f":"IF(A131>$A$8,\"\",OFFSET(InputPriceData!E$15,CalculationsAndCharts!$A131+$A$11,IF($C$5,8,0),1,1))","v":4959},{"$f":"IF(A131>$A$8,\"\",OFFSET(InputPriceData!F$15,CalculationsAndCharts!$A131+$A$11,IF($C$5,8,0),1,1))","v":4996.25},4.75,0,{"$f":"IF($A131>$J$30,NA(),AVERAGE(H131:H134))","v":8.3125},13.75,null,null,{"$f":"IF($A131>$J$30,NA(),IF($A131>$N$30,0,(1-$M$35)*J131+(2*$M$35-$M$36)*J132-($M$35+$M$37)*J133+$M$36*N132+$M$37*N133))","v":18.233119506975484},11.747558760330095,0.21632468381204034,0.26716043962806768,null,null,16.021189605236103,16.991852583533667,-2.9402409288646545E-2,5.878694209906387E-2,null,null,null,null,null,null,null,null,null,null,null,null,null,null,null,null,null,null,null,null,null,null,null,null,null,null,null,null,null,null,null,1485687,{"$error":"#N/A"}]
[100,{"$f":"IF(A132>$A$8,\"\",OFFSET(InputPriceData!B$15,$A132+$A$11,0,1,1))","v":"2024-02-20T05:00:00"},{"$f":"IF(A132>$A$8,\"\",OFFSET(InputPriceData!G$15,CalculationsAndCharts!$A132+$A$11,IF($C$5,8,0),1,1))","v":1609827},{"$f":"IF(A132>$A$8,\"\",OFFSET(InputPriceData!C$15,CalculationsAndCharts!$A132+$A$11,IF($C$5,8,0),1,1))","v":5016.5},{"$f":"IF(A132>$A$8,\"\",OFFSET(InputPriceData!D$15,CalculationsAndCharts!$A132+$A$11,IF($C$5,8,0),1,1))","v":5029.5},{"$f":"IF(A132>$A$8,\"\",OFFSET(InputPriceData!E$15,CalculationsAndCharts!$A132+$A$11,IF($C$5,8,0),1,1))","v":4968.25},{"$f":"IF(A132>$A$8,\"\",OFFSET(InputPriceData!F$15,CalculationsAndCharts!$A132+$A$11,IF($C$5,8,0),1,1))","v":4991.5},0,28.25,{"$f":"IF($A132>$J$30,NA(),AVERAGE(H132:H135))","v":18.8125},13.75,null,null,{"$f":"IF($A132>$J$30,NA(),IF($A132>$N$30,0,(1-$M$35)*J132+(2*$M$35-$M$36)*J133-($M$35+$M$37)*J134+$M$36*N133+$M$37*N134))","v":18.586596905279823},11.451067960938396,0.23755271843272949,0.30813273290523413,null,null,17.469331975064449,17.200000779803872,7.768571641251356E-3,0.1619587029417964,null,null,null,null,null,null,null,null,null,null,null,null,null,null,null,null,null,null,null,null,null,null,null,null,null,null,null,null,null,null,null,{"$error":"#N/A"},1609827]
[101,{"$f":"IF(A133>$A$8,\"\",OFFSET(InputPriceData!B$15,$A133+$A$11,0,1,1))","v":"2024-02-16T05:00:00"},{"$f":"IF(A133>$A$8,\"\",OFFSET(InputPriceData!G$15,CalculationsAndCharts!$A133+$A$11,IF($C$5,8,0),1,1))","v":1527729},{"$f":"IF(A133>$A$8,\"\",OFFSET(InputPriceData!C$15,CalculationsAndCharts!$A133+$A$11,IF($C$5,8,0),1,1))","v":5049.5},{"$f":"IF(A133>$A$8,\"\",OFFSET(InputPriceData!D$15,CalculationsAndCharts!$A133+$A$11,IF($C$5,8,0),1,1))","v":5059.25},{"$f":"IF(A133>$A$8,\"\",OFFSET(InputPriceData!E$15,CalculationsAndCharts!$A133+$A$11,IF($C$5,8,0),1,1))","v":5012.75},{"$f":"IF(A133>$A$8,\"\",OFFSET(InputPriceData!F$15,CalculationsAndCharts!$A133+$A$11,IF($C$5,8,0),1,1))","v":5019.75},0,26.75,{"$f":"IF($A133>$J$30,NA(),AVERAGE(H133:H136))","v":18.8125},24.1875,null,null,{"$f":"IF($A133>$J$30,NA(),IF($A133>$N$30,0,(1-$M$35)*J133+(2*$M$35-$M$36)*J134-($M$35+$M$37)*J135+$M$36*N134+$M$37*N135))","v":18.527981836568948},10.715326677713922,0.26716043962806768,0.34264868207778604,null,null,17.422179453561014,15.487518920733695,5.878694209906387E-2,0.27085218577939674,null,null,null,null,null,null,null,null,null,null,null,null,null,null,null,null,null,null,null,null,null,null,null,null,null,null,null,null,null,null,null,{"$error":"#N/A"},1527729]
[102,{"$f":"IF(A134>$A$8,\"\",OFFSET(InputPriceData!B$15,$A134+$A$11,0,1,1))","v":"2024-02-15T05:00:00"},{"$f":"IF(A134>$A$8,\"\",OFFSET(InputPriceData!G$15,CalculationsAndCharts!$A134+$A$11,IF($C$5,8,0),1,1))","v":1361757},{"$f":"IF(A134>$A$8,\"\",OFFSET(InputPriceData!C$15,CalculationsAndCharts!$A134+$A$11,IF($C$5,8,0),1,1))","v":5017.5},{"$f":"IF(A134>$A$8,\"\",OFFSET(InputPriceData!D$15,CalculationsAndCharts!$A134+$A$11,IF($C$5,8,0),1,1))","v":5051.75},{"$f":"IF(A134>$A$8,\"\",OFFSET(InputPriceData!E$15,CalculationsAndCharts!$A134+$A$11,IF($C$5,8,0),1,1))","v":5011},{"$f":"IF(A134>$A$8,\"\",OFFSET(InputPriceData!F$15,CalculationsAndCharts!$A134+$A$11,IF($C$5,8,0),1,1))","v":5046.5},28.5,0,{"$f":"IF($A134>$J$30,NA(),AVERAGE(H134:H137))","v":18.8125},18.1875,null,null,{"$f":"IF($A134>$J$30,NA(),IF($A134>$N$30,0,(1-$M$35)*J134+(2*$M$35-$M$36)*J135-($M$35+$M$37)*J136+$M$36*N135+$M$37*N136))","v":18.465459104868604},9.7663229465729735,0.30813273290523413,0.39153197019749547,null,null,17.439441223102769,12.577875535144063,0.1619587029417964,0.46871522950537919,null,null,null,null,null,null,null,null,null,null,null,null,null,null,null,null,null,null,null,null,null,null,null,null,null,null,null,null,null,null,null,1361757,{"$error":"#N/A"}]
[103,{"$f":"IF(A135>$A$8,\"\",OFFSET(InputPriceData!B$15,$A135+$A$11,0,1,1))","v":"2024-02-14T05:00:00"},{"$f":"IF(A135>$A$8,\"\",OFFSET(InputPriceData!G$15,CalculationsAndCharts!$A135+$A$11,IF($C$5,8,0),1,1))","v":1632071},{"$f":"IF(A135>$A$8,\"\",OFFSET(InputPriceData!C$15,CalculationsAndCharts!$A135+$A$11,IF($C$5,8,0),1,1))","v":4974.25},{"$f":"IF(A135>$A$8,\"\",OFFSET(InputPriceData!D$15,CalculationsAndCharts!$A135+$A$11,IF($C$5,8,0),1,1))","v":5022.5},{"$f":"IF(A135>$A$8,\"\",OFFSET(InputPriceData!E$15,CalculationsAndCharts!$A135+$A$11,IF($C$5,8,0),1,1))","v":4968.75},{"$f":"IF(A135>$A$8,\"\",OFFSET(InputPriceData!F$15,CalculationsAndCharts!$A135+$A$11,IF($C$5,8,0),1,1))","v":5018},46.75,0,{"$f":"IF($A135>$J$30,NA(),AVERAGE(H135:H138))","v":18.25},18.1875,null,null,{"$f":"IF($A135>$J$30,NA(),IF($A135>$N$30,0,(1-$M$35)*J135+(2*$M$35-$M$36)*J136-($M$35+$M$37)*J137+$M$36*N136+$M$37*N137))","v":18.421669404110538},9.0191193145027242,0.34264868207778604,0.40728042634060629,null,null,17.640879251502387,10.12140411850806,0.27085218577939674,0.53693645225123576,null,null,null,null,null,null,null,null,null,null,null,null,null,null,null,null,null,null,null,null,null,null,null,null,null,null,null,null,null,null,null,1632071,{"$error":"#N/A"}]
[104,{"$f":"IF(A136>$A$8,\"\",OFFSET(InputPriceData!B$15,$A136+$A$11,0,1,1))","v":"2024-02-13T05:00:00"},{"$f":"IF(A136>$A$8,\"\",OFFSET(InputPriceData!G$15,CalculationsAndCharts!$A136+$A$11,IF($C$5,8,0),1,1))","v":2112726},{"$f":"IF(A136>$A$8,\"\",OFFSET(InputPriceData!C$15,CalculationsAndCharts!$A136+$A$11,IF($C$5,8,0),1,1))","v":5034},{"$f":"IF(A136>$A$8,\"\",OFFSET(InputPriceData!D$15,CalculationsAndCharts!$A136+$A$11,IF($C$5,8,0),1,1))","v":5040},{"$f":"IF(A136>$A$8,\"\",OFFSET(InputPriceData!E$15,CalculationsAndCharts!$A136+$A$11,IF($C$5,8,0),1,1))","v":4936.5},{"$f":"IF(A136>$A$8,\"\",OFFSET(InputPriceData!F$15,CalculationsAndCharts!$A136+$A$11,IF($C$5,8,0),1,1))","v":4971.25},0,70,{"$f":"IF($A136>$J$30,NA(),AVERAGE(H136:H139))","v":7.1875},18.1875,null,null,{"$f":"IF($A136>$J$30,NA(),IF($A136>$N$30,0,(1-$M$35)*J136+(2*$M$35-$M$36)*J137-($M$35+$M$37)*J138+$M$36*N137+$M$37*N138))","v":18.844968230440934},8.2402423634146,0.39153197019749547,0.37473014063576959,null,null,19.969089696516459,7.2235059753367858,0.46871522950537919,0.42312421123634558,null,null,null,null,null,null,null,null,null,null,null,null,null,null,null,null,null,null,null,null,null,null,null,null,null,null,null,null,null,null,null,{"$error":"#N/A"},2112726]
[105,{"$f":"IF(A137>$A$8,\"\",OFFSET(InputPriceData!B$15,$A137+$A$11,0,1,1))","v":"2024-02-12T05:00:00"},{"$f":"IF(A137>$A$8,\"\",OFFSET(InputPriceData!G$15,CalculationsAndCharts!$A137+$A$11,IF($C$5,8,0),1,1))","v":1141487},{"$f":"IF(A137>$A$8,\"\",OFFSET(InputPriceData!C$15,CalculationsAndCharts!$A137+$A$11,IF($C$5,8,0),1,1))","v":5042.5},{"$f":"IF(A137>$A$8,\"\",OFFSET(InputPriceData!D$15,CalculationsAndCharts!$A137+$A$11,IF($C$5,8,0),1,1))","v":5066.5},{"$f":"IF(A137>$A$8,\"\",OFFSET(InputPriceData!E$15,CalculationsAndCharts!$A137+$A$11,IF($C$5,8,0),1,1))","v":5031.5},{"$f":"IF(A137>$A$8,\"\",OFFSET(InputPriceData!F$15,CalculationsAndCharts!$A137+$A$11,IF($C$5,8,0),1,1))","v":5041.25},0,2.75,{"$f":"IF($A137>$J$30,NA(),AVERAGE(H137:H140))","v":17.3125},0.6875,null,null,{"$f":"IF($A137>$J$30,NA(),IF($A137>$N$30,0,(1-$M$35)*J137+(2*$M$35-$M$36)*J138-($M$35+$M$37)*J139+$M$36*N138+$M$37*N139))","v":19.321089670156869},8.1376730732404514,0.40728042634060629,0.35273713776820931,null,null,22.900169330256603,6.8995914818621511,0.53693645225123576,0.35088390815652509,null,null,null,null,null,null,null,null,null,null,null,null,null,null,null,null,null,null,null,null,null,null,null,null,null,null,null,null,null,null,null,{"$error":"#N/A"},1141487]
[106,{"$f":"IF(A138>$A$8,\"\",OFFSET(InputPriceData!B$15,$A138+$A$11,0,1,1))","v":"2024-02-09T05:00:00"},{"$f":"IF(A138>$A$8,\"\",OFFSET(InputPriceData!G$15,CalculationsAndCharts!$A138+$A$11,IF($C$5,8,0),1,1))","v":1212336},{"$f":"IF(A138>$A$8,\"\",OFFSET(InputPriceData!C$15,CalculationsAndCharts!$A138+$A$11,IF($C$5,8,0),1,1))","v":5014.5},{"$f":"IF(A138>$A$8,\"\",OFFSET(InputPriceData!D$15,CalculationsAndCharts!$A138+$A$11,IF($C$5,8,0),1,1))","v":5048.5},{"$f":"IF(A138>$A$8,\"\",OFFSET(InputPriceData!E$15,CalculationsAndCharts!$A138+$A$11,IF($C$5,8,0),1,1))","v":5013},{"$f":"IF(A138>$A$8,\"\",OFFSET(InputPriceData!F$15,CalculationsAndCharts!$A138+$A$11,IF($C$5,8,0),1,1))","v":5044},26.25,0,{"$f":"IF($A138>$J$30,NA(),AVERAGE(H138:H141))","v":20.5},0,null,null,{"$f":"IF($A138>$J$30,NA(),IF($A138>$N$30,0,(1-$M$35)*J138+(2*$M$35-$M$36)*J139-($M$35+$M$37)*J140+$M$36*N139+$M$37*N140))","v":19.274749642445347},8.7667533008615912,0.37473014063576959,0.33391757901690616,null,null,24.00824874376093,9.7319526444280253,0.42312421123634558,0.29176447729557387,null,null,null,null,null,null,null,null,null,null,null,null,null,null,null,null,null,null,null,null,null,null,null,null,null,null,null,null,null,null,null,1212336,{"$error":"#N/A"}]
[107,{"$f":"IF(A139>$A$8,\"\",OFFSET(InputPriceData!B$15,$A139+$A$11,0,1,1))","v":"2024-02-08T05:00:00"},{"$f":"IF(A139>$A$8,\"\",OFFSET(InputPriceData!G$15,CalculationsAndCharts!$A139+$A$11,IF($C$5,8,0),1,1))","v":997431},{"$f":"IF(A139>$A$8,\"\",OFFSET(InputPriceData!C$15,CalculationsAndCharts!$A139+$A$11,IF($C$5,8,0),1,1))","v":5015.75},{"$f":"IF(A139>$A$8,\"\",OFFSET(InputPriceData!D$15,CalculationsAndCharts!$A139+$A$11,IF($C$5,8,0),1,1))","v":5020},{"$f":"IF(A139>$A$8,\"\",OFFSET(InputPriceData!E$15,CalculationsAndCharts!$A139+$A$11,IF($C$5,8,0),1,1))","v":5003.75},{"$f":"IF(A139>$A$8,\"\",OFFSET(InputPriceData!F$15,CalculationsAndCharts!$A139+$A$11,IF($C$5,8,0),1,1))","v":5017.75},2.5,0,{"$f":"IF($A139>$J$30,NA(),AVERAGE(H139:H142))","v":13.9375},4.5625,null,null,{"$f":"IF($A139>$J$30,NA(),IF($A139>$N$30,0,(1-$M$35)*J139+(2*$M$35-$M$36)*J140-($M$35+$M$37)*J141+$M$36*N140+$M$37*N141))","v":19.359929406690863},9.2634133938646368,0.35273713776820931,0.29828372638352957,null,null,25.809472747407497,12.401764490036875,0.35088390815652509,0.18146487095490069,null,null,null,null,null,null,null,null,null,null,null,null,null,null,null,null,null,null,null,null,null,null,null,null,null,null,null,null,null,null,null,997431,{"$error":"#N/A"}]
[108,{"$f":"IF(A140>$A$8,\"\",OFFSET(InputPriceData!B$15,$A140+$A$11,0,1,1))","v":"2024-02-07T05:00:00"},{"$f":"IF(A140>$A$8,\"\",OFFSET(InputPriceData!G$15,CalculationsAndCharts!$A140+$A$11,IF($C$5,8,0),1,1))","v":1336172},{"$f":"IF(A140>$A$8,\"\",OFFSET(InputPriceData!C$15,CalculationsAndCharts!$A140+$A$11,IF($C$5,8,0),1,1))","v":4971.5},{"$f":"IF(A140>$A$8,\"\",OFFSET(InputPriceData!D$15,CalculationsAndCharts!$A140+$A$11,IF($C$5,8,0),1,1))","v":5020},{"$f":"IF(A140>$A$8,\"\",OFFSET(InputPriceData!E$15,CalculationsAndCharts!$A140+$A$11,IF($C$5,8,0),1,1))","v":4970},{"$f":"IF(A140>$A$8,\"\",OFFSET(InputPriceData!F$15,CalculationsAndCharts!$A140+$A$11,IF($C$5,8,0),1,1))","v":5015.25},40.5,0,{"$f":"IF($A140>$J$30,NA(),AVERAGE(H140:H143))","v":26.25},4.5625,null,null,{"$f":"IF($A140>$J$30,NA(),IF($A140>$N$30,0,(1-$M$35)*J140+(2*$M$35-$M$36)*J141-($M$35+$M$37)*J142+$M$36*N141+$M$37*N142))","v":19.212488333613859},9.5936217826849504,0.33391757901690616,0.29672955120937267,null,null,26.787728457392976,14.686903998014863,0.29176447729557387,0.14775411751890916,null,null,null,null,null,null,null,null,null,null,null,null,null,null,null,null,null,null,null,null,null,null,null,null,null,null,null,null,null,null,null,1336172,{"$error":"#N/A"}]
[109,{"$f":"IF(A141>$A$8,\"\",OFFSET(InputPriceData!B$15,$A141+$A$11,0,1,1))","v":"2024-02-06T05:00:00"},{"$f":"IF(A141>$A$8,\"\",OFFSET(InputPriceData!G$15,CalculationsAndCharts!$A141+$A$11,IF($C$5,8,0),1,1))","v":1267419},{"$f":"IF(A141>$A$8,\"\",OFFSET(InputPriceData!C$15,CalculationsAndCharts!$A141+$A$11,IF($C$5,8,0),1,1))","v":4959.5},{"$f":"IF(A141>$A$8,\"\",OFFSET(InputPriceData!D$15,CalculationsAndCharts!$A141+$A$11,IF($C$5,8,0),1,1))","v":4978.25},{"$f":"IF(A141>$A$8,\"\",OFFSET(InputPriceData!E$15,CalculationsAndCharts!$A141+$A$11,IF($C$5,8,0),1,1))","v":4954.5},{"$f":"IF(A141>$A$8,\"\",OFFSET(InputPriceData!F$15,CalculationsAndCharts!$A141+$A$11,IF($C$5,8,0),1,1))","v":4974.75},12.75,0,{"$f":"IF($A141>$J$30,NA(),AVERAGE(H141:H144))","v":30.625},4.5625,null,null,{"$f":"IF($A141>$J$30,NA(),IF($A141>$N$30,0,(1-$M$35)*J141+(2*$M$35-$M$36)*J142-($M$35+$M$37)*J143+$M$36*N142+$M$37*N143))","v":18.38058735595996},9.9346213806703876,0.29828372638352957,0.33319157498425628,null,null,24.866801694150094,17.228062580657987,0.18146487095490069,0.21715793531432384,null,null,null,null,null,null,null,null,null,null,null,null,null,null,null,null,null,null,null,null,null,null,null,null,null,null,null,null,null,null,null,1267419,{"$error":"#N/A"}]
[110,{"$f":"IF(A142>$A$8,\"\",OFFSET(InputPriceData!B$15,$A142+$A$11,0,1,1))","v":"2024-02-05T05:00:00"},{"$f":"IF(A142>$A$8,\"\",OFFSET(InputPriceData!G$15,CalculationsAndCharts!$A142+$A$11,IF($C$5,8,0),1,1))","v":1504676},{"$f":"IF(A142>$A$8,\"\",OFFSET(InputPriceData!C$15,CalculationsAndCharts!$A142+$A$11,IF($C$5,8,0),1,1))","v":4976},{"$f":"IF(A142>$A$8,\"\",OFFSET(InputPriceData!D$15,CalculationsAndCharts!$A142+$A$11,IF($C$5,8,0),1,1))","v":4980.75},{"$f":"IF(A142>$A$8,\"\",OFFSET(InputPriceData!E$15,CalculationsAndCharts!$A142+$A$11,IF($C$5,8,0),1,1))","v":4937.75},{"$f":"IF(A142>$A$8,\"\",OFFSET(InputPriceData!F$15,CalculationsAndCharts!$A142+$A$11,IF($C$5,8,0),1,1))","v":4962},0,18.25,{"$f":"IF($A142>$J$30,NA(),AVERAGE(H142:H145))","v":27.4375},24.6875,null,null,{"$f":"IF($A142>$J$30,NA(),IF($A142>$N$30,0,(1-$M$35)*J142+(2*$M$35-$M$36)*J143-($M$35+$M$37)*J144+$M$36*N143+$M$37*N144))","v":17.464883415940495},9.4719337479039929,0.29672955120937267,0.37266480942648711,null,null,22.235022109016128,16.510248798103589,0.14775411751890916,0.33541521789787621,null,null,null,null,null,null,null,null,null,null,null,null,null,null,null,null,null,null,null,null,null,null,null,null,null,null,null,null,null,null,null,{"$error":"#N/A"},1504676]
[111,{"$f":"IF(A143>$A$8,\"\",OFFSET(InputPriceData!B$15,$A143+$A$11,0,1,1))","v":"2024-02-02T05:00:00"},{"$f":"IF(A143>$A$8,\"\",OFFSET(InputPriceData!G$15,CalculationsAndCharts!$A143+$A$11,IF($C$5,8,0),1,1))","v":1957796},{"$f":"IF(A143>$A$8,\"\",OFFSET(InputPriceData!C$15,CalculationsAndCharts!$A143+$A$11,IF($C$5,8,0),1,1))","v":4952.75},{"$f":"IF(A143>$A$8,\"\",OFFSET(InputPriceData!D$15,CalculationsAndCharts!$A143+$A$11,IF($C$5,8,0),1,1))","v":4997.75},{"$f":"IF(A143>$A$8,\"\",OFFSET(InputPriceData!E$15,CalculationsAndCharts!$A143+$A$11,IF($C$5,8,0),1,1))","v":4925.75},{"$f":"IF(A143>$A$8,\"\",OFFSET(InputPriceData!F$15,CalculationsAndCharts!$A143+$A$11,IF($C$5,8,0),1,1))","v":4980.25},51.75,0,{"$f":"IF($A143>$J$30,NA(),AVERAGE(H143:H146))","v":27.4375},21,null,null,{"$f":"IF($A143>$J$30,NA(),IF($A143>$N$30,0,(1-$M$35)*J143+(2*$M$35-$M$36)*J144-($M$35+$M$37)*J145+$M$36*N144+$M$37*N145))","v":16.640410839727398},8.3228594838551757,0.33319157498425628,0.4442712278662368,null,null,19.569557025685647,12.58659372172237,0.21715793531432384,0.68425553908170245,null,null,null,null,null,null,null,null,null,null,null,null,null,null,null,null,null,null,null,null,null,null,null,null,null,null,null,null,null,null,null,1957796,{"$error":"#N/A"}]
[112,{"$f":"IF(A144>$A$8,\"\",OFFSET(InputPriceData!B$15,$A144+$A$11,0,1,1))","v":"2024-02-01T05:00:00"},{"$f":"IF(A144>$A$8,\"\",OFFSET(InputPriceData!G$15,CalculationsAndCharts!$A144+$A$11,IF($C$5,8,0),1,1))","v":1835510},{"$f":"IF(A144>$A$8,\"\",OFFSET(InputPriceData!C$15,CalculationsAndCharts!$A144+$A$11,IF($C$5,8,0),1,1))","v":4874.5},{"$f":"IF(A144>$A$8,\"\",OFFSET(InputPriceData!D$15,CalculationsAndCharts!$A144+$A$11,IF($C$5,8,0),1,1))","v":4963.75},{"$f":"IF(A144>$A$8,\"\",OFFSET(InputPriceData!E$15,CalculationsAndCharts!$A144+$A$11,IF($C$5,8,0),1,1))","v":4872.5},{"$f":"IF(A144>$A$8,\"\",OFFSET(InputPriceData!F$15,CalculationsAndCharts!$A144+$A$11,IF($C$5,8,0),1,1))","v":4928.5},58,0,{"$f":"IF($A144>$J$30,NA(),AVERAGE(H144:H147))","v":24.0625},21,null,null,{"$f":"IF($A144>$J$30,NA(),IF($A144>$N$30,0,(1-$M$35)*J144+(2*$M$35-$M$36)*J145-($M$35+$M$37)*J146+$M$36*N145+$M$37*N146))","v":15.919769301111058},7.2756520308636361,0.37266480942648711,0.48249804084199516,null,null,16.953295783046386,8.4370031379636075,0.33541521789787621,0.97649514346124477,null,null,null,null,null,null,null,null,null,null,null,null,null,null,null,null,null,null,null,null,null,null,null,null,null,null,null,null,null,null,null,1835510,{"$error":"#N/A"}]
[113,{"$f":"IF(A145>$A$8,\"\",OFFSET(InputPriceData!B$15,$A145+$A$11,0,1,1))","v":"2024-01-31T05:00:00"},{"$f":"IF(A145>$A$8,\"\",OFFSET(InputPriceData!G$15,CalculationsAndCharts!$A145+$A$11,IF($C$5,8,0),1,1))","v":2285993},{"$f":"IF(A145>$A$8,\"\",OFFSET(InputPriceData!C$15,CalculationsAndCharts!$A145+$A$11,IF($C$5,8,0),1,1))","v":4930.25},{"$f":"IF(A145>$A$8,\"\",OFFSET(InputPriceData!D$15,CalculationsAndCharts!$A145+$A$11,IF($C$5,8,0),1,1))","v":4938},{"$f":"IF(A145>$A$8,\"\",OFFSET(InputPriceData!E$15,CalculationsAndCharts!$A145+$A$11,IF($C$5,8,0),1,1))","v":4866},{"$f":"IF(A145>$A$8,\"\",OFFSET(InputPriceData!F$15,CalculationsAndCharts!$A145+$A$11,IF($C$5,8,0),1,1))","v":4870.5},0,80.5,{"$f":"IF($A145>$J$30,NA(),AVERAGE(H145:H148))","v":9.5625},22.75,null,null,{"$f":"IF($A145>$J$30,NA(),IF($A145>$N$30,0,(1-$M$35)*J145+(2*$M$35-$M$36)*J146-($M$35+$M$37)*J147+$M$36*N146+$M$37*N147))","v":15.895032449761661},6.1161135774910553,0.4442712278662368,0.45839981218556336,null,null,16.952811524916115,3.1781141351641899,0.68425553908170245,0.94800093862204504,null,null,null,null,null,null,null,null,null,null,null,null,null,null,null,null,null,null,null,null,null,null,null,null,null,null,null,null,null,null,null,{"$error":"#N/A"},2285993]
[114,{"$f":"IF(A146>$A$8,\"\",OFFSET(InputPriceData!B$15,$A146+$A$11,0,1,1))","v":"2024-01-30T05:00:00"},{"$f":"IF(A146>$A$8,\"\",OFFSET(InputPriceData!G$15,CalculationsAndCharts!$A146+$A$11,IF($C$5,8,0),1,1))","v":1157425},{"$f":"IF(A146>$A$8,\"\",OFFSET(InputPriceData!C$15,CalculationsAndCharts!$A146+$A$11,IF($C$5,8,0),1,1))","v":4950.25},{"$f":"IF(A146>$A$8,\"\",OFFSET(InputPriceData!D$15,CalculationsAndCharts!$A146+$A$11,IF($C$5,8,0),1,1))","v":4957.25},{"$f":"IF(A146>$A$8,\"\",OFFSET(InputPriceData!E$15,CalculationsAndCharts!$A146+$A$11,IF($C$5,8,0),1,1))","v":4933},{"$f":"IF(A146>$A$8,\"\",OFFSET(InputPriceData!F$15,CalculationsAndCharts!$A146+$A$11,IF($C$5,8,0),1,1))","v":4951},0,3.5,{"$f":"IF($A146>$J$30,NA(),AVERAGE(H146:H149))","v":15.875},2.625,null,null,{"$f":"IF($A146>$J$30,NA(),IF($A146>$N$30,0,(1-$M$35)*J146+(2*$M$35-$M$36)*J147-($M$35+$M$37)*J148+$M$36*N147+$M$37*N148))","v":16.20252122046551},5.6558836800403602,0.48249804084199516,0.43717640208207087,null,null,18.35178422152017,0.21824291184527267,0.97649514346124477,0.89248559554429951,null,null,null,null,null,null,null,null,null,null,null,null,null,null,null,null,null,null,null,null,null,null,null,null,null,null,null,null,null,null,null,{"$error":"#N/A"},1157425]
[115,{"$f":"IF(A147>$A$8,\"\",OFFSET(InputPriceData!B$15,$A147+$A$11,0,1,1))","v":"2024-01-29T05:00:00"},{"$f":"IF(A147>$A$8,\"\",OFFSET(InputPriceData!G$15,CalculationsAndCharts!$A147+$A$11,IF($C$5,8,0),1,1))","v":1197989},{"$f":"IF(A147>$A$8,\"\",OFFSET(InputPriceData!C$15,CalculationsAndCharts!$A147+$A$11,IF($C$5,8,0),1,1))","v":4908.75},{"$f":"IF(A147>$A$8,\"\",OFFSET(InputPriceData!D$15,CalculationsAndCharts!$A147+$A$11,IF($C$5,8,0),1,1))","v":4956},{"$f":"IF(A147>$A$8,\"\",OFFSET(InputPriceData!E$15,CalculationsAndCharts!$A147+$A$11,IF($C$5,8,0),1,1))","v":4901.75},{"$f":"IF(A147>$A$8,\"\",OFFSET(InputPriceData!F$15,CalculationsAndCharts!$A147+$A$11,IF($C$5,8,0),1,1))","v":4954.5},38.25,0,{"$f":"IF($A147>$J$30,NA(),AVERAGE(H147:H150))","v":16.625},1.75,null,null,{"$f":"IF($A147>$J$30,NA(),IF($A147>$N$30,0,(1-$M$35)*J147+(2*$M$35-$M$36)*J148-($M$35+$M$37)*J149+$M$36*N148+$M$37*N149))","v":16.238243680329084},6.0303325285424627,0.45839981218556336,0.4152183488424705,null,null,18.726373754561589,0.4998734030070735,0.94800093862204504,0.80661043229679041,null,null,null,null,null,null,null,null,null,null,null,null,null,null,null,null,null,null,null,null,null,null,null,null,null,null,null,null,null,null,null,1197989,{"$error":"#N/A"}]
[116,{"$f":"IF(A148>$A$8,\"\",OFFSET(InputPriceData!B$15,$A148+$A$11,0,1,1))","v":"2024-01-26T05:00:00"},{"$f":"IF(A148>$A$8,\"\",OFFSET(InputPriceData!G$15,CalculationsAndCharts!$A148+$A$11,IF($C$5,8,0),1,1))","v":1363612},{"$f":"IF(A148>$A$8,\"\",OFFSET(InputPriceData!C$15,CalculationsAndCharts!$A148+$A$11,IF($C$5,8,0),1,1))","v":4919.25},{"$f":"IF(A148>$A$8,\"\",OFFSET(InputPriceData!D$15,CalculationsAndCharts!$A148+$A$11,IF($C$5,8,0),1,1))","v":4934.25},{"$f":"IF(A148>$A$8,\"\",OFFSET(InputPriceData!E$15,CalculationsAndCharts!$A148+$A$11,IF($C$5,8,0),1,1))","v":4898.5},{"$f":"IF(A148>$A$8,\"\",OFFSET(InputPriceData!F$15,CalculationsAndCharts!$A148+$A$11,IF($C$5,8,0),1,1))","v":4916.25},0,7,{"$f":"IF($A148>$J$30,NA(),AVERAGE(H148:H151))","v":10.5625},1.75,null,null,{"$f":"IF($A148>$J$30,NA(),IF($A148>$N$30,0,(1-$M$35)*J148+(2*$M$35-$M$36)*J149-($M$35+$M$37)*J150+$M$36*N149+$M$37*N150))","v":16.491896314452323},6.4585171359217988,0.43717640208207087,0.37879515391520258,null,null,20.008280473264726,1.1366947068608884,0.89248559554429951,0.67878922080027748,null,null,null,null,null,null,null,null,null,null,null,null,null,null,null,null,null,null,null,null,null,null,null,null,null,null,null,null,null,null,null,{"$error":"#N/A"},1363612]
[117,{"$f":"IF(A149>$A$8,\"\",OFFSET(InputPriceData!B$15,$A149+$A$11,0,1,1))","v":"2024-01-25T05:00:00"},{"$f":"IF(A149>$A$8,\"\",OFFSET(InputPriceData!G$15,CalculationsAndCharts!$A149+$A$11,IF($C$5,8,0),1,1))","v":1532026},{"$f":"IF(A149>$A$8,\"\",OFFSET(InputPriceData!C$15,CalculationsAndCharts!$A149+$A$11,IF($C$5,8,0),1,1))","v":4899.5},{"$f":"IF(A149>$A$8,\"\",OFFSET(InputPriceData!D$15,CalculationsAndCharts!$A149+$A$11,IF($C$5,8,0),1,1))","v":4926.5},{"$f":"IF(A149>$A$8,\"\",OFFSET(InputPriceData!E$15,CalculationsAndCharts!$A149+$A$11,IF($C$5,8,0),1,1))","v":4893.25},{"$f":"IF(A149>$A$8,\"\",OFFSET(InputPriceData!F$15,CalculationsAndCharts!$A149+$A$11,IF($C$5,8,0),1,1))","v":4923.25},25.25,0,{"$f":"IF($A149>$J$30,NA(),AVERAGE(H149:H152))","v":13.4375},0,null,null,{"$f":"IF($A149>$J$30,NA(),IF($A149>$N$30,0,(1-$M$35)*J149+(2*$M$35-$M$36)*J150-($M$35+$M$37)*J151+$M$36*N150+$M$37*N151))","v":16.885967922768984},6.9774421815167385,0.4152183488424705,0.32350261528013763,null,null,21.938566648635408,2.3484254515312495,0.80661043229679041,0.48732707396044656,null,null,null,null,null,null,null,null,null,null,null,null,null,null,null,null,null,null,null,null,null,null,null,null,null,null,null,null,null,null,null,1532026,{"$error":"#N/A"}]
[118,{"$f":"IF(A150>$A$8,\"\",OFFSET(InputPriceData!B$15,$A150+$A$11,0,1,1))","v":"2024-01-24T05:00:00"},{"$f":"IF(A150>$A$8,\"\",OFFSET(InputPriceData!G$15,CalculationsAndCharts!$A150+$A$11,IF($C$5,8,0),1,1))","v":1586824},{"$f":"IF(A150>$A$8,\"\",OFFSET(InputPriceData!C$15,CalculationsAndCharts!$A150+$A$11,IF($C$5,8,0),1,1))","v":4900.25},{"$f":"IF(A150>$A$8,\"\",OFFSET(InputPriceData!D$15,CalculationsAndCharts!$A150+$A$11,IF($C$5,8,0),1,1))","v":4933.25},{"$f":"IF(A150>$A$8,\"\",OFFSET(InputPriceData!E$15,CalculationsAndCharts!$A150+$A$11,IF($C$5,8,0),1,1))","v":4889},{"$f":"IF(A150>$A$8,\"\",OFFSET(InputPriceData!F$15,CalculationsAndCharts!$A150+$A$11,IF($C$5,8,0),1,1))","v":4898},3,0,{"$f":"IF($A150>$J$30,NA(),AVERAGE(H150:H153))","v":21.6875},0,null,null,{"$f":"IF($A150>$J$30,NA(),IF($A150>$N$30,0,(1-$M$35)*J150+(2*$M$35-$M$36)*J151-($M$35+$M$37)*J152+$M$36*N151+$M$37*N152))","v":16.846463182162946},7.5900357920697745,0.37879515391520258,0.27300701078275369,null,null,22.090282125618572,4.2266394413285306,0.67878922080027748,0.26954494959256331,null,null,null,null,null,null,null,null,null,null,null,null,null,null,null,null,null,null,null,null,null,null,null,null,null,null,null,null,null,null,null,1586824,{"$error":"#N/A"}]
[119,{"$f":"IF(A151>$A$8,\"\",OFFSET(InputPriceData!B$15,$A151+$A$11,0,1,1))","v":"2024-01-23T05:00:00"},{"$f":"IF(A151>$A$8,\"\",OFFSET(InputPriceData!G$15,CalculationsAndCharts!$A151+$A$11,IF($C$5,8,0),1,1))","v":1130749},{"$f":"IF(A151>$A$8,\"\",OFFSET(InputPriceData!C$15,CalculationsAndCharts!$A151+$A$11,IF($C$5,8,0),1,1))","v":4881.75},{"$f":"IF(A151>$A$8,\"\",OFFSET(InputPriceData!D$15,CalculationsAndCharts!$A151+$A$11,IF($C$5,8,0),1,1))","v":4902},{"$f":"IF(A151>$A$8,\"\",OFFSET(InputPriceData!E$15,CalculationsAndCharts!$A151+$A$11,IF($C$5,8,0),1,1))","v":4874.25},{"$f":"IF(A151>$A$8,\"\",OFFSET(InputPriceData!F$15,CalculationsAndCharts!$A151+$A$11,IF($C$5,8,0),1,1))","v":4895},14,0,{"$f":"IF($A151>$J$30,NA(),AVERAGE(H151:H154))","v":30.9375},0,null,null,{"$f":"IF($A151>$J$30,NA(),IF($A151>$N$30,0,(1-$M$35)*J151+(2*$M$35-$M$36)*J152-($M$35+$M$37)*J153+$M$36*N152+$M$37*N153))","v":16.097994923737527},8.228356589108051,0.32350261528013763,0.25094693070287849,null,null,19.022249695725947,6.5568579918300962,0.48732707396044656,8.0831091951228048E-2,null,null,null,null,null,null,null,null,null,null,null,null,null,null,null,null,null,null,null,null,null,null,null,null,null,null,null,null,null,null,null,1130749,{"$error":"#N/A"}]
[120,{"$f":"IF(A152>$A$8,\"\",OFFSET(InputPriceData!B$15,$A152+$A$11,0,1,1))","v":"2024-01-22T05:00:00"},{"$f":"IF(A152>$A$8,\"\",OFFSET(InputPriceData!G$15,CalculationsAndCharts!$A152+$A$11,IF($C$5,8,0),1,1))","v":1356050},{"$f":"IF(A152>$A$8,\"\",OFFSET(InputPriceData!C$15,CalculationsAndCharts!$A152+$A$11,IF($C$5,8,0),1,1))","v":4872.5},{"$f":"IF(A152>$A$8,\"\",OFFSET(InputPriceData!D$15,CalculationsAndCharts!$A152+$A$11,IF($C$5,8,0),1,1))","v":4898.25},{"$f":"IF(A152>$A$8,\"\",OFFSET(InputPriceData!E$15,CalculationsAndCharts!$A152+$A$11,IF($C$5,8,0),1,1))","v":4872.5},{"$f":"IF(A152>$A$8,\"\",OFFSET(InputPriceData!F$15,CalculationsAndCharts!$A152+$A$11,IF($C$5,8,0),1,1))","v":4881},11.5,0,{"$f":"IF($A152>$J$30,NA(),AVERAGE(H152:H155))","v":27.4375},6.8125,null,null,{"$f":"IF($A152>$J$30,NA(),IF($A152>$N$30,0,(1-$M$35)*J152+(2*$M$35-$M$36)*J153-($M$35+$M$37)*J154+$M$36*N153+$M$37*N154))","v":15.088529746806456},8.6168067030356177,0.27300701078275369,0.26024256135071683,null,null,14.249888091339741,8.1989241321470701,0.26954494959256331,-1.5722350976631876E-2,null,null,null,null,null,null,null,null,null,null,null,null,null,null,null,null,null,null,null,null,null,null,null,null,null,null,null,null,null,null,null,1356050,{"$error":"#N/A"}]
[121,{"$f":"IF(A153>$A$8,\"\",OFFSET(InputPriceData!B$15,$A153+$A$11,0,1,1))","v":"2024-01-19T05:00:00"},{"$f":"IF(A153>$A$8,\"\",OFFSET(InputPriceData!G$15,CalculationsAndCharts!$A153+$A$11,IF($C$5,8,0),1,1))","v":1876757},{"$f":"IF(A153>$A$8,\"\",OFFSET(InputPriceData!C$15,CalculationsAndCharts!$A153+$A$11,IF($C$5,8,0),1,1))","v":4811.25},{"$f":"IF(A153>$A$8,\"\",OFFSET(InputPriceData!D$15,CalculationsAndCharts!$A153+$A$11,IF($C$5,8,0),1,1))","v":4874.25},{"$f":"IF(A153>$A$8,\"\",OFFSET(InputPriceData!E$15,CalculationsAndCharts!$A153+$A$11,IF($C$5,8,0),1,1))","v":4808.5},{"$f":"IF(A153>$A$8,\"\",OFFSET(InputPriceData!F$15,CalculationsAndCharts!$A153+$A$11,IF($C$5,8,0),1,1))","v":4869.5},58.25,0,{"$f":"IF($A153>$J$30,NA(),AVERAGE(H153:H156))","v":24.5625},11.3125,null,null,{"$f":"IF($A153>$J$30,NA(),IF($A153>$N$30,0,(1-$M$35)*J153+(2*$M$35-$M$36)*J154-($M$35+$M$37)*J155+$M$36*N154+$M$37*N155))","v":14.299811476533018},8.5625676149577465,0.25094693070287849,0.30418595396537879,null,null,9.6729336940862147,8.2261326190851332,8.0831091951228048E-2,0.14355880373120342,null,null,null,null,null,null,null,null,null,null,null,null,null,null,null,null,null,null,null,null,null,null,null,null,null,null,null,null,null,null,null,1876757,{"$error":"#N/A"}]
[122,{"$f":"IF(A154>$A$8,\"\",OFFSET(InputPriceData!B$15,$A154+$A$11,0,1,1))","v":"2024-01-18T05:00:00"},{"$f":"IF(A154>$A$8,\"\",OFFSET(InputPriceData!G$15,CalculationsAndCharts!$A154+$A$11,IF($C$5,8,0),1,1))","v":1746936},{"$f":"IF(A154>$A$8,\"\",OFFSET(InputPriceData!C$15,CalculationsAndCharts!$A154+$A$11,IF($C$5,8,0),1,1))","v":4768},{"$f":"IF(A154>$A$8,\"\",OFFSET(InputPriceData!D$15,CalculationsAndCharts!$A154+$A$11,IF($C$5,8,0),1,1))","v":4817},{"$f":"IF(A154>$A$8,\"\",OFFSET(InputPriceData!E$15,CalculationsAndCharts!$A154+$A$11,IF($C$5,8,0),1,1))","v":4763.5},{"$f":"IF(A154>$A$8,\"\",OFFSET(InputPriceData!F$15,CalculationsAndCharts!$A154+$A$11,IF($C$5,8,0),1,1))","v":4811.25},40,0,{"$f":"IF($A154>$J$30,NA(),AVERAGE(H154:H157))","v":10.25},11.3125,null,null,{"$f":"IF($A154>$J$30,NA(),IF($A154>$N$30,0,(1-$M$35)*J154+(2*$M$35-$M$36)*J155-($M$35+$M$37)*J156+$M$36*N155+$M$37*N156))","v":14.179683014078099},8.3234182918807171,0.26024256135071683,0.33844215671705075,null,null,7.3056334935484308,7.5390264472666733,-1.5722350976631876E-2,0.25900350122001292,null,null,null,null,null,null,null,null,null,null,null,null,null,null,null,null,null,null,null,null,null,null,null,null,null,null,null,null,null,null,null,1746936,{"$error":"#N/A"}]
[123,{"$f":"IF(A155>$A$8,\"\",OFFSET(InputPriceData!B$15,$A155+$A$11,0,1,1))","v":"2024-01-17T05:00:00"},{"$f":"IF(A155>$A$8,\"\",OFFSET(InputPriceData!G$15,CalculationsAndCharts!$A155+$A$11,IF($C$5,8,0),1,1))","v":1663328},{"$f":"IF(A155>$A$8,\"\",OFFSET(InputPriceData!C$15,CalculationsAndCharts!$A155+$A$11,IF($C$5,8,0),1,1))","v":4799.75},{"$f":"IF(A155>$A$8,\"\",OFFSET(InputPriceData!D$15,CalculationsAndCharts!$A155+$A$11,IF($C$5,8,0),1,1))","v":4800.75},{"$f":"IF(A155>$A$8,\"\",OFFSET(InputPriceData!E$15,CalculationsAndCharts!$A155+$A$11,IF($C$5,8,0),1,1))","v":4746.25},{"$f":"IF(A155>$A$8,\"\",OFFSET(InputPriceData!F$15,CalculationsAndCharts!$A155+$A$11,IF($C$5,8,0),1,1))","v":4771.25},0,27.25,{"$f":"IF($A155>$J$30,NA(),AVERAGE(H155:H158))","v":0.25},12.5,null,null,{"$f":"IF($A155>$J$30,NA(),IF($A155>$N$30,0,(1-$M$35)*J155+(2*$M$35-$M$36)*J156-($M$35+$M$37)*J157+$M$36*N156+$M$37*N157))","v":15.043877855543041},8.0262645728462765,0.30418595396537879,0.3441042143354599,null,null,8.8309873347396497,6.6137581491408577,0.14355880373120342,0.21533584352728222,null,null,null,null,null,null,null,null,null,null,null,null,null,null,null,null,null,null,null,null,null,null,null,null,null,null,null,null,null,null,null,{"$error":"#N/A"},1663328]
[124,{"$f":"IF(A156>$A$8,\"\",OFFSET(InputPriceData!B$15,$A156+$A$11,0,1,1))","v":"2024-01-16T05:00:00"},{"$f":"IF(A156>$A$8,\"\",OFFSET(InputPriceData!G$15,CalculationsAndCharts!$A156+$A$11,IF($C$5,8,0),1,1))","v":1905532},{"$f":"IF(A156>$A$8,\"\",OFFSET(InputPriceData!C$15,CalculationsAndCharts!$A156+$A$11,IF($C$5,8,0),1,1))","v":4812},{"$f":"IF(A156>$A$8,\"\",OFFSET(InputPriceData!D$15,CalculationsAndCharts!$A156+$A$11,IF($C$5,8,0),1,1))","v":4823},{"$f":"IF(A156>$A$8,\"\",OFFSET(InputPriceData!E$15,CalculationsAndCharts!$A156+$A$11,IF($C$5,8,0),1,1))","v":4779.5},{"$f":"IF(A156>$A$8,\"\",OFFSET(InputPriceData!F$15,CalculationsAndCharts!$A156+$A$11,IF($C$5,8,0),1,1))","v":4798.5},0,18,{"$f":"IF($A156>$J$30,NA(),AVERAGE(H156:H159))","v":7.125},5.6875,null,null,{"$f":"IF($A156>$J$30,NA(),IF($A156>$N$30,0,(1-$M$35)*J156+(2*$M$35-$M$36)*J157-($M$35+$M$37)*J158+$M$36*N157+$M$37*N158))","v":16.073793598552086},7.9448664800845687,0.33844215671705075,0.32770090602655078,null,null,11.252044683647165,6.622480165161579,0.25900350122001292,5.1727142529592637E-2,null,null,null,null,null,null,null,null,null,null,null,null,null,null,null,null,null,null,null,null,null,null,null,null,null,null,null,null,null,null,null,{"$error":"#N/A"},1905532]
[125,{"$f":"IF(A157>$A$8,\"\",OFFSET(InputPriceData!B$15,$A157+$A$11,0,1,1))","v":"2024-01-12T05:00:00"},{"$f":"IF(A157>$A$8,\"\",OFFSET(InputPriceData!G$15,CalculationsAndCharts!$A157+$A$11,IF($C$5,8,0),1,1))","v":1519899},{"$f":"IF(A157>$A$8,\"\",OFFSET(InputPriceData!C$15,CalculationsAndCharts!$A157+$A$11,IF($C$5,8,0),1,1))","v":4811.25},{"$f":"IF(A157>$A$8,\"\",OFFSET(InputPriceData!D$15,CalculationsAndCharts!$A157+$A$11,IF($C$5,8,0),1,1))","v":4836.5},{"$f":"IF(A157>$A$8,\"\",OFFSET(InputPriceData!E$15,CalculationsAndCharts!$A157+$A$11,IF($C$5,8,0),1,1))","v":4791.5},{"$f":"IF(A157>$A$8,\"\",OFFSET(InputPriceData!F$15,CalculationsAndCharts!$A157+$A$11,IF($C$5,8,0),1,1))","v":4816.5},1,0,{"$f":"IF($A157>$J$30,NA(),AVERAGE(H157:H160))","v":7.125},3.3125,null,null,{"$f":"IF($A157>$J$30,NA(),IF($A157>$N$30,0,(1-$M$35)*J157+(2*$M$35-$M$36)*J158-($M$35+$M$37)*J159+$M$36*N158+$M$37*N159))","v":16.870027386237236},8.232233593694243,0.3441042143354599,0.28973203319738394,null,null,12.948674462910983,8.3601259511867472,0.21533584352728222,-0.27224131640411109,null,null,null,null,null,null,null,null,null,null,null,null,null,null,null,null,null,null,null,null,null,null,null,null,null,null,null,null,null,null,null,1519899,{"$error":"#N/A"}]
[126,{"$f":"IF(A158>$A$8,\"\",OFFSET(InputPriceData!B$15,$A158+$A$11,0,1,1))","v":"2024-01-11T05:00:00"},{"$f":"IF(A158>$A$8,\"\",OFFSET(InputPriceData!G$15,CalculationsAndCharts!$A158+$A$11,IF($C$5,8,0),1,1))","v":1795564},{"$f":"IF(A158>$A$8,\"\",OFFSET(InputPriceData!C$15,CalculationsAndCharts!$A158+$A$11,IF($C$5,8,0),1,1))","v":4820.5},{"$f":"IF(A158>$A$8,\"\",OFFSET(InputPriceData!D$15,CalculationsAndCharts!$A158+$A$11,IF($C$5,8,0),1,1))","v":4838},{"$f":"IF(A158>$A$8,\"\",OFFSET(InputPriceData!E$15,CalculationsAndCharts!$A158+$A$11,IF($C$5,8,0),1,1))","v":4772.75},{"$f":"IF(A158>$A$8,\"\",OFFSET(InputPriceData!F$15,CalculationsAndCharts!$A158+$A$11,IF($C$5,8,0),1,1))","v":4815.5},0,4.75,{"$f":"IF($A158>$J$30,NA(),AVERAGE(H158:H161))","v":23.5},3.3125,null,null,{"$f":"IF($A158>$J$30,NA(),IF($A158>$N$30,0,(1-$M$35)*J158+(2*$M$35-$M$36)*J159-($M$35+$M$37)*J160+$M$36*N159+$M$37*N160))","v":17.037565689733725},8.6271990361148774,0.32770090602655078,0.26275690257512163,null,null,12.119454638128806,10.927311292014142,5.1727142529592637E-2,-0.587704527374459,null,null,null,null,null,null,null,null,null,null,null,null,null,null,null,null,null,null,null,null,null,null,null,null,null,null,null,null,null,null,null,{"$error":"#N/A"},1795564]
[127,{"$f":"IF(A159>$A$8,\"\",OFFSET(InputPriceData!B$15,$A159+$A$11,0,1,1))","v":"2024-01-10T05:00:00"},{"$f":"IF(A159>$A$8,\"\",OFFSET(InputPriceData!G$15,CalculationsAndCharts!$A159+$A$11,IF($C$5,8,0),1,1))","v":1377780},{"$f":"IF(A159>$A$8,\"\",OFFSET(InputPriceData!C$15,CalculationsAndCharts!$A159+$A$11,IF($C$5,8,0),1,1))","v":4790.75},{"$f":"IF(A159>$A$8,\"\",OFFSET(InputPriceData!D$15,CalculationsAndCharts!$A159+$A$11,IF($C$5,8,0),1,1))","v":4828.5},{"$f":"IF(A159>$A$8,\"\",OFFSET(InputPriceData!E$15,CalculationsAndCharts!$A159+$A$11,IF($C$5,8,0),1,1))","v":4786},{"$f":"IF(A159>$A$8,\"\",OFFSET(InputPriceData!F$15,CalculationsAndCharts!$A159+$A$11,IF($C$5,8,0),1,1))","v":4820.25},27.5,0,{"$f":"IF($A159>$J$30,NA(),AVERAGE(H159:H162))","v":24.8125},2.125,null,null,{"$f":"IF($A159>$J$30,NA(),IF($A159>$N$30,0,(1-$M$35)*J159+(2*$M$35-$M$36)*J160-($M$35+$M$37)*J161+$M$36*N160+$M$37*N161))","v":16.497655931474661},9.0854194777251926,0.28973203319738394,0.26752361968626737,null,null,8.1274371468327438,14.208090631893869,-0.27224131640411109,-0.82774239888815837,null,null,null,null,null,null,null,null,null,null,null,null,null,null,null,null,null,null,null,null,null,null,null,null,null,null,null,null,null,null,null,1377780,{"$error":"#N/A"}]
[128,{"$f":"IF(A160>$A$8,\"\",OFFSET(InputPriceData!B$15,$A160+$A$11,0,1,1))","v":"2024-01-09T05:00:00"},{"$f":"IF(A160>$A$8,\"\",OFFSET(InputPriceData!G$15,CalculationsAndCharts!$A160+$A$11,IF($C$5,8,0),1,1))","v":1369103},{"$f":"IF(A160>$A$8,\"\",OFFSET(InputPriceData!C$15,CalculationsAndCharts!$A160+$A$11,IF($C$5,8,0),1,1))","v":4797.75},{"$f":"IF(A160>$A$8,\"\",OFFSET(InputPriceData!D$15,CalculationsAndCharts!$A160+$A$11,IF($C$5,8,0),1,1))","v":4804},{"$f":"IF(A160>$A$8,\"\",OFFSET(InputPriceData!E$15,CalculationsAndCharts!$A160+$A$11,IF($C$5,8,0),1,1))","v":4767.5},{"$f":"IF(A160>$A$8,\"\",OFFSET(InputPriceData!F$15,CalculationsAndCharts!$A160+$A$11,IF($C$5,8,0),1,1))","v":4792.75},0,8.5,{"$f":"IF($A160>$J$30,NA(),AVERAGE(H160:H163))","v":17.9375},6.375,null,null,{"$f":"IF($A160>$J$30,NA(),IF($A160>$N$30,0,(1-$M$35)*J160+(2*$M$35-$M$36)*J161-($M$35+$M$37)*J162+$M$36*N161+$M$37*N162))","v":16.163301446024612},9.4367192912416478,0.26275690257512163,0.32536879673126734,null,null,4.5468780767672703,17.509527480209975,-0.587704527374459,-0.81451655435116721,null,null,null,null,null,null,null,null,null,null,null,null,null,null,null,null,null,null,null,null,null,null,null,null,null,null,null,null,null,null,null,{"$error":"#N/A"},1369103]
[129,{"$f":"IF(A161>$A$8,\"\",OFFSET(InputPriceData!B$15,$A161+$A$11,0,1,1))","v":"2024-01-08T05:00:00"},{"$f":"IF(A161>$A$8,\"\",OFFSET(InputPriceData!G$15,CalculationsAndCharts!$A161+$A$11,IF($C$5,8,0),1,1))","v":1417728},{"$f":"IF(A161>$A$8,\"\",OFFSET(InputPriceData!C$15,CalculationsAndCharts!$A161+$A$11,IF($C$5,8,0),1,1))","v":4735.75},{"$f":"IF(A161>$A$8,\"\",OFFSET(InputPriceData!D$15,CalculationsAndCharts!$A161+$A$11,IF($C$5,8,0),1,1))","v":4803.25},{"$f":"IF(A161>$A$8,\"\",OFFSET(InputPriceData!E$15,CalculationsAndCharts!$A161+$A$11,IF($C$5,8,0),1,1))","v":4715.25},{"$f":"IF(A161>$A$8,\"\",OFFSET(InputPriceData!F$15,CalculationsAndCharts!$A161+$A$11,IF($C$5,8,0),1,1))","v":4801.25},66.5,0,{"$f":"IF($A161>$J$30,NA(),AVERAGE(H161:H164))","v":17.9375},14.4375,null,null,{"$f":"IF($A161>$J$30,NA(),IF($A161>$N$30,0,(1-$M$35)*J161+(2*$M$35-$M$36)*J162-($M$35+$M$37)*J163+$M$36*N162+$M$37*N163))","v":16.096565568921744},9.3018811644115633,0.26752361968626737,0.42919121036967811,null,null,{"$f":"IF($A161>$J$30,NA(),IF($A161>$N$30,0,(1-S$35)*$J161+(2*S$35-S$36)*$J162-(S$35+S$37)*$J163+S$36*T162+S$37*T163))","v":1.8042739733844679},{"$f":"IF($A161>$J$30,NA(),IF($A161>$N$30,0,(1-S$35)*$K161+(2*S$35-S$36)*$K162-(S$35+S$37)*$K163+S$36*U162+S$37*U163))","v":19.144281698338929},{"$f":"IF($A161>$N$30,NA(),(T161-U161)/(T161+U161))","v":-0.82774239888815837},{"$f":"IF($A161>$N$30,NA(),OFFSET(V161,$C$18,0,1,1))","v":-0.45919110899087529},null,null,null,null,null,null,null,null,null,null,null,null,null,null,null,null,null,null,null,null,null,null,null,null,null,null,null,null,null,null,null,1417728,{"$error":"#N/A"}]
[130,{"$f":"IF(A162>$A$8,\"\",OFFSET(InputPriceData!B$15,$A162+$A$11,0,1,1))","v":"2024-01-05T05:00:00"},{"$f":"IF(A162>$A$8,\"\",OFFSET(InputPriceData!G$15,CalculationsAndCharts!$A162+$A$11,IF($C$5,8,0),1,1))","v":1767245},{"$f":"IF(A162>$A$8,\"\",OFFSET(InputPriceData!C$15,CalculationsAndCharts!$A162+$A$11,IF($C$5,8,0),1,1))","v":4732.75},{"$f":"IF(A162>$A$8,\"\",OFFSET(InputPriceData!D$15,CalculationsAndCharts!$A162+$A$11,IF($C$5,8,0),1,1))","v":4760.25},{"$f":"IF(A162>$A$8,\"\",OFFSET(InputPriceData!E$15,CalculationsAndCharts!$A162+$A$11,IF($C$5,8,0),1,1))","v":4702},{"$f":"IF(A162>$A$8,\"\",OFFSET(InputPriceData!F$15,CalculationsAndCharts!$A162+$A$11,IF($C$5,8,0),1,1))","v":4734.75},{"$f":"IF($A162>$H$30,NA(),IF($G162>$G163,$G162-$G163,0))","v":5.25},{"$f":"IF($A162>$H$30,NA(),IF(G162<G163,G163-G162,0))","v":0},{"$f":"IF($A162>$J$30,NA(),AVERAGE(H162:H165))","v":1.3125},22.625,null,null,{"$f":"IF($A162>$J$30,NA(),IF($A162>$N$30,0,(1-$M$35)*J162+(2*$M$35-$M$36)*J163-($M$35+$M$37)*J164+$M$36*N163+$M$37*N164))","v":16.702990417925598},8.5020550895888025,{"$f":"IF($A162>$N$30,NA(),(N162-O162)/(N162+O162))","v":0.32536879673126734},{"$f":"IF($A162>$N$30,NA(),OFFSET(P162,$C$17,0,1,1))","v":0.53535679388242341},null,null,1.8481366915304642,18.079643764192305,-0.81451655435116721,-2.1064095746723053E-2,null,null,null,null,null,null,null,null,null,null,null,null,null,null,null,null,null,null,null,null,null,null,null,null,null,null,null,null,null,null,null,1767245,{"$error":"#N/A"}]
[131,{"$f":"IF(A163>$A$8,\"\",OFFSET(InputPriceData!B$15,$A163+$A$11,0,1,1))","v":"2024-01-04T05:00:00"},{"$f":"IF(A163>$A$8,\"\",OFFSET(InputPriceData!G$15,CalculationsAndCharts!$A163+$A$11,IF($C$5,8,0),1,1))","v":1395366},{"$f":"IF(A163>$A$8,\"\",OFFSET(InputPriceData!C$15,CalculationsAndCharts!$A163+$A$11,IF($C$5,8,0),1,1))","v":4750},{"$f":"IF(A163>$A$8,\"\",OFFSET(InputPriceData!D$15,CalculationsAndCharts!$A163+$A$11,IF($C$5,8,0),1,1))","v":4766.5},{"$f":"IF(A163>$A$8,\"\",OFFSET(InputPriceData!E$15,CalculationsAndCharts!$A163+$A$11,IF($C$5,8,0),1,1))","v":4727},{"$f":"IF(A163>$A$8,\"\",OFFSET(InputPriceData!F$15,CalculationsAndCharts!$A163+$A$11,IF($C$5,8,0),1,1))","v":4729.5},0,17,{"$f":"IF($A163>$J$30,NA(),AVERAGE(H163:H166))","v":0},25.6875,null,null,{"$f":"IF($A163>$J$30,NA(),IF($A163>$N$30,0,(1-$M$35)*J163+(2*$M$35-$M$36)*J164-($M$35+$M$37)*J165+$M$36*N164+$M$37*N165))","v":18.062056665061142},7.2138567802631766,0.42919121036967811,0.60695038025657555,null,null,5.4516905410931837,14.709555443308357,-0.45919110899087529,0.30349729342998899,null,null,null,null,null,null,null,null,null,null,null,null,null,null,null,null,null,null,null,null,null,null,null,null,null,null,null,null,null,null,null,{"$error":"#N/A"},1395366]
[132,{"$f":"IF(A164>$A$8,\"\",OFFSET(InputPriceData!B$15,$A164+$A$11,0,1,1))","v":"2024-01-03T05:00:00"},{"$f":"IF(A164>$A$8,\"\",OFFSET(InputPriceData!G$15,CalculationsAndCharts!$A164+$A$11,IF($C$5,8,0),1,1))","v":1707174},{"$f":"IF(A164>$A$8,\"\",OFFSET(InputPriceData!C$15,CalculationsAndCharts!$A164+$A$11,IF($C$5,8,0),1,1))","v":4790.75},{"$f":"IF(A164>$A$8,\"\",OFFSET(InputPriceData!D$15,CalculationsAndCharts!$A164+$A$11,IF($C$5,8,0),1,1))","v":4790.75},{"$f":"IF(A164>$A$8,\"\",OFFSET(InputPriceData!E$15,CalculationsAndCharts!$A164+$A$11,IF($C$5,8,0),1,1))","v":4741},{"$f":"IF(A164>$A$8,\"\",OFFSET(InputPriceData!F$15,CalculationsAndCharts!$A164+$A$11,IF($C$5,8,0),1,1))","v":4746.5},0,40.75,{"$f":"IF($A164>$J$30,NA(),AVERAGE(H164:H167))","v":0},21.75,null,null,{"$f":"IF($A164>$J$30,NA(),IF($A164>$N$30,0,(1-$M$35)*J164+(2*$M$35-$M$36)*J165-($M$35+$M$37)*J166+$M$36*N165+$M$37*N166))","v":19.52944727069843},5.9101734721970915,0.53535679388242341,0.62818607106347635,null,null,10.343657985703961,10.788793977213889,-2.1064095746723053E-2,0.40699998176126118,null,null,null,null,null,null,null,null,null,null,null,null,null,null,null,null,null,null,null,null,null,null,null,null,null,null,null,null,null,null,null,{"$error":"#N/A"},1707174]
[133,{"$f":"IF(A165>$A$8,\"\",OFFSET(InputPriceData!B$15,$A165+$A$11,0,1,1))","v":"2024-01-02T05:00:00"},{"$f":"IF(A165>$A$8,\"\",OFFSET(InputPriceData!G$15,CalculationsAndCharts!$A165+$A$11,IF($C$5,8,0),1,1))","v":1678142},{"$f":"IF(A165>$A$8,\"\",OFFSET(InputPriceData!C$15,CalculationsAndCharts!$A165+$A$11,IF($C$5,8,0),1,1))","v":4818},{"$f":"IF(A165>$A$8,\"\",OFFSET(InputPriceData!D$15,CalculationsAndCharts!$A165+$A$11,IF($C$5,8,0),1,1))","v":4828},{"$f":"IF(A165>$A$8,\"\",OFFSET(InputPriceData!E$15,CalculationsAndCharts!$A165+$A$11,IF($C$5,8,0),1,1))","v":4765.5},{"$f":"IF(A165>$A$8,\"\",OFFSET(InputPriceData!F$15,CalculationsAndCharts!$A165+$A$11,IF($C$5,8,0),1,1))","v":4787.25},0,32.75,{"$f":"IF($A165>$J$30,NA(),AVERAGE(H165:H168))","v":2.125},11.5625,null,null,{"$f":"IF($A165>$J$30,NA(),IF($A165>$N$30,0,(1-$M$35)*J165+(2*$M$35-$M$36)*J166-($M$35+$M$37)*J167+$M$36*N166+$M$37*N167))","v":20.968072782458741},5.1286543350404941,0.60695038025657555,0.61833666559155465,null,null,16.086726987373023,8.5956825096851972,0.30349729342998899,0.39705767572748207,null,null,null,null,null,null,null,null,null,null,null,null,null,null,null,null,null,null,null,null,null,null,null,null,null,null,null,null,null,null,null,{"$error":"#N/A"},1678142]
[134,{"$f":"IF(A166>$A$8,\"\",OFFSET(InputPriceData!B$15,$A166+$A$11,0,1,1))","v":"2023-12-29T05:00:00"},{"$f":"IF(A166>$A$8,\"\",OFFSET(InputPriceData!G$15,CalculationsAndCharts!$A166+$A$11,IF($C$5,8,0),1,1))","v":1281733},{"$f":"IF(A166>$A$8,\"\",OFFSET(InputPriceData!C$15,CalculationsAndCharts!$A166+$A$11,IF($C$5,8,0),1,1))","v":4834.75},{"$f":"IF(A166>$A$8,\"\",OFFSET(InputPriceData!D$15,CalculationsAndCharts!$A166+$A$11,IF($C$5,8,0),1,1))","v":4841},{"$f":"IF(A166>$A$8,\"\",OFFSET(InputPriceData!E$15,CalculationsAndCharts!$A166+$A$11,IF($C$5,8,0),1,1))","v":4796.75},{"$f":"IF(A166>$A$8,\"\",OFFSET(InputPriceData!F$15,CalculationsAndCharts!$A166+$A$11,IF($C$5,8,0),1,1))","v":4820},0,12.25,{"$f":"IF($A166>$J$30,NA(),AVERAGE(H166:H169))","v":7.0625},3.375,null,null,{"$f":"IF($A166>$J$30,NA(),IF($A166>$N$30,0,(1-$M$35)*J166+(2*$M$35-$M$36)*J167-($M$35+$M$37)*J168+$M$36*N167+$M$37*N168))","v":22.174557040236696},5.0638003371274536,0.62818607106347635,0.59381348234231734,null,null,21.873534423563257,9.2189100783653064,0.40699998176126118,0.34363166601290679,null,null,null,null,null,null,null,null,null,null,null,null,null,null,null,null,null,null,null,null,null,null,null,null,null,null,null,null,null,null,null,{"$error":"#N/A"},1281733]
[135,{"$f":"IF(A167>$A$8,\"\",OFFSET(InputPriceData!B$15,$A167+$A$11,0,1,1))","v":"2023-12-28T05:00:00"},{"$f":"IF(A167>$A$8,\"\",OFFSET(InputPriceData!G$15,CalculationsAndCharts!$A167+$A$11,IF($C$5,8,0),1,1))","v":927035},{"$f":"IF(A167>$A$8,\"\",OFFSET(InputPriceData!C$15,CalculationsAndCharts!$A167+$A$11,IF($C$5,8,0),1,1))","v":4834.5},{"$f":"IF(A167>$A$8,\"\",OFFSET(InputPriceData!D$15,CalculationsAndCharts!$A167+$A$11,IF($C$5,8,0),1,1))","v":4841.5},{"$f":"IF(A167>$A$8,\"\",OFFSET(InputPriceData!E$15,CalculationsAndCharts!$A167+$A$11,IF($C$5,8,0),1,1))","v":4828},{"$f":"IF(A167>$A$8,\"\",OFFSET(InputPriceData!F$15,CalculationsAndCharts!$A167+$A$11,IF($C$5,8,0),1,1))","v":4832.25},0,1.25,{"$f":"IF($A167>$J$30,NA(),AVERAGE(H167:H170))","v":9.1875},0.3125,null,null,{"$f":"IF($A167>$J$30,NA(),IF($A167>$N$30,0,(1-$M$35)*J167+(2*$M$35-$M$36)*J168-($M$35+$M$37)*J169+$M$36*N168+$M$37*N169))","v":23.137345530260983},5.45663744274857,0.61833666559155465,0.60121411547879955,null,null,27.58734658944601,11.906150449007473,0.39705767572748207,0.35493064415189235,null,null,null,null,null,null,null,null,null,null,null,null,null,null,null,null,null,null,null,null,null,null,null,null,null,null,null,null,null,null,null,{"$error":"#N/A"},927035]
[136,{"$f":"IF(A168>$A$8,\"\",OFFSET(InputPriceData!B$15,$A168+$A$11,0,1,1))","v":"2023-12-27T05:00:00"},{"$f":"IF(A168>$A$8,\"\",OFFSET(InputPriceData!G$15,CalculationsAndCharts!$A168+$A$11,IF($C$5,8,0),1,1))","v":1042284},{"$f":"IF(A168>$A$8,\"\",OFFSET(InputPriceData!C$15,CalculationsAndCharts!$A168+$A$11,IF($C$5,8,0),1,1))","v":4827.75},{"$f":"IF(A168>$A$8,\"\",OFFSET(InputPriceData!D$15,CalculationsAndCharts!$A168+$A$11,IF($C$5,8,0),1,1))","v":4836.5},{"$f":"IF(A168>$A$8,\"\",OFFSET(InputPriceData!E$15,CalculationsAndCharts!$A168+$A$11,IF($C$5,8,0),1,1))","v":4816.5},{"$f":"IF(A168>$A$8,\"\",OFFSET(InputPriceData!F$15,CalculationsAndCharts!$A168+$A$11,IF($C$5,8,0),1,1))","v":4833.5},8.5,0,{"$f":"IF($A168>$J$30,NA(),AVERAGE(H168:H171))","v":20.9375},0,null,null,{"$f":"IF($A168>$J$30,NA(),IF($A168>$N$30,0,(1-$M$35)*J168+(2*$M$35-$M$36)*J169-($M$35+$M$37)*J170+$M$36*N169+$M$37*N170))","v":23.569095346179115},6.0066305556262165,0.59381348234231734,0.64866427201322496,null,null,31.900674297560638,15.583580657850936,0.34363166601290679,0.44667357397242635,null,null,null,null,null,null,null,null,null,null,null,null,null,null,null,null,null,null,null,null,null,null,null,null,null,null,null,null,null,null,null,1042284,{"$error":"#N/A"}]
[137,{"$f":"IF(A169>$A$8,\"\",OFFSET(InputPriceData!B$15,$A169+$A$11,0,1,1))","v":"2023-12-26T05:00:00"},{"$f":"IF(A169>$A$8,\"\",OFFSET(InputPriceData!G$15,CalculationsAndCharts!$A169+$A$11,IF($C$5,8,0),1,1))","v":688201},{"$f":"IF(A169>$A$8,\"\",OFFSET(InputPriceData!C$15,CalculationsAndCharts!$A169+$A$11,IF($C$5,8,0),1,1))","v":4800.25},{"$f":"IF(A169>$A$8,\"\",OFFSET(InputPriceData!D$15,CalculationsAndCharts!$A169+$A$11,IF($C$5,8,0),1,1))","v":4834.5},{"$f":"IF(A169>$A$8,\"\",OFFSET(InputPriceData!E$15,CalculationsAndCharts!$A169+$A$11,IF($C$5,8,0),1,1))","v":4800.25},{"$f":"IF(A169>$A$8,\"\",OFFSET(InputPriceData!F$15,CalculationsAndCharts!$A169+$A$11,IF($C$5,8,0),1,1))","v":4825},19.75,0,{"$f":"IF($A169>$J$30,NA(),AVERAGE(H169:H172))","v":18.8125},17.625,null,null,{"$f":"IF($A169>$J$30,NA(),IF($A169>$N$30,0,(1-$M$35)*J169+(2*$M$35-$M$36)*J170-($M$35+$M$37)*J171+$M$36*N170+$M$37*N171))","v":23.619216783797587},5.8824177015253252,0.60121411547879955,0.68938965733400559,null,null,35.17619369347927,16.747045101518268,0.35493064415189235,0.51266669365667206,null,null,null,null,null,null,null,null,null,null,null,null,null,null,null,null,null,null,null,null,null,null,null,null,null,null,null,null,null,null,null,688201,{"$error":"#N/A"}]
[138,{"$f":"IF(A170>$A$8,\"\",OFFSET(InputPriceData!B$15,$A170+$A$11,0,1,1))","v":"2023-12-22T05:00:00"},{"$f":"IF(A170>$A$8,\"\",OFFSET(InputPriceData!G$15,CalculationsAndCharts!$A170+$A$11,IF($C$5,8,0),1,1))","v":1326697},{"$f":"IF(A170>$A$8,\"\",OFFSET(InputPriceData!C$15,CalculationsAndCharts!$A170+$A$11,IF($C$5,8,0),1,1))","v":4795.75},{"$f":"IF(A170>$A$8,\"\",OFFSET(InputPriceData!D$15,CalculationsAndCharts!$A170+$A$11,IF($C$5,8,0),1,1))","v":4821.75},{"$f":"IF(A170>$A$8,\"\",OFFSET(InputPriceData!E$15,CalculationsAndCharts!$A170+$A$11,IF($C$5,8,0),1,1))","v":4784.75},{"$f":"IF(A170>$A$8,\"\",OFFSET(InputPriceData!F$15,CalculationsAndCharts!$A170+$A$11,IF($C$5,8,0),1,1))","v":4805.25},8.5,0,{"$f":"IF($A170>$J$30,NA(),AVERAGE(H170:H173))","v":20.6875},17.625,null,null,{"$f":"IF($A170>$J$30,NA(),IF($A170>$N$30,0,(1-$M$35)*J170+(2*$M$35-$M$36)*J171-($M$35+$M$37)*J172+$M$36*N171+$M$37*N172))","v":23.671334161213505},5.044438434874662,0.64866427201322496,0.75254115366875385,null,null,38.81514131209434,14.846088160027278,0.44667357397242635,0.62848428347783869,null,null,null,null,null,null,null,null,null,null,null,null,null,null,null,null,null,null,null,null,null,null,null,null,null,null,null,null,null,null,null,1326697,{"$error":"#N/A"}]
[139,{"$f":"IF(A171>$A$8,\"\",OFFSET(InputPriceData!B$15,$A171+$A$11,0,1,1))","v":"2023-12-21T05:00:00"},{"$f":"IF(A171>$A$8,\"\",OFFSET(InputPriceData!G$15,CalculationsAndCharts!$A171+$A$11,IF($C$5,8,0),1,1))","v":1687065},{"$f":"IF(A171>$A$8,\"\",OFFSET(InputPriceData!C$15,CalculationsAndCharts!$A171+$A$11,IF($C$5,8,0),1,1))","v":4751},{"$f":"IF(A171>$A$8,\"\",OFFSET(InputPriceData!D$15,CalculationsAndCharts!$A171+$A$11,IF($C$5,8,0),1,1))","v":4798.25},{"$f":"IF(A171>$A$8,\"\",OFFSET(InputPriceData!E$15,CalculationsAndCharts!$A171+$A$11,IF($C$5,8,0),1,1))","v":4751},{"$f":"IF(A171>$A$8,\"\",OFFSET(InputPriceData!F$15,CalculationsAndCharts!$A171+$A$11,IF($C$5,8,0),1,1))","v":4796.75},47,0,{"$f":"IF($A171>$J$30,NA(),AVERAGE(H171:H174))","v":43.244999999999891},17.625,null,null,{"$f":"IF($A171>$J$30,NA(),IF($A171>$N$30,0,(1-$M$35)*J171+(2*$M$35-$M$36)*J172-($M$35+$M$37)*J173+$M$36*N172+$M$37*N173))","v":22.72638396707945},4.1784616597649036,0.68938965733400559,0.80036860918286545,null,null,38.486791920942366,12.399225576944929,0.51266669365667206,0.74285659538468041,null,null,null,null,null,null,null,null,null,null,null,null,null,null,null,null,null,null,null,null,null,null,null,null,null,null,null,null,null,null,null,1687065,{"$error":"#N/A"}]
[140,{"$f":"IF(A172>$A$8,\"\",OFFSET(InputPriceData!B$15,$A172+$A$11,0,1,1))","v":"2023-12-20T05:00:00"},{"$f":"IF(A172>$A$8,\"\",OFFSET(InputPriceData!G$15,CalculationsAndCharts!$A172+$A$11,IF($C$5,8,0),1,1))","v":1749145},{"$f":"IF(A172>$A$8,\"\",OFFSET(InputPriceData!C$15,CalculationsAndCharts!$A172+$A$11,IF($C$5,8,0),1,1))","v":4818.5},{"$f":"IF(A172>$A$8,\"\",OFFSET(InputPriceData!D$15,CalculationsAndCharts!$A172+$A$11,IF($C$5,8,0),1,1))","v":4830.75},{"$f":"IF(A172>$A$8,\"\",OFFSET(InputPriceData!E$15,CalculationsAndCharts!$A172+$A$11,IF($C$5,8,0),1,1))","v":4743.25},{"$f":"IF(A172>$A$8,\"\",OFFSET(InputPriceData!F$15,CalculationsAndCharts!$A172+$A$11,IF($C$5,8,0),1,1))","v":4749.75},0,70.5,{"$f":"IF($A172>$J$30,NA(),AVERAGE(H172:H175))","v":31.494999999999891},24.494999999999891,null,null,{"$f":"IF($A172>$J$30,NA(),IF($A172>$N$30,0,(1-$M$35)*J172+(2*$M$35-$M$36)*J173-($M$35+$M$37)*J174+$M$36*N173+$M$37*N174))","v":21.296400175796038},3.0070521353971635,0.75254115366875385,0.79091271455839107,null,null,35.792704780842058,8.1656006740955966,0.62848428347783869,0.7420869836423104,null,null,null,null,null,null,null,null,null,null,null,null,null,null,null,null,null,null,null,null,null,null,null,null,null,null,null,null,null,null,null,{"$error":"#N/A"},1749145]
[141,{"$f":"IF(A173>$A$8,\"\",OFFSET(InputPriceData!B$15,$A173+$A$11,0,1,1))","v":"2023-12-19T05:00:00"},{"$f":"IF(A173>$A$8,\"\",OFFSET(InputPriceData!G$15,CalculationsAndCharts!$A173+$A$11,IF($C$5,8,0),1,1))","v":1122973},{"$f":"IF(A173>$A$8,\"\",OFFSET(InputPriceData!C$15,CalculationsAndCharts!$A173+$A$11,IF($C$5,8,0),1,1))","v":4790.5},{"$f":"IF(A173>$A$8,\"\",OFFSET(InputPriceData!D$15,CalculationsAndCharts!$A173+$A$11,IF($C$5,8,0),1,1))","v":4821.5},{"$f":"IF(A173>$A$8,\"\",OFFSET(InputPriceData!E$15,CalculationsAndCharts!$A173+$A$11,IF($C$5,8,0),1,1))","v":4787.75},{"$f":"IF(A173>$A$8,\"\",OFFSET(InputPriceData!F$15,CalculationsAndCharts!$A173+$A$11,IF($C$5,8,0),1,1))","v":4820.25},27.25,0,{"$f":"IF($A173>$J$30,NA(),AVERAGE(H173:H176))","v":34.869999999999891},6.8699999999998909,null,null,{"$f":"IF($A173>$J$30,NA(),IF($A173>$N$30,0,(1-$M$35)*J173+(2*$M$35-$M$36)*J174-($M$35+$M$37)*J175+$M$36*N174+$M$37*N175))","v":20.139830406612049},2.2331773251245401,0.80036860918286545,0.78309796507055396,null,null,33.625813284481751,4.9611976876515236,0.74285659538468041,0.75433309107408486,null,null,null,null,null,null,null,null,null,null,null,null,null,null,null,null,null,null,null,null,null,null,null,null,null,null,null,null,null,null,null,{"$f":"IF(G173>=G174,C173,NA())","v":1122973},{"$f":"IF(G173<G174,C173,NA())","v":{"$error":"#N/A"}}]
[142,{"$f":"IF(A174>$A$8,\"\",OFFSET(InputPriceData!B$15,$A174+$A$11,0,1,1))","v":"2023-12-18T05:00:00"},{"$f":"IF(A174>$A$8,\"\",OFFSET(InputPriceData!G$15,CalculationsAndCharts!$A174+$A$11,IF($C$5,8,0),1,1))","v":1139029},{"$f":"IF(A174>$A$8,\"\",OFFSET(InputPriceData!C$15,CalculationsAndCharts!$A174+$A$11,IF($C$5,8,0),1,1))","v":4770.5},{"$f":"IF(A174>$A$8,\"\",OFFSET(InputPriceData!D$15,CalculationsAndCharts!$A174+$A$11,IF($C$5,8,0),1,1))","v":4802.25},{"$f":"IF(A174>$A$8,\"\",OFFSET(InputPriceData!E$15,CalculationsAndCharts!$A174+$A$11,IF($C$5,8,0),1,1))","v":4769.5},{"$f":"IF(A174>$A$8,\"\",OFFSET(InputPriceData!F$15,CalculationsAndCharts!$A174+$A$11,IF($C$5,8,0),1,1))","v":4793},98.729999999999563,0,{"$f":"IF($A174>$J$30,NA(),AVERAGE(H174:H177))","v":43.682499999999891},6.8699999999998909,null,null,{"$f":"IF($A174>$J$30,NA(),IF($A174>$N$30,0,(1-$M$35)*J174+(2*$M$35-$M$36)*J175-($M$35+$M$37)*J176+$M$36*N175+$M$37*N176))","v":18.437370643575242},2.1525447595566054,0.79091271455839107,0.75339555314660078,null,null,28.52786524643291,4.2235019519920378,0.7420869836423104,0.70951436409823043,null,null,null,null,null,null,null,null,null,null,null,null,null,null,null,null,null,null,null,null,null,null,null,null,null,null,null,null,null,null,null,1139029,{"$error":"#N/A"}]
[143,{"$f":"IF(A175>$A$8,\"\",OFFSET(InputPriceData!B$15,$A175+$A$11,0,1,1))","v":"2023-12-15T05:00:00"},{"$f":"IF(A175>$A$8,\"\",OFFSET(InputPriceData!G$15,CalculationsAndCharts!$A175+$A$11,IF($C$5,8,0),1,1))","v":1801823},{"$f":"IF(A175>$A$8,\"\",OFFSET(InputPriceData!C$15,CalculationsAndCharts!$A175+$A$11,IF($C$5,8,0),1,1))","v":4716},{"$f":"IF(A175>$A$8,\"\",OFFSET(InputPriceData!D$15,CalculationsAndCharts!$A175+$A$11,IF($C$5,8,0),1,1))","v":4736.5},{"$f":"IF(A175>$A$8,\"\",OFFSET(InputPriceData!E$15,CalculationsAndCharts!$A175+$A$11,IF($C$5,8,0),1,1))","v":4694.2700000000004},{"$f":"IF(A175>$A$8,\"\",OFFSET(InputPriceData!F$15,CalculationsAndCharts!$A175+$A$11,IF($C$5,8,0),1,1))","v":4694.2700000000004},0,27.479999999999563,{"$f":"IF($A175>$J$30,NA(),AVERAGE(H175:H178))","v":23.9375},6.8699999999998909,null,null,{"$f":"IF($A175>$J$30,NA(),IF($A175>$N$30,0,(1-$M$35)*J175+(2*$M$35-$M$36)*J176-($M$35+$M$37)*J177+$M$36*N176+$M$37*N177))","v":17.104905508380728},2.0806982480611311,0.78309796507055396,0.68929952791793958,null,null,24.040306175893694,3.3664688524164559,0.75433309107408486,0.52694634241294502,null,null,null,null,null,null,null,null,null,null,null,null,null,null,null,null,null,null,null,null,null,null,null,null,null,null,null,null,null,null,null,{"$error":"#N/A"},1801823]
[144,{"$f":"IF(A176>$A$8,\"\",OFFSET(InputPriceData!B$15,$A176+$A$11,0,1,1))","v":"2023-12-14T05:00:00"},{"$f":"IF(A176>$A$8,\"\",OFFSET(InputPriceData!G$15,CalculationsAndCharts!$A176+$A$11,IF($C$5,8,0),1,1))","v":560819},{"$f":"IF(A176>$A$8,\"\",OFFSET(InputPriceData!C$15,CalculationsAndCharts!$A176+$A$11,IF($C$5,8,0),1,1))","v":4708},{"$f":"IF(A176>$A$8,\"\",OFFSET(InputPriceData!D$15,CalculationsAndCharts!$A176+$A$11,IF($C$5,8,0),1,1))","v":4739.25},{"$f":"IF(A176>$A$8,\"\",OFFSET(InputPriceData!E$15,CalculationsAndCharts!$A176+$A$11,IF($C$5,8,0),1,1))","v":4694.25},{"$f":"IF(A176>$A$8,\"\",OFFSET(InputPriceData!F$15,CalculationsAndCharts!$A176+$A$11,IF($C$5,8,0),1,1))","v":4721.75},13.5,0,{"$f":"IF($A176>$J$30,NA(),AVERAGE(H176:H179))","v":28.5625},0,null,null,{"$f":"IF($A176>$J$30,NA(),IF($A176>$N$30,0,(1-$M$35)*J176+(2*$M$35-$M$36)*J177-($M$35+$M$37)*J178+$M$36*N177+$M$37*N178))","v":16.328873608390058},2.2965570071794423,0.75339555314660078,0.62274472614742415,null,null,21.053406049282742,3.5774557807533274,0.70951436409823043,0.26054102314861843,null,null,null,null,null,null,null,null,null,null,null,null,null,null,null,null,null,null,null,null,null,null,null,null,null,null,null,null,null,null,null,560819,{"$error":"#N/A"}]
[145,{"$f":"IF(A177>$A$8,\"\",OFFSET(InputPriceData!B$15,$A177+$A$11,0,1,1))","v":"2023-12-13T05:00:00"},{"$f":"IF(A177>$A$8,\"\",OFFSET(InputPriceData!G$15,CalculationsAndCharts!$A177+$A$11,IF($C$5,8,0),1,1))","v":739684},{"$f":"IF(A177>$A$8,\"\",OFFSET(InputPriceData!C$15,CalculationsAndCharts!$A177+$A$11,IF($C$5,8,0),1,1))","v":4649},{"$f":"IF(A177>$A$8,\"\",OFFSET(InputPriceData!D$15,CalculationsAndCharts!$A177+$A$11,IF($C$5,8,0),1,1))","v":4711.75},{"$f":"IF(A177>$A$8,\"\",OFFSET(InputPriceData!E$15,CalculationsAndCharts!$A177+$A$11,IF($C$5,8,0),1,1))","v":4645},{"$f":"IF(A177>$A$8,\"\",OFFSET(InputPriceData!F$15,CalculationsAndCharts!$A177+$A$11,IF($C$5,8,0),1,1))","v":4708.25},62.5,0,{"$f":"IF($A177>$J$30,NA(),AVERAGE(H177:H180))","v":29.6875},0,null,null,{"$f":"IF($A177>$J$30,NA(),IF($A177>$N$30,0,(1-$M$35)*J177+(2*$M$35-$M$36)*J178-($M$35+$M$37)*J179+$M$36*N178+$M$37*N179))","v":15.288608849745779},2.8119216921516403,0.68929952791793958,0.57934711743041101,null,null,16.268957835250589,5.0401836628608576,0.52694634241294502,2.5280322454144795E-3,null,null,null,null,null,null,null,null,null,null,null,null,null,null,null,null,null,null,null,null,null,null,null,null,null,null,null,null,null,null,null,739684,{"$error":"#N/A"}]
[146,{"$f":"IF(A178>$A$8,\"\",OFFSET(InputPriceData!B$15,$A178+$A$11,0,1,1))","v":"2023-12-12T05:00:00"},{"$f":"IF(A178>$A$8,\"\",OFFSET(InputPriceData!G$15,CalculationsAndCharts!$A178+$A$11,IF($C$5,8,0),1,1))","v":1052077},{"$f":"IF(A178>$A$8,\"\",OFFSET(InputPriceData!C$15,CalculationsAndCharts!$A178+$A$11,IF($C$5,8,0),1,1))","v":4625},{"$f":"IF(A178>$A$8,\"\",OFFSET(InputPriceData!D$15,CalculationsAndCharts!$A178+$A$11,IF($C$5,8,0),1,1))","v":4649.75},{"$f":"IF(A178>$A$8,\"\",OFFSET(InputPriceData!E$15,CalculationsAndCharts!$A178+$A$11,IF($C$5,8,0),1,1))","v":4610.5},{"$f":"IF(A178>$A$8,\"\",OFFSET(InputPriceData!F$15,CalculationsAndCharts!$A178+$A$11,IF($C$5,8,0),1,1))","v":4645.75},19.75,0,{"$f":"IF($A178>$J$30,NA(),AVERAGE(H178:H181))","v":22.4375},0,null,null,{"$f":"IF($A178>$J$30,NA(),IF($A178>$N$30,0,(1-$M$35)*J178+(2*$M$35-$M$36)*J179-($M$35+$M$37)*J180+$M$36*N179+$M$37*N180))","v":14.45557378928963},3.360628052399623,0.62274472614742415,0.56098078430958132,null,null,11.509611772017246,6.7517721268870217,0.26054102314861843,-0.21160322038239723,null,null,null,null,null,null,null,null,null,null,null,null,null,null,null,null,null,null,null,null,null,null,null,null,null,null,null,null,null,null,null,1052077,{"$error":"#N/A"}]
[147,{"$f":"IF(A179>$A$8,\"\",OFFSET(InputPriceData!B$15,$A179+$A$11,0,1,1))","v":"2023-12-11T05:00:00"},{"$f":"IF(A179>$A$8,\"\",OFFSET(InputPriceData!G$15,CalculationsAndCharts!$A179+$A$11,IF($C$5,8,0),1,1))","v":1663229},{"$f":"IF(A179>$A$8,\"\",OFFSET(InputPriceData!C$15,CalculationsAndCharts!$A179+$A$11,IF($C$5,8,0),1,1))","v":4607.75},{"$f":"IF(A179>$A$8,\"\",OFFSET(InputPriceData!D$15,CalculationsAndCharts!$A179+$A$11,IF($C$5,8,0),1,1))","v":4627.25},{"$f":"IF(A179>$A$8,\"\",OFFSET(InputPriceData!E$15,CalculationsAndCharts!$A179+$A$11,IF($C$5,8,0),1,1))","v":4599.5},{"$f":"IF(A179>$A$8,\"\",OFFSET(InputPriceData!F$15,CalculationsAndCharts!$A179+$A$11,IF($C$5,8,0),1,1))","v":4626},18.5,0,{"$f":"IF($A179>$J$30,NA(),AVERAGE(H179:H182))","v":17.5},4.75,null,null,{"$f":"IF($A179>$J$30,NA(),IF($A179>$N$30,0,(1-$M$35)*J179+(2*$M$35-$M$36)*J180-($M$35+$M$37)*J181+$M$36*N180+$M$37*N181))","v":14.084865713684986},3.7514484926574223,0.57934711743041101,0.57242644930604414,null,null,7.9273488903673437,7.8873687741592944,2.5280322454144795E-3,-0.30108603179605653,null,null,null,null,null,null,null,null,null,null,null,null,null,null,null,null,null,null,null,null,null,null,null,null,null,null,null,null,null,null,null,1663229,{"$error":"#N/A"}]
[148,{"$f":"IF(A180>$A$8,\"\",OFFSET(InputPriceData!B$15,$A180+$A$11,0,1,1))","v":"2023-12-08T05:00:00"},{"$f":"IF(A180>$A$8,\"\",OFFSET(InputPriceData!G$15,CalculationsAndCharts!$A180+$A$11,IF($C$5,8,0),1,1))","v":2289425},{"$f":"IF(A180>$A$8,\"\",OFFSET(InputPriceData!C$15,CalculationsAndCharts!$A180+$A$11,IF($C$5,8,0),1,1))","v":4586.5},{"$f":"IF(A180>$A$8,\"\",OFFSET(InputPriceData!D$15,CalculationsAndCharts!$A180+$A$11,IF($C$5,8,0),1,1))","v":4613.75},{"$f":"IF(A180>$A$8,\"\",OFFSET(InputPriceData!E$15,CalculationsAndCharts!$A180+$A$11,IF($C$5,8,0),1,1))","v":4561.75},{"$f":"IF(A180>$A$8,\"\",OFFSET(InputPriceData!F$15,CalculationsAndCharts!$A180+$A$11,IF($C$5,8,0),1,1))","v":4607.5},18,0,{"$f":"IF($A180>$J$30,NA(),AVERAGE(H180:H183))","v":12.875},5.125,null,null,{"$f":"IF($A180>$J$30,NA(),IF($A180>$N$30,0,(1-$M$35)*J180+(2*$M$35-$M$36)*J181-($M$35+$M$37)*J182+$M$36*N181+$M$37*N182))","v":14.089711110259472},3.9626714070452795,0.56098078430958132,0.6096960789180198,null,null,5.3621529451181029,8.2405229758031258,-0.21160322038239723,-0.18140909226677882,null,null,null,null,null,null,null,null,null,null,null,null,null,null,null,null,null,null,null,null,null,null,null,null,null,null,null,null,null,null,null,2289425,{"$error":"#N/A"}]
[149,{"$f":"IF(A181>$A$8,\"\",OFFSET(InputPriceData!B$15,$A181+$A$11,0,1,1))","v":"2023-12-07T05:00:00"},{"$f":"IF(A181>$A$8,\"\",OFFSET(InputPriceData!G$15,CalculationsAndCharts!$A181+$A$11,IF($C$5,8,0),1,1))","v":1832361},{"$f":"IF(A181>$A$8,\"\",OFFSET(InputPriceData!C$15,CalculationsAndCharts!$A181+$A$11,IF($C$5,8,0),1,1))","v":4556},{"$f":"IF(A181>$A$8,\"\",OFFSET(InputPriceData!D$15,CalculationsAndCharts!$A181+$A$11,IF($C$5,8,0),1,1))","v":4596},{"$f":"IF(A181>$A$8,\"\",OFFSET(InputPriceData!E$15,CalculationsAndCharts!$A181+$A$11,IF($C$5,8,0),1,1))","v":4548.75},{"$f":"IF(A181>$A$8,\"\",OFFSET(InputPriceData!F$15,CalculationsAndCharts!$A181+$A$11,IF($C$5,8,0),1,1))","v":4589.5},33.5,0,{"$f":"IF($A181>$J$30,NA(),AVERAGE(H181:H184))","v":8.375},11.1875,null,null,{"$f":"IF($A181>$J$30,NA(),IF($A181>$N$30,0,(1-$M$35)*J181+(2*$M$35-$M$36)*J182-($M$35+$M$37)*J183+$M$36*N182+$M$37*N183))","v":14.467745662455959},3.9340634254552502,0.57242644930604414,0.62785460176290475,null,null,3.9878447617983936,7.4237021330112363,-0.30108603179605653,-6.708355896082932E-2,null,null,null,null,null,null,null,null,null,null,null,null,null,null,null,null,null,null,null,null,null,null,null,null,null,null,null,null,null,null,null,1832361,{"$error":"#N/A"}]
[150,{"$f":"IF(A182>$A$8,\"\",OFFSET(InputPriceData!B$15,$A182+$A$11,0,1,1))","v":"2023-12-06T05:00:00"},{"$f":"IF(A182>$A$8,\"\",OFFSET(InputPriceData!G$15,CalculationsAndCharts!$A182+$A$11,IF($C$5,8,0),1,1))","v":1837961},{"$f":"IF(A182>$A$8,\"\",OFFSET(InputPriceData!C$15,CalculationsAndCharts!$A182+$A$11,IF($C$5,8,0),1,1))","v":4573.25},{"$f":"IF(A182>$A$8,\"\",OFFSET(InputPriceData!D$15,CalculationsAndCharts!$A182+$A$11,IF($C$5,8,0),1,1))","v":4598.5},{"$f":"IF(A182>$A$8,\"\",OFFSET(InputPriceData!E$15,CalculationsAndCharts!$A182+$A$11,IF($C$5,8,0),1,1))","v":4552},{"$f":"IF(A182>$A$8,\"\",OFFSET(InputPriceData!F$15,CalculationsAndCharts!$A182+$A$11,IF($C$5,8,0),1,1))","v":4556},0,19,{"$f":"IF($A182>$J$30,NA(),AVERAGE(H182:H185))","v":6},11.1875,null,null,{"$f":"IF($A182>$J$30,NA(),IF($A182>$N$30,0,(1-$M$35)*J182+(2*$M$35-$M$36)*J183-($M$35+$M$37)*J184+$M$36*N183+$M$37*N184))","v":15.142570952635895},3.671627765937354,0.6096960789180198,0.62741277982011512,null,null,3.6741255118508418,5.3025818450020381,-0.18140909226677882,-7.5630205411985618E-2,null,null,null,null,null,null,null,null,null,null,null,null,null,null,null,null,null,null,null,null,null,null,null,null,null,null,null,null,null,null,null,{"$error":"#N/A"},1837961]
[151,{"$f":"IF(A183>$A$8,\"\",OFFSET(InputPriceData!B$15,$A183+$A$11,0,1,1))","v":"2023-12-05T05:00:00"},{"$f":"IF(A183>$A$8,\"\",OFFSET(InputPriceData!G$15,CalculationsAndCharts!$A183+$A$11,IF($C$5,8,0),1,1))","v":1890825},{"$f":"IF(A183>$A$8,\"\",OFFSET(InputPriceData!C$15,CalculationsAndCharts!$A183+$A$11,IF($C$5,8,0),1,1))","v":4573},{"$f":"IF(A183>$A$8,\"\",OFFSET(InputPriceData!D$15,CalculationsAndCharts!$A183+$A$11,IF($C$5,8,0),1,1))","v":4585.5},{"$f":"IF(A183>$A$8,\"\",OFFSET(InputPriceData!E$15,CalculationsAndCharts!$A183+$A$11,IF($C$5,8,0),1,1))","v":4555.5},{"$f":"IF(A183>$A$8,\"\",OFFSET(InputPriceData!F$15,CalculationsAndCharts!$A183+$A$11,IF($C$5,8,0),1,1))","v":4575},0,1.5,{"$f":"IF($A183>$J$30,NA(),AVERAGE(H183:H186))","v":10.375},6.4375,null,null,{"$f":"IF($A183>$J$30,NA(),IF($A183>$N$30,0,(1-$M$35)*J183+(2*$M$35-$M$36)*J184-($M$35+$M$37)*J185+$M$36*N184+$M$37*N185))","v":15.76614653331958},3.6043138459371935,0.62785460176290475,0.60806816263673868,null,null,3.1066113681681191,3.5533878161268455,-6.708355896082932E-2,-0.43272689601923781,null,null,null,null,null,null,null,null,null,null,null,null,null,null,null,null,null,null,null,null,null,null,null,null,null,null,null,null,null,null,null,{"$error":"#N/A"},1890825]
[152,{"$f":"IF(A184>$A$8,\"\",OFFSET(InputPriceData!B$15,$A184+$A$11,0,1,1))","v":"2023-12-04T05:00:00"},{"$f":"IF(A184>$A$8,\"\",OFFSET(InputPriceData!G$15,CalculationsAndCharts!$A184+$A$11,IF($C$5,8,0),1,1))","v":1818991},{"$f":"IF(A184>$A$8,\"\",OFFSET(InputPriceData!C$15,CalculationsAndCharts!$A184+$A$11,IF($C$5,8,0),1,1))","v":4603.25},{"$f":"IF(A184>$A$8,\"\",OFFSET(InputPriceData!D$15,CalculationsAndCharts!$A184+$A$11,IF($C$5,8,0),1,1))","v":4604.5},{"$f":"IF(A184>$A$8,\"\",OFFSET(InputPriceData!E$15,CalculationsAndCharts!$A184+$A$11,IF($C$5,8,0),1,1))","v":4553.5},{"$f":"IF(A184>$A$8,\"\",OFFSET(InputPriceData!F$15,CalculationsAndCharts!$A184+$A$11,IF($C$5,8,0),1,1))","v":4576.5},0,24.25,{"$f":"IF($A184>$J$30,NA(),AVERAGE(H184:H187))","v":10.375},7,null,null,{"$f":"IF($A184>$J$30,NA(),IF($A184>$N$30,0,(1-$M$35)*J184+(2*$M$35-$M$36)*J185-($M$35+$M$37)*J186+$M$36*N185+$M$37*N186))","v":16.239381682994424},3.7179172695054223,0.62741277982011512,0.58020782778918611,null,null,1.8746036732731244,2.1813567967650016,-7.5630205411985618E-2,-0.58622717539229563,null,null,null,null,null,null,null,null,null,null,null,null,null,null,null,null,null,null,null,null,null,null,null,null,null,null,null,null,null,null,null,{"$error":"#N/A"},1818991]
[153,{"$f":"IF(A185>$A$8,\"\",OFFSET(InputPriceData!B$15,$A185+$A$11,0,1,1))","v":"2023-12-01T05:00:00"},{"$f":"IF(A185>$A$8,\"\",OFFSET(InputPriceData!G$15,CalculationsAndCharts!$A185+$A$11,IF($C$5,8,0),1,1))","v":1914151},{"$f":"IF(A185>$A$8,\"\",OFFSET(InputPriceData!C$15,CalculationsAndCharts!$A185+$A$11,IF($C$5,8,0),1,1))","v":4571.75},{"$f":"IF(A185>$A$8,\"\",OFFSET(InputPriceData!D$15,CalculationsAndCharts!$A185+$A$11,IF($C$5,8,0),1,1))","v":4607.75},{"$f":"IF(A185>$A$8,\"\",OFFSET(InputPriceData!E$15,CalculationsAndCharts!$A185+$A$11,IF($C$5,8,0),1,1))","v":4562.5},{"$f":"IF(A185>$A$8,\"\",OFFSET(InputPriceData!F$15,CalculationsAndCharts!$A185+$A$11,IF($C$5,8,0),1,1))","v":4600.75},24,0,{"$f":"IF($A185>$J$30,NA(),AVERAGE(H185:H188))","v":10.875},0.9375,null,null,{"$f":"IF($A185>$J$30,NA(),IF($A185>$N$30,0,(1-$M$35)*J185+(2*$M$35-$M$36)*J186-($M$35+$M$37)*J187+$M$36*N186+$M$37*N187))","v":16.712258206293612},4.0732515060442456,0.60806816263673868,0.56699260849461375,null,null,0.59804517568628723,1.5104460307170702,-0.43272689601923781,0.37156002490605161,null,null,null,null,null,null,null,null,null,null,null,null,null,null,null,null,null,null,null,null,null,null,null,null,null,null,null,null,null,null,null,1914151,{"$error":"#N/A"}]
[154,{"$f":"IF(A186>$A$8,\"\",OFFSET(InputPriceData!B$15,$A186+$A$11,0,1,1))","v":"2023-11-30T05:00:00"},{"$f":"IF(A186>$A$8,\"\",OFFSET(InputPriceData!G$15,CalculationsAndCharts!$A186+$A$11,IF($C$5,8,0),1,1))","v":2056268},{"$f":"IF(A186>$A$8,\"\",OFFSET(InputPriceData!C$15,CalculationsAndCharts!$A186+$A$11,IF($C$5,8,0),1,1))","v":4562.25},{"$f":"IF(A186>$A$8,\"\",OFFSET(InputPriceData!D$15,CalculationsAndCharts!$A186+$A$11,IF($C$5,8,0),1,1))","v":4579.5},{"$f":"IF(A186>$A$8,\"\",OFFSET(InputPriceData!E$15,CalculationsAndCharts!$A186+$A$11,IF($C$5,8,0),1,1))","v":4544.75},{"$f":"IF(A186>$A$8,\"\",OFFSET(InputPriceData!F$15,CalculationsAndCharts!$A186+$A$11,IF($C$5,8,0),1,1))","v":4576.75},17.5,0,{"$f":"IF($A186>$J$30,NA(),AVERAGE(H186:H189))","v":4.875},2.75,null,null,{"$f":"IF($A186>$J$30,NA(),IF($A186>$N$30,0,(1-$M$35)*J186+(2*$M$35-$M$36)*J187-($M$35+$M$37)*J188+$M$36*N187+$M$37*N188))","v":17.426775573146518},4.6295328018445305,0.58020782778918611,0.55531838311890769,null,null,0.38211385952861487,1.4648603098885999,-0.58622717539229563,0.77399133211135829,null,null,null,null,null,null,null,null,null,null,null,null,null,null,null,null,null,null,null,null,null,null,null,null,null,null,null,null,null,null,null,2056268,{"$error":"#N/A"}]
[155,{"$f":"IF(A187>$A$8,\"\",OFFSET(InputPriceData!B$15,$A187+$A$11,0,1,1))","v":"2023-11-29T05:00:00"},{"$f":"IF(A187>$A$8,\"\",OFFSET(InputPriceData!G$15,CalculationsAndCharts!$A187+$A$11,IF($C$5,8,0),1,1))","v":1592398},{"$f":"IF(A187>$A$8,\"\",OFFSET(InputPriceData!C$15,CalculationsAndCharts!$A187+$A$11,IF($C$5,8,0),1,1))","v":4564},{"$f":"IF(A187>$A$8,\"\",OFFSET(InputPriceData!D$15,CalculationsAndCharts!$A187+$A$11,IF($C$5,8,0),1,1))","v":4597},{"$f":"IF(A187>$A$8,\"\",OFFSET(InputPriceData!E$15,CalculationsAndCharts!$A187+$A$11,IF($C$5,8,0),1,1))","v":4555.5},{"$f":"IF(A187>$A$8,\"\",OFFSET(InputPriceData!F$15,CalculationsAndCharts!$A187+$A$11,IF($C$5,8,0),1,1))","v":4559.25},0,3.75,{"$f":"IF($A187>$J$30,NA(),AVERAGE(H187:H190))","v":0.5},3.0625,null,null,{"$f":"IF($A187>$J$30,NA(),IF($A187>$N$30,0,(1-$M$35)*J187+(2*$M$35-$M$36)*J188-($M$35+$M$37)*J189+$M$36*N188+$M$37*N189))","v":18.588782946192591},5.1366422350411058,0.56699260849461375,0.53919611440918835,null,null,2.3116683199987254,1.0591915447119988,0.37156002490605161,0.89281315125493688,null,null,null,null,null,null,null,null,null,null,null,null,null,null,null,null,null,null,null,null,null,null,null,null,null,null,null,null,null,null,null,{"$error":"#N/A"},1592398]
[156,{"$f":"IF(A188>$A$8,\"\",OFFSET(InputPriceData!B$15,$A188+$A$11,0,1,1))","v":"2023-11-28T05:00:00"},{"$f":"IF(A188>$A$8,\"\",OFFSET(InputPriceData!G$15,CalculationsAndCharts!$A188+$A$11,IF($C$5,8,0),1,1))","v":1441119},{"$f":"IF(A188>$A$8,\"\",OFFSET(InputPriceData!C$15,CalculationsAndCharts!$A188+$A$11,IF($C$5,8,0),1,1))","v":4561.5},{"$f":"IF(A188>$A$8,\"\",OFFSET(InputPriceData!D$15,CalculationsAndCharts!$A188+$A$11,IF($C$5,8,0),1,1))","v":4577.25},{"$f":"IF(A188>$A$8,\"\",OFFSET(InputPriceData!E$15,CalculationsAndCharts!$A188+$A$11,IF($C$5,8,0),1,1))","v":4547},{"$f":"IF(A188>$A$8,\"\",OFFSET(InputPriceData!F$15,CalculationsAndCharts!$A188+$A$11,IF($C$5,8,0),1,1))","v":4563},2,0,{"$f":"IF($A188>$J$30,NA(),AVERAGE(H188:H191))","v":1.0625},2.125,null,null,{"$f":"IF($A188>$J$30,NA(),IF($A188>$N$30,0,(1-$M$35)*J188+(2*$M$35-$M$36)*J189-($M$35+$M$37)*J190+$M$36*N189+$M$37*N190))","v":19.948920787385248},5.7036028423828533,0.55531838311890769,0.52347568006765721,null,null,5.6395150917516457,0.7184811280378185,0.77399133211135829,0.9720854395138111,null,null,null,null,null,null,null,null,null,null,null,null,null,null,null,null,null,null,null,null,null,null,null,null,null,null,null,null,null,null,null,1441119,{"$error":"#N/A"}]
[157,{"$f":"IF(A189>$A$8,\"\",OFFSET(InputPriceData!B$15,$A189+$A$11,0,1,1))","v":"2023-11-27T05:00:00"},{"$f":"IF(A189>$A$8,\"\",OFFSET(InputPriceData!G$15,CalculationsAndCharts!$A189+$A$11,IF($C$5,8,0),1,1))","v":1124213},{"$f":"IF(A189>$A$8,\"\",OFFSET(InputPriceData!C$15,CalculationsAndCharts!$A189+$A$11,IF($C$5,8,0),1,1))","v":4568.5},{"$f":"IF(A189>$A$8,\"\",OFFSET(InputPriceData!D$15,CalculationsAndCharts!$A189+$A$11,IF($C$5,8,0),1,1))","v":4570},{"$f":"IF(A189>$A$8,\"\",OFFSET(InputPriceData!E$15,CalculationsAndCharts!$A189+$A$11,IF($C$5,8,0),1,1))","v":4552},{"$f":"IF(A189>$A$8,\"\",OFFSET(InputPriceData!F$15,CalculationsAndCharts!$A189+$A$11,IF($C$5,8,0),1,1))","v":4561},0,7.25,{"$f":"IF($A189>$J$30,NA(),AVERAGE(H189:H192))","v":4.5625},2.125,null,null,{"$f":"IF($A189>$J$30,NA(),IF($A189>$N$30,0,(1-$M$35)*J189+(2*$M$35-$M$36)*J190-($M$35+$M$37)*J191+$M$36*N190+$M$37*N191))","v":21.19423260918871},6.3451204476165248,0.53919611440918835,0.50389285660737726,null,null,9.224835408797988,0.5223870285375859,0.89281315125493688,1.0294304349105046,null,null,null,null,null,null,null,null,null,null,null,null,null,null,null,null,null,null,null,null,null,null,null,null,null,null,null,null,null,null,null,{"$error":"#N/A"},1124213]
[158,{"$f":"IF(A190>$A$8,\"\",OFFSET(InputPriceData!B$15,$A190+$A$11,0,1,1))","v":"2023-11-24T14:30:00"},{"$f":"IF(A190>$A$8,\"\",OFFSET(InputPriceData!G$15,CalculationsAndCharts!$A190+$A$11,IF($C$5,8,0),1,1))","v":572702},{"$f":"IF(A190>$A$8,\"\",OFFSET(InputPriceData!C$15,CalculationsAndCharts!$A190+$A$11,IF($C$5,8,0),1,1))","v":4564},{"$f":"IF(A190>$A$8,\"\",OFFSET(InputPriceData!D$15,CalculationsAndCharts!$A190+$A$11,IF($C$5,8,0),1,1))","v":4574},{"$f":"IF(A190>$A$8,\"\",OFFSET(InputPriceData!E$15,CalculationsAndCharts!$A190+$A$11,IF($C$5,8,0),1,1))","v":4562},{"$f":"IF(A190>$A$8,\"\",OFFSET(InputPriceData!F$15,CalculationsAndCharts!$A190+$A$11,IF($C$5,8,0),1,1))","v":4568.25},0,1.25,{"$f":"IF($A190>$J$30,NA(),AVERAGE(H190:H193))","v":4.5625},3.0625,null,null,{"$f":"IF($A190>$J$30,NA(),IF($A190>$N$30,0,(1-$M$35)*J190+(2*$M$35-$M$36)*J191-($M$35+$M$37)*J192+$M$36*N191+$M$37*N192))","v":22.340570223378649},6.9878536112394505,0.52347568006765721,0.47811475215795129,null,null,13.168818773572617,0.18640256695834645,0.9720854395138111,1.0629813923526878,null,null,null,null,null,null,null,null,null,null,null,null,null,null,null,null,null,null,null,null,null,null,null,null,null,null,null,null,null,null,null,{"$error":"#N/A"},572702]
[159,{"$f":"IF(A191>$A$8,\"\",OFFSET(InputPriceData!B$15,$A191+$A$11,0,1,1))","v":"2023-11-23T05:00:00"},{"$f":"IF(A191>$A$8,\"\",OFFSET(InputPriceData!G$15,CalculationsAndCharts!$A191+$A$11,IF($C$5,8,0),1,1))","v":1403636},{"$f":"IF(A191>$A$8,\"\",OFFSET(InputPriceData!C$15,CalculationsAndCharts!$A191+$A$11,IF($C$5,8,0),1,1))","v":4564},{"$f":"IF(A191>$A$8,\"\",OFFSET(InputPriceData!D$15,CalculationsAndCharts!$A191+$A$11,IF($C$5,8,0),1,1))","v":4572.75},{"$f":"IF(A191>$A$8,\"\",OFFSET(InputPriceData!E$15,CalculationsAndCharts!$A191+$A$11,IF($C$5,8,0),1,1))","v":4562},{"$f":"IF(A191>$A$8,\"\",OFFSET(InputPriceData!F$15,CalculationsAndCharts!$A191+$A$11,IF($C$5,8,0),1,1))","v":4569.5},2.25,0,{"$f":"IF($A191>$J$30,NA(),AVERAGE(H191:H194))","v":13.25},2.75,null,null,{"$f":"IF($A191>$J$30,NA(),IF($A191>$N$30,0,(1-$M$35)*J191+(2*$M$35-$M$36)*J192-($M$35+$M$37)*J193+$M$36*N192+$M$37*N193))","v":23.17185369430134},7.6439768251341782,0.50389285660737726,0.45419826937211927,null,null,16.583923804742046,-0.24049707824439437,1.0294304349105046,1.0784081031131658,null,null,null,null,null,null,null,null,null,null,null,null,null,null,null,null,null,null,null,null,null,null,null,null,null,null,null,null,null,null,null,1403636,{"$error":"#N/A"}]
[160,{"$f":"IF(A192>$A$8,\"\",OFFSET(InputPriceData!B$15,$A192+$A$11,0,1,1))","v":"2023-11-22T05:00:00"},{"$f":"IF(A192>$A$8,\"\",OFFSET(InputPriceData!G$15,CalculationsAndCharts!$A192+$A$11,IF($C$5,8,0),1,1))","v":1403636},{"$f":"IF(A192>$A$8,\"\",OFFSET(InputPriceData!C$15,CalculationsAndCharts!$A192+$A$11,IF($C$5,8,0),1,1))","v":4547.75},{"$f":"IF(A192>$A$8,\"\",OFFSET(InputPriceData!D$15,CalculationsAndCharts!$A192+$A$11,IF($C$5,8,0),1,1))","v":4580.5},{"$f":"IF(A192>$A$8,\"\",OFFSET(InputPriceData!E$15,CalculationsAndCharts!$A192+$A$11,IF($C$5,8,0),1,1))","v":4543},{"$f":"IF(A192>$A$8,\"\",OFFSET(InputPriceData!F$15,CalculationsAndCharts!$A192+$A$11,IF($C$5,8,0),1,1))","v":4567.25},16,0,{"$f":"IF($A192>$J$30,NA(),AVERAGE(H192:H195))","v":13.75},2.75,null,null,{"$f":"IF($A192>$J$30,NA(),IF($A192>$N$30,0,(1-$M$35)*J192+(2*$M$35-$M$36)*J193-($M$35+$M$37)*J194+$M$36*N193+$M$37*N194))","v":23.65334162224541},8.3514017005758685,0.47811475215795129,0.42664658983626047,null,null,19.241464744780718,-0.58742858516499308,1.0629813923526878,1.041702860397399,null,null,null,null,null,null,null,null,null,null,null,null,null,null,null,null,null,null,null,null,null,null,null,null,null,null,null,null,null,null,null,1403636,{"$error":"#N/A"}]
[161,{"$f":"IF(A193>$A$8,\"\",OFFSET(InputPriceData!B$15,$A193+$A$11,0,1,1))","v":"2023-11-21T05:00:00"},{"$f":"IF(A193>$A$8,\"\",OFFSET(InputPriceData!G$15,CalculationsAndCharts!$A193+$A$11,IF($C$5,8,0),1,1))","v":1101669},{"$f":"IF(A193>$A$8,\"\",OFFSET(InputPriceData!C$15,CalculationsAndCharts!$A193+$A$11,IF($C$5,8,0),1,1))","v":4561.75},{"$f":"IF(A193>$A$8,\"\",OFFSET(InputPriceData!D$15,CalculationsAndCharts!$A193+$A$11,IF($C$5,8,0),1,1))","v":4567},{"$f":"IF(A193>$A$8,\"\",OFFSET(InputPriceData!E$15,CalculationsAndCharts!$A193+$A$11,IF($C$5,8,0),1,1))","v":4536.75},{"$f":"IF(A193>$A$8,\"\",OFFSET(InputPriceData!F$15,CalculationsAndCharts!$A193+$A$11,IF($C$5,8,0),1,1))","v":4551.25},0,11,{"$f":"IF($A193>$J$30,NA(),AVERAGE(H193:H196))","v":10.75},2.75,null,null,{"$f":"IF($A193>$J$30,NA(),IF($A193>$N$30,0,(1-$M$35)*J193+(2*$M$35-$M$36)*J194-($M$35+$M$37)*J195+$M$36*N194+$M$37*N195))","v":24.242491493286416},9.0988925584957698,0.45419826937211927,0.38548332542998737,null,null,22.982554094234189,-0.86701859395440861,1.0784081031131658,0.97176938741999508,null,null,null,null,null,null,null,null,null,null,null,null,null,null,null,null,null,null,null,null,null,null,null,null,null,null,null,null,null,null,null,{"$error":"#N/A"},1101669]
[162,{"$f":"IF(A194>$A$8,\"\",OFFSET(InputPriceData!B$15,$A194+$A$11,0,1,1))","v":"2023-11-20T05:00:00"},{"$f":"IF(A194>$A$8,\"\",OFFSET(InputPriceData!G$15,CalculationsAndCharts!$A194+$A$11,IF($C$5,8,0),1,1))","v":1220790},{"$f":"IF(A194>$A$8,\"\",OFFSET(InputPriceData!C$15,CalculationsAndCharts!$A194+$A$11,IF($C$5,8,0),1,1))","v":4526.75},{"$f":"IF(A194>$A$8,\"\",OFFSET(InputPriceData!D$15,CalculationsAndCharts!$A194+$A$11,IF($C$5,8,0),1,1))","v":4571},{"$f":"IF(A194>$A$8,\"\",OFFSET(InputPriceData!E$15,CalculationsAndCharts!$A194+$A$11,IF($C$5,8,0),1,1))","v":4520},{"$f":"IF(A194>$A$8,\"\",OFFSET(InputPriceData!F$15,CalculationsAndCharts!$A194+$A$11,IF($C$5,8,0),1,1))","v":4562.25},34.75,0,{"$f":"IF($A194>$J$30,NA(),AVERAGE(H194:H197))","v":12.8125},0,null,null,{"$f":"IF($A194>$J$30,NA(),IF($A194>$N$30,0,(1-$M$35)*J194+(2*$M$35-$M$36)*J195-($M$35+$M$37)*J196+$M$36*N195+$M$37*N196))","v":24.878952545580411},9.9985745488289002,0.42664658983626047,0.33813811679030287,null,null,27.648671021074037,-0.56473872380285539,1.041702860397399,0.90660928707435673,null,null,null,null,null,null,null,null,null,null,null,null,null,null,null,null,null,null,null,null,null,null,null,null,null,null,null,null,null,null,null,1220790,{"$error":"#N/A"}]
[163,{"$f":"IF(A195>$A$8,\"\",OFFSET(InputPriceData!B$15,$A195+$A$11,0,1,1))","v":"2023-11-17T05:00:00"},{"$f":"IF(A195>$A$8,\"\",OFFSET(InputPriceData!G$15,CalculationsAndCharts!$A195+$A$11,IF($C$5,8,0),1,1))","v":1331912},{"$f":"IF(A195>$A$8,\"\",OFFSET(InputPriceData!C$15,CalculationsAndCharts!$A195+$A$11,IF($C$5,8,0),1,1))","v":4527.75},{"$f":"IF(A195>$A$8,\"\",OFFSET(InputPriceData!D$15,CalculationsAndCharts!$A195+$A$11,IF($C$5,8,0),1,1))","v":4539.5},{"$f":"IF(A195>$A$8,\"\",OFFSET(InputPriceData!E$15,CalculationsAndCharts!$A195+$A$11,IF($C$5,8,0),1,1))","v":4512.75},{"$f":"IF(A195>$A$8,\"\",OFFSET(InputPriceData!F$15,CalculationsAndCharts!$A195+$A$11,IF($C$5,8,0),1,1))","v":4527.5},4.25,0,{"$f":"IF($A195>$J$30,NA(),AVERAGE(H195:H198))","v":25.5625},0,null,null,{"$f":"IF($A195>$J$30,NA(),IF($A195>$N$30,0,(1-$M$35)*J195+(2*$M$35-$M$36)*J196-($M$35+$M$37)*J197+$M$36*N196+$M$37*N197))","v":24.925771148385312},11.055565748108267,0.38548332542998737,0.28006381333415997,null,null,30.573948109228194,0.43773946873278424,0.97176938741999508,0.8315324119393841,null,null,null,null,null,null,null,null,null,null,null,null,null,null,null,null,null,null,null,null,null,null,null,null,null,null,null,null,null,null,null,1331912,{"$error":"#N/A"}]
[164,{"$f":"IF(A196>$A$8,\"\",OFFSET(InputPriceData!B$15,$A196+$A$11,0,1,1))","v":"2023-11-16T05:00:00"},{"$f":"IF(A196>$A$8,\"\",OFFSET(InputPriceData!G$15,CalculationsAndCharts!$A196+$A$11,IF($C$5,8,0),1,1))","v":1491734},{"$f":"IF(A196>$A$8,\"\",OFFSET(InputPriceData!C$15,CalculationsAndCharts!$A196+$A$11,IF($C$5,8,0),1,1))","v":4514.25},{"$f":"IF(A196>$A$8,\"\",OFFSET(InputPriceData!D$15,CalculationsAndCharts!$A196+$A$11,IF($C$5,8,0),1,1))","v":4529.5},{"$f":"IF(A196>$A$8,\"\",OFFSET(InputPriceData!E$15,CalculationsAndCharts!$A196+$A$11,IF($C$5,8,0),1,1))","v":4501.75},{"$f":"IF(A196>$A$8,\"\",OFFSET(InputPriceData!F$15,CalculationsAndCharts!$A196+$A$11,IF($C$5,8,0),1,1))","v":4523.25},4,0,{"$f":"IF($A196>$J$30,NA(),AVERAGE(H196:H199))","v":24.5},1.3125,null,null,{"$f":"IF($A196>$J$30,NA(),IF($A196>$N$30,0,(1-$M$35)*J196+(2*$M$35-$M$36)*J197-($M$35+$M$37)*J198+$M$36*N197+$M$37*N198))","v":24.484796794325092},12.110523953364302,0.33813811679030287,0.21949289336145633,null,null,31.910055142447678,1.5630380169933362,0.90660928707435673,0.80657586956981664,null,null,null,null,null,null,null,null,null,null,null,null,null,null,null,null,null,null,null,null,null,null,null,null,null,null,null,null,null,null,null,1491734,{"$error":"#N/A"}]
[165,{"$f":"IF(A197>$A$8,\"\",OFFSET(InputPriceData!B$15,$A197+$A$11,0,1,1))","v":"2023-11-15T05:00:00"},{"$f":"IF(A197>$A$8,\"\",OFFSET(InputPriceData!G$15,CalculationsAndCharts!$A197+$A$11,IF($C$5,8,0),1,1))","v":1573452},{"$f":"IF(A197>$A$8,\"\",OFFSET(InputPriceData!C$15,CalculationsAndCharts!$A197+$A$11,IF($C$5,8,0),1,1))","v":4515.5},{"$f":"IF(A197>$A$8,\"\",OFFSET(InputPriceData!D$15,CalculationsAndCharts!$A197+$A$11,IF($C$5,8,0),1,1))","v":4541.25},{"$f":"IF(A197>$A$8,\"\",OFFSET(InputPriceData!E$15,CalculationsAndCharts!$A197+$A$11,IF($C$5,8,0),1,1))","v":4510.75},{"$f":"IF(A197>$A$8,\"\",OFFSET(InputPriceData!F$15,CalculationsAndCharts!$A197+$A$11,IF($C$5,8,0),1,1))","v":4519.25},8.25,0,{"$f":"IF($A197>$J$30,NA(),AVERAGE(H197:H200))","v":40.5625},1.3125,null,null,{"$f":"IF($A197>$J$30,NA(),IF($A197>$N$30,0,(1-$M$35)*J197+(2*$M$35-$M$36)*J198-($M$35+$M$37)*J199+$M$36*N198+$M$37*N199))","v":23.402309373286229},13.161976140465841,0.28006381333415997,0.18681465872571615,null,null,30.759884228569167,2.8293485123332527,0.8315324119393841,0.88991883440558683,null,null,null,null,null,null,null,null,null,null,null,null,null,null,null,null,null,null,null,null,null,null,null,null,null,null,null,null,null,null,null,1573452,{"$error":"#N/A"}]
[166,{"$f":"IF(A198>$A$8,\"\",OFFSET(InputPriceData!B$15,$A198+$A$11,0,1,1))","v":"2023-11-14T05:00:00"},{"$f":"IF(A198>$A$8,\"\",OFFSET(InputPriceData!G$15,CalculationsAndCharts!$A198+$A$11,IF($C$5,8,0),1,1))","v":1901847},{"$f":"IF(A198>$A$8,\"\",OFFSET(InputPriceData!C$15,CalculationsAndCharts!$A198+$A$11,IF($C$5,8,0),1,1))","v":4427.25},{"$f":"IF(A198>$A$8,\"\",OFFSET(InputPriceData!D$15,CalculationsAndCharts!$A198+$A$11,IF($C$5,8,0),1,1))","v":4524.25},{"$f":"IF(A198>$A$8,\"\",OFFSET(InputPriceData!E$15,CalculationsAndCharts!$A198+$A$11,IF($C$5,8,0),1,1))","v":4420.25},{"$f":"IF(A198>$A$8,\"\",OFFSET(InputPriceData!F$15,CalculationsAndCharts!$A198+$A$11,IF($C$5,8,0),1,1))","v":4511},85.75,0,{"$f":"IF($A198>$J$30,NA(),AVERAGE(H198:H201))","v":38.5},10.625,null,null,{"$f":"IF($A198>$J$30,NA(),IF($A198>$N$30,0,(1-$M$35)*J198+(2*$M$35-$M$36)*J199-($M$35+$M$37)*J200+$M$36*N199+$M$37*N200))","v":21.693902824341713},13.884660925290019,0.21949289336145633,0.16677375008094,null,null,26.877294984650394,2.8776634838809483,0.80657586956981664,0.97016076484850644,null,null,null,null,null,null,null,null,null,null,null,null,null,null,null,null,null,null,null,null,null,null,null,null,null,null,null,null,null,null,null,1901847,{"$error":"#N/A"}]
[167,{"$f":"IF(A199>$A$8,\"\",OFFSET(InputPriceData!B$15,$A199+$A$11,0,1,1))","v":"2023-11-13T05:00:00"},{"$f":"IF(A199>$A$8,\"\",OFFSET(InputPriceData!G$15,CalculationsAndCharts!$A199+$A$11,IF($C$5,8,0),1,1))","v":1276182},{"$f":"IF(A199>$A$8,\"\",OFFSET(InputPriceData!C$15,CalculationsAndCharts!$A199+$A$11,IF($C$5,8,0),1,1))","v":4425.75},{"$f":"IF(A199>$A$8,\"\",OFFSET(InputPriceData!D$15,CalculationsAndCharts!$A199+$A$11,IF($C$5,8,0),1,1))","v":4436.75},{"$f":"IF(A199>$A$8,\"\",OFFSET(InputPriceData!E$15,CalculationsAndCharts!$A199+$A$11,IF($C$5,8,0),1,1))","v":4407.25},{"$f":"IF(A199>$A$8,\"\",OFFSET(InputPriceData!F$15,CalculationsAndCharts!$A199+$A$11,IF($C$5,8,0),1,1))","v":4425.25},0,5.25,{"$f":"IF($A199>$J$30,NA(),AVERAGE(H199:H202))","v":17.9375},10.625,null,null,{"$f":"IF($A199>$J$30,NA(),IF($A199>$N$30,0,(1-$M$35)*J199+(2*$M$35-$M$36)*J200-($M$35+$M$37)*J201+$M$36*N200+$M$37*N201))","v":20.818250282611231},14.264313164934661,0.18681465872571615,0.15565189101608715,null,null,26.181979878171962,1.525008804658601,0.88991883440558683,1.0175132210915907,null,null,null,null,null,null,null,null,null,null,null,null,null,null,null,null,null,null,null,null,null,null,null,null,null,null,null,null,null,null,null,{"$error":"#N/A"},1276182]
[168,{"$f":"IF(A200>$A$8,\"\",OFFSET(InputPriceData!B$15,$A200+$A$11,0,1,1))","v":"2023-11-10T05:00:00"},{"$f":"IF(A200>$A$8,\"\",OFFSET(InputPriceData!G$15,CalculationsAndCharts!$A200+$A$11,IF($C$5,8,0),1,1))","v":1752002},{"$f":"IF(A200>$A$8,\"\",OFFSET(InputPriceData!C$15,CalculationsAndCharts!$A200+$A$11,IF($C$5,8,0),1,1))","v":4364.5},{"$f":"IF(A200>$A$8,\"\",OFFSET(InputPriceData!D$15,CalculationsAndCharts!$A200+$A$11,IF($C$5,8,0),1,1))","v":4435.5},{"$f":"IF(A200>$A$8,\"\",OFFSET(InputPriceData!E$15,CalculationsAndCharts!$A200+$A$11,IF($C$5,8,0),1,1))","v":4354.25},{"$f":"IF(A200>$A$8,\"\",OFFSET(InputPriceData!F$15,CalculationsAndCharts!$A200+$A$11,IF($C$5,8,0),1,1))","v":4430.5},68.25,0,{"$f":"IF($A200>$J$30,NA(),AVERAGE(H200:H203))","v":20.875},9.3125,null,null,{"$f":"IF($A200>$J$30,NA(),IF($A200>$N$30,0,(1-$M$35)*J200+(2*$M$35-$M$36)*J201-($M$35+$M$37)*J202+$M$36*N201+$M$37*N202))","v":20.607636520577799},14.716498118461228,0.16677375008094,0.13723741245945895,null,null,28.377961991930061,0.42980080413004385,0.97016076484850644,0.95483522466327642,null,null,null,null,null,null,null,null,null,null,null,null,null,null,null,null,null,null,null,null,null,null,null,null,null,null,null,null,null,null,null,1752002,{"$error":"#N/A"}]
[169,{"$f":"IF(A201>$A$8,\"\",OFFSET(InputPriceData!B$15,$A201+$A$11,0,1,1))","v":"2023-11-09T05:00:00"},{"$f":"IF(A201>$A$8,\"\",OFFSET(InputPriceData!G$15,CalculationsAndCharts!$A201+$A$11,IF($C$5,8,0),1,1))","v":1972630},{"$f":"IF(A201>$A$8,\"\",OFFSET(InputPriceData!C$15,CalculationsAndCharts!$A201+$A$11,IF($C$5,8,0),1,1))","v":4393.25},{"$f":"IF(A201>$A$8,\"\",OFFSET(InputPriceData!D$15,CalculationsAndCharts!$A201+$A$11,IF($C$5,8,0),1,1))","v":4413},{"$f":"IF(A201>$A$8,\"\",OFFSET(InputPriceData!E$15,CalculationsAndCharts!$A201+$A$11,IF($C$5,8,0),1,1))","v":4357.75},{"$f":"IF(A201>$A$8,\"\",OFFSET(InputPriceData!F$15,CalculationsAndCharts!$A201+$A$11,IF($C$5,8,0),1,1))","v":4362.25},0,37.25,{"$f":"IF($A201>$J$30,NA(),AVERAGE(H201:H204))","v":5.875},9.3125,null,null,{"$f":"IF($A201>$J$30,NA(),IF($A201>$N$30,0,(1-$M$35)*J201+(2*$M$35-$M$36)*J202-($M$35+$M$37)*J203+$M$36*N202+$M$37*N203))","v":20.863748552468646},15.243575313240694,0.15565189101608715,8.0781150526637799E-2,null,null,32.938930432239346,-0.28592961134015216,1.0175132210915907,0.80573464545988305,null,null,null,null,null,null,null,null,null,null,null,null,null,null,null,null,null,null,null,null,null,null,null,null,null,null,null,null,null,null,null,{"$error":"#N/A"},1972630]
[170,{"$f":"IF(A202>$A$8,\"\",OFFSET(InputPriceData!B$15,$A202+$A$11,0,1,1))","v":"2023-11-08T05:00:00"},{"$f":"IF(A202>$A$8,\"\",OFFSET(InputPriceData!G$15,CalculationsAndCharts!$A202+$A$11,IF($C$5,8,0),1,1))","v":1390288},{"$f":"IF(A202>$A$8,\"\",OFFSET(InputPriceData!C$15,CalculationsAndCharts!$A202+$A$11,IF($C$5,8,0),1,1))","v":4397.5},{"$f":"IF(A202>$A$8,\"\",OFFSET(InputPriceData!D$15,CalculationsAndCharts!$A202+$A$11,IF($C$5,8,0),1,1))","v":4407.75},{"$f":"IF(A202>$A$8,\"\",OFFSET(InputPriceData!E$15,CalculationsAndCharts!$A202+$A$11,IF($C$5,8,0),1,1))","v":4375},{"$f":"IF(A202>$A$8,\"\",OFFSET(InputPriceData!F$15,CalculationsAndCharts!$A202+$A$11,IF($C$5,8,0),1,1))","v":4399.5},3.5,0,{"$f":"IF($A202>$J$30,NA(),AVERAGE(H202:H205))","v":15.9375},0,null,null,{"$f":"IF($A202>$J$30,NA(),IF($A202>$N$30,0,(1-$M$35)*J202+(2*$M$35-$M$36)*J203-($M$35+$M$37)*J204+$M$36*N203+$M$37*N204))","v":21.316259686030104},16.171532137368075,0.13723741245945895,-4.7816510572994209E-3,null,null,38.89791281661762,0.89870259716268919,0.95483522466327642,0.6144788754835474,null,null,null,null,null,null,null,null,null,null,null,null,null,null,null,null,null,null,null,null,null,null,null,null,null,null,null,null,null,null,null,1390288,{"$error":"#N/A"}]
[171,{"$f":"IF(A203>$A$8,\"\",OFFSET(InputPriceData!B$15,$A203+$A$11,0,1,1))","v":"2023-11-07T05:00:00"},{"$f":"IF(A203>$A$8,\"\",OFFSET(InputPriceData!G$15,CalculationsAndCharts!$A203+$A$11,IF($C$5,8,0),1,1))","v":1371257},{"$f":"IF(A203>$A$8,\"\",OFFSET(InputPriceData!C$15,CalculationsAndCharts!$A203+$A$11,IF($C$5,8,0),1,1))","v":4380},{"$f":"IF(A203>$A$8,\"\",OFFSET(InputPriceData!D$15,CalculationsAndCharts!$A203+$A$11,IF($C$5,8,0),1,1))","v":4403.25},{"$f":"IF(A203>$A$8,\"\",OFFSET(InputPriceData!E$15,CalculationsAndCharts!$A203+$A$11,IF($C$5,8,0),1,1))","v":4366},{"$f":"IF(A203>$A$8,\"\",OFFSET(InputPriceData!F$15,CalculationsAndCharts!$A203+$A$11,IF($C$5,8,0),1,1))","v":4396},11.75,0,{"$f":"IF($A203>$J$30,NA(),AVERAGE(H203:H206))","v":35},0,null,null,{"$f":"IF($A203>$J$30,NA(),IF($A203>$N$30,0,(1-$M$35)*J203+(2*$M$35-$M$36)*J204-($M$35+$M$37)*J205+$M$36*N204+$M$37*N205))","v":20.593659830075588},17.515183611616209,8.0781150526637799E-2,-0.11156268447557939,null,null,40.422398372030543,4.3487405920067754,0.80573464545988305,0.35246314692100394,null,null,null,null,null,null,null,null,null,null,null,null,null,null,null,null,null,null,null,null,null,null,null,null,null,null,null,null,null,null,null,1371257,{"$error":"#N/A"}]
[172,{"$f":"IF(A204>$A$8,\"\",OFFSET(InputPriceData!B$15,$A204+$A$11,0,1,1))","v":"2023-11-06T05:00:00"},{"$f":"IF(A204>$A$8,\"\",OFFSET(InputPriceData!G$15,CalculationsAndCharts!$A204+$A$11,IF($C$5,8,0),1,1))","v":1348878},{"$f":"IF(A204>$A$8,\"\",OFFSET(InputPriceData!C$15,CalculationsAndCharts!$A204+$A$11,IF($C$5,8,0),1,1))","v":4379.25},{"$f":"IF(A204>$A$8,\"\",OFFSET(InputPriceData!D$15,CalculationsAndCharts!$A204+$A$11,IF($C$5,8,0),1,1))","v":4389.5},{"$f":"IF(A204>$A$8,\"\",OFFSET(InputPriceData!E$15,CalculationsAndCharts!$A204+$A$11,IF($C$5,8,0),1,1))","v":4364.25},{"$f":"IF(A204>$A$8,\"\",OFFSET(InputPriceData!F$15,CalculationsAndCharts!$A204+$A$11,IF($C$5,8,0),1,1))","v":4384.25},8.25,0,{"$f":"IF($A204>$J$30,NA(),AVERAGE(H204:H207))","v":43},0,null,null,{"$f":"IF($A204>$J$30,NA(),IF($A204>$N$30,0,(1-$M$35)*J204+(2*$M$35-$M$36)*J205-($M$35+$M$37)*J206+$M$36*N205+$M$37*N206))","v":18.732420829343216},18.912425347868353,-4.7816510572994209E-3,-0.23839826503229908,null,null,36.980318027312592,8.8305235871207142,0.6144788754835474,-1.5766454050666675E-2,null,null,null,null,null,null,null,null,null,null,null,null,null,null,null,null,null,null,null,null,null,null,null,null,null,null,null,null,null,null,null,1348878,{"$error":"#N/A"}]
[173,{"$f":"IF(A205>$A$8,\"\",OFFSET(InputPriceData!B$15,$A205+$A$11,0,1,1))","v":"2023-11-03T04:00:00"},{"$f":"IF(A205>$A$8,\"\",OFFSET(InputPriceData!G$15,CalculationsAndCharts!$A205+$A$11,IF($C$5,8,0),1,1))","v":1803552},{"$f":"IF(A205>$A$8,\"\",OFFSET(InputPriceData!C$15,CalculationsAndCharts!$A205+$A$11,IF($C$5,8,0),1,1))","v":4327.5},{"$f":"IF(A205>$A$8,\"\",OFFSET(InputPriceData!D$15,CalculationsAndCharts!$A205+$A$11,IF($C$5,8,0),1,1))","v":4391.75},{"$f":"IF(A205>$A$8,\"\",OFFSET(InputPriceData!E$15,CalculationsAndCharts!$A205+$A$11,IF($C$5,8,0),1,1))","v":4325.5},{"$f":"IF(A205>$A$8,\"\",OFFSET(InputPriceData!F$15,CalculationsAndCharts!$A205+$A$11,IF($C$5,8,0),1,1))","v":4376},40.25,0,{"$f":"IF($A205>$J$30,NA(),AVERAGE(H205:H208))","v":47.5625},0,null,null,{"$f":"IF($A205>$J$30,NA(),IF($A205>$N$30,0,(1-$M$35)*J205+(2*$M$35-$M$36)*J206-($M$35+$M$37)*J207+$M$36*N206+$M$37*N207))","v":16.275595550514254},20.363107633417656,-0.11156268447557939,-0.34830175572664274,null,null,30.211825002508434,14.464919160596036,0.35246314692100394,-0.39909809911842647,null,null,null,null,null,null,null,null,null,null,null,null,null,null,null,null,null,null,null,null,null,null,null,null,null,null,null,null,null,null,null,1803552,{"$error":"#N/A"}]
[174,{"$f":"IF(A206>$A$8,\"\",OFFSET(InputPriceData!B$15,$A206+$A$11,0,1,1))","v":"2023-11-02T04:00:00"},{"$f":"IF(A206>$A$8,\"\",OFFSET(InputPriceData!G$15,CalculationsAndCharts!$A206+$A$11,IF($C$5,8,0),1,1))","v":1819596},{"$f":"IF(A206>$A$8,\"\",OFFSET(InputPriceData!C$15,CalculationsAndCharts!$A206+$A$11,IF($C$5,8,0),1,1))","v":4258.5},{"$f":"IF(A206>$A$8,\"\",OFFSET(InputPriceData!D$15,CalculationsAndCharts!$A206+$A$11,IF($C$5,8,0),1,1))","v":4339.75},{"$f":"IF(A206>$A$8,\"\",OFFSET(InputPriceData!E$15,CalculationsAndCharts!$A206+$A$11,IF($C$5,8,0),1,1))","v":4257.75},{"$f":"IF(A206>$A$8,\"\",OFFSET(InputPriceData!F$15,CalculationsAndCharts!$A206+$A$11,IF($C$5,8,0),1,1))","v":4335.75},79.75,0,{"$f":"IF($A206>$J$30,NA(),AVERAGE(H206:H209))","v":49.5},0,null,null,{"$f":"IF($A206>$J$30,NA(),IF($A206>$N$30,0,(1-$M$35)*J206+(2*$M$35-$M$36)*J207-($M$35+$M$37)*J208+$M$36*N207+$M$37*N208))","v":13.447906432597778},21.866893456003041,-0.23839826503229908,-0.40325661757099124,null,null,20.687154738165511,21.349930511173167,-1.5766454050666675E-2,-0.62898583823326382,null,null,null,null,null,null,null,null,null,null,null,null,null,null,null,null,null,null,null,null,null,null,null,null,null,null,null,null,null,null,null,1819596,{"$error":"#N/A"}]
[175,{"$f":"IF(A207>$A$8,\"\",OFFSET(InputPriceData!B$15,$A207+$A$11,0,1,1))","v":"2023-11-01T04:00:00"},{"$f":"IF(A207>$A$8,\"\",OFFSET(InputPriceData!G$15,CalculationsAndCharts!$A207+$A$11,IF($C$5,8,0),1,1))","v":2027080},{"$f":"IF(A207>$A$8,\"\",OFFSET(InputPriceData!C$15,CalculationsAndCharts!$A207+$A$11,IF($C$5,8,0),1,1))","v":4205},{"$f":"IF(A207>$A$8,\"\",OFFSET(InputPriceData!D$15,CalculationsAndCharts!$A207+$A$11,IF($C$5,8,0),1,1))","v":4264.75},{"$f":"IF(A207>$A$8,\"\",OFFSET(InputPriceData!E$15,CalculationsAndCharts!$A207+$A$11,IF($C$5,8,0),1,1))","v":4191.25},{"$f":"IF(A207>$A$8,\"\",OFFSET(InputPriceData!F$15,CalculationsAndCharts!$A207+$A$11,IF($C$5,8,0),1,1))","v":4256},43.75,0,{"$f":"IF($A207>$J$30,NA(),AVERAGE(H207:H210))","v":29.5625},4.6875,null,null,{"$f":"IF($A207>$J$30,NA(),IF($A207>$N$30,0,(1-$M$35)*J207+(2*$M$35-$M$36)*J208-($M$35+$M$37)*J209+$M$36*N208+$M$37*N209))","v":11.229896460924229},23.233588931599879,-0.34830175572664274,-0.41144168823608934,null,null,12.343746278406122,28.74031839270512,-0.39909809911842647,-0.73021569272447606,null,null,null,null,null,null,null,null,null,null,null,null,null,null,null,null,null,null,null,null,null,null,null,null,null,null,null,null,null,null,null,2027080,{"$error":"#N/A"}]
[176,{"$f":"IF(A208>$A$8,\"\",OFFSET(InputPriceData!B$15,$A208+$A$11,0,1,1))","v":"2023-10-31T04:00:00"},{"$f":"IF(A208>$A$8,\"\",OFFSET(InputPriceData!G$15,CalculationsAndCharts!$A208+$A$11,IF($C$5,8,0),1,1))","v":1836212},{"$f":"IF(A208>$A$8,\"\",OFFSET(InputPriceData!C$15,CalculationsAndCharts!$A208+$A$11,IF($C$5,8,0),1,1))","v":4184.25},{"$f":"IF(A208>$A$8,\"\",OFFSET(InputPriceData!D$15,CalculationsAndCharts!$A208+$A$11,IF($C$5,8,0),1,1))","v":4215},{"$f":"IF(A208>$A$8,\"\",OFFSET(InputPriceData!E$15,CalculationsAndCharts!$A208+$A$11,IF($C$5,8,0),1,1))","v":4166.75},{"$f":"IF(A208>$A$8,\"\",OFFSET(InputPriceData!F$15,CalculationsAndCharts!$A208+$A$11,IF($C$5,8,0),1,1))","v":4212.25},26.5,0,{"$f":"IF($A208>$J$30,NA(),AVERAGE(H208:H211))","v":18.625},18,null,null,{"$f":"IF($A208>$J$30,NA(),IF($A208>$N$30,0,(1-$M$35)*J208+(2*$M$35-$M$36)*J209-($M$35+$M$37)*J210+$M$36*N209+$M$37*N210))","v":10.170617036148739},23.916454008526586,-0.40325661757099124,-0.38881748220035844,null,null,7.7979397135161888,34.237866555350195,-0.62898583823326382,-0.74637633709235507,null,null,null,null,null,null,null,null,null,null,null,null,null,null,null,null,null,null,null,null,null,null,null,null,null,null,null,null,null,null,null,1836212,{"$error":"#N/A"}]
[177,{"$f":"IF(A209>$A$8,\"\",OFFSET(InputPriceData!B$15,$A209+$A$11,0,1,1))","v":"2023-10-30T04:00:00"},{"$f":"IF(A209>$A$8,\"\",OFFSET(InputPriceData!G$15,CalculationsAndCharts!$A209+$A$11,IF($C$5,8,0),1,1))","v":1904610},{"$f":"IF(A209>$A$8,\"\",OFFSET(InputPriceData!C$15,CalculationsAndCharts!$A209+$A$11,IF($C$5,8,0),1,1))","v":4148},{"$f":"IF(A209>$A$8,\"\",OFFSET(InputPriceData!D$15,CalculationsAndCharts!$A209+$A$11,IF($C$5,8,0),1,1))","v":4197.5},{"$f":"IF(A209>$A$8,\"\",OFFSET(InputPriceData!E$15,CalculationsAndCharts!$A209+$A$11,IF($C$5,8,0),1,1))","v":4143.5},{"$f":"IF(A209>$A$8,\"\",OFFSET(InputPriceData!F$15,CalculationsAndCharts!$A209+$A$11,IF($C$5,8,0),1,1))","v":4185.75},48,0,{"$f":"IF($A209>$J$30,NA(),AVERAGE(H209:H212))","v":12},33.375,null,null,{"$f":"IF($A209>$J$30,NA(),IF($A209>$N$30,0,(1-$M$35)*J209+(2*$M$35-$M$36)*J210-($M$35+$M$37)*J211+$M$36*N210+$M$37*N211))","v":9.7800402003366056},23.453846756508167,-0.41144168823608934,-0.35766526372705487,null,null,5.5360591673496335,35.504572315309552,-0.73021569272447606,-0.72391599903406778,null,null,null,null,null,null,null,null,null,null,null,null,null,null,null,null,null,null,null,null,null,null,null,null,null,null,null,null,null,null,null,1904610,{"$error":"#N/A"}]
[178,{"$f":"IF(A210>$A$8,\"\",OFFSET(InputPriceData!B$15,$A210+$A$11,0,1,1))","v":"2023-10-27T04:00:00"},{"$f":"IF(A210>$A$8,\"\",OFFSET(InputPriceData!G$15,CalculationsAndCharts!$A210+$A$11,IF($C$5,8,0),1,1))","v":2195767},{"$f":"IF(A210>$A$8,\"\",OFFSET(InputPriceData!C$15,CalculationsAndCharts!$A210+$A$11,IF($C$5,8,0),1,1))","v":4167},{"$f":"IF(A210>$A$8,\"\",OFFSET(InputPriceData!D$15,CalculationsAndCharts!$A210+$A$11,IF($C$5,8,0),1,1))","v":4185},{"$f":"IF(A210>$A$8,\"\",OFFSET(InputPriceData!E$15,CalculationsAndCharts!$A210+$A$11,IF($C$5,8,0),1,1))","v":4122.25},{"$f":"IF(A210>$A$8,\"\",OFFSET(InputPriceData!F$15,CalculationsAndCharts!$A210+$A$11,IF($C$5,8,0),1,1))","v":4137.75},0,18.75,{"$f":"IF($A210>$J$30,NA(),AVERAGE(H210:H213))","v":7.375},33.375,null,null,{"$f":"IF($A210>$J$30,NA(),IF($A210>$N$30,0,(1-$M$35)*J210+(2*$M$35-$M$36)*J211-($M$35+$M$37)*J212+$M$36*N211+$M$37*N212))","v":9.8305020189588319},22.338291206182067,-0.38881748220035844,-0.32563370272372349,null,null,4.940857071640262,34.021257227918888,-0.74637633709235507,-0.68808784409033741,null,null,null,null,null,null,null,null,null,null,null,null,null,null,null,null,null,null,null,null,null,null,null,null,null,null,null,null,null,null,null,{"$error":"#N/A"},2195767]
[179,{"$f":"IF(A211>$A$8,\"\",OFFSET(InputPriceData!B$15,$A211+$A$11,0,1,1))","v":"2023-10-26T04:00:00"},{"$f":"IF(A211>$A$8,\"\",OFFSET(InputPriceData!G$15,CalculationsAndCharts!$A211+$A$11,IF($C$5,8,0),1,1))","v":2419407},{"$f":"IF(A211>$A$8,\"\",OFFSET(InputPriceData!C$15,CalculationsAndCharts!$A211+$A$11,IF($C$5,8,0),1,1))","v":4202},{"$f":"IF(A211>$A$8,\"\",OFFSET(InputPriceData!D$15,CalculationsAndCharts!$A211+$A$11,IF($C$5,8,0),1,1))","v":4205},{"$f":"IF(A211>$A$8,\"\",OFFSET(InputPriceData!E$15,CalculationsAndCharts!$A211+$A$11,IF($C$5,8,0),1,1))","v":4146.25},{"$f":"IF(A211>$A$8,\"\",OFFSET(InputPriceData!F$15,CalculationsAndCharts!$A211+$A$11,IF($C$5,8,0),1,1))","v":4156.5},0,53.25,{"$f":"IF($A211>$J$30,NA(),AVERAGE(H211:H214))","v":7.375},30.375,null,null,{"$f":"IF($A211>$J$30,NA(),IF($A211>$N$30,0,(1-$M$35)*J211+(2*$M$35-$M$36)*J212-($M$35+$M$37)*J213+$M$36*N212+$M$37*N213))","v":10.071788133568077},21.288147939664327,-0.35766526372705487,-0.29539382471025749,null,null,5.1987357704230215,32.461800531820188,-0.72391599903406778,-0.63926717081573714,null,null,null,null,null,null,null,null,null,null,null,null,null,null,null,null,null,null,null,null,null,null,null,null,null,null,null,null,null,null,null,{"$error":"#N/A"},2419407]
[180,{"$f":"IF(A212>$A$8,\"\",OFFSET(InputPriceData!B$15,$A212+$A$11,0,1,1))","v":"2023-10-25T04:00:00"},{"$f":"IF(A212>$A$8,\"\",OFFSET(InputPriceData!G$15,CalculationsAndCharts!$A212+$A$11,IF($C$5,8,0),1,1))","v":1981633},{"$f":"IF(A212>$A$8,\"\",OFFSET(InputPriceData!C$15,CalculationsAndCharts!$A212+$A$11,IF($C$5,8,0),1,1))","v":4269.5},{"$f":"IF(A212>$A$8,\"\",OFFSET(InputPriceData!D$15,CalculationsAndCharts!$A212+$A$11,IF($C$5,8,0),1,1))","v":4273.5},{"$f":"IF(A212>$A$8,\"\",OFFSET(InputPriceData!E$15,CalculationsAndCharts!$A212+$A$11,IF($C$5,8,0),1,1))","v":4203.75},{"$f":"IF(A212>$A$8,\"\",OFFSET(InputPriceData!F$15,CalculationsAndCharts!$A212+$A$11,IF($C$5,8,0),1,1))","v":4209.75},0,61.5,{"$f":"IF($A212>$J$30,NA(),AVERAGE(H212:H215))","v":7.375},30.6875,null,null,{"$f":"IF($A212>$J$30,NA(),IF($A212>$N$30,0,(1-$M$35)*J212+(2*$M$35-$M$36)*J213-($M$35+$M$37)*J214+$M$36*N213+$M$37*N214))","v":10.324165897553403},20.294700849649317,-0.32563370272372349,-0.24020887384786893,null,null,5.6812988582683923,30.747540163406899,-0.68808784409033741,-0.48758360465858447,null,null,null,null,null,null,null,null,null,null,null,null,null,null,null,null,null,null,null,null,null,null,null,null,null,null,null,null,null,null,null,{"$error":"#N/A"},1981633]
[181,{"$f":"IF(A213>$A$8,\"\",OFFSET(InputPriceData!B$15,$A213+$A$11,0,1,1))","v":"2023-10-24T04:00:00"},{"$f":"IF(A213>$A$8,\"\",OFFSET(InputPriceData!G$15,CalculationsAndCharts!$A213+$A$11,IF($C$5,8,0),1,1))","v":1807092},{"$f":"IF(A213>$A$8,\"\",OFFSET(InputPriceData!C$15,CalculationsAndCharts!$A213+$A$11,IF($C$5,8,0),1,1))","v":4250.25},{"$f":"IF(A213>$A$8,\"\",OFFSET(InputPriceData!D$15,CalculationsAndCharts!$A213+$A$11,IF($C$5,8,0),1,1))","v":4290.5},{"$f":"IF(A213>$A$8,\"\",OFFSET(InputPriceData!E$15,CalculationsAndCharts!$A213+$A$11,IF($C$5,8,0),1,1))","v":4242},{"$f":"IF(A213>$A$8,\"\",OFFSET(InputPriceData!F$15,CalculationsAndCharts!$A213+$A$11,IF($C$5,8,0),1,1))","v":4271.25},29.5,0,{"$f":"IF($A213>$J$30,NA(),AVERAGE(H213:H216))","v":7.375},25.125,null,null,{"$f":"IF($A213>$J$30,NA(),IF($A213>$N$30,0,(1-$M$35)*J213+(2*$M$35-$M$36)*J214-($M$35+$M$37)*J215+$M$36*N214+$M$37*N215))","v":10.58772482782884},19.465162016300905,-0.29539382471025749,-0.15243164854708668,null,null,6.4439782686173324,29.283173502899075,-0.63926717081573714,-0.17862870892385957,null,null,null,null,null,null,null,null,null,null,null,null,null,null,null,null,null,null,null,null,null,null,null,null,null,null,null,null,null,null,null,1807092,{"$error":"#N/A"}]
[182,{"$f":"IF(A214>$A$8,\"\",OFFSET(InputPriceData!B$15,$A214+$A$11,0,1,1))","v":"2023-10-23T04:00:00"},{"$f":"IF(A214>$A$8,\"\",OFFSET(InputPriceData!G$15,CalculationsAndCharts!$A214+$A$11,IF($C$5,8,0),1,1))","v":1963670},{"$f":"IF(A214>$A$8,\"\",OFFSET(InputPriceData!C$15,CalculationsAndCharts!$A214+$A$11,IF($C$5,8,0),1,1))","v":4256.25},{"$f":"IF(A214>$A$8,\"\",OFFSET(InputPriceData!D$15,CalculationsAndCharts!$A214+$A$11,IF($C$5,8,0),1,1))","v":4280.75},{"$f":"IF(A214>$A$8,\"\",OFFSET(InputPriceData!E$15,CalculationsAndCharts!$A214+$A$11,IF($C$5,8,0),1,1))","v":4213.25},{"$f":"IF(A214>$A$8,\"\",OFFSET(InputPriceData!F$15,CalculationsAndCharts!$A214+$A$11,IF($C$5,8,0),1,1))","v":4241.75},0,6.75,{"$f":"IF($A214>$J$30,NA(),AVERAGE(H214:H217))","v":0},40,null,null,{"$f":"IF($A214>$J$30,NA(),IF($A214>$N$30,0,(1-$M$35)*J214+(2*$M$35-$M$36)*J215-($M$35+$M$37)*J216+$M$36*N215+$M$37*N216))","v":11.160916097424273},18.217990060501954,-0.24020887384786893,-9.3038607150301669E-2,null,null,8.8145783080920346,25.589388419861749,-0.48758360465858447,0.1065636378776777,null,null,null,null,null,null,null,null,null,null,null,null,null,null,null,null,null,null,null,null,null,null,null,null,null,null,null,null,null,null,null,{"$error":"#N/A"},1963670]
[183,{"$f":"IF(A215>$A$8,\"\",OFFSET(InputPriceData!B$15,$A215+$A$11,0,1,1))","v":"2023-10-20T04:00:00"},{"$f":"IF(A215>$A$8,\"\",OFFSET(InputPriceData!G$15,CalculationsAndCharts!$A215+$A$11,IF($C$5,8,0),1,1))","v":2328806},{"$f":"IF(A215>$A$8,\"\",OFFSET(InputPriceData!C$15,CalculationsAndCharts!$A215+$A$11,IF($C$5,8,0),1,1))","v":4295},{"$f":"IF(A215>$A$8,\"\",OFFSET(InputPriceData!D$15,CalculationsAndCharts!$A215+$A$11,IF($C$5,8,0),1,1))","v":4304.25},{"$f":"IF(A215>$A$8,\"\",OFFSET(InputPriceData!E$15,CalculationsAndCharts!$A215+$A$11,IF($C$5,8,0),1,1))","v":4243.5},{"$f":"IF(A215>$A$8,\"\",OFFSET(InputPriceData!F$15,CalculationsAndCharts!$A215+$A$11,IF($C$5,8,0),1,1))","v":4248.5},0,54.5,{"$f":"IF($A215>$J$30,NA(),AVERAGE(H215:H218))","v":0.1875},38.3125,null,null,{"$f":"IF($A215>$J$30,NA(),IF($A215>$N$30,0,(1-$M$35)*J215+(2*$M$35-$M$36)*J216-($M$35+$M$37)*J217+$M$36*N216+$M$37*N217))","v":12.047768059691382},16.381250175920961,-0.15243164854708668,-6.9936022130754144E-2,null,null,13.003882626382719,18.659952639506237,-0.17862870892385957,0.31334256104536129,null,null,null,null,null,null,null,null,null,null,null,null,null,null,null,null,null,null,null,null,null,null,null,null,null,null,null,null,null,null,null,{"$error":"#N/A"},2328806]
[184,{"$f":"IF(A216>$A$8,\"\",OFFSET(InputPriceData!B$15,$A216+$A$11,0,1,1))","v":"2023-10-19T04:00:00"},{"$f":"IF(A216>$A$8,\"\",OFFSET(InputPriceData!G$15,CalculationsAndCharts!$A216+$A$11,IF($C$5,8,0),1,1))","v":2741942},{"$f":"IF(A216>$A$8,\"\",OFFSET(InputPriceData!C$15,CalculationsAndCharts!$A216+$A$11,IF($C$5,8,0),1,1))","v":4346.5},{"$f":"IF(A216>$A$8,\"\",OFFSET(InputPriceData!D$15,CalculationsAndCharts!$A216+$A$11,IF($C$5,8,0),1,1))","v":4366.5},{"$f":"IF(A216>$A$8,\"\",OFFSET(InputPriceData!E$15,CalculationsAndCharts!$A216+$A$11,IF($C$5,8,0),1,1))","v":4292.75},{"$f":"IF(A216>$A$8,\"\",OFFSET(InputPriceData!F$15,CalculationsAndCharts!$A216+$A$11,IF($C$5,8,0),1,1))","v":4303},0,39.25,{"$f":"IF($A216>$J$30,NA(),AVERAGE(H216:H219))","v":11.125},24.6875,null,null,{"$f":"IF($A216>$J$30,NA(),IF($A216>$N$30,0,(1-$M$35)*J216+(2*$M$35-$M$36)*J217-($M$35+$M$37)*J218+$M$36*N217+$M$37*N218))","v":12.518588258410713},15.08697104566717,-9.3038607150301669E-2,-6.1554129563554529E-2,null,null,16.082861960359899,12.985257413607346,0.1065636378776777,0.47485051330383365,null,null,null,null,null,null,null,null,null,null,null,null,null,null,null,null,null,null,null,null,null,null,null,null,null,null,null,null,null,null,null,{"$error":"#N/A"},2741942]
[185,{"$f":"IF(A217>$A$8,\"\",OFFSET(InputPriceData!B$15,$A217+$A$11,0,1,1))","v":"2023-10-18T04:00:00"},{"$f":"IF(A217>$A$8,\"\",OFFSET(InputPriceData!G$15,CalculationsAndCharts!$A217+$A$11,IF($C$5,8,0),1,1))","v":2271572},{"$f":"IF(A217>$A$8,\"\",OFFSET(InputPriceData!C$15,CalculationsAndCharts!$A217+$A$11,IF($C$5,8,0),1,1))","v":4398},{"$f":"IF(A217>$A$8,\"\",OFFSET(InputPriceData!D$15,CalculationsAndCharts!$A217+$A$11,IF($C$5,8,0),1,1))","v":4399.25},{"$f":"IF(A217>$A$8,\"\",OFFSET(InputPriceData!E$15,CalculationsAndCharts!$A217+$A$11,IF($C$5,8,0),1,1))","v":4330.75},{"$f":"IF(A217>$A$8,\"\",OFFSET(InputPriceData!F$15,CalculationsAndCharts!$A217+$A$11,IF($C$5,8,0),1,1))","v":4342.25},0,59.5,{"$f":"IF($A217>$J$30,NA(),AVERAGE(H217:H220))","v":11.125},20.6875,null,null,{"$f":"IF($A217>$J$30,NA(),IF($A217>$N$30,0,(1-$M$35)*J217+(2*$M$35-$M$36)*J218-($M$35+$M$37)*J219+$M$36*N218+$M$37*N219))","v":12.563284669412633},14.452673304134123,-6.9936022130754144E-2,-7.0614753019635615E-2,null,null,17.815660838124479,9.3145965167335234,0.31334256104536129,0.57005183555571459,null,null,null,null,null,null,null,null,null,null,null,null,null,null,null,null,null,null,null,null,null,null,null,null,null,null,null,null,null,null,null,{"$error":"#N/A"},2271572]
[186,{"$f":"IF(A218>$A$8,\"\",OFFSET(InputPriceData!B$15,$A218+$A$11,0,1,1))","v":"2023-10-17T04:00:00"},{"$f":"IF(A218>$A$8,\"\",OFFSET(InputPriceData!G$15,CalculationsAndCharts!$A218+$A$11,IF($C$5,8,0),1,1))","v":1879736},{"$f":"IF(A218>$A$8,\"\",OFFSET(InputPriceData!C$15,CalculationsAndCharts!$A218+$A$11,IF($C$5,8,0),1,1))","v":4406.25},{"$f":"IF(A218>$A$8,\"\",OFFSET(InputPriceData!D$15,CalculationsAndCharts!$A218+$A$11,IF($C$5,8,0),1,1))","v":4423.25},{"$f":"IF(A218>$A$8,\"\",OFFSET(InputPriceData!E$15,CalculationsAndCharts!$A218+$A$11,IF($C$5,8,0),1,1))","v":4365.75},{"$f":"IF(A218>$A$8,\"\",OFFSET(InputPriceData!F$15,CalculationsAndCharts!$A218+$A$11,IF($C$5,8,0),1,1))","v":4401.75},0.75,0,{"$f":"IF($A218>$J$30,NA(),AVERAGE(H218:H221))","v":11.125},13.125,null,null,{"$f":"IF($A218>$J$30,NA(),IF($A218>$N$30,0,(1-$M$35)*J218+(2*$M$35-$M$36)*J219-($M$35+$M$37)*J220+$M$36*N219+$M$37*N220))","v":12.606962768308913},14.260783503398287,-6.1554129563554529E-2,-7.876953524564044E-2,null,null,19.80079936053885,7.0504634378620494,0.47485051330383365,0.66807029796521311,null,null,null,null,null,null,null,null,null,null,null,null,null,null,null,null,null,null,null,null,null,null,null,null,null,null,null,null,null,null,null,1879736,{"$error":"#N/A"}]
[187,{"$f":"IF(A219>$A$8,\"\",OFFSET(InputPriceData!B$15,$A219+$A$11,0,1,1))","v":"2023-10-16T04:00:00"},{"$f":"IF(A219>$A$8,\"\",OFFSET(InputPriceData!G$15,CalculationsAndCharts!$A219+$A$11,IF($C$5,8,0),1,1))","v":1668948},{"$f":"IF(A219>$A$8,\"\",OFFSET(InputPriceData!C$15,CalculationsAndCharts!$A219+$A$11,IF($C$5,8,0),1,1))","v":4356.75},{"$f":"IF(A219>$A$8,\"\",OFFSET(InputPriceData!D$15,CalculationsAndCharts!$A219+$A$11,IF($C$5,8,0),1,1))","v":4414.25},{"$f":"IF(A219>$A$8,\"\",OFFSET(InputPriceData!E$15,CalculationsAndCharts!$A219+$A$11,IF($C$5,8,0),1,1))","v":4354.5},{"$f":"IF(A219>$A$8,\"\",OFFSET(InputPriceData!F$15,CalculationsAndCharts!$A219+$A$11,IF($C$5,8,0),1,1))","v":4401},43.75,0,{"$f":"IF($A219>$J$30,NA(),AVERAGE(H219:H222))","v":15.5},13.125,null,null,{"$f":"IF($A219>$J$30,NA(),IF($A219>$N$30,0,(1-$M$35)*J219+(2*$M$35-$M$36)*J220-($M$35+$M$37)*J221+$M$36*N220+$M$37*N221))","v":12.472383973124375},14.367689104532055,-7.0614753019635615E-2,-9.7864488810900777E-2,null,null,21.263070891646567,5.8227493470471128,0.57005183555571459,0.69764042281176064,null,null,null,null,null,null,null,null,null,null,null,null,null,null,null,null,null,null,null,null,null,null,null,null,null,null,null,null,null,null,null,1668948,{"$error":"#N/A"}]
[188,{"$f":"IF(A220>$A$8,\"\",OFFSET(InputPriceData!B$15,$A220+$A$11,0,1,1))","v":"2023-10-13T04:00:00"},{"$f":"IF(A220>$A$8,\"\",OFFSET(InputPriceData!G$15,CalculationsAndCharts!$A220+$A$11,IF($C$5,8,0),1,1))","v":2159101},{"$f":"IF(A220>$A$8,\"\",OFFSET(InputPriceData!C$15,CalculationsAndCharts!$A220+$A$11,IF($C$5,8,0),1,1))","v":4380.75},{"$f":"IF(A220>$A$8,\"\",OFFSET(InputPriceData!D$15,CalculationsAndCharts!$A220+$A$11,IF($C$5,8,0),1,1))","v":4407.75},{"$f":"IF(A220>$A$8,\"\",OFFSET(InputPriceData!E$15,CalculationsAndCharts!$A220+$A$11,IF($C$5,8,0),1,1))","v":4340.75},{"$f":"IF(A220>$A$8,\"\",OFFSET(InputPriceData!F$15,CalculationsAndCharts!$A220+$A$11,IF($C$5,8,0),1,1))","v":4357.25},0,23.25,{"$f":"IF($A220>$J$30,NA(),AVERAGE(H220:H223))","v":10.25},13.125,null,null,{"$f":"IF($A220>$J$30,NA(),IF($A220>$N$30,0,(1-$M$35)*J220+(2*$M$35-$M$36)*J221-($M$35+$M$37)*J222+$M$36*N221+$M$37*N222))","v":12.364847307328258},14.47935244593385,-7.876953524564044E-2,-0.16770163121625342,null,null,22.952798918345266,4.5673828705686903,0.66807029796521311,0.54259978499992545,null,null,null,null,null,null,null,null,null,null,null,null,null,null,null,null,null,null,null,null,null,null,null,null,null,null,null,null,null,null,null,{"$error":"#N/A"},2159101]
[189,{"$f":"IF(A221>$A$8,\"\",OFFSET(InputPriceData!B$15,$A221+$A$11,0,1,1))","v":"2023-10-12T04:00:00"},{"$f":"IF(A221>$A$8,\"\",OFFSET(InputPriceData!G$15,CalculationsAndCharts!$A221+$A$11,IF($C$5,8,0),1,1))","v":1881573},{"$f":"IF(A221>$A$8,\"\",OFFSET(InputPriceData!C$15,CalculationsAndCharts!$A221+$A$11,IF($C$5,8,0),1,1))","v":4417.75},{"$f":"IF(A221>$A$8,\"\",OFFSET(InputPriceData!D$15,CalculationsAndCharts!$A221+$A$11,IF($C$5,8,0),1,1))","v":4430.5},{"$f":"IF(A221>$A$8,\"\",OFFSET(InputPriceData!E$15,CalculationsAndCharts!$A221+$A$11,IF($C$5,8,0),1,1))","v":4355.5},{"$f":"IF(A221>$A$8,\"\",OFFSET(InputPriceData!F$15,CalculationsAndCharts!$A221+$A$11,IF($C$5,8,0),1,1))","v":4380.5},0,29.25,{"$f":"IF($A221>$J$30,NA(),AVERAGE(H221:H224))","v":17.0625},7.3125,null,null,{"$f":"IF($A221>$J$30,NA(),IF($A221>$N$30,0,(1-$M$35)*J221+(2*$M$35-$M$36)*J222-($M$35+$M$37)*J223+$M$36*N222+$M$37*N223))","v":12.18688441076775},14.8309732383659,-9.7864488810900777E-2,-0.26245033640488086,null,null,24.410273324097634,4.3476108498283033,0.69764042281176064,0.26833512011516863,null,null,null,null,null,null,null,null,null,null,null,null,null,null,null,null,null,null,null,null,null,null,null,null,null,null,null,null,null,null,null,{"$error":"#N/A"},1881573]
[190,{"$f":"IF(A222>$A$8,\"\",OFFSET(InputPriceData!B$15,$A222+$A$11,0,1,1))","v":"2023-10-11T04:00:00"},{"$f":"IF(A222>$A$8,\"\",OFFSET(InputPriceData!G$15,CalculationsAndCharts!$A222+$A$11,IF($C$5,8,0),1,1))","v":1489644},{"$f":"IF(A222>$A$8,\"\",OFFSET(InputPriceData!C$15,CalculationsAndCharts!$A222+$A$11,IF($C$5,8,0),1,1))","v":4392},{"$f":"IF(A222>$A$8,\"\",OFFSET(InputPriceData!D$15,CalculationsAndCharts!$A222+$A$11,IF($C$5,8,0),1,1))","v":4419.75},{"$f":"IF(A222>$A$8,\"\",OFFSET(InputPriceData!E$15,CalculationsAndCharts!$A222+$A$11,IF($C$5,8,0),1,1))","v":4377.25},{"$f":"IF(A222>$A$8,\"\",OFFSET(InputPriceData!F$15,CalculationsAndCharts!$A222+$A$11,IF($C$5,8,0),1,1))","v":4409.75},18.25,0,{"$f":"IF($A222>$J$30,NA(),AVERAGE(H222:H225))","v":29.75},0,null,null,{"$f":"IF($A222>$J$30,NA(),IF($A222>$N$30,0,(1-$M$35)*J222+(2*$M$35-$M$36)*J223-($M$35+$M$37)*J224+$M$36*N223+$M$37*N224))","v":11.210073894597301},15.727558846360235,-0.16770163121625342,-0.3564829801975446,null,null,22.424356141490019,6.6491032995679262,0.54259978499992545,-5.1233705867643739E-2,null,null,null,null,null,null,null,null,null,null,null,null,null,null,null,null,null,null,null,null,null,null,null,null,null,null,null,null,null,null,null,1489644,{"$error":"#N/A"}]
[191,{"$f":"IF(A223>$A$8,\"\",OFFSET(InputPriceData!B$15,$A223+$A$11,0,1,1))","v":"2023-10-10T04:00:00"},{"$f":"IF(A223>$A$8,\"\",OFFSET(InputPriceData!G$15,CalculationsAndCharts!$A223+$A$11,IF($C$5,8,0),1,1))","v":1610271},{"$f":"IF(A223>$A$8,\"\",OFFSET(InputPriceData!C$15,CalculationsAndCharts!$A223+$A$11,IF($C$5,8,0),1,1))","v":4368.75},{"$f":"IF(A223>$A$8,\"\",OFFSET(InputPriceData!D$15,CalculationsAndCharts!$A223+$A$11,IF($C$5,8,0),1,1))","v":4419},{"$f":"IF(A223>$A$8,\"\",OFFSET(InputPriceData!E$15,CalculationsAndCharts!$A223+$A$11,IF($C$5,8,0),1,1))","v":4366.25},{"$f":"IF(A223>$A$8,\"\",OFFSET(InputPriceData!F$15,CalculationsAndCharts!$A223+$A$11,IF($C$5,8,0),1,1))","v":4391.5},22.75,0,{"$f":"IF($A223>$J$30,NA(),AVERAGE(H223:H226))","v":25.1875},1.75,null,null,{"$f":"IF($A223>$J$30,NA(),IF($A223>$N$30,0,(1-$M$35)*J223+(2*$M$35-$M$36)*J224-($M$35+$M$37)*J225+$M$36*N224+$M$37*N225))","v":9.8638104683397962},16.883704865772199,-0.26245033640488086,-0.43317645465857213,null,null,18.357624982734478,10.589968900919159,0.26833512011516863,-0.34966381834708415,null,null,null,null,null,null,null,null,null,null,null,null,null,null,null,null,null,null,null,null,null,null,null,null,null,null,null,null,null,null,null,1610271,{"$error":"#N/A"}]
[192,{"$f":"IF(A224>$A$8,\"\",OFFSET(InputPriceData!B$15,$A224+$A$11,0,1,1))","v":"2023-10-09T04:00:00"},{"$f":"IF(A224>$A$8,\"\",OFFSET(InputPriceData!G$15,CalculationsAndCharts!$A224+$A$11,IF($C$5,8,0),1,1))","v":1485254},{"$f":"IF(A224>$A$8,\"\",OFFSET(InputPriceData!C$15,CalculationsAndCharts!$A224+$A$11,IF($C$5,8,0),1,1))","v":4315},{"$f":"IF(A224>$A$8,\"\",OFFSET(InputPriceData!D$15,CalculationsAndCharts!$A224+$A$11,IF($C$5,8,0),1,1))","v":4375.75},{"$f":"IF(A224>$A$8,\"\",OFFSET(InputPriceData!E$15,CalculationsAndCharts!$A224+$A$11,IF($C$5,8,0),1,1))","v":4299.5},{"$f":"IF(A224>$A$8,\"\",OFFSET(InputPriceData!F$15,CalculationsAndCharts!$A224+$A$11,IF($C$5,8,0),1,1))","v":4368.75},27.25,0,{"$f":"IF($A224>$J$30,NA(),AVERAGE(H224:H227))","v":27.75},1.75,null,null,{"$f":"IF($A224>$J$30,NA(),IF($A224>$N$30,0,(1-$M$35)*J224+(2*$M$35-$M$36)*J225-($M$35+$M$37)*J226+$M$36*N225+$M$37*N226))","v":8.5449545239911711},18.012088292418785,-0.3564829801975446,-0.45788674230821386,null,null,13.653740445203784,15.128353795802292,-5.1233705867643739E-2,-0.50931724000009293,null,null,null,null,null,null,null,null,null,null,null,null,null,null,null,null,null,null,null,null,null,null,null,null,null,null,null,null,null,null,null,1485254,{"$error":"#N/A"}]
[193,{"$f":"IF(A225>$A$8,\"\",OFFSET(InputPriceData!B$15,$A225+$A$11,0,1,1))","v":"2023-10-06T04:00:00"},{"$f":"IF(A225>$A$8,\"\",OFFSET(InputPriceData!G$15,CalculationsAndCharts!$A225+$A$11,IF($C$5,8,0),1,1))","v":2216456},{"$f":"IF(A225>$A$8,\"\",OFFSET(InputPriceData!C$15,CalculationsAndCharts!$A225+$A$11,IF($C$5,8,0),1,1))","v":4287.5},{"$f":"IF(A225>$A$8,\"\",OFFSET(InputPriceData!D$15,CalculationsAndCharts!$A225+$A$11,IF($C$5,8,0),1,1))","v":4358.5},{"$f":"IF(A225>$A$8,\"\",OFFSET(InputPriceData!E$15,CalculationsAndCharts!$A225+$A$11,IF($C$5,8,0),1,1))","v":4242.25},{"$f":"IF(A225>$A$8,\"\",OFFSET(InputPriceData!F$15,CalculationsAndCharts!$A225+$A$11,IF($C$5,8,0),1,1))","v":4341.5},50.75,0,{"$f":"IF($A225>$J$30,NA(),AVERAGE(H225:H228))","v":20.9375},16.625,null,null,{"$f":"IF($A225>$J$30,NA(),IF($A225>$N$30,0,(1-$M$35)*J225+(2*$M$35-$M$36)*J226-($M$35+$M$37)*J227+$M$36*N226+$M$37*N227))","v":7.3478470126640705},18.578553092109534,-0.43317645465857213,-0.45280656202860065,null,null,{"$f":"IF($A225>$J$30,NA(),IF($A225>$N$30,0,(1-S$35)*$J225+(2*S$35-S$36)*$J226-(S$35+S$37)*$J227+S$36*T226+S$37*T227))","v":8.6801977032508475},{"$f":"IF($A225>$J$30,NA(),IF($A225>$N$30,0,(1-S$35)*$K225+(2*S$35-S$36)*$K226-(S$35+S$37)*$K227+S$36*U226+S$37*U227))","v":18.014296461871478},{"$f":"IF($A225>$N$30,NA(),(T225-U225)/(T225+U225))","v":-0.34966381834708415},{"$f":"IF($A225>$N$30,NA(),OFFSET(V225,$C$18,0,1,1))","v":-0.57417764719651809},null,null,null,null,null,null,null,null,null,null,null,null,null,null,null,null,null,null,null,null,null,null,null,null,null,null,null,null,null,null,null,2216456,{"$error":"#N/A"}]
[194,{"$f":"IF(A226>$A$8,\"\",OFFSET(InputPriceData!B$15,$A226+$A$11,0,1,1))","v":"2023-10-05T04:00:00"},{"$f":"IF(A226>$A$8,\"\",OFFSET(InputPriceData!G$15,CalculationsAndCharts!$A226+$A$11,IF($C$5,8,0),1,1))","v":1673477},{"$f":"IF(A226>$A$8,\"\",OFFSET(InputPriceData!C$15,CalculationsAndCharts!$A226+$A$11,IF($C$5,8,0),1,1))","v":4291.5},{"$f":"IF(A226>$A$8,\"\",OFFSET(InputPriceData!D$15,CalculationsAndCharts!$A226+$A$11,IF($C$5,8,0),1,1))","v":4302},{"$f":"IF(A226>$A$8,\"\",OFFSET(InputPriceData!E$15,CalculationsAndCharts!$A226+$A$11,IF($C$5,8,0),1,1))","v":4258},{"$f":"IF(A226>$A$8,\"\",OFFSET(InputPriceData!F$15,CalculationsAndCharts!$A226+$A$11,IF($C$5,8,0),1,1))","v":4290.75},{"$f":"IF($A226>$H$30,NA(),IF($G226>$G227,$G226-$G227,0))","v":0},{"$f":"IF($A226>$H$30,NA(),IF(G226<G227,G227-G226,0))","v":7},{"$f":"IF($A226>$J$30,NA(),AVERAGE(H226:H229))","v":8.25},16.9375,null,null,{"$f":"IF($A226>$J$30,NA(),IF($A226>$N$30,0,(1-$M$35)*J226+(2*$M$35-$M$36)*J227-($M$35+$M$37)*J228+$M$36*N227+$M$37*N228))","v":6.8965131691313122},18.546558260242456,{"$f":"IF($A226>$N$30,NA(),(N226-O226)/(N226+O226))","v":-0.45788674230821386},{"$f":"IF($A226>$N$30,NA(),OFFSET(P226,$C$17,0,1,1))","v":-0.44068220301320798},null,null,6.1267284214560078,18.845530320453605,-0.50931724000009293,-0.6220959478305319,null,null,null,null,null,null,null,null,null,null,null,null,null,null,null,null,null,null,null,null,null,null,null,null,null,null,null,null,null,null,null,{"$error":"#N/A"},1673477]
[195,{"$f":"IF(A227>$A$8,\"\",OFFSET(InputPriceData!B$15,$A227+$A$11,0,1,1))","v":"2023-10-04T04:00:00"},{"$f":"IF(A227>$A$8,\"\",OFFSET(InputPriceData!G$15,CalculationsAndCharts!$A227+$A$11,IF($C$5,8,0),1,1))","v":2168271},{"$f":"IF(A227>$A$8,\"\",OFFSET(InputPriceData!C$15,CalculationsAndCharts!$A227+$A$11,IF($C$5,8,0),1,1))","v":4262.75},{"$f":"IF(A227>$A$8,\"\",OFFSET(InputPriceData!D$15,CalculationsAndCharts!$A227+$A$11,IF($C$5,8,0),1,1))","v":4304},{"$f":"IF(A227>$A$8,\"\",OFFSET(InputPriceData!E$15,CalculationsAndCharts!$A227+$A$11,IF($C$5,8,0),1,1))","v":4235.5},{"$f":"IF(A227>$A$8,\"\",OFFSET(InputPriceData!F$15,CalculationsAndCharts!$A227+$A$11,IF($C$5,8,0),1,1))","v":4297.75},33,0,{"$f":"IF($A227>$J$30,NA(),AVERAGE(H227:H230))","v":8.25},18.1875,null,null,{"$f":"IF($A227>$J$30,NA(),IF($A227>$N$30,0,(1-$M$35)*J227+(2*$M$35-$M$36)*J228-($M$35+$M$37)*J229+$M$36*N228+$M$37*N229))","v":6.9464495225828022},18.442924839563254,-0.45280656202860065,-0.43549123193429273,null,null,5.3009960137982901,19.596691854854832,-0.57417764719651809,-0.68191778964944594,null,null,null,null,null,null,null,null,null,null,null,null,null,null,null,null,null,null,null,null,null,null,null,null,null,null,null,null,null,null,null,2168271,{"$error":"#N/A"}]
[196,{"$f":"IF(A228>$A$8,\"\",OFFSET(InputPriceData!B$15,$A228+$A$11,0,1,1))","v":"2023-10-03T04:00:00"},{"$f":"IF(A228>$A$8,\"\",OFFSET(InputPriceData!G$15,CalculationsAndCharts!$A228+$A$11,IF($C$5,8,0),1,1))","v":2256808},{"$f":"IF(A228>$A$8,\"\",OFFSET(InputPriceData!C$15,CalculationsAndCharts!$A228+$A$11,IF($C$5,8,0),1,1))","v":4326},{"$f":"IF(A228>$A$8,\"\",OFFSET(InputPriceData!D$15,CalculationsAndCharts!$A228+$A$11,IF($C$5,8,0),1,1))","v":4335.75},{"$f":"IF(A228>$A$8,\"\",OFFSET(InputPriceData!E$15,CalculationsAndCharts!$A228+$A$11,IF($C$5,8,0),1,1))","v":4251.25},{"$f":"IF(A228>$A$8,\"\",OFFSET(InputPriceData!F$15,CalculationsAndCharts!$A228+$A$11,IF($C$5,8,0),1,1))","v":4264.75},0,59.5,{"$f":"IF($A228>$J$30,NA(),AVERAGE(H228:H231))","v":6},18.1875,null,null,{"$f":"IF($A228>$J$30,NA(),IF($A228>$N$30,0,(1-$M$35)*J228+(2*$M$35-$M$36)*J229-($M$35+$M$37)*J230+$M$36*N229+$M$37*N230))","v":7.0958101658627308},18.277278994145863,-0.44068220301320798,-0.42888183136564734,null,null,4.7278063260502048,20.293393096971894,-0.6220959478305319,-0.73286779571468497,null,null,null,null,null,null,null,null,null,null,null,null,null,null,null,null,null,null,null,null,null,null,null,null,null,null,null,null,null,null,null,{"$error":"#N/A"},2256808]
[197,{"$f":"IF(A229>$A$8,\"\",OFFSET(InputPriceData!B$15,$A229+$A$11,0,1,1))","v":"2023-10-02T04:00:00"},{"$f":"IF(A229>$A$8,\"\",OFFSET(InputPriceData!G$15,CalculationsAndCharts!$A229+$A$11,IF($C$5,8,0),1,1))","v":1950463},{"$f":"IF(A229>$A$8,\"\",OFFSET(InputPriceData!C$15,CalculationsAndCharts!$A229+$A$11,IF($C$5,8,0),1,1))","v":4349},{"$f":"IF(A229>$A$8,\"\",OFFSET(InputPriceData!D$15,CalculationsAndCharts!$A229+$A$11,IF($C$5,8,0),1,1))","v":4355.5},{"$f":"IF(A229>$A$8,\"\",OFFSET(InputPriceData!E$15,CalculationsAndCharts!$A229+$A$11,IF($C$5,8,0),1,1))","v":4295.5},{"$f":"IF(A229>$A$8,\"\",OFFSET(InputPriceData!F$15,CalculationsAndCharts!$A229+$A$11,IF($C$5,8,0),1,1))","v":4324.25},0,1.25,{"$f":"IF($A229>$J$30,NA(),AVERAGE(H229:H232))","v":6},3.625,null,null,{"$f":"IF($A229>$J$30,NA(),IF($A229>$N$30,0,(1-$M$35)*J229+(2*$M$35-$M$36)*J230-($M$35+$M$37)*J231+$M$36*N230+$M$37*N231))","v":7.3486315315733748},18.686859668159467,-0.43549123193429273,-0.42026828961169233,null,null,4.4689087989459173,23.63017158672416,-0.68191778964944594,-0.80316669969131105,null,null,null,null,null,null,null,null,null,null,null,null,null,null,null,null,null,null,null,null,null,null,null,null,null,null,null,null,null,null,null,{"$error":"#N/A"},1950463]
[198,{"$f":"IF(A230>$A$8,\"\",OFFSET(InputPriceData!B$15,$A230+$A$11,0,1,1))","v":"2023-09-29T04:00:00"},{"$f":"IF(A230>$A$8,\"\",OFFSET(InputPriceData!G$15,CalculationsAndCharts!$A230+$A$11,IF($C$5,8,0),1,1))","v":2106053},{"$f":"IF(A230>$A$8,\"\",OFFSET(InputPriceData!C$15,CalculationsAndCharts!$A230+$A$11,IF($C$5,8,0),1,1))","v":4342},{"$f":"IF(A230>$A$8,\"\",OFFSET(InputPriceData!D$15,CalculationsAndCharts!$A230+$A$11,IF($C$5,8,0),1,1))","v":4371.25},{"$f":"IF(A230>$A$8,\"\",OFFSET(InputPriceData!E$15,CalculationsAndCharts!$A230+$A$11,IF($C$5,8,0),1,1))","v":4311},{"$f":"IF(A230>$A$8,\"\",OFFSET(InputPriceData!F$15,CalculationsAndCharts!$A230+$A$11,IF($C$5,8,0),1,1))","v":4325.5},0,12,{"$f":"IF($A230>$J$30,NA(),AVERAGE(H230:H233))","v":6},19.3125,null,null,{"$f":"IF($A230>$J$30,NA(),IF($A230>$N$30,0,(1-$M$35)*J230+(2*$M$35-$M$36)*J231-($M$35+$M$37)*J232+$M$36*N231+$M$37*N232))","v":7.6179101003843668},19.059266423697068,-0.42888183136564734,-0.4076383590204346,null,null,4.2036613974997401,27.268855431732497,-0.73286779571468497,-0.85980936383780682,null,null,null,null,null,null,null,null,null,null,null,null,null,null,null,null,null,null,null,null,null,null,null,null,null,null,null,null,null,null,null,{"$error":"#N/A"},2106053]
[199,{"$f":"IF(A231>$A$8,\"\",OFFSET(InputPriceData!B$15,$A231+$A$11,0,1,1))","v":"2023-09-28T04:00:00"},{"$f":"IF(A231>$A$8,\"\",OFFSET(InputPriceData!G$15,CalculationsAndCharts!$A231+$A$11,IF($C$5,8,0),1,1))","v":2012088},{"$f":"IF(A231>$A$8,\"\",OFFSET(InputPriceData!C$15,CalculationsAndCharts!$A231+$A$11,IF($C$5,8,0),1,1))","v":4323.25},{"$f":"IF(A231>$A$8,\"\",OFFSET(InputPriceData!D$15,CalculationsAndCharts!$A231+$A$11,IF($C$5,8,0),1,1))","v":4355.75},{"$f":"IF(A231>$A$8,\"\",OFFSET(InputPriceData!E$15,CalculationsAndCharts!$A231+$A$11,IF($C$5,8,0),1,1))","v":4301},{"$f":"IF(A231>$A$8,\"\",OFFSET(InputPriceData!F$15,CalculationsAndCharts!$A231+$A$11,IF($C$5,8,0),1,1))","v":4337.5},24,0,{"$f":"IF($A231>$J$30,NA(),AVERAGE(H231:H234))","v":10.4375},16.3125,null,null,{"$f":"IF($A231>$J$30,NA(),IF($A231>$N$30,0,(1-$M$35)*J231+(2*$M$35-$M$36)*J232-($M$35+$M$37)*J233+$M$36*N232+$M$37*N233))","v":7.7245827561528824},18.924236405313763,-0.42026828961169233,-0.36115542013606139,null,null,3.1822725392837024,29.152424224861583,-0.80316669969131105,-0.84150332036152842,null,null,null,null,null,null,null,null,null,null,null,null,null,null,null,null,null,null,null,null,null,null,null,null,null,null,null,null,null,null,null,2012088,{"$error":"#N/A"}]
[200,{"$f":"IF(A232>$A$8,\"\",OFFSET(InputPriceData!B$15,$A232+$A$11,0,1,1))","v":"2023-09-27T04:00:00"},{"$f":"IF(A232>$A$8,\"\",OFFSET(InputPriceData!G$15,CalculationsAndCharts!$A232+$A$11,IF($C$5,8,0),1,1))","v":1965913},{"$f":"IF(A232>$A$8,\"\",OFFSET(InputPriceData!C$15,CalculationsAndCharts!$A232+$A$11,IF($C$5,8,0),1,1))","v":4320.25},{"$f":"IF(A232>$A$8,\"\",OFFSET(InputPriceData!D$15,CalculationsAndCharts!$A232+$A$11,IF($C$5,8,0),1,1))","v":4336.5},{"$f":"IF(A232>$A$8,\"\",OFFSET(InputPriceData!E$15,CalculationsAndCharts!$A232+$A$11,IF($C$5,8,0),1,1))","v":4277},{"$f":"IF(A232>$A$8,\"\",OFFSET(InputPriceData!F$15,CalculationsAndCharts!$A232+$A$11,IF($C$5,8,0),1,1))","v":4313.5},0,1.25,{"$f":"IF($A232>$J$30,NA(),AVERAGE(H232:H235))","v":4.4375},19.0625,null,null,{"$f":"IF($A232>$J$30,NA(),IF($A232>$N$30,0,(1-$M$35)*J232+(2*$M$35-$M$36)*J233-($M$35+$M$37)*J234+$M$36*N233+$M$37*N234))","v":7.904897995561921},18.784534434566062,-0.4076383590204346,-0.29531868947513923,null,null,2.3452935320606834,31.113339601571788,-0.85980936383780682,-0.79000000385139202,null,null,null,null,null,null,null,null,null,null,null,null,null,null,null,null,null,null,null,null,null,null,null,null,null,null,null,null,null,null,null,{"$error":"#N/A"},1965913]
[201,{"$f":"IF(A233>$A$8,\"\",OFFSET(InputPriceData!B$15,$A233+$A$11,0,1,1))","v":"2023-09-26T04:00:00"},{"$f":"IF(A233>$A$8,\"\",OFFSET(InputPriceData!G$15,CalculationsAndCharts!$A233+$A$11,IF($C$5,8,0),1,1))","v":1758048},{"$f":"IF(A233>$A$8,\"\",OFFSET(InputPriceData!C$15,CalculationsAndCharts!$A233+$A$11,IF($C$5,8,0),1,1))","v":4382},{"$f":"IF(A233>$A$8,\"\",OFFSET(InputPriceData!D$15,CalculationsAndCharts!$A233+$A$11,IF($C$5,8,0),1,1))","v":4382},{"$f":"IF(A233>$A$8,\"\",OFFSET(InputPriceData!E$15,CalculationsAndCharts!$A233+$A$11,IF($C$5,8,0),1,1))","v":4305.5},{"$f":"IF(A233>$A$8,\"\",OFFSET(InputPriceData!F$15,CalculationsAndCharts!$A233+$A$11,IF($C$5,8,0),1,1))","v":4314.75},0,64,{"$f":"IF($A233>$J$30,NA(),AVERAGE(H233:H236))","v":4.4375},37.5,null,null,{"$f":"IF($A233>$J$30,NA(),IF($A233>$N$30,0,(1-$M$35)*J233+(2*$M$35-$M$36)*J234-($M$35+$M$37)*J235+$M$36*N234+$M$37*N235))","v":8.3413280247613226},17.772466433784015,-0.36115542013606139,-0.21371515756847279,null,null,2.5279423137074413,29.371051652268861,-0.84150332036152842,-0.63739486817910007,null,null,null,null,null,null,null,null,null,null,null,null,null,null,null,null,null,null,null,null,null,null,null,null,null,null,null,null,null,null,null,{"$error":"#N/A"},1758048]
[202,{"$f":"IF(A234>$A$8,\"\",OFFSET(InputPriceData!B$15,$A234+$A$11,0,1,1))","v":"2023-09-25T04:00:00"},{"$f":"IF(A234>$A$8,\"\",OFFSET(InputPriceData!G$15,CalculationsAndCharts!$A234+$A$11,IF($C$5,8,0),1,1))","v":1561595},{"$f":"IF(A234>$A$8,\"\",OFFSET(InputPriceData!C$15,CalculationsAndCharts!$A234+$A$11,IF($C$5,8,0),1,1))","v":4365},{"$f":"IF(A234>$A$8,\"\",OFFSET(InputPriceData!D$15,CalculationsAndCharts!$A234+$A$11,IF($C$5,8,0),1,1))","v":4383.5},{"$f":"IF(A234>$A$8,\"\",OFFSET(InputPriceData!E$15,CalculationsAndCharts!$A234+$A$11,IF($C$5,8,0),1,1))","v":4338.25},{"$f":"IF(A234>$A$8,\"\",OFFSET(InputPriceData!F$15,CalculationsAndCharts!$A234+$A$11,IF($C$5,8,0),1,1))","v":4378.75},17.75,0,{"$f":"IF($A234>$J$30,NA(),AVERAGE(H234:H237))","v":4.4375},32.25,null,null,{"$f":"IF($A234>$J$30,NA(),IF($A234>$N$30,0,(1-$M$35)*J234+(2*$M$35-$M$36)*J235-($M$35+$M$37)*J236+$M$36*N235+$M$37*N236))","v":8.8010087738964771},16.177683416311631,-0.29531868947513923,-0.11759395128145091,null,null,2.8914491327420802,24.646162160316486,-0.79000000385139202,-0.32720312848858818,null,null,null,null,null,null,null,null,null,null,null,null,null,null,null,null,null,null,null,null,null,null,null,null,null,null,null,null,null,null,null,1561595,{"$error":"#N/A"}]
[203,{"$f":"IF(A235>$A$8,\"\",OFFSET(InputPriceData!B$15,$A235+$A$11,0,1,1))","v":"2023-09-22T04:00:00"},{"$f":"IF(A235>$A$8,\"\",OFFSET(InputPriceData!G$15,CalculationsAndCharts!$A235+$A$11,IF($C$5,8,0),1,1))","v":1736576},{"$f":"IF(A235>$A$8,\"\",OFFSET(InputPriceData!C$15,CalculationsAndCharts!$A235+$A$11,IF($C$5,8,0),1,1))","v":4370.25},{"$f":"IF(A235>$A$8,\"\",OFFSET(InputPriceData!D$15,CalculationsAndCharts!$A235+$A$11,IF($C$5,8,0),1,1))","v":4399},{"$f":"IF(A235>$A$8,\"\",OFFSET(InputPriceData!E$15,CalculationsAndCharts!$A235+$A$11,IF($C$5,8,0),1,1))","v":4357.25},{"$f":"IF(A235>$A$8,\"\",OFFSET(InputPriceData!F$15,CalculationsAndCharts!$A235+$A$11,IF($C$5,8,0),1,1))","v":4361},0,11,{"$f":"IF($A235>$J$30,NA(),AVERAGE(H235:H238))","v":0},35.125,null,null,{"$f":"IF($A235>$J$30,NA(),IF($A235>$N$30,0,(1-$M$35)*J235+(2*$M$35-$M$36)*J236-($M$35+$M$37)*J237+$M$36*N236+$M$37*N237))","v":9.463895221293571},14.608539373851825,-0.21371515756847279,-4.5155456882947309E-2,null,null,4.2449728598824796,19.168776628799236,-0.63739486817910007,5.1609154729610092E-2,null,null,null,null,null,null,null,null,null,null,null,null,null,null,null,null,null,null,null,null,null,null,null,null,null,null,null,null,null,null,null,{"$error":"#N/A"},1736576]
[204,{"$f":"IF(A236>$A$8,\"\",OFFSET(InputPriceData!B$15,$A236+$A$11,0,1,1))","v":"2023-09-21T04:00:00"},{"$f":"IF(A236>$A$8,\"\",OFFSET(InputPriceData!G$15,CalculationsAndCharts!$A236+$A$11,IF($C$5,8,0),1,1))","v":1998638},{"$f":"IF(A236>$A$8,\"\",OFFSET(InputPriceData!C$15,CalculationsAndCharts!$A236+$A$11,IF($C$5,8,0),1,1))","v":4445},{"$f":"IF(A236>$A$8,\"\",OFFSET(InputPriceData!D$15,CalculationsAndCharts!$A236+$A$11,IF($C$5,8,0),1,1))","v":4447},{"$f":"IF(A236>$A$8,\"\",OFFSET(InputPriceData!E$15,CalculationsAndCharts!$A236+$A$11,IF($C$5,8,0),1,1))","v":4366.5},{"$f":"IF(A236>$A$8,\"\",OFFSET(InputPriceData!F$15,CalculationsAndCharts!$A236+$A$11,IF($C$5,8,0),1,1))","v":4372},0,75,{"$f":"IF($A236>$J$30,NA(),AVERAGE(H236:H239))","v":2.4449999999999363},32.375,null,null,{"$f":"IF($A236>$J$30,NA(),IF($A236>$N$30,0,(1-$M$35)*J236+(2*$M$35-$M$36)*J237-($M$35+$M$37)*J238+$M$36*N237+$M$37*N238))","v":10.238405969551472},12.967250846649929,-0.11759395128145091,-2.9929702851235494E-2,null,null,6.3270154381550281,12.481084617190461,-0.32720312848858818,0.18856836999650972,null,null,null,null,null,null,null,null,null,null,null,null,null,null,null,null,null,null,null,null,null,null,null,null,null,null,null,null,null,null,null,{"$error":"#N/A"},1998638]
[205,{"$f":"IF(A237>$A$8,\"\",OFFSET(InputPriceData!B$15,$A237+$A$11,0,1,1))","v":"2023-09-20T04:00:00"},{"$f":"IF(A237>$A$8,\"\",OFFSET(InputPriceData!G$15,CalculationsAndCharts!$A237+$A$11,IF($C$5,8,0),1,1))","v":1482206},{"$f":"IF(A237>$A$8,\"\",OFFSET(InputPriceData!C$15,CalculationsAndCharts!$A237+$A$11,IF($C$5,8,0),1,1))","v":4491.25},{"$f":"IF(A237>$A$8,\"\",OFFSET(InputPriceData!D$15,CalculationsAndCharts!$A237+$A$11,IF($C$5,8,0),1,1))","v":4508},{"$f":"IF(A237>$A$8,\"\",OFFSET(InputPriceData!E$15,CalculationsAndCharts!$A237+$A$11,IF($C$5,8,0),1,1))","v":4443.25},{"$f":"IF(A237>$A$8,\"\",OFFSET(InputPriceData!F$15,CalculationsAndCharts!$A237+$A$11,IF($C$5,8,0),1,1))","v":4447},0,43,{"$f":"IF($A237>$J$30,NA(),AVERAGE(H237:H240))","v":2.4449999999999363},17.194999999999936,null,null,{"$f":"IF($A237>$J$30,NA(),IF($A237>$N$30,0,(1-$M$35)*J237+(2*$M$35-$M$36)*J238-($M$35+$M$37)*J239+$M$36*N238+$M$37*N239))","v":10.94841938535164},11.983940576849019,-4.5155456882947309E-2,-5.4963191515881228E-2,null,null,8.464945099082545,7.6340876280698788,5.1609154729610092E-2,8.6199502408250889E-2,null,null,null,null,null,null,null,null,null,null,null,null,null,null,null,null,null,null,null,null,null,null,null,null,null,null,null,null,null,null,null,{"$f":"IF(G237>=G238,C237,NA())","v":{"$error":"#N/A"}},{"$f":"IF(G237<G238,C237,NA())","v":1482206}]
[206,{"$f":"IF(A238>$A$8,\"\",OFFSET(InputPriceData!B$15,$A238+$A$11,0,1,1))","v":"2023-09-19T04:00:00"},{"$f":"IF(A238>$A$8,\"\",OFFSET(InputPriceData!G$15,CalculationsAndCharts!$A238+$A$11,IF($C$5,8,0),1,1))","v":1422950},{"$f":"IF(A238>$A$8,\"\",OFFSET(InputPriceData!C$15,CalculationsAndCharts!$A238+$A$11,IF($C$5,8,0),1,1))","v":4503.25},{"$f":"IF(A238>$A$8,\"\",OFFSET(InputPriceData!D$15,CalculationsAndCharts!$A238+$A$11,IF($C$5,8,0),1,1))","v":4509.5},{"$f":"IF(A238>$A$8,\"\",OFFSET(InputPriceData!E$15,CalculationsAndCharts!$A238+$A$11,IF($C$5,8,0),1,1))","v":4462.25},{"$f":"IF(A238>$A$8,\"\",OFFSET(InputPriceData!F$15,CalculationsAndCharts!$A238+$A$11,IF($C$5,8,0),1,1))","v":4490},0,11.5,{"$f":"IF($A238>$J$30,NA(),AVERAGE(H238:H241))","v":11.757499999999936},6.4449999999999363,null,null,{"$f":"IF($A238>$J$30,NA(),IF($A238>$N$30,0,(1-$M$35)*J238+(2*$M$35-$M$36)*J239-($M$35+$M$37)*J240+$M$36*N239+$M$37*N240))","v":11.312430921314073},12.010478675162856,-2.9929702851235494E-2,-7.1776638083815666E-2,null,null,9.4446959189757962,6.4478621490191159,0.18856836999650972,2.543337940869432E-2,null,null,null,null,null,null,null,null,null,null,null,null,null,null,null,null,null,null,null,null,null,null,null,null,null,null,null,null,null,null,null,{"$error":"#N/A"},1422950]
[207,{"$f":"IF(A239>$A$8,\"\",OFFSET(InputPriceData!B$15,$A239+$A$11,0,1,1))","v":"2023-09-18T04:00:00"},{"$f":"IF(A239>$A$8,\"\",OFFSET(InputPriceData!G$15,CalculationsAndCharts!$A239+$A$11,IF($C$5,8,0),1,1))","v":1155158},{"$f":"IF(A239>$A$8,\"\",OFFSET(InputPriceData!C$15,CalculationsAndCharts!$A239+$A$11,IF($C$5,8,0),1,1))","v":4499.5},{"$f":"IF(A239>$A$8,\"\",OFFSET(InputPriceData!D$15,CalculationsAndCharts!$A239+$A$11,IF($C$5,8,0),1,1))","v":4514.5},{"$f":"IF(A239>$A$8,\"\",OFFSET(InputPriceData!E$15,CalculationsAndCharts!$A239+$A$11,IF($C$5,8,0),1,1))","v":4487},{"$f":"IF(A239>$A$8,\"\",OFFSET(InputPriceData!F$15,CalculationsAndCharts!$A239+$A$11,IF($C$5,8,0),1,1))","v":4501.5},9.7799999999997453,0,{"$f":"IF($A239>$J$30,NA(),AVERAGE(H239:H242))","v":12.694999999999936},3.5699999999999363,null,null,{"$f":"IF($A239>$J$30,NA(),IF($A239>$N$30,0,(1-$M$35)*J239+(2*$M$35-$M$36)*J240-($M$35+$M$37)*J241+$M$36*N240+$M$37*N241))","v":11.277995708366564},12.589848606516732,-5.4963191515881228E-2,-9.2721052980413263E-2,null,null,8.8894686287461937,7.4785532844236098,8.6199502408250889E-2,-6.2607879797305421E-2,null,null,null,null,null,null,null,null,null,null,null,null,null,null,null,null,null,null,null,null,null,null,null,null,null,null,null,null,null,null,null,1155158,{"$error":"#N/A"}]
[208,{"$f":"IF(A240>$A$8,\"\",OFFSET(InputPriceData!B$15,$A240+$A$11,0,1,1))","v":"2023-09-15T04:00:00"},{"$f":"IF(A240>$A$8,\"\",OFFSET(InputPriceData!G$15,CalculationsAndCharts!$A240+$A$11,IF($C$5,8,0),1,1))","v":1825966},{"$f":"IF(A240>$A$8,\"\",OFFSET(InputPriceData!C$15,CalculationsAndCharts!$A240+$A$11,IF($C$5,8,0),1,1))","v":4508},{"$f":"IF(A240>$A$8,\"\",OFFSET(InputPriceData!D$15,CalculationsAndCharts!$A240+$A$11,IF($C$5,8,0),1,1))","v":4517.75},{"$f":"IF(A240>$A$8,\"\",OFFSET(InputPriceData!E$15,CalculationsAndCharts!$A240+$A$11,IF($C$5,8,0),1,1))","v":4480},{"$f":"IF(A240>$A$8,\"\",OFFSET(InputPriceData!F$15,CalculationsAndCharts!$A240+$A$11,IF($C$5,8,0),1,1))","v":4491.72},0,14.279999999999745,{"$f":"IF($A240>$J$30,NA(),AVERAGE(H240:H243))","v":10.25},9.8824999999999363,null,null,{"$f":"IF($A240>$J$30,NA(),IF($A240>$N$30,0,(1-$M$35)*J240+(2*$M$35-$M$36)*J241-($M$35+$M$37)*J242+$M$36*N241+$M$37*N242))","v":11.304814916274546},13.053147574428927,-7.1776638083815666E-2,-0.11763876013216555,null,null,8.582992136921062,8.1572316733675336,2.543337940869432E-2,-0.18789861593858354,null,null,null,null,null,null,null,null,null,null,null,null,null,null,null,null,null,null,null,null,null,null,null,null,null,null,null,null,null,null,null,{"$error":"#N/A"},1825966]
[209,{"$f":"IF(A241>$A$8,\"\",OFFSET(InputPriceData!B$15,$A241+$A$11,0,1,1))","v":"2023-09-14T04:00:00"},{"$f":"IF(A241>$A$8,\"\",OFFSET(InputPriceData!G$15,CalculationsAndCharts!$A241+$A$11,IF($C$5,8,0),1,1))","v":454906},{"$f":"IF(A241>$A$8,\"\",OFFSET(InputPriceData!C$15,CalculationsAndCharts!$A241+$A$11,IF($C$5,8,0),1,1))","v":4471.75},{"$f":"IF(A241>$A$8,\"\",OFFSET(InputPriceData!D$15,CalculationsAndCharts!$A241+$A$11,IF($C$5,8,0),1,1))","v":4513},{"$f":"IF(A241>$A$8,\"\",OFFSET(InputPriceData!E$15,CalculationsAndCharts!$A241+$A$11,IF($C$5,8,0),1,1))","v":4470.25},{"$f":"IF(A241>$A$8,\"\",OFFSET(InputPriceData!F$15,CalculationsAndCharts!$A241+$A$11,IF($C$5,8,0),1,1))","v":4506},37.25,0,{"$f":"IF($A241>$J$30,NA(),AVERAGE(H241:H244))","v":17.375},6.3125,null,null,{"$f":"IF($A241>$J$30,NA(),IF($A241>$N$30,0,(1-$M$35)*J241+(2*$M$35-$M$36)*J242-($M$35+$M$37)*J243+$M$36*N242+$M$37*N243))","v":11.145045379151036},13.423022502865919,-9.2721052980413263E-2,-0.12133199005816868,null,null,7.5277698883435207,8.5333207184684348,-6.2607879797305421E-2,-0.17542668028117761,null,null,null,null,null,null,null,null,null,null,null,null,null,null,null,null,null,null,null,null,null,null,null,null,null,null,null,null,null,null,null,454906,{"$error":"#N/A"}]
[210,{"$f":"IF(A242>$A$8,\"\",OFFSET(InputPriceData!B$15,$A242+$A$11,0,1,1))","v":"2023-09-13T04:00:00"},{"$f":"IF(A242>$A$8,\"\",OFFSET(InputPriceData!G$15,CalculationsAndCharts!$A242+$A$11,IF($C$5,8,0),1,1))","v":690872},{"$f":"IF(A242>$A$8,\"\",OFFSET(InputPriceData!C$15,CalculationsAndCharts!$A242+$A$11,IF($C$5,8,0),1,1))","v":4464.5},{"$f":"IF(A242>$A$8,\"\",OFFSET(InputPriceData!D$15,CalculationsAndCharts!$A242+$A$11,IF($C$5,8,0),1,1))","v":4481},{"$f":"IF(A242>$A$8,\"\",OFFSET(InputPriceData!E$15,CalculationsAndCharts!$A242+$A$11,IF($C$5,8,0),1,1))","v":4446.75},{"$f":"IF(A242>$A$8,\"\",OFFSET(InputPriceData!F$15,CalculationsAndCharts!$A242+$A$11,IF($C$5,8,0),1,1))","v":4468.75},3.75,0,{"$f":"IF($A242>$J$30,NA(),AVERAGE(H242:H245))","v":9.4375},6.3125,null,null,{"$f":"IF($A242>$J$30,NA(),IF($A242>$N$30,0,(1-$M$35)*J242+(2*$M$35-$M$36)*J243-($M$35+$M$37)*J244+$M$36*N243+$M$37*N244))","v":11.013691447690217},13.950441041492821,-0.11763876013216555,-0.11600883092401179,null,null,6.5889947235347064,9.6380302584505557,-0.18789861593858354,-9.816924190825374E-2,null,null,null,null,null,null,null,null,null,null,null,null,null,null,null,null,null,null,null,null,null,null,null,null,null,null,null,null,null,null,null,690872,{"$error":"#N/A"}]
[211,{"$f":"IF(A243>$A$8,\"\",OFFSET(InputPriceData!B$15,$A243+$A$11,0,1,1))","v":"2023-09-12T04:00:00"},{"$f":"IF(A243>$A$8,\"\",OFFSET(InputPriceData!G$15,CalculationsAndCharts!$A243+$A$11,IF($C$5,8,0),1,1))","v":1153961},{"$f":"IF(A243>$A$8,\"\",OFFSET(InputPriceData!C$15,CalculationsAndCharts!$A243+$A$11,IF($C$5,8,0),1,1))","v":4487.75},{"$f":"IF(A243>$A$8,\"\",OFFSET(InputPriceData!D$15,CalculationsAndCharts!$A243+$A$11,IF($C$5,8,0),1,1))","v":4491},{"$f":"IF(A243>$A$8,\"\",OFFSET(InputPriceData!E$15,CalculationsAndCharts!$A243+$A$11,IF($C$5,8,0),1,1))","v":4458.75},{"$f":"IF(A243>$A$8,\"\",OFFSET(InputPriceData!F$15,CalculationsAndCharts!$A243+$A$11,IF($C$5,8,0),1,1))","v":4465},0,25.25,{"$f":"IF($A243>$J$30,NA(),AVERAGE(H243:H246))","v":8.5},10.125,null,null,{"$f":"IF($A243>$J$30,NA(),IF($A243>$N$30,0,(1-$M$35)*J243+(2*$M$35-$M$36)*J244-($M$35+$M$37)*J245+$M$36*N244+$M$37*N245))","v":11.238406092221648},14.342145299345781,-0.12133199005816868,-9.0031470925999585E-2,null,null,7.2279866201109488,10.303472250218922,-0.17542668028117761,0.10690750647452157,null,null,null,null,null,null,null,null,null,null,null,null,null,null,null,null,null,null,null,null,null,null,null,null,null,null,null,null,null,null,null,{"$error":"#N/A"},1153961]
[212,{"$f":"IF(A244>$A$8,\"\",OFFSET(InputPriceData!B$15,$A244+$A$11,0,1,1))","v":"2023-09-11T04:00:00"},{"$f":"IF(A244>$A$8,\"\",OFFSET(InputPriceData!G$15,CalculationsAndCharts!$A244+$A$11,IF($C$5,8,0),1,1))","v":1714266},{"$f":"IF(A244>$A$8,\"\",OFFSET(InputPriceData!C$15,CalculationsAndCharts!$A244+$A$11,IF($C$5,8,0),1,1))","v":4463.5},{"$f":"IF(A244>$A$8,\"\",OFFSET(InputPriceData!D$15,CalculationsAndCharts!$A244+$A$11,IF($C$5,8,0),1,1))","v":4493.5},{"$f":"IF(A244>$A$8,\"\",OFFSET(InputPriceData!E$15,CalculationsAndCharts!$A244+$A$11,IF($C$5,8,0),1,1))","v":4459.25},{"$f":"IF(A244>$A$8,\"\",OFFSET(InputPriceData!F$15,CalculationsAndCharts!$A244+$A$11,IF($C$5,8,0),1,1))","v":4490.25},28.5,0,{"$f":"IF($A244>$J$30,NA(),AVERAGE(H244:H247))","v":8.5},11.5625,null,null,{"$f":"IF($A244>$J$30,NA(),IF($A244>$N$30,0,(1-$M$35)*J244+(2*$M$35-$M$36)*J245-($M$35+$M$37)*J246+$M$36*N245+$M$37*N246))","v":11.512173583145927},14.533728199287685,-0.11600883092401179,-4.5998122895322339E-2,null,null,8.3694959372235278,10.191627338130695,-9.816924190825374E-2,0.39608603035128181,null,null,null,null,null,null,null,null,null,null,null,null,null,null,null,null,null,null,null,null,null,null,null,null,null,null,null,null,null,null,null,1714266,{"$error":"#N/A"}]
[213,{"$f":"IF(A245>$A$8,\"\",OFFSET(InputPriceData!B$15,$A245+$A$11,0,1,1))","v":"2023-09-08T04:00:00"},{"$f":"IF(A245>$A$8,\"\",OFFSET(InputPriceData!G$15,CalculationsAndCharts!$A245+$A$11,IF($C$5,8,0),1,1))","v":1686158},{"$f":"IF(A245>$A$8,\"\",OFFSET(InputPriceData!C$15,CalculationsAndCharts!$A245+$A$11,IF($C$5,8,0),1,1))","v":4458.25},{"$f":"IF(A245>$A$8,\"\",OFFSET(InputPriceData!D$15,CalculationsAndCharts!$A245+$A$11,IF($C$5,8,0),1,1))","v":4477.5},{"$f":"IF(A245>$A$8,\"\",OFFSET(InputPriceData!E$15,CalculationsAndCharts!$A245+$A$11,IF($C$5,8,0),1,1))","v":4443},{"$f":"IF(A245>$A$8,\"\",OFFSET(InputPriceData!F$15,CalculationsAndCharts!$A245+$A$11,IF($C$5,8,0),1,1))","v":4461.75},5.5,0,{"$f":"IF($A245>$J$30,NA(),AVERAGE(H245:H248))","v":1.375},16.3125,null,null,{"$f":"IF($A245>$J$30,NA(),IF($A245>$N$30,0,(1-$M$35)*J245+(2*$M$35-$M$36)*J246-($M$35+$M$37)*J247+$M$36*N246+$M$37*N247))","v":12.086957762692764},14.478703304712852,-9.0031470925999585E-2,-4.7242660820999149E-3,null,null,11.17017070073188,9.012492503547314,0.10690750647452157,0.63606158710019711,null,null,null,null,null,null,null,null,null,null,null,null,null,null,null,null,null,null,null,null,null,null,null,null,null,null,null,null,null,null,null,1686158,{"$error":"#N/A"}]
[214,{"$f":"IF(A246>$A$8,\"\",OFFSET(InputPriceData!B$15,$A246+$A$11,0,1,1))","v":"2023-09-07T04:00:00"},{"$f":"IF(A246>$A$8,\"\",OFFSET(InputPriceData!G$15,CalculationsAndCharts!$A246+$A$11,IF($C$5,8,0),1,1))","v":1602226},{"$f":"IF(A246>$A$8,\"\",OFFSET(InputPriceData!C$15,CalculationsAndCharts!$A246+$A$11,IF($C$5,8,0),1,1))","v":4469.5},{"$f":"IF(A246>$A$8,\"\",OFFSET(InputPriceData!D$15,CalculationsAndCharts!$A246+$A$11,IF($C$5,8,0),1,1))","v":4471.75},{"$f":"IF(A246>$A$8,\"\",OFFSET(InputPriceData!E$15,CalculationsAndCharts!$A246+$A$11,IF($C$5,8,0),1,1))","v":4434.25},{"$f":"IF(A246>$A$8,\"\",OFFSET(InputPriceData!F$15,CalculationsAndCharts!$A246+$A$11,IF($C$5,8,0),1,1))","v":4456.25},0,15.25,{"$f":"IF($A246>$J$30,NA(),AVERAGE(H246:H249))","v":1.375},16.3125,null,null,{"$f":"IF($A246>$J$30,NA(),IF($A246>$N$30,0,(1-$M$35)*J246+(2*$M$35-$M$36)*J247-($M$35+$M$37)*J248+$M$36*N247+$M$37*N248))","v":12.974065894391478},14.225180156919805,-4.5998122895322339E-2,1.6366342770799788E-2,null,null,15.874174674260711,6.8667944768545208,0.39608603035128181,0.73437522083883189,null,null,null,null,null,null,null,null,null,null,null,null,null,null,null,null,null,null,null,null,null,null,null,null,null,null,null,null,null,null,null,{"$error":"#N/A"},1602226]
[215,{"$f":"IF(A247>$A$8,\"\",OFFSET(InputPriceData!B$15,$A247+$A$11,0,1,1))","v":"2023-09-06T04:00:00"},{"$f":"IF(A247>$A$8,\"\",OFFSET(InputPriceData!G$15,CalculationsAndCharts!$A247+$A$11,IF($C$5,8,0),1,1))","v":1600128},{"$f":"IF(A247>$A$8,\"\",OFFSET(InputPriceData!C$15,CalculationsAndCharts!$A247+$A$11,IF($C$5,8,0),1,1))","v":4500},{"$f":"IF(A247>$A$8,\"\",OFFSET(InputPriceData!D$15,CalculationsAndCharts!$A247+$A$11,IF($C$5,8,0),1,1))","v":4503.75},{"$f":"IF(A247>$A$8,\"\",OFFSET(InputPriceData!E$15,CalculationsAndCharts!$A247+$A$11,IF($C$5,8,0),1,1))","v":4447},{"$f":"IF(A247>$A$8,\"\",OFFSET(InputPriceData!F$15,CalculationsAndCharts!$A247+$A$11,IF($C$5,8,0),1,1))","v":4471.5},0,31,{"$f":"IF($A247>$J$30,NA(),AVERAGE(H247:H250))","v":1.375},14.5625,null,null,{"$f":"IF($A247>$J$30,NA(),IF($A247>$N$30,0,(1-$M$35)*J247+(2*$M$35-$M$36)*J248-($M$35+$M$37)*J249+$M$36*N248+$M$37*N249))","v":13.896440399443007},14.028364608591719,-4.7242660820999149E-3,-7.8810185174025306E-3,null,null,21.479350682661416,4.7780357776270863,0.63606158710019711,0.67463476422566071,null,null,null,null,null,null,null,null,null,null,null,null,null,null,null,null,null,null,null,null,null,null,null,null,null,null,null,null,null,null,null,{"$error":"#N/A"},1600128]
[216,{"$f":"IF(A248>$A$8,\"\",OFFSET(InputPriceData!B$15,$A248+$A$11,0,1,1))","v":"2023-09-05T04:00:00"},{"$f":"IF(A248>$A$8,\"\",OFFSET(InputPriceData!G$15,CalculationsAndCharts!$A248+$A$11,IF($C$5,8,0),1,1))","v":1391805},{"$f":"IF(A248>$A$8,\"\",OFFSET(InputPriceData!C$15,CalculationsAndCharts!$A248+$A$11,IF($C$5,8,0),1,1))","v":4521.25},{"$f":"IF(A248>$A$8,\"\",OFFSET(InputPriceData!D$15,CalculationsAndCharts!$A248+$A$11,IF($C$5,8,0),1,1))","v":4531.25},{"$f":"IF(A248>$A$8,\"\",OFFSET(InputPriceData!E$15,CalculationsAndCharts!$A248+$A$11,IF($C$5,8,0),1,1))","v":4499.25},{"$f":"IF(A248>$A$8,\"\",OFFSET(InputPriceData!F$15,CalculationsAndCharts!$A248+$A$11,IF($C$5,8,0),1,1))","v":4502.5},0,19,{"$f":"IF($A248>$J$30,NA(),AVERAGE(H248:H251))","v":5.75},6.8125,null,null,{"$f":"IF($A248>$J$30,NA(),IF($A248>$N$30,0,(1-$M$35)*J248+(2*$M$35-$M$36)*J249-($M$35+$M$37)*J250+$M$36*N249+$M$37*N250))","v":14.676961777651908},14.204281451319718,1.6366342770799788E-2,-6.8971715857130578E-2,null,null,27.239212649315398,4.1717673070761983,0.73437522083883189,0.53629309274428294,null,null,null,null,null,null,null,null,null,null,null,null,null,null,null,null,null,null,null,null,null,null,null,null,null,null,null,null,null,null,null,{"$error":"#N/A"},1391805]
[217,{"$f":"IF(A249>$A$8,\"\",OFFSET(InputPriceData!B$15,$A249+$A$11,0,1,1))","v":"2023-09-01T04:00:00"},{"$f":"IF(A249>$A$8,\"\",OFFSET(InputPriceData!G$15,CalculationsAndCharts!$A249+$A$11,IF($C$5,8,0),1,1))","v":1416762},{"$f":"IF(A249>$A$8,\"\",OFFSET(InputPriceData!C$15,CalculationsAndCharts!$A249+$A$11,IF($C$5,8,0),1,1))","v":4516.75},{"$f":"IF(A249>$A$8,\"\",OFFSET(InputPriceData!D$15,CalculationsAndCharts!$A249+$A$11,IF($C$5,8,0),1,1))","v":4547.75},{"$f":"IF(A249>$A$8,\"\",OFFSET(InputPriceData!E$15,CalculationsAndCharts!$A249+$A$11,IF($C$5,8,0),1,1))","v":4507.25},{"$f":"IF(A249>$A$8,\"\",OFFSET(InputPriceData!F$15,CalculationsAndCharts!$A249+$A$11,IF($C$5,8,0),1,1))","v":4521.5},5.5,0,{"$f":"IF($A249>$J$30,NA(),AVERAGE(H249:H252))","v":21.875},2.0625,null,null,{"$f":"IF($A249>$J$30,NA(),IF($A249>$N$30,0,(1-$M$35)*J249+(2*$M$35-$M$36)*J250-($M$35+$M$37)*J251+$M$36*N250+$M$37*N251))","v":14.656111026229027},14.888956248519222,-7.8810185174025306E-3,-0.15491151857402002,null,null,30.227930597430618,5.8729927121458445,0.67463476422566071,0.33522893138364757,null,null,null,null,null,null,null,null,null,null,null,null,null,null,null,null,null,null,null,null,null,null,null,null,null,null,null,null,null,null,null,1416762,{"$error":"#N/A"}]
[218,{"$f":"IF(A250>$A$8,\"\",OFFSET(InputPriceData!B$15,$A250+$A$11,0,1,1))","v":"2023-08-31T04:00:00"},{"$f":"IF(A250>$A$8,\"\",OFFSET(InputPriceData!G$15,CalculationsAndCharts!$A250+$A$11,IF($C$5,8,0),1,1))","v":1395751},{"$f":"IF(A250>$A$8,\"\",OFFSET(InputPriceData!C$15,CalculationsAndCharts!$A250+$A$11,IF($C$5,8,0),1,1))","v":4527},{"$f":"IF(A250>$A$8,\"\",OFFSET(InputPriceData!D$15,CalculationsAndCharts!$A250+$A$11,IF($C$5,8,0),1,1))","v":4541.25},{"$f":"IF(A250>$A$8,\"\",OFFSET(InputPriceData!E$15,CalculationsAndCharts!$A250+$A$11,IF($C$5,8,0),1,1))","v":4512.75},{"$f":"IF(A250>$A$8,\"\",OFFSET(InputPriceData!F$15,CalculationsAndCharts!$A250+$A$11,IF($C$5,8,0),1,1))","v":4516},0,8.25,{"$f":"IF($A250>$J$30,NA(),AVERAGE(H250:H253))","v":27.5},2.0625,null,null,{"$f":"IF($A250>$J$30,NA(),IF($A250>$N$30,0,(1-$M$35)*J250+(2*$M$35-$M$36)*J251-($M$35+$M$37)*J252+$M$36*N251+$M$37*N252))","v":13.750777131366801},15.788125962272614,-6.8971715857130578E-2,-0.2374169161138022,null,null,29.624145294298494,8.9416016119521018,0.53629309274428294,0.15380962109136931,null,null,null,null,null,null,null,null,null,null,null,null,null,null,null,null,null,null,null,null,null,null,null,null,null,null,null,null,null,null,null,{"$error":"#N/A"},1395751]
[219,{"$f":"IF(A251>$A$8,\"\",OFFSET(InputPriceData!B$15,$A251+$A$11,0,1,1))","v":"2023-08-30T04:00:00"},{"$f":"IF(A251>$A$8,\"\",OFFSET(InputPriceData!G$15,CalculationsAndCharts!$A251+$A$11,IF($C$5,8,0),1,1))","v":1397669},{"$f":"IF(A251>$A$8,\"\",OFFSET(InputPriceData!C$15,CalculationsAndCharts!$A251+$A$11,IF($C$5,8,0),1,1))","v":4508.75},{"$f":"IF(A251>$A$8,\"\",OFFSET(InputPriceData!D$15,CalculationsAndCharts!$A251+$A$11,IF($C$5,8,0),1,1))","v":4530.75},{"$f":"IF(A251>$A$8,\"\",OFFSET(InputPriceData!E$15,CalculationsAndCharts!$A251+$A$11,IF($C$5,8,0),1,1))","v":4496.25},{"$f":"IF(A251>$A$8,\"\",OFFSET(InputPriceData!F$15,CalculationsAndCharts!$A251+$A$11,IF($C$5,8,0),1,1))","v":4524.25},17.5,0,{"$f":"IF($A251>$J$30,NA(),AVERAGE(H251:H254))","v":34.5625},0,null,null,{"$f":"IF($A251>$J$30,NA(),IF($A251>$N$30,0,(1-$M$35)*J251+(2*$M$35-$M$36)*J252-($M$35+$M$37)*J253+$M$36*N252+$M$37*N253))","v":12.293170561808045},16.800044721554649,-0.15491151857402002,-0.29722116420375905,null,null,26.321928744440378,13.104911291393705,0.33522893138364757,2.17107583543861E-2,null,null,null,null,null,null,null,null,null,null,null,null,null,null,null,null,null,null,null,null,null,null,null,null,null,null,null,null,null,null,null,1397669,{"$error":"#N/A"}]
[220,{"$f":"IF(A252>$A$8,\"\",OFFSET(InputPriceData!B$15,$A252+$A$11,0,1,1))","v":"2023-08-29T04:00:00"},{"$f":"IF(A252>$A$8,\"\",OFFSET(InputPriceData!G$15,CalculationsAndCharts!$A252+$A$11,IF($C$5,8,0),1,1))","v":1444714},{"$f":"IF(A252>$A$8,\"\",OFFSET(InputPriceData!C$15,CalculationsAndCharts!$A252+$A$11,IF($C$5,8,0),1,1))","v":4444},{"$f":"IF(A252>$A$8,\"\",OFFSET(InputPriceData!D$15,CalculationsAndCharts!$A252+$A$11,IF($C$5,8,0),1,1))","v":4509.5},{"$f":"IF(A252>$A$8,\"\",OFFSET(InputPriceData!E$15,CalculationsAndCharts!$A252+$A$11,IF($C$5,8,0),1,1))","v":4433.5},{"$f":"IF(A252>$A$8,\"\",OFFSET(InputPriceData!F$15,CalculationsAndCharts!$A252+$A$11,IF($C$5,8,0),1,1))","v":4506.75},64.5,0,{"$f":"IF($A252>$J$30,NA(),AVERAGE(H252:H255))","v":30.1875},15.25,null,null,{"$f":"IF($A252>$J$30,NA(),IF($A252>$N$30,0,(1-$M$35)*J252+(2*$M$35-$M$36)*J253-($M$35+$M$37)*J254+$M$36*N253+$M$37*N254))","v":10.667833560256486},17.310320651851566,-0.2374169161138022,-0.33846377152198875,null,null,21.602298270681302,15.842870976994147,0.15380962109136931,-9.7080018971706081E-2,null,null,null,null,null,null,null,null,null,null,null,null,null,null,null,null,null,null,null,null,null,null,null,null,null,null,null,null,null,null,null,1444714,{"$error":"#N/A"}]
[221,{"$f":"IF(A253>$A$8,\"\",OFFSET(InputPriceData!B$15,$A253+$A$11,0,1,1))","v":"2023-08-28T04:00:00"},{"$f":"IF(A253>$A$8,\"\",OFFSET(InputPriceData!G$15,CalculationsAndCharts!$A253+$A$11,IF($C$5,8,0),1,1))","v":1266414},{"$f":"IF(A253>$A$8,\"\",OFFSET(InputPriceData!C$15,CalculationsAndCharts!$A253+$A$11,IF($C$5,8,0),1,1))","v":4418},{"$f":"IF(A253>$A$8,\"\",OFFSET(InputPriceData!D$15,CalculationsAndCharts!$A253+$A$11,IF($C$5,8,0),1,1))","v":4449.5},{"$f":"IF(A253>$A$8,\"\",OFFSET(InputPriceData!E$15,CalculationsAndCharts!$A253+$A$11,IF($C$5,8,0),1,1))","v":4414.5},{"$f":"IF(A253>$A$8,\"\",OFFSET(InputPriceData!F$15,CalculationsAndCharts!$A253+$A$11,IF($C$5,8,0),1,1))","v":4442.25},28,0,{"$f":"IF($A253>$J$30,NA(),AVERAGE(H253:H256))","v":26},15.25,null,null,{"$f":"IF($A253>$J$30,NA(),IF($A253>$N$30,0,(1-$M$35)*J253+(2*$M$35-$M$36)*J254-($M$35+$M$37)*J255+$M$36*N254+$M$37*N255))","v":9.3258108562681503},17.214006170811516,-0.29722116420375905,-0.36631473828118988,null,null,17.228217906507943,16.496038720204094,2.17107583543861E-2,-0.21386355144005739,null,null,null,null,null,null,null,null,null,null,null,null,null,null,null,null,null,null,null,null,null,null,null,null,null,null,null,null,null,null,null,1266414,{"$error":"#N/A"}]
[222,{"$f":"IF(A254>$A$8,\"\",OFFSET(InputPriceData!B$15,$A254+$A$11,0,1,1))","v":"2023-08-25T04:00:00"},{"$f":"IF(A254>$A$8,\"\",OFFSET(InputPriceData!G$15,CalculationsAndCharts!$A254+$A$11,IF($C$5,8,0),1,1))","v":1853335},{"$f":"IF(A254>$A$8,\"\",OFFSET(InputPriceData!C$15,CalculationsAndCharts!$A254+$A$11,IF($C$5,8,0),1,1))","v":4384.5},{"$f":"IF(A254>$A$8,\"\",OFFSET(InputPriceData!D$15,CalculationsAndCharts!$A254+$A$11,IF($C$5,8,0),1,1))","v":4429},{"$f":"IF(A254>$A$8,\"\",OFFSET(InputPriceData!E$15,CalculationsAndCharts!$A254+$A$11,IF($C$5,8,0),1,1))","v":4365.25},{"$f":"IF(A254>$A$8,\"\",OFFSET(InputPriceData!F$15,CalculationsAndCharts!$A254+$A$11,IF($C$5,8,0),1,1))","v":4414.25},28.25,0,{"$f":"IF($A254>$J$30,NA(),AVERAGE(H254:H257))","v":19},18.5625,null,null,{"$f":"IF($A254>$J$30,NA(),IF($A254>$N$30,0,(1-$M$35)*J254+(2*$M$35-$M$36)*J255-($M$35+$M$37)*J256+$M$36*N255+$M$37*N256))","v":8.3870770762549505},16.96928804845183,-0.33846377152198875,-0.4134916315646005,null,null,13.785590745985644,16.749985020730406,-9.7080018971706081E-2,-0.46408746213957774,null,null,null,null,null,null,null,null,null,null,null,null,null,null,null,null,null,null,null,null,null,null,null,null,null,null,null,null,null,null,null,1853335,{"$error":"#N/A"}]
[223,{"$f":"IF(A255>$A$8,\"\",OFFSET(InputPriceData!B$15,$A255+$A$11,0,1,1))","v":"2023-08-24T04:00:00"},{"$f":"IF(A255>$A$8,\"\",OFFSET(InputPriceData!G$15,CalculationsAndCharts!$A255+$A$11,IF($C$5,8,0),1,1))","v":1783795},{"$f":"IF(A255>$A$8,\"\",OFFSET(InputPriceData!C$15,CalculationsAndCharts!$A255+$A$11,IF($C$5,8,0),1,1))","v":4470.5},{"$f":"IF(A255>$A$8,\"\",OFFSET(InputPriceData!D$15,CalculationsAndCharts!$A255+$A$11,IF($C$5,8,0),1,1))","v":4485.5},{"$f":"IF(A255>$A$8,\"\",OFFSET(InputPriceData!E$15,CalculationsAndCharts!$A255+$A$11,IF($C$5,8,0),1,1))","v":4378.5},{"$f":"IF(A255>$A$8,\"\",OFFSET(InputPriceData!F$15,CalculationsAndCharts!$A255+$A$11,IF($C$5,8,0),1,1))","v":4386},0,61,{"$f":"IF($A255>$J$30,NA(),AVERAGE(H255:H258))","v":19.375},18.5625,null,null,{"$f":"IF($A255>$J$30,NA(),IF($A255>$N$30,0,(1-$M$35)*J255+(2*$M$35-$M$36)*J256-($M$35+$M$37)*J257+$M$36*N256+$M$37*N257))","v":7.6850901466055674},16.570137521970793,-0.36631473828118988,-0.43987867967046063,null,null,10.71076726486284,16.538363047013668,-0.21386355144005739,-0.66906017147677332,null,null,null,null,null,null,null,null,null,null,null,null,null,null,null,null,null,null,null,null,null,null,null,null,null,null,null,null,null,null,null,{"$error":"#N/A"},1783795]
[224,{"$f":"IF(A256>$A$8,\"\",OFFSET(InputPriceData!B$15,$A256+$A$11,0,1,1))","v":"2023-08-23T04:00:00"},{"$f":"IF(A256>$A$8,\"\",OFFSET(InputPriceData!G$15,CalculationsAndCharts!$A256+$A$11,IF($C$5,8,0),1,1))","v":1306640},{"$f":"IF(A256>$A$8,\"\",OFFSET(InputPriceData!C$15,CalculationsAndCharts!$A256+$A$11,IF($C$5,8,0),1,1))","v":4400},{"$f":"IF(A256>$A$8,\"\",OFFSET(InputPriceData!D$15,CalculationsAndCharts!$A256+$A$11,IF($C$5,8,0),1,1))","v":4476.25},{"$f":"IF(A256>$A$8,\"\",OFFSET(InputPriceData!E$15,CalculationsAndCharts!$A256+$A$11,IF($C$5,8,0),1,1))","v":4399.5},{"$f":"IF(A256>$A$8,\"\",OFFSET(InputPriceData!F$15,CalculationsAndCharts!$A256+$A$11,IF($C$5,8,0),1,1))","v":4447},47.75,0,{"$f":"IF($A256>$J$30,NA(),AVERAGE(H256:H259))","v":19.375},3.75,null,null,{"$f":"IF($A256>$J$30,NA(),IF($A256>$N$30,0,(1-$M$35)*J256+(2*$M$35-$M$36)*J257-($M$35+$M$37)*J258+$M$36*N257+$M$37*N258))","v":6.9476309457358596},16.743867145824964,-0.4134916315646005,-0.42373324321295636,null,null,6.9233554722158033,18.914276540860861,-0.46408746213957774,-0.73529243405690792,null,null,null,null,null,null,null,null,null,null,null,null,null,null,null,null,null,null,null,null,null,null,null,null,null,null,null,null,null,null,null,1306640,{"$error":"#N/A"}]
[225,{"$f":"IF(A257>$A$8,\"\",OFFSET(InputPriceData!B$15,$A257+$A$11,0,1,1))","v":"2023-08-22T04:00:00"},{"$f":"IF(A257>$A$8,\"\",OFFSET(InputPriceData!G$15,CalculationsAndCharts!$A257+$A$11,IF($C$5,8,0),1,1))","v":1375651},{"$f":"IF(A257>$A$8,\"\",OFFSET(InputPriceData!C$15,CalculationsAndCharts!$A257+$A$11,IF($C$5,8,0),1,1))","v":4410.25},{"$f":"IF(A257>$A$8,\"\",OFFSET(InputPriceData!D$15,CalculationsAndCharts!$A257+$A$11,IF($C$5,8,0),1,1))","v":4440},{"$f":"IF(A257>$A$8,\"\",OFFSET(InputPriceData!E$15,CalculationsAndCharts!$A257+$A$11,IF($C$5,8,0),1,1))","v":4394.25},{"$f":"IF(A257>$A$8,\"\",OFFSET(InputPriceData!F$15,CalculationsAndCharts!$A257+$A$11,IF($C$5,8,0),1,1))","v":4399.25},0,13.25,{"$f":"IF($A257>$J$30,NA(),AVERAGE(H257:H260))","v":7.4375},12.625,null,null,{"$f":"IF($A257>$J$30,NA(),IF($A257>$N$30,0,(1-$M$35)*J257+(2*$M$35-$M$36)*J258-($M$35+$M$37)*J259+$M$36*N258+$M$37*N259))","v":6.6729599302302844},17.15387789234838,-0.43987867967046063,-0.36947967135411025,null,null,4.5090100007703278,22.740717062249935,-0.66906017147677332,-0.6962862083606437,null,null,null,null,null,null,null,null,null,null,null,null,null,null,null,null,null,null,null,null,null,null,null,null,null,null,null,null,null,null,null,{"$error":"#N/A"},1375651]
[226,{"$f":"IF(A258>$A$8,\"\",OFFSET(InputPriceData!B$15,$A258+$A$11,0,1,1))","v":"2023-08-21T04:00:00"},{"$f":"IF(A258>$A$8,\"\",OFFSET(InputPriceData!G$15,CalculationsAndCharts!$A258+$A$11,IF($C$5,8,0),1,1))","v":1361470},{"$f":"IF(A258>$A$8,\"\",OFFSET(InputPriceData!C$15,CalculationsAndCharts!$A258+$A$11,IF($C$5,8,0),1,1))","v":4382.5},{"$f":"IF(A258>$A$8,\"\",OFFSET(InputPriceData!D$15,CalculationsAndCharts!$A258+$A$11,IF($C$5,8,0),1,1))","v":4421},{"$f":"IF(A258>$A$8,\"\",OFFSET(InputPriceData!E$15,CalculationsAndCharts!$A258+$A$11,IF($C$5,8,0),1,1))","v":4372.25},{"$f":"IF(A258>$A$8,\"\",OFFSET(InputPriceData!F$15,CalculationsAndCharts!$A258+$A$11,IF($C$5,8,0),1,1))","v":4412.5},29.75,0,{"$f":"IF($A258>$J$30,NA(),AVERAGE(H258:H261))","v":7.4375},17.8125,null,null,{"$f":"IF($A258>$J$30,NA(),IF($A258>$N$30,0,(1-$M$35)*J258+(2*$M$35-$M$36)*J259-($M$35+$M$37)*J260+$M$36*N259+$M$37*N260))","v":6.8806433928998736},16.99942017787653,-0.42373324321295636,-0.29209476510034776,null,null,3.7707637474647608,24.719270030227996,-0.73529243405690792,-0.59980895096637243,null,null,null,null,null,null,null,null,null,null,null,null,null,null,null,null,null,null,null,null,null,null,null,null,null,null,null,null,null,null,null,1361470,{"$error":"#N/A"}]
[227,{"$f":"IF(A259>$A$8,\"\",OFFSET(InputPriceData!B$15,$A259+$A$11,0,1,1))","v":"2023-08-18T04:00:00"},{"$f":"IF(A259>$A$8,\"\",OFFSET(InputPriceData!G$15,CalculationsAndCharts!$A259+$A$11,IF($C$5,8,0),1,1))","v":1746289},{"$f":"IF(A259>$A$8,\"\",OFFSET(InputPriceData!C$15,CalculationsAndCharts!$A259+$A$11,IF($C$5,8,0),1,1))","v":4379.25},{"$f":"IF(A259>$A$8,\"\",OFFSET(InputPriceData!D$15,CalculationsAndCharts!$A259+$A$11,IF($C$5,8,0),1,1))","v":4396},{"$f":"IF(A259>$A$8,\"\",OFFSET(InputPriceData!E$15,CalculationsAndCharts!$A259+$A$11,IF($C$5,8,0),1,1))","v":4350},{"$f":"IF(A259>$A$8,\"\",OFFSET(InputPriceData!F$15,CalculationsAndCharts!$A259+$A$11,IF($C$5,8,0),1,1))","v":4382.75},0,1.75,{"$f":"IF($A259>$J$30,NA(),AVERAGE(H259:H262))","v":0},30.8125,null,null,{"$f":"IF($A259>$J$30,NA(),IF($A259>$N$30,0,(1-$M$35)*J259+(2*$M$35-$M$36)*J260-($M$35+$M$37)*J261+$M$36*N260+$M$37*N261))","v":7.4082149365730059},16.090519679907782,-0.36947967135411025,-0.23020171255335167,null,null,4.2521094723120694,23.748656968753743,-0.6962862083606437,-0.55568863804455704,null,null,null,null,null,null,null,null,null,null,null,null,null,null,null,null,null,null,null,null,null,null,null,null,null,null,null,null,null,null,null,{"$error":"#N/A"},1746289]
[228,{"$f":"IF(A260>$A$8,\"\",OFFSET(InputPriceData!B$15,$A260+$A$11,0,1,1))","v":"2023-08-17T04:00:00"},{"$f":"IF(A260>$A$8,\"\",OFFSET(InputPriceData!G$15,CalculationsAndCharts!$A260+$A$11,IF($C$5,8,0),1,1))","v":1630481},{"$f":"IF(A260>$A$8,\"\",OFFSET(InputPriceData!C$15,CalculationsAndCharts!$A260+$A$11,IF($C$5,8,0),1,1))","v":4420.5},{"$f":"IF(A260>$A$8,\"\",OFFSET(InputPriceData!D$15,CalculationsAndCharts!$A260+$A$11,IF($C$5,8,0),1,1))","v":4436.75},{"$f":"IF(A260>$A$8,\"\",OFFSET(InputPriceData!E$15,CalculationsAndCharts!$A260+$A$11,IF($C$5,8,0),1,1))","v":4377.75},{"$f":"IF(A260>$A$8,\"\",OFFSET(InputPriceData!F$15,CalculationsAndCharts!$A260+$A$11,IF($C$5,8,0),1,1))","v":4384.5},0,35.5,{"$f":"IF($A260>$J$30,NA(),AVERAGE(H260:H263))","v":6.3125},30.375,null,null,{"$f":"IF($A260>$J$30,NA(),IF($A260>$N$30,0,(1-$M$35)*J260+(2*$M$35-$M$36)*J261-($M$35+$M$37)*J262+$M$36*N261+$M$37*N262))","v":8.0127804863047487},14.625222713207076,-0.29209476510034776,-0.18517185315207679,null,null,5.0751858106380281,20.288628911822528,-0.59980895096637243,-0.54715766752117434,null,null,null,null,null,null,null,null,null,null,null,null,null,null,null,null,null,null,null,null,null,null,null,null,null,null,null,null,null,null,null,{"$error":"#N/A"},1630481]
[229,{"$f":"IF(A261>$A$8,\"\",OFFSET(InputPriceData!B$15,$A261+$A$11,0,1,1))","v":"2023-08-16T04:00:00"},{"$f":"IF(A261>$A$8,\"\",OFFSET(InputPriceData!G$15,CalculationsAndCharts!$A261+$A$11,IF($C$5,8,0),1,1))","v":1499218},{"$f":"IF(A261>$A$8,\"\",OFFSET(InputPriceData!C$15,CalculationsAndCharts!$A261+$A$11,IF($C$5,8,0),1,1))","v":4453.25},{"$f":"IF(A261>$A$8,\"\",OFFSET(InputPriceData!D$15,CalculationsAndCharts!$A261+$A$11,IF($C$5,8,0),1,1))","v":4467.25},{"$f":"IF(A261>$A$8,\"\",OFFSET(InputPriceData!E$15,CalculationsAndCharts!$A261+$A$11,IF($C$5,8,0),1,1))","v":4417},{"$f":"IF(A261>$A$8,\"\",OFFSET(InputPriceData!F$15,CalculationsAndCharts!$A261+$A$11,IF($C$5,8,0),1,1))","v":4420},0,34,{"$f":"IF($A261>$J$30,NA(),AVERAGE(H261:H264))","v":6.3125},22.75,null,null,{"$f":"IF($A261>$J$30,NA(),IF($A261>$N$30,0,(1-$M$35)*J261+(2*$M$35-$M$36)*J262-($M$35+$M$37)*J263+$M$36*N262+$M$37*N263))","v":8.3959563436099565},13.41743680242727,-0.23020171255335167,-0.15783941339982011,null,null,5.0069123524341617,17.530941869426908,-0.55568863804455704,-0.57616744481674576,null,null,null,null,null,null,null,null,null,null,null,null,null,null,null,null,null,null,null,null,null,null,null,null,null,null,null,null,null,null,null,{"$error":"#N/A"},1499218]
[230,{"$f":"IF(A262>$A$8,\"\",OFFSET(InputPriceData!B$15,$A262+$A$11,0,1,1))","v":"2023-08-15T04:00:00"},{"$f":"IF(A262>$A$8,\"\",OFFSET(InputPriceData!G$15,CalculationsAndCharts!$A262+$A$11,IF($C$5,8,0),1,1))","v":1492516},{"$f":"IF(A262>$A$8,\"\",OFFSET(InputPriceData!C$15,CalculationsAndCharts!$A262+$A$11,IF($C$5,8,0),1,1))","v":4505.75},{"$f":"IF(A262>$A$8,\"\",OFFSET(InputPriceData!D$15,CalculationsAndCharts!$A262+$A$11,IF($C$5,8,0),1,1))","v":4517.75},{"$f":"IF(A262>$A$8,\"\",OFFSET(InputPriceData!E$15,CalculationsAndCharts!$A262+$A$11,IF($C$5,8,0),1,1))","v":4447},{"$f":"IF(A262>$A$8,\"\",OFFSET(InputPriceData!F$15,CalculationsAndCharts!$A262+$A$11,IF($C$5,8,0),1,1))","v":4454},0,52,{"$f":"IF($A262>$J$30,NA(),AVERAGE(H262:H265))","v":6.3125},14.25,null,null,{"$f":"IF($A262>$J$30,NA(),IF($A262>$N$30,0,(1-$M$35)*J262+(2*$M$35-$M$36)*J263-($M$35+$M$37)*J264+$M$36*N263+$M$37*N264))","v":8.80394551309627},12.805385355390307,-0.18517185315207679,-0.11673219915080989,null,null,4.9901674890684333,17.04914788037869,-0.54715766752117434,-0.53453213388268184,null,null,null,null,null,null,null,null,null,null,null,null,null,null,null,null,null,null,null,null,null,null,null,null,null,null,null,null,null,null,null,{"$error":"#N/A"},1492516]
[231,{"$f":"IF(A263>$A$8,\"\",OFFSET(InputPriceData!B$15,$A263+$A$11,0,1,1))","v":"2023-08-14T04:00:00"},{"$f":"IF(A263>$A$8,\"\",OFFSET(InputPriceData!G$15,CalculationsAndCharts!$A263+$A$11,IF($C$5,8,0),1,1))","v":1277132},{"$f":"IF(A263>$A$8,\"\",OFFSET(InputPriceData!C$15,CalculationsAndCharts!$A263+$A$11,IF($C$5,8,0),1,1))","v":4485},{"$f":"IF(A263>$A$8,\"\",OFFSET(InputPriceData!D$15,CalculationsAndCharts!$A263+$A$11,IF($C$5,8,0),1,1))","v":4507.75},{"$f":"IF(A263>$A$8,\"\",OFFSET(InputPriceData!E$15,CalculationsAndCharts!$A263+$A$11,IF($C$5,8,0),1,1))","v":4465},{"$f":"IF(A263>$A$8,\"\",OFFSET(InputPriceData!F$15,CalculationsAndCharts!$A263+$A$11,IF($C$5,8,0),1,1))","v":4506},25.25,0,{"$f":"IF($A263>$J$30,NA(),AVERAGE(H263:H266))","v":6.3125},9.4375,null,null,{"$f":"IF($A263>$J$30,NA(),IF($A263>$N$30,0,(1-$M$35)*J263+(2*$M$35-$M$36)*J264-($M$35+$M$37)*J265+$M$36*N264+$M$37*N265))","v":9.2374609214731755},12.700067546262416,-0.15783941339982011,-7.6630139019278509E-2,null,null,5.0451806685974105,18.762243310034926,-0.57616744481674576,-0.51241704113525033,null,null,null,null,null,null,null,null,null,null,null,null,null,null,null,null,null,null,null,null,null,null,null,null,null,null,null,null,null,null,null,1277132,{"$error":"#N/A"}]
[232,{"$f":"IF(A264>$A$8,\"\",OFFSET(InputPriceData!B$15,$A264+$A$11,0,1,1))","v":"2023-08-11T04:00:00"},{"$f":"IF(A264>$A$8,\"\",OFFSET(InputPriceData!G$15,CalculationsAndCharts!$A264+$A$11,IF($C$5,8,0),1,1))","v":1511048},{"$f":"IF(A264>$A$8,\"\",OFFSET(InputPriceData!C$15,CalculationsAndCharts!$A264+$A$11,IF($C$5,8,0),1,1))","v":4487.75},{"$f":"IF(A264>$A$8,\"\",OFFSET(InputPriceData!D$15,CalculationsAndCharts!$A264+$A$11,IF($C$5,8,0),1,1))","v":4496.25},{"$f":"IF(A264>$A$8,\"\",OFFSET(InputPriceData!E$15,CalculationsAndCharts!$A264+$A$11,IF($C$5,8,0),1,1))","v":4459},{"$f":"IF(A264>$A$8,\"\",OFFSET(InputPriceData!F$15,CalculationsAndCharts!$A264+$A$11,IF($C$5,8,0),1,1))","v":4480.75},0,5,{"$f":"IF($A264>$J$30,NA(),AVERAGE(H264:H267))","v":0},14.25,null,null,{"$f":"IF($A264>$J$30,NA(),IF($A264>$N$30,0,(1-$M$35)*J264+(2*$M$35-$M$36)*J265-($M$35+$M$37)*J266+$M$36*N265+$M$37*N266))","v":9.9525931439361344},12.583251895060025,-0.11673219915080989,-4.5823327392857736E-2,null,null,6.2809940367912755,20.706879859569995,-0.53453213388268184,-0.55703824586187822,null,null,null,null,null,null,null,null,null,null,null,null,null,null,null,null,null,null,null,null,null,null,null,null,null,null,null,null,null,null,null,{"$error":"#N/A"},1511048]
[233,{"$f":"IF(A265>$A$8,\"\",OFFSET(InputPriceData!B$15,$A265+$A$11,0,1,1))","v":"2023-08-10T04:00:00"},{"$f":"IF(A265>$A$8,\"\",OFFSET(InputPriceData!G$15,CalculationsAndCharts!$A265+$A$11,IF($C$5,8,0),1,1))","v":2227022},{"$f":"IF(A265>$A$8,\"\",OFFSET(InputPriceData!C$15,CalculationsAndCharts!$A265+$A$11,IF($C$5,8,0),1,1))","v":4493.25},{"$f":"IF(A265>$A$8,\"\",OFFSET(InputPriceData!D$15,CalculationsAndCharts!$A265+$A$11,IF($C$5,8,0),1,1))","v":4544.75},{"$f":"IF(A265>$A$8,\"\",OFFSET(InputPriceData!E$15,CalculationsAndCharts!$A265+$A$11,IF($C$5,8,0),1,1))","v":4473.5},{"$f":"IF(A265>$A$8,\"\",OFFSET(InputPriceData!F$15,CalculationsAndCharts!$A265+$A$11,IF($C$5,8,0),1,1))","v":4485.75},0,0,{"$f":"IF($A265>$J$30,NA(),AVERAGE(H265:H268))","v":9.9375},13,null,null,{"$f":"IF($A265>$J$30,NA(),IF($A265>$N$30,0,(1-$M$35)*J265+(2*$M$35-$M$36)*J266-($M$35+$M$37)*J267+$M$36*N266+$M$37*N267))","v":10.55784925168024},12.310233621344508,-7.6630139019278509E-2,-9.5226315710647321E-3,null,null,7.1705837822402527,22.242190605673898,-0.51241704113525033,-0.59737037258429382,null,null,null,null,null,null,null,null,null,null,null,null,null,null,null,null,null,null,null,null,null,null,null,null,null,null,null,null,null,null,null,2227022,{"$error":"#N/A"}]
[234,{"$f":"IF(A266>$A$8,\"\",OFFSET(InputPriceData!B$15,$A266+$A$11,0,1,1))","v":"2023-08-09T04:00:00"},{"$f":"IF(A266>$A$8,\"\",OFFSET(InputPriceData!G$15,CalculationsAndCharts!$A266+$A$11,IF($C$5,8,0),1,1))","v":1640285},{"$f":"IF(A266>$A$8,\"\",OFFSET(InputPriceData!C$15,CalculationsAndCharts!$A266+$A$11,IF($C$5,8,0),1,1))","v":4516.5},{"$f":"IF(A266>$A$8,\"\",OFFSET(InputPriceData!D$15,CalculationsAndCharts!$A266+$A$11,IF($C$5,8,0),1,1))","v":4536.25},{"$f":"IF(A266>$A$8,\"\",OFFSET(InputPriceData!E$15,CalculationsAndCharts!$A266+$A$11,IF($C$5,8,0),1,1))","v":4478.25},{"$f":"IF(A266>$A$8,\"\",OFFSET(InputPriceData!F$15,CalculationsAndCharts!$A266+$A$11,IF($C$5,8,0),1,1))","v":4485.75},0,32.75,{"$f":"IF($A266>$J$30,NA(),AVERAGE(H266:H269))","v":9.9375},18.9375,null,null,{"$f":"IF($A266>$J$30,NA(),IF($A266>$N$30,0,(1-$M$35)*J266+(2*$M$35-$M$36)*J267-($M$35+$M$37)*J268+$M$36*N267+$M$37*N268))","v":10.792707885331199},11.82932469033798,-4.5823327392857736E-2,4.3173558804512041E-2,null,null,6.553619476359227,23.036381986005015,-0.55703824586187822,-0.6199801192988923,null,null,null,null,null,null,null,null,null,null,null,null,null,null,null,null,null,null,null,null,null,null,null,null,null,null,null,null,null,null,null,{"$error":"#N/A"},1640285]
[235,{"$f":"IF(A267>$A$8,\"\",OFFSET(InputPriceData!B$15,$A267+$A$11,0,1,1))","v":"2023-08-08T04:00:00"},{"$f":"IF(A267>$A$8,\"\",OFFSET(InputPriceData!G$15,CalculationsAndCharts!$A267+$A$11,IF($C$5,8,0),1,1))","v":1696546},{"$f":"IF(A267>$A$8,\"\",OFFSET(InputPriceData!C$15,CalculationsAndCharts!$A267+$A$11,IF($C$5,8,0),1,1))","v":4539.5},{"$f":"IF(A267>$A$8,\"\",OFFSET(InputPriceData!D$15,CalculationsAndCharts!$A267+$A$11,IF($C$5,8,0),1,1))","v":4541},{"$f":"IF(A267>$A$8,\"\",OFFSET(InputPriceData!E$15,CalculationsAndCharts!$A267+$A$11,IF($C$5,8,0),1,1))","v":4482},{"$f":"IF(A267>$A$8,\"\",OFFSET(InputPriceData!F$15,CalculationsAndCharts!$A267+$A$11,IF($C$5,8,0),1,1))","v":4518.5},0,19.25,{"$f":"IF($A267>$J$30,NA(),AVERAGE(H267:H270))","v":9.9375},14.625,null,null,{"$f":"IF($A267>$J$30,NA(),IF($A267>$N$30,0,(1-$M$35)*J267+(2*$M$35-$M$36)*J268-($M$35+$M$37)*J269+$M$36*N268+$M$37*N269))","v":11.044156027363893},11.256517121547715,-9.5226315710647321E-3,0.15007108638765226,null,null,5.9059026046716312,23.430749258624644,-0.59737037258429382,-0.48633243557460748,null,null,null,null,null,null,null,null,null,null,null,null,null,null,null,null,null,null,null,null,null,null,null,null,null,null,null,null,null,null,null,{"$error":"#N/A"},1696546]
[236,{"$f":"IF(A268>$A$8,\"\",OFFSET(InputPriceData!B$15,$A268+$A$11,0,1,1))","v":"2023-08-07T04:00:00"},{"$f":"IF(A268>$A$8,\"\",OFFSET(InputPriceData!G$15,CalculationsAndCharts!$A268+$A$11,IF($C$5,8,0),1,1))","v":1397301},{"$f":"IF(A268>$A$8,\"\",OFFSET(InputPriceData!C$15,CalculationsAndCharts!$A268+$A$11,IF($C$5,8,0),1,1))","v":4500.5},{"$f":"IF(A268>$A$8,\"\",OFFSET(InputPriceData!D$15,CalculationsAndCharts!$A268+$A$11,IF($C$5,8,0),1,1))","v":4541.75},{"$f":"IF(A268>$A$8,\"\",OFFSET(InputPriceData!E$15,CalculationsAndCharts!$A268+$A$11,IF($C$5,8,0),1,1))","v":4500.5},{"$f":"IF(A268>$A$8,\"\",OFFSET(InputPriceData!F$15,CalculationsAndCharts!$A268+$A$11,IF($C$5,8,0),1,1))","v":4537.75},39.75,0,{"$f":"IF($A268>$J$30,NA(),AVERAGE(H268:H271))","v":9.9375},25.8125,null,null,{"$f":"IF($A268>$J$30,NA(),IF($A268>$N$30,0,(1-$M$35)*J268+(2*$M$35-$M$36)*J269-($M$35+$M$37)*J270+$M$36*N269+$M$37*N270))","v":11.312740120898347},10.376345123675657,4.3173558804512041E-2,0.27580650064886642,null,null,5.2541616502040895,22.397874030195375,-0.6199801192988923,-0.20381783750270993,null,null,null,null,null,null,null,null,null,null,null,null,null,null,null,null,null,null,null,null,null,null,null,null,null,null,null,null,null,null,null,1397301,{"$error":"#N/A"}]
[237,{"$f":"IF(A269>$A$8,\"\",OFFSET(InputPriceData!B$15,$A269+$A$11,0,1,1))","v":"2023-08-04T04:00:00"},{"$f":"IF(A269>$A$8,\"\",OFFSET(InputPriceData!G$15,CalculationsAndCharts!$A269+$A$11,IF($C$5,8,0),1,1))","v":2044936},{"$f":"IF(A269>$A$8,\"\",OFFSET(InputPriceData!C$15,CalculationsAndCharts!$A269+$A$11,IF($C$5,8,0),1,1))","v":4523.5},{"$f":"IF(A269>$A$8,\"\",OFFSET(InputPriceData!D$15,CalculationsAndCharts!$A269+$A$11,IF($C$5,8,0),1,1))","v":4560.75},{"$f":"IF(A269>$A$8,\"\",OFFSET(InputPriceData!E$15,CalculationsAndCharts!$A269+$A$11,IF($C$5,8,0),1,1))","v":4493.75},{"$f":"IF(A269>$A$8,\"\",OFFSET(InputPriceData!F$15,CalculationsAndCharts!$A269+$A$11,IF($C$5,8,0),1,1))","v":4498},0,23.75,{"$f":"IF($A269>$J$30,NA(),AVERAGE(H269:H272))","v":0},29.125,null,null,{"$f":"IF($A269>$J$30,NA(),IF($A269>$N$30,0,(1-$M$35)*J269+(2*$M$35-$M$36)*J270-($M$35+$M$37)*J271+$M$36*N270+$M$37*N271))","v":12.001064677013179},8.8690620813392229,0.15007108638765226,0.36922210227430907,null,null,6.3441872686724592,18.357342312115076,-0.48633243557460748,1.7508363734943348E-2,null,null,null,null,null,null,null,null,null,null,null,null,null,null,null,null,null,null,null,null,null,null,null,null,null,null,null,null,null,null,null,{"$error":"#N/A"},2044936]
[238,{"$f":"IF(A270>$A$8,\"\",OFFSET(InputPriceData!B$15,$A270+$A$11,0,1,1))","v":"2023-08-03T04:00:00"},{"$f":"IF(A270>$A$8,\"\",OFFSET(InputPriceData!G$15,CalculationsAndCharts!$A270+$A$11,IF($C$5,8,0),1,1))","v":1764076},{"$f":"IF(A270>$A$8,\"\",OFFSET(InputPriceData!C$15,CalculationsAndCharts!$A270+$A$11,IF($C$5,8,0),1,1))","v":4534.25},{"$f":"IF(A270>$A$8,\"\",OFFSET(InputPriceData!D$15,CalculationsAndCharts!$A270+$A$11,IF($C$5,8,0),1,1))","v":4547.5},{"$f":"IF(A270>$A$8,\"\",OFFSET(InputPriceData!E$15,CalculationsAndCharts!$A270+$A$11,IF($C$5,8,0),1,1))","v":4505.75},{"$f":"IF(A270>$A$8,\"\",OFFSET(InputPriceData!F$15,CalculationsAndCharts!$A270+$A$11,IF($C$5,8,0),1,1))","v":4521.75},0,15.5,{"$f":"IF($A270>$J$30,NA(),AVERAGE(H270:H273))","v":2},23.1875,null,null,{"$f":"IF($A270>$J$30,NA(),IF($A270>$N$30,0,(1-$M$35)*J270+(2*$M$35-$M$36)*J271-($M$35+$M$37)*J272+$M$36*N271+$M$37*N272))","v":13.044343704707769},7.4044370438987093,0.27580650064886642,0.42315088653793093,null,null,9.1250274944206851,13.796931635633911,-0.20381783750270993,0.14478506436264055,null,null,null,null,null,null,null,null,null,null,null,null,null,null,null,null,null,null,null,null,null,null,null,null,null,null,null,null,null,null,null,{"$error":"#N/A"},1764076]
[239,{"$f":"IF(A271>$A$8,\"\",OFFSET(InputPriceData!B$15,$A271+$A$11,0,1,1))","v":"2023-08-02T04:00:00"},{"$f":"IF(A271>$A$8,\"\",OFFSET(InputPriceData!G$15,CalculationsAndCharts!$A271+$A$11,IF($C$5,8,0),1,1))","v":1917865},{"$f":"IF(A271>$A$8,\"\",OFFSET(InputPriceData!C$15,CalculationsAndCharts!$A271+$A$11,IF($C$5,8,0),1,1))","v":4580},{"$f":"IF(A271>$A$8,\"\",OFFSET(InputPriceData!D$15,CalculationsAndCharts!$A271+$A$11,IF($C$5,8,0),1,1))","v":4593.5},{"$f":"IF(A271>$A$8,\"\",OFFSET(InputPriceData!E$15,CalculationsAndCharts!$A271+$A$11,IF($C$5,8,0),1,1))","v":4527.75},{"$f":"IF(A271>$A$8,\"\",OFFSET(InputPriceData!F$15,CalculationsAndCharts!$A271+$A$11,IF($C$5,8,0),1,1))","v":4537.25},0,64,{"$f":"IF($A271>$J$30,NA(),AVERAGE(H271:H274))","v":12.5625},19.3125,null,null,{"$f":"IF($A271>$J$30,NA(),IF($A271>$N$30,0,(1-$M$35)*J271+(2*$M$35-$M$36)*J272-($M$35+$M$37)*J273+$M$36*N272+$M$37*N273))","v":13.626048396375166},6.2772943465472419,0.36922210227430907,0.44691971392994573,null,null,10.304705518862573,9.9500774119377979,1.7508363734943348E-2,0.20188880777190851,null,null,null,null,null,null,null,null,null,null,null,null,null,null,null,null,null,null,null,null,null,null,null,null,null,null,null,null,null,null,null,{"$error":"#N/A"},1917865]
[240,{"$f":"IF(A272>$A$8,\"\",OFFSET(InputPriceData!B$15,$A272+$A$11,0,1,1))","v":"2023-08-01T04:00:00"},{"$f":"IF(A272>$A$8,\"\",OFFSET(InputPriceData!G$15,CalculationsAndCharts!$A272+$A$11,IF($C$5,8,0),1,1))","v":1212261},{"$f":"IF(A272>$A$8,\"\",OFFSET(InputPriceData!C$15,CalculationsAndCharts!$A272+$A$11,IF($C$5,8,0),1,1))","v":4617.75},{"$f":"IF(A272>$A$8,\"\",OFFSET(InputPriceData!D$15,CalculationsAndCharts!$A272+$A$11,IF($C$5,8,0),1,1))","v":4621.75},{"$f":"IF(A272>$A$8,\"\",OFFSET(InputPriceData!E$15,CalculationsAndCharts!$A272+$A$11,IF($C$5,8,0),1,1))","v":4591},{"$f":"IF(A272>$A$8,\"\",OFFSET(InputPriceData!F$15,CalculationsAndCharts!$A272+$A$11,IF($C$5,8,0),1,1))","v":4601.25},0,13.25,{"$f":"IF($A272>$J$30,NA(),AVERAGE(H272:H275))","v":12.5625},11.0625,null,null,{"$f":"IF($A272>$J$30,NA(),IF($A272>$N$30,0,(1-$M$35)*J272+(2*$M$35-$M$36)*J273-($M$35+$M$37)*J274+$M$36*N273+$M$37*N274))","v":13.807650121788306},5.5966874679916288,0.42315088653793093,0.46079286281275739,null,null,9.930207082379539,7.4183894210316668,0.14478506436264055,0.23446624164859095,null,null,null,null,null,null,null,null,null,null,null,null,null,null,null,null,null,null,null,null,null,null,null,null,null,null,null,null,null,null,null,{"$error":"#N/A"},1212261]
[241,{"$f":"IF(A273>$A$8,\"\",OFFSET(InputPriceData!B$15,$A273+$A$11,0,1,1))","v":"2023-07-31T04:00:00"},{"$f":"IF(A273>$A$8,\"\",OFFSET(InputPriceData!G$15,CalculationsAndCharts!$A273+$A$11,IF($C$5,8,0),1,1))","v":1299434},{"$f":"IF(A273>$A$8,\"\",OFFSET(InputPriceData!C$15,CalculationsAndCharts!$A273+$A$11,IF($C$5,8,0),1,1))","v":4608.75},{"$f":"IF(A273>$A$8,\"\",OFFSET(InputPriceData!D$15,CalculationsAndCharts!$A273+$A$11,IF($C$5,8,0),1,1))","v":4619.25},{"$f":"IF(A273>$A$8,\"\",OFFSET(InputPriceData!E$15,CalculationsAndCharts!$A273+$A$11,IF($C$5,8,0),1,1))","v":4595.25},{"$f":"IF(A273>$A$8,\"\",OFFSET(InputPriceData!F$15,CalculationsAndCharts!$A273+$A$11,IF($C$5,8,0),1,1))","v":4614.5},8,0,{"$f":"IF($A273>$J$30,NA(),AVERAGE(H273:H276))","v":12.5625},7.9375,null,null,{"$f":"IF($A273>$J$30,NA(),IF($A273>$N$30,0,(1-$M$35)*J273+(2*$M$35-$M$36)*J274-($M$35+$M$37)*J275+$M$36*N274+$M$37*N275))","v":14.000168168953767},5.3515180844987196,0.44691971392994573,0.48013614105765706,null,null,9.5711568305170687,6.3557022410143791,0.20188880777190851,0.32998046441781459,null,null,null,null,null,null,null,null,null,null,null,null,null,null,null,null,null,null,null,null,null,null,null,null,null,null,null,null,null,null,null,1299434,{"$error":"#N/A"}]
[242,{"$f":"IF(A274>$A$8,\"\",OFFSET(InputPriceData!B$15,$A274+$A$11,0,1,1))","v":"2023-07-28T04:00:00"},{"$f":"IF(A274>$A$8,\"\",OFFSET(InputPriceData!G$15,CalculationsAndCharts!$A274+$A$11,IF($C$5,8,0),1,1))","v":1573973},{"$f":"IF(A274>$A$8,\"\",OFFSET(InputPriceData!C$15,CalculationsAndCharts!$A274+$A$11,IF($C$5,8,0),1,1))","v":4566},{"$f":"IF(A274>$A$8,\"\",OFFSET(InputPriceData!D$15,CalculationsAndCharts!$A274+$A$11,IF($C$5,8,0),1,1))","v":4616.5},{"$f":"IF(A274>$A$8,\"\",OFFSET(InputPriceData!E$15,CalculationsAndCharts!$A274+$A$11,IF($C$5,8,0),1,1))","v":4558},{"$f":"IF(A274>$A$8,\"\",OFFSET(InputPriceData!F$15,CalculationsAndCharts!$A274+$A$11,IF($C$5,8,0),1,1))","v":4606.5},42.25,0,{"$f":"IF($A274>$J$30,NA(),AVERAGE(H274:H277))","v":13.6875},7.9375,null,null,{"$f":"IF($A274>$J$30,NA(),IF($A274>$N$30,0,(1-$M$35)*J274+(2*$M$35-$M$36)*J275-($M$35+$M$37)*J276+$M$36*N275+$M$37*N276))","v":14.158356282570363},5.2261254506008141,0.46079286281275739,0.48290106357249207,null,null,9.0610514514134533,5.6190607229181886,0.23446624164859095,0.37211239351328113,null,null,null,null,null,null,null,null,null,null,null,null,null,null,null,null,null,null,null,null,null,null,null,null,null,null,null,null,null,null,null,1573973,{"$error":"#N/A"}]
[243,{"$f":"IF(A275>$A$8,\"\",OFFSET(InputPriceData!B$15,$A275+$A$11,0,1,1))","v":"2023-07-27T04:00:00"},{"$f":"IF(A275>$A$8,\"\",OFFSET(InputPriceData!G$15,CalculationsAndCharts!$A275+$A$11,IF($C$5,8,0),1,1))","v":1924565},{"$f":"IF(A275>$A$8,\"\",OFFSET(InputPriceData!C$15,CalculationsAndCharts!$A275+$A$11,IF($C$5,8,0),1,1))","v":4594.75},{"$f":"IF(A275>$A$8,\"\",OFFSET(InputPriceData!D$15,CalculationsAndCharts!$A275+$A$11,IF($C$5,8,0),1,1))","v":4634.5},{"$f":"IF(A275>$A$8,\"\",OFFSET(InputPriceData!E$15,CalculationsAndCharts!$A275+$A$11,IF($C$5,8,0),1,1))","v":4553.75},{"$f":"IF(A275>$A$8,\"\",OFFSET(InputPriceData!F$15,CalculationsAndCharts!$A275+$A$11,IF($C$5,8,0),1,1))","v":4564.25},0,31,{"$f":"IF($A275>$J$30,NA(),AVERAGE(H275:H278))","v":7.8125},7.9375,null,null,{"$f":"IF($A275>$J$30,NA(),IF($A275>$N$30,0,(1-$M$35)*J275+(2*$M$35-$M$36)*J276-($M$35+$M$37)*J277+$M$36*N276+$M$37*N277))","v":14.518405040757328},5.0992566567442923,0.48013614105765706,0.48569189745529928,null,null,9.4170227422431783,4.7441217169205645,0.32998046441781459,0.41586707294475972,null,null,null,null,null,null,null,null,null,null,null,null,null,null,null,null,null,null,null,null,null,null,null,null,null,null,null,null,null,null,null,{"$error":"#N/A"},1924565]
[244,{"$f":"IF(A276>$A$8,\"\",OFFSET(InputPriceData!B$15,$A276+$A$11,0,1,1))","v":"2023-07-26T04:00:00"},{"$f":"IF(A276>$A$8,\"\",OFFSET(InputPriceData!G$15,CalculationsAndCharts!$A276+$A$11,IF($C$5,8,0),1,1))","v":1372426},{"$f":"IF(A276>$A$8,\"\",OFFSET(InputPriceData!C$15,CalculationsAndCharts!$A276+$A$11,IF($C$5,8,0),1,1))","v":4604.75},{"$f":"IF(A276>$A$8,\"\",OFFSET(InputPriceData!D$15,CalculationsAndCharts!$A276+$A$11,IF($C$5,8,0),1,1))","v":4610.75},{"$f":"IF(A276>$A$8,\"\",OFFSET(InputPriceData!E$15,CalculationsAndCharts!$A276+$A$11,IF($C$5,8,0),1,1))","v":4573.75},{"$f":"IF(A276>$A$8,\"\",OFFSET(InputPriceData!F$15,CalculationsAndCharts!$A276+$A$11,IF($C$5,8,0),1,1))","v":4595.25},0,0.75,{"$f":"IF($A276>$J$30,NA(),AVERAGE(H276:H279))","v":7.8125},0.375,null,null,{"$f":"IF($A276>$J$30,NA(),IF($A276>$N$30,0,(1-$M$35)*J276+(2*$M$35-$M$36)*J277-($M$35+$M$37)*J278+$M$36*N277+$M$37*N278))","v":15.133543274182466},5.277182223206939,0.48290106357249207,0.51013064826504861,null,null,10.994818067411881,5.0313006665786357,0.37211239351328113,0.55800601514526293,null,null,null,null,null,null,null,null,null,null,null,null,null,null,null,null,null,null,null,null,null,null,null,null,null,null,null,null,null,null,null,{"$error":"#N/A"},1372426]
[245,{"$f":"IF(A277>$A$8,\"\",OFFSET(InputPriceData!B$15,$A277+$A$11,0,1,1))","v":"2023-07-25T04:00:00"},{"$f":"IF(A277>$A$8,\"\",OFFSET(InputPriceData!G$15,CalculationsAndCharts!$A277+$A$11,IF($C$5,8,0),1,1))","v":1219737},{"$f":"IF(A277>$A$8,\"\",OFFSET(InputPriceData!C$15,CalculationsAndCharts!$A277+$A$11,IF($C$5,8,0),1,1))","v":4584.5},{"$f":"IF(A277>$A$8,\"\",OFFSET(InputPriceData!D$15,CalculationsAndCharts!$A277+$A$11,IF($C$5,8,0),1,1))","v":4608.75},{"$f":"IF(A277>$A$8,\"\",OFFSET(InputPriceData!E$15,CalculationsAndCharts!$A277+$A$11,IF($C$5,8,0),1,1))","v":4579.25},{"$f":"IF(A277>$A$8,\"\",OFFSET(InputPriceData!F$15,CalculationsAndCharts!$A277+$A$11,IF($C$5,8,0),1,1))","v":4596},12.5,0,{"$f":"IF($A277>$J$30,NA(),AVERAGE(H277:H280))","v":7.8125},8.0625,null,null,{"$f":"IF($A277>$J$30,NA(),IF($A277>$N$30,0,(1-$M$35)*J277+(2*$M$35-$M$36)*J278-($M$35+$M$37)*J279+$M$36*N278+$M$37*N279))","v":15.775499326817293},5.4610697812698543,0.48569189745529928,0.53139071909681967,null,null,12.974046509848193,5.3525983535914374,0.41586707294475972,0.68917754215385796,null,null,null,null,null,null,null,null,null,null,null,null,null,null,null,null,null,null,null,null,null,null,null,null,null,null,null,null,null,null,null,1219737,{"$error":"#N/A"}]
[246,{"$f":"IF(A278>$A$8,\"\",OFFSET(InputPriceData!B$15,$A278+$A$11,0,1,1))","v":"2023-07-24T04:00:00"},{"$f":"IF(A278>$A$8,\"\",OFFSET(InputPriceData!G$15,CalculationsAndCharts!$A278+$A$11,IF($C$5,8,0),1,1))","v":1203661},{"$f":"IF(A278>$A$8,\"\",OFFSET(InputPriceData!C$15,CalculationsAndCharts!$A278+$A$11,IF($C$5,8,0),1,1))","v":4564.25},{"$f":"IF(A278>$A$8,\"\",OFFSET(InputPriceData!D$15,CalculationsAndCharts!$A278+$A$11,IF($C$5,8,0),1,1))","v":4592.5},{"$f":"IF(A278>$A$8,\"\",OFFSET(InputPriceData!E$15,CalculationsAndCharts!$A278+$A$11,IF($C$5,8,0),1,1))","v":4560},{"$f":"IF(A278>$A$8,\"\",OFFSET(InputPriceData!F$15,CalculationsAndCharts!$A278+$A$11,IF($C$5,8,0),1,1))","v":4583.5},18.75,0,{"$f":"IF($A278>$J$30,NA(),AVERAGE(H278:H281))","v":7},8.0625,null,null,{"$f":"IF($A278>$J$30,NA(),IF($A278>$N$30,0,(1-$M$35)*J278+(2*$M$35-$M$36)*J279-($M$35+$M$37)*J280+$M$36*N279+$M$37*N280))","v":16.477259280149617},5.3450370874923854,0.51013064826504861,0.54520680767531937,null,null,15.527561973327742,4.4050465306002842,0.55800601514526293,0.80276404116109268,null,null,null,null,null,null,null,null,null,null,null,null,null,null,null,null,null,null,null,null,null,null,null,null,null,null,null,null,null,null,null,1203661,{"$error":"#N/A"}]
[247,{"$f":"IF(A279>$A$8,\"\",OFFSET(InputPriceData!B$15,$A279+$A$11,0,1,1))","v":"2023-07-21T04:00:00"},{"$f":"IF(A279>$A$8,\"\",OFFSET(InputPriceData!G$15,CalculationsAndCharts!$A279+$A$11,IF($C$5,8,0),1,1))","v":1432643},{"$f":"IF(A279>$A$8,\"\",OFFSET(InputPriceData!C$15,CalculationsAndCharts!$A279+$A$11,IF($C$5,8,0),1,1))","v":4566.25},{"$f":"IF(A279>$A$8,\"\",OFFSET(InputPriceData!D$15,CalculationsAndCharts!$A279+$A$11,IF($C$5,8,0),1,1))","v":4590},{"$f":"IF(A279>$A$8,\"\",OFFSET(InputPriceData!E$15,CalculationsAndCharts!$A279+$A$11,IF($C$5,8,0),1,1))","v":4561.75},{"$f":"IF(A279>$A$8,\"\",OFFSET(InputPriceData!F$15,CalculationsAndCharts!$A279+$A$11,IF($C$5,8,0),1,1))","v":4564.75},0,0.75,{"$f":"IF($A279>$J$30,NA(),AVERAGE(H279:H282))","v":10.8125},8.0625,null,null,{"$f":"IF($A279>$J$30,NA(),IF($A279>$N$30,0,(1-$M$35)*J279+(2*$M$35-$M$36)*J280-($M$35+$M$37)*J281+$M$36*N280+$M$37*N281))","v":17.085880302427164},5.2283208865470501,0.53139071909681967,0.53801239475024609,null,null,18.03960705406341,3.319434969501784,0.68917754215385796,0.82563990715563229,null,null,null,null,null,null,null,null,null,null,null,null,null,null,null,null,null,null,null,null,null,null,null,null,null,null,null,null,null,null,null,{"$error":"#N/A"},1432643]
[248,{"$f":"IF(A280>$A$8,\"\",OFFSET(InputPriceData!B$15,$A280+$A$11,0,1,1))","v":"2023-07-20T04:00:00"},{"$f":"IF(A280>$A$8,\"\",OFFSET(InputPriceData!G$15,CalculationsAndCharts!$A280+$A$11,IF($C$5,8,0),1,1))","v":1527727},{"$f":"IF(A280>$A$8,\"\",OFFSET(InputPriceData!C$15,CalculationsAndCharts!$A280+$A$11,IF($C$5,8,0),1,1))","v":4593.25},{"$f":"IF(A280>$A$8,\"\",OFFSET(InputPriceData!D$15,CalculationsAndCharts!$A280+$A$11,IF($C$5,8,0),1,1))","v":4594.25},{"$f":"IF(A280>$A$8,\"\",OFFSET(InputPriceData!E$15,CalculationsAndCharts!$A280+$A$11,IF($C$5,8,0),1,1))","v":4557.25},{"$f":"IF(A280>$A$8,\"\",OFFSET(InputPriceData!F$15,CalculationsAndCharts!$A280+$A$11,IF($C$5,8,0),1,1))","v":4565.5},0,31.5,{"$f":"IF($A280>$J$30,NA(),AVERAGE(H280:H283))","v":15.0625},7.875,null,null,{"$f":"IF($A280>$J$30,NA(),IF($A280>$N$30,0,(1-$M$35)*J280+(2*$M$35-$M$36)*J281-($M$35+$M$37)*J282+$M$36*N281+$M$37*N282))","v":17.391763521364876},5.1188330343542239,0.54520680767531937,0.50827646189010334,null,null,19.564447451276294,2.1404978489145923,0.80276404116109268,0.7476338999374732,null,null,null,null,null,null,null,null,null,null,null,null,null,null,null,null,null,null,null,null,null,null,null,null,null,null,null,null,null,null,null,{"$error":"#N/A"},1527727]
[249,{"$f":"IF(A281>$A$8,\"\",OFFSET(InputPriceData!B$15,$A281+$A$11,0,1,1))","v":"2023-07-19T04:00:00"},{"$f":"IF(A281>$A$8,\"\",OFFSET(InputPriceData!G$15,CalculationsAndCharts!$A281+$A$11,IF($C$5,8,0),1,1))","v":1538747},{"$f":"IF(A281>$A$8,\"\",OFFSET(InputPriceData!C$15,CalculationsAndCharts!$A281+$A$11,IF($C$5,8,0),1,1))","v":4582.75},{"$f":"IF(A281>$A$8,\"\",OFFSET(InputPriceData!D$15,CalculationsAndCharts!$A281+$A$11,IF($C$5,8,0),1,1))","v":4609.25},{"$f":"IF(A281>$A$8,\"\",OFFSET(InputPriceData!E$15,CalculationsAndCharts!$A281+$A$11,IF($C$5,8,0),1,1))","v":4582.25},{"$f":"IF(A281>$A$8,\"\",OFFSET(InputPriceData!F$15,CalculationsAndCharts!$A281+$A$11,IF($C$5,8,0),1,1))","v":4597},9.25,0,{"$f":"IF($A281>$J$30,NA(),AVERAGE(H281:H284))","v":15.0625},1.6875,null,null,{"$f":"IF($A281>$J$30,NA(),IF($A281>$N$30,0,(1-$M$35)*J281+(2*$M$35-$M$36)*J282-($M$35+$M$37)*J283+$M$36*N282+$M$37*N283))","v":17.536364062382869},5.2675666760694115,0.53801239475024609,0.47169619562509446,null,null,20.53690495421823,1.9614035826662004,0.82563990715563229,0.63538263402182049,null,null,null,null,null,null,null,null,null,null,null,null,null,null,null,null,null,null,null,null,null,null,null,null,null,null,null,null,null,null,null,1538747,{"$error":"#N/A"}]
[250,{"$f":"IF(A282>$A$8,\"\",OFFSET(InputPriceData!B$15,$A282+$A$11,0,1,1))","v":"2023-07-18T04:00:00"},{"$f":"IF(A282>$A$8,\"\",OFFSET(InputPriceData!G$15,CalculationsAndCharts!$A282+$A$11,IF($C$5,8,0),1,1))","v":1301460},{"$f":"IF(A282>$A$8,\"\",OFFSET(InputPriceData!C$15,CalculationsAndCharts!$A282+$A$11,IF($C$5,8,0),1,1))","v":4550.25},{"$f":"IF(A282>$A$8,\"\",OFFSET(InputPriceData!D$15,CalculationsAndCharts!$A282+$A$11,IF($C$5,8,0),1,1))","v":4594.5},{"$f":"IF(A282>$A$8,\"\",OFFSET(InputPriceData!E$15,CalculationsAndCharts!$A282+$A$11,IF($C$5,8,0),1,1))","v":4544.75},{"$f":"IF(A282>$A$8,\"\",OFFSET(InputPriceData!F$15,CalculationsAndCharts!$A282+$A$11,IF($C$5,8,0),1,1))","v":4587.75},34,0,{"$f":"IF($A282>$J$30,NA(),AVERAGE(H282:H285))","v":21.75},1.6875,null,null,{"$f":"IF($A282>$J$30,NA(),IF($A282>$N$30,0,(1-$M$35)*J282+(2*$M$35-$M$36)*J283-($M$35+$M$37)*J284+$M$36*N283+$M$37*N284))","v":17.414229227851248},5.6773321242745132,0.50827646189010334,0.43043377560950641,null,null,20.399554808770588,2.9457863516411473,0.7476338999374732,0.47983161358403953,null,null,null,null,null,null,null,null,null,null,null,null,null,null,null,null,null,null,null,null,null,null,null,null,null,null,null,null,null,null,null,1301460,{"$error":"#N/A"}]
[251,{"$f":"IF(A283>$A$8,\"\",OFFSET(InputPriceData!B$15,$A283+$A$11,0,1,1))","v":"2023-07-17T04:00:00"},{"$f":"IF(A283>$A$8,\"\",OFFSET(InputPriceData!G$15,CalculationsAndCharts!$A283+$A$11,IF($C$5,8,0),1,1))","v":1057965},{"$f":"IF(A283>$A$8,\"\",OFFSET(InputPriceData!C$15,CalculationsAndCharts!$A283+$A$11,IF($C$5,8,0),1,1))","v":4536},{"$f":"IF(A283>$A$8,\"\",OFFSET(InputPriceData!D$15,CalculationsAndCharts!$A283+$A$11,IF($C$5,8,0),1,1))","v":4565.75},{"$f":"IF(A283>$A$8,\"\",OFFSET(InputPriceData!E$15,CalculationsAndCharts!$A283+$A$11,IF($C$5,8,0),1,1))","v":4528},{"$f":"IF(A283>$A$8,\"\",OFFSET(InputPriceData!F$15,CalculationsAndCharts!$A283+$A$11,IF($C$5,8,0),1,1))","v":4553.75},17,0,{"$f":"IF($A283>$J$30,NA(),AVERAGE(H283:H286))","v":21.75},1.6875,null,null,{"$f":"IF($A283>$J$30,NA(),IF($A283>$N$30,0,(1-$M$35)*J283+(2*$M$35-$M$36)*J284-($M$35+$M$37)*J285+$M$36*N284+$M$37*N285))","v":17.014684040357423},6.1078654245890895,0.47169619562509446,0.37668258777743091,null,null,18.943344460238439,4.2235206710757573,0.63538263402182049,0.22489044845847761,null,null,null,null,null,null,null,null,null,null,null,null,null,null,null,null,null,null,null,null,null,null,null,null,null,null,null,null,null,null,null,1057965,{"$error":"#N/A"}]
[252,{"$f":"IF(A284>$A$8,\"\",OFFSET(InputPriceData!B$15,$A284+$A$11,0,1,1))","v":"2023-07-14T04:00:00"},{"$f":"IF(A284>$A$8,\"\",OFFSET(InputPriceData!G$15,CalculationsAndCharts!$A284+$A$11,IF($C$5,8,0),1,1))","v":1381069},{"$f":"IF(A284>$A$8,\"\",OFFSET(InputPriceData!C$15,CalculationsAndCharts!$A284+$A$11,IF($C$5,8,0),1,1))","v":4539.5},{"$f":"IF(A284>$A$8,\"\",OFFSET(InputPriceData!D$15,CalculationsAndCharts!$A284+$A$11,IF($C$5,8,0),1,1))","v":4560.5},{"$f":"IF(A284>$A$8,\"\",OFFSET(InputPriceData!E$15,CalculationsAndCharts!$A284+$A$11,IF($C$5,8,0),1,1))","v":4531},{"$f":"IF(A284>$A$8,\"\",OFFSET(InputPriceData!F$15,CalculationsAndCharts!$A284+$A$11,IF($C$5,8,0),1,1))","v":4536.75},0,6.75,{"$f":"IF($A284>$J$30,NA(),AVERAGE(H284:H287))","v":24.8125},1.6875,null,null,{"$f":"IF($A284>$J$30,NA(),IF($A284>$N$30,0,(1-$M$35)*J284+(2*$M$35-$M$36)*J285-($M$35+$M$37)*J286+$M$36*N285+$M$37*N286))","v":16.473747047483037},6.559471726260738,0.43043377560950641,0.3308523038207612,null,null,16.582315711160945,5.8287688459527365,0.47983161358403953,-5.2933637870617403E-2,null,null,null,null,null,null,null,null,null,null,null,null,null,null,null,null,null,null,null,null,null,null,null,null,null,null,null,null,null,null,null,{"$error":"#N/A"},1381069]
[253,{"$f":"IF(A285>$A$8,\"\",OFFSET(InputPriceData!B$15,$A285+$A$11,0,1,1))","v":"2023-07-13T04:00:00"},{"$f":"IF(A285>$A$8,\"\",OFFSET(InputPriceData!G$15,CalculationsAndCharts!$A285+$A$11,IF($C$5,8,0),1,1))","v":1158193},{"$f":"IF(A285>$A$8,\"\",OFFSET(InputPriceData!C$15,CalculationsAndCharts!$A285+$A$11,IF($C$5,8,0),1,1))","v":4510.5},{"$f":"IF(A285>$A$8,\"\",OFFSET(InputPriceData!D$15,CalculationsAndCharts!$A285+$A$11,IF($C$5,8,0),1,1))","v":4551.5},{"$f":"IF(A285>$A$8,\"\",OFFSET(InputPriceData!E$15,CalculationsAndCharts!$A285+$A$11,IF($C$5,8,0),1,1))","v":4509.25},{"$f":"IF(A285>$A$8,\"\",OFFSET(InputPriceData!F$15,CalculationsAndCharts!$A285+$A$11,IF($C$5,8,0),1,1))","v":4543.5},36,0,{"$f":"IF($A285>$J$30,NA(),AVERAGE(H285:H288))","v":27.375},0,null,null,{"$f":"IF($A285>$J$30,NA(),IF($A285>$N$30,0,(1-$M$35)*J285+(2*$M$35-$M$36)*J286-($M$35+$M$37)*J287+$M$36*N286+$M$37*N287))","v":15.682850666899542},7.1006882637678927,0.37668258777743091,0.33330724229082509,null,null,12.767574350386512,8.0793093304430368,0.22489044845847761,-0.12541474597970168,null,null,null,null,null,null,null,null,null,null,null,null,null,null,null,null,null,null,null,null,null,null,null,null,null,null,null,null,null,null,null,1158193,{"$error":"#N/A"}]
[254,{"$f":"IF(A286>$A$8,\"\",OFFSET(InputPriceData!B$15,$A286+$A$11,0,1,1))","v":"2023-07-12T04:00:00"},{"$f":"IF(A286>$A$8,\"\",OFFSET(InputPriceData!G$15,CalculationsAndCharts!$A286+$A$11,IF($C$5,8,0),1,1))","v":1784296},{"$f":"IF(A286>$A$8,\"\",OFFSET(InputPriceData!C$15,CalculationsAndCharts!$A286+$A$11,IF($C$5,8,0),1,1))","v":4471},{"$f":"IF(A286>$A$8,\"\",OFFSET(InputPriceData!D$15,CalculationsAndCharts!$A286+$A$11,IF($C$5,8,0),1,1))","v":4523.75},{"$f":"IF(A286>$A$8,\"\",OFFSET(InputPriceData!E$15,CalculationsAndCharts!$A286+$A$11,IF($C$5,8,0),1,1))","v":4470},{"$f":"IF(A286>$A$8,\"\",OFFSET(InputPriceData!F$15,CalculationsAndCharts!$A286+$A$11,IF($C$5,8,0),1,1))","v":4507.5},34,0,{"$f":"IF($A286>$J$30,NA(),AVERAGE(H286:H289))","v":18.375},3.25,null,null,{"$f":"IF($A286>$J$30,NA(),IF($A286>$N$30,0,(1-$M$35)*J286+(2*$M$35-$M$36)*J287-($M$35+$M$37)*J288+$M$36*N287+$M$37*N288))","v":15.121201115416737},7.6028849037532096,0.3308523038207612,0.38043658562407939,null,null,9.4215116120733455,10.474689940033379,-5.2933637870617403E-2,3.6923693915983699E-2,null,null,null,null,null,null,null,null,null,null,null,null,null,null,null,null,null,null,null,null,null,null,null,null,null,null,null,null,null,null,null,1784296,{"$error":"#N/A"}]
[255,{"$f":"IF(A287>$A$8,\"\",OFFSET(InputPriceData!B$15,$A287+$A$11,0,1,1))","v":"2023-07-11T04:00:00"},{"$f":"IF(A287>$A$8,\"\",OFFSET(InputPriceData!G$15,CalculationsAndCharts!$A287+$A$11,IF($C$5,8,0),1,1))","v":1340232},{"$f":"IF(A287>$A$8,\"\",OFFSET(InputPriceData!C$15,CalculationsAndCharts!$A287+$A$11,IF($C$5,8,0),1,1))","v":4445.75},{"$f":"IF(A287>$A$8,\"\",OFFSET(InputPriceData!D$15,CalculationsAndCharts!$A287+$A$11,IF($C$5,8,0),1,1))","v":4478.5},{"$f":"IF(A287>$A$8,\"\",OFFSET(InputPriceData!E$15,CalculationsAndCharts!$A287+$A$11,IF($C$5,8,0),1,1))","v":4439},{"$f":"IF(A287>$A$8,\"\",OFFSET(InputPriceData!F$15,CalculationsAndCharts!$A287+$A$11,IF($C$5,8,0),1,1))","v":4473.5},29.25,0,{"$f":"IF($A287>$J$30,NA(),AVERAGE(H287:H290))","v":9.875},12.4375,null,null,{"$f":"IF($A287>$J$30,NA(),IF($A287>$N$30,0,(1-$M$35)*J287+(2*$M$35-$M$36)*J288-($M$35+$M$37)*J289+$M$36*N288+$M$37*N289))","v":15.246612344368433},7.6237537059538152,0.33330724229082509,0.44167531172402502,null,null,8.628948224407134,11.103715194605563,-0.12541474597970168,0.29397763595396509,null,null,null,null,null,null,null,null,null,null,null,null,null,null,null,null,null,null,null,null,null,null,null,null,null,null,null,null,null,null,null,1340232,{"$error":"#N/A"}]
[256,{"$f":"IF(A288>$A$8,\"\",OFFSET(InputPriceData!B$15,$A288+$A$11,0,1,1))","v":"2023-07-10T04:00:00"},{"$f":"IF(A288>$A$8,\"\",OFFSET(InputPriceData!G$15,CalculationsAndCharts!$A288+$A$11,IF($C$5,8,0),1,1))","v":1361155},{"$f":"IF(A288>$A$8,\"\",OFFSET(InputPriceData!C$15,CalculationsAndCharts!$A288+$A$11,IF($C$5,8,0),1,1))","v":4437.5},{"$f":"IF(A288>$A$8,\"\",OFFSET(InputPriceData!D$15,CalculationsAndCharts!$A288+$A$11,IF($C$5,8,0),1,1))","v":4448.25},{"$f":"IF(A288>$A$8,\"\",OFFSET(InputPriceData!E$15,CalculationsAndCharts!$A288+$A$11,IF($C$5,8,0),1,1))","v":4411.25},{"$f":"IF(A288>$A$8,\"\",OFFSET(InputPriceData!F$15,CalculationsAndCharts!$A288+$A$11,IF($C$5,8,0),1,1))","v":4444.25},10.25,0,{"$f":"IF($A288>$J$30,NA(),AVERAGE(H288:H291))","v":2.5625},14.5625,null,null,{"$f":"IF($A288>$J$30,NA(),IF($A288>$N$30,0,(1-$M$35)*J288+(2*$M$35-$M$36)*J289-($M$35+$M$37)*J290+$M$36*N289+$M$37*N290))","v":16.018475670727561},7.1893642801178368,0.38043658562407939,0.48400223217485366,null,null,10.583771962923135,9.830019379722529,3.6923693915983699E-2,0.46599326865544216,null,null,null,null,null,null,null,null,null,null,null,null,null,null,null,null,null,null,null,null,null,null,null,null,null,null,null,null,null,null,null,1361155,{"$error":"#N/A"}]
[257,{"$f":"IF(A289>$A$8,\"\",OFFSET(InputPriceData!B$15,$A289+$A$11,0,1,1))","v":"2023-07-07T04:00:00"},{"$f":"IF(A289>$A$8,\"\",OFFSET(InputPriceData!G$15,CalculationsAndCharts!$A289+$A$11,IF($C$5,8,0),1,1))","v":1691644},{"$f":"IF(A289>$A$8,\"\",OFFSET(InputPriceData!C$15,CalculationsAndCharts!$A289+$A$11,IF($C$5,8,0),1,1))","v":4441.25},{"$f":"IF(A289>$A$8,\"\",OFFSET(InputPriceData!D$15,CalculationsAndCharts!$A289+$A$11,IF($C$5,8,0),1,1))","v":4476},{"$f":"IF(A289>$A$8,\"\",OFFSET(InputPriceData!E$15,CalculationsAndCharts!$A289+$A$11,IF($C$5,8,0),1,1))","v":4431.5},{"$f":"IF(A289>$A$8,\"\",OFFSET(InputPriceData!F$15,CalculationsAndCharts!$A289+$A$11,IF($C$5,8,0),1,1))","v":4434},0,13,{"$f":"IF($A289>$J$30,NA(),AVERAGE(H289:H292))","v":1},14.5625,null,null,{"$f":"IF($A289>$J$30,NA(),IF($A289>$N$30,0,(1-$M$35)*J289+(2*$M$35-$M$36)*J290-($M$35+$M$37)*J291+$M$36*N290+$M$37*N291))","v":17.181061932278116},6.6537943527090651,0.44167531172402502,0.48095459683590286,null,null,{"$f":"IF($A289>$J$30,NA(),IF($A289>$N$30,0,(1-S$35)*$J289+(2*S$35-S$36)*$J290-(S$35+S$37)*$J291+S$36*T290+S$37*T291))","v":14.537181039294305},{"$f":"IF($A289>$J$30,NA(),IF($A289>$N$30,0,(1-S$35)*$K289+(2*S$35-S$36)*$K290-(S$35+S$37)*$K291+S$36*U290+S$37*U291))","v":7.9318024042672874},{"$f":"IF($A289>$N$30,NA(),(T289-U289)/(T289+U289))","v":0.29397763595396509},{"$f":"IF($A289>$N$30,NA(),OFFSET(V289,$C$18,0,1,1))","v":0.45206730020465147},null,null,null,null,null,null,null,null,null,null,null,null,null,null,null,null,null,null,null,null,null,null,null,null,null,null,null,null,null,null,null,{"$error":"#N/A"},1691644]
[258,{"$f":"IF(A290>$A$8,\"\",OFFSET(InputPriceData!B$15,$A290+$A$11,0,1,1))","v":"2023-07-06T04:00:00"},{"$f":"IF(A290>$A$8,\"\",OFFSET(InputPriceData!G$15,CalculationsAndCharts!$A290+$A$11,IF($C$5,8,0),1,1))","v":1741520},{"$f":"IF(A290>$A$8,\"\",OFFSET(InputPriceData!C$15,CalculationsAndCharts!$A290+$A$11,IF($C$5,8,0),1,1))","v":4481.75},{"$f":"IF(A290>$A$8,\"\",OFFSET(InputPriceData!D$15,CalculationsAndCharts!$A290+$A$11,IF($C$5,8,0),1,1))","v":4483.5},{"$f":"IF(A290>$A$8,\"\",OFFSET(InputPriceData!E$15,CalculationsAndCharts!$A290+$A$11,IF($C$5,8,0),1,1))","v":4419.5},{"$f":"IF(A290>$A$8,\"\",OFFSET(InputPriceData!F$15,CalculationsAndCharts!$A290+$A$11,IF($C$5,8,0),1,1))","v":4447},{"$f":"IF($A290>$H$30,NA(),IF($G290>$G291,$G290-$G291,0))","v":0},{"$f":"IF($A290>$H$30,NA(),IF(G290<G291,G291-G290,0))","v":36.75},{"$f":"IF($A290>$J$30,NA(),AVERAGE(H290:H293))","v":14.125},11.3125,null,null,{"$f":"IF($A290>$J$30,NA(),IF($A290>$N$30,0,(1-$M$35)*J290+(2*$M$35-$M$36)*J291-($M$35+$M$37)*J292+$M$36*N291+$M$37*N292))","v":17.921398941194337},6.2313934908358259,{"$f":"IF($A290>$N$30,NA(),(N290-O290)/(N290+O290))","v":0.48400223217485366},{"$f":"IF($A290>$N$30,NA(),OFFSET(P290,$C$17,0,1,1))","v":0.44691809140736632},null,null,17.226043121395268,6.274805742930547,0.46599326865544216,0.30733875611313116,null,null,null,null,null,null,null,null,null,null,null,null,null,null,null,null,null,null,null,null,null,null,null,null,null,null,null,null,null,null,null,{"$error":"#N/A"},1741520]
[259,{"$f":"IF(A291>$A$8,\"\",OFFSET(InputPriceData!B$15,$A291+$A$11,0,1,1))","v":"2023-07-05T04:00:00"},{"$f":"IF(A291>$A$8,\"\",OFFSET(InputPriceData!G$15,CalculationsAndCharts!$A291+$A$11,IF($C$5,8,0),1,1))","v":1193759},{"$f":"IF(A291>$A$8,\"\",OFFSET(InputPriceData!C$15,CalculationsAndCharts!$A291+$A$11,IF($C$5,8,0),1,1))","v":4492},{"$f":"IF(A291>$A$8,\"\",OFFSET(InputPriceData!D$15,CalculationsAndCharts!$A291+$A$11,IF($C$5,8,0),1,1))","v":4493.75},{"$f":"IF(A291>$A$8,\"\",OFFSET(InputPriceData!E$15,CalculationsAndCharts!$A291+$A$11,IF($C$5,8,0),1,1))","v":4466.25},{"$f":"IF(A291>$A$8,\"\",OFFSET(InputPriceData!F$15,CalculationsAndCharts!$A291+$A$11,IF($C$5,8,0),1,1))","v":4483.75},0,8.5,{"$f":"IF($A291>$J$30,NA(),AVERAGE(H291:H294))","v":18.6875},2.125,null,null,{"$f":"IF($A291>$J$30,NA(),IF($A291>$N$30,0,(1-$M$35)*J291+(2*$M$35-$M$36)*J292-($M$35+$M$37)*J293+$M$36*N292+$M$37*N293))","v":17.973312839949138},6.2992919763626896,0.48095459683590286,0.39744042880862468,null,null,17.307341800932008,6.530867073398742,0.45206730020465147,8.0209843245304266E-2,null,null,null,null,null,null,null,null,null,null,null,null,null,null,null,null,null,null,null,null,null,null,null,null,null,null,null,null,null,null,null,{"$error":"#N/A"},1193759]
[260,{"$f":"IF(A292>$A$8,\"\",OFFSET(InputPriceData!B$15,$A292+$A$11,0,1,1))","v":"2023-07-03T13:30:00"},{"$f":"IF(A292>$A$8,\"\",OFFSET(InputPriceData!G$15,CalculationsAndCharts!$A292+$A$11,IF($C$5,8,0),1,1))","v":641289},{"$f":"IF(A292>$A$8,\"\",OFFSET(InputPriceData!C$15,CalculationsAndCharts!$A292+$A$11,IF($C$5,8,0),1,1))","v":4485.5},{"$f":"IF(A292>$A$8,\"\",OFFSET(InputPriceData!D$15,CalculationsAndCharts!$A292+$A$11,IF($C$5,8,0),1,1))","v":4494},{"$f":"IF(A292>$A$8,\"\",OFFSET(InputPriceData!E$15,CalculationsAndCharts!$A292+$A$11,IF($C$5,8,0),1,1))","v":4479.5},{"$f":"IF(A292>$A$8,\"\",OFFSET(InputPriceData!F$15,CalculationsAndCharts!$A292+$A$11,IF($C$5,8,0),1,1))","v":4492.25},4,0,{"$f":"IF($A292>$J$30,NA(),AVERAGE(H292:H295))","v":18.6875},0.3125,null,null,{"$f":"IF($A292>$J$30,NA(),IF($A292>$N$30,0,(1-$M$35)*J292+(2*$M$35-$M$36)*J293-($M$35+$M$37)*J294+$M$36*N293+$M$37*N294))","v":17.839784974945935},6.8192265902405982,0.44691809140736632,0.35839790517164644,null,null,16.581275320358753,8.78518037878505,0.30733875611313116,-0.13472468236040322,null,null,null,null,null,null,null,null,null,null,null,null,null,null,null,null,null,null,null,null,null,null,null,null,null,null,null,null,null,null,null,641289,{"$error":"#N/A"}]
[261,{"$f":"IF(A293>$A$8,\"\",OFFSET(InputPriceData!B$15,$A293+$A$11,0,1,1))","v":"2023-06-30T04:00:00"},{"$f":"IF(A293>$A$8,\"\",OFFSET(InputPriceData!G$15,CalculationsAndCharts!$A293+$A$11,IF($C$5,8,0),1,1))","v":1774940},{"$f":"IF(A293>$A$8,\"\",OFFSET(InputPriceData!C$15,CalculationsAndCharts!$A293+$A$11,IF($C$5,8,0),1,1))","v":4435.25},{"$f":"IF(A293>$A$8,\"\",OFFSET(InputPriceData!D$15,CalculationsAndCharts!$A293+$A$11,IF($C$5,8,0),1,1))","v":4498},{"$f":"IF(A293>$A$8,\"\",OFFSET(InputPriceData!E$15,CalculationsAndCharts!$A293+$A$11,IF($C$5,8,0),1,1))","v":4433},{"$f":"IF(A293>$A$8,\"\",OFFSET(InputPriceData!F$15,CalculationsAndCharts!$A293+$A$11,IF($C$5,8,0),1,1))","v":4488.25},52.5,0,{"$f":"IF($A293>$J$30,NA(),AVERAGE(H293:H296))","v":29.8125},0.3125,null,null,{"$f":"IF($A293>$J$30,NA(),IF($A293>$N$30,0,(1-$M$35)*J293+(2*$M$35-$M$36)*J294-($M$35+$M$37)*J295+$M$36*N294+$M$37*N295))","v":17.247893531465412},7.4370850563802957,0.39744042880862468,0.36600833459204102,null,null,13.795295250294579,11.746585036315276,8.0209843245304266E-2,-0.16113239249703179,null,null,null,null,null,null,null,null,null,null,null,null,null,null,null,null,null,null,null,null,null,null,null,null,null,null,null,null,null,null,null,1774940,{"$error":"#N/A"}]
[262,{"$f":"IF(A294>$A$8,\"\",OFFSET(InputPriceData!B$15,$A294+$A$11,0,1,1))","v":"2023-06-29T04:00:00"},{"$f":"IF(A294>$A$8,\"\",OFFSET(InputPriceData!G$15,CalculationsAndCharts!$A294+$A$11,IF($C$5,8,0),1,1))","v":1628750},{"$f":"IF(A294>$A$8,\"\",OFFSET(InputPriceData!C$15,CalculationsAndCharts!$A294+$A$11,IF($C$5,8,0),1,1))","v":4423.75},{"$f":"IF(A294>$A$8,\"\",OFFSET(InputPriceData!D$15,CalculationsAndCharts!$A294+$A$11,IF($C$5,8,0),1,1))","v":4438},{"$f":"IF(A294>$A$8,\"\",OFFSET(InputPriceData!E$15,CalculationsAndCharts!$A294+$A$11,IF($C$5,8,0),1,1))","v":4409.75},{"$f":"IF(A294>$A$8,\"\",OFFSET(InputPriceData!F$15,CalculationsAndCharts!$A294+$A$11,IF($C$5,8,0),1,1))","v":4435.75},18.25,0,{"$f":"IF($A294>$J$30,NA(),AVERAGE(H294:H297))","v":16.6875},5,null,null,{"$f":"IF($A294>$J$30,NA(),IF($A294>$N$30,0,(1-$M$35)*J294+(2*$M$35-$M$36)*J295-($M$35+$M$37)*J296+$M$36*N295+$M$37*N296))","v":16.710978943120647},7.8929738154917963,0.35839790517164644,0.39368312381971693,null,null,10.92967869739222,14.333213874668026,-0.13472468236040322,-0.12068974847097921,null,null,null,null,null,null,null,null,null,null,null,null,null,null,null,null,null,null,null,null,null,null,null,null,null,null,null,null,null,null,null,1628750,{"$error":"#N/A"}]
[263,{"$f":"IF(A295>$A$8,\"\",OFFSET(InputPriceData!B$15,$A295+$A$11,0,1,1))","v":"2023-06-28T04:00:00"},{"$f":"IF(A295>$A$8,\"\",OFFSET(InputPriceData!G$15,CalculationsAndCharts!$A295+$A$11,IF($C$5,8,0),1,1))","v":1689461},{"$f":"IF(A295>$A$8,\"\",OFFSET(InputPriceData!C$15,CalculationsAndCharts!$A295+$A$11,IF($C$5,8,0),1,1))","v":4414},{"$f":"IF(A295>$A$8,\"\",OFFSET(InputPriceData!D$15,CalculationsAndCharts!$A295+$A$11,IF($C$5,8,0),1,1))","v":4430.25},{"$f":"IF(A295>$A$8,\"\",OFFSET(InputPriceData!E$15,CalculationsAndCharts!$A295+$A$11,IF($C$5,8,0),1,1))","v":4399.25},{"$f":"IF(A295>$A$8,\"\",OFFSET(InputPriceData!F$15,CalculationsAndCharts!$A295+$A$11,IF($C$5,8,0),1,1))","v":4417.5},0,1.25,{"$f":"IF($A295>$J$30,NA(),AVERAGE(H295:H298))","v":12.125},13.6875,null,null,{"$f":"IF($A295>$J$30,NA(),IF($A295>$N$30,0,(1-$M$35)*J295+(2*$M$35-$M$36)*J296-($M$35+$M$37)*J297+$M$36*N296+$M$37*N297))","v":16.866776746561204},7.8282069068122926,0.36600833459204102,0.44521650477706254,null,null,10.762358940596094,14.896896094014389,-0.16113239249703179,5.2669711024949196E-2,null,null,null,null,null,null,null,null,null,null,null,null,null,null,null,null,null,null,null,null,null,null,null,null,null,null,null,null,null,null,null,{"$error":"#N/A"},1689461]
[264,{"$f":"IF(A296>$A$8,\"\",OFFSET(InputPriceData!B$15,$A296+$A$11,0,1,1))","v":"2023-06-27T04:00:00"},{"$f":"IF(A296>$A$8,\"\",OFFSET(InputPriceData!G$15,CalculationsAndCharts!$A296+$A$11,IF($C$5,8,0),1,1))","v":1512256},{"$f":"IF(A296>$A$8,\"\",OFFSET(InputPriceData!C$15,CalculationsAndCharts!$A296+$A$11,IF($C$5,8,0),1,1))","v":4375.75},{"$f":"IF(A296>$A$8,\"\",OFFSET(InputPriceData!D$15,CalculationsAndCharts!$A296+$A$11,IF($C$5,8,0),1,1))","v":4424.75},{"$f":"IF(A296>$A$8,\"\",OFFSET(InputPriceData!E$15,CalculationsAndCharts!$A296+$A$11,IF($C$5,8,0),1,1))","v":4371.5},{"$f":"IF(A296>$A$8,\"\",OFFSET(InputPriceData!F$15,CalculationsAndCharts!$A296+$A$11,IF($C$5,8,0),1,1))","v":4418.75},48.5,0,{"$f":"IF($A296>$J$30,NA(),AVERAGE(H296:H299))","v":15.75},13.375,null,null,{"$f":"IF($A296>$J$30,NA(),IF($A296>$N$30,0,(1-$M$35)*J296+(2*$M$35-$M$36)*J297-($M$35+$M$37)*J298+$M$36*N297+$M$37*N298))","v":17.065313052177107},7.4242036256249406,0.39368312381971693,0.52475947119352462,null,null,10.908741938425296,13.903301181636664,-0.12068974847097921,0.40090318534300734,null,null,null,null,null,null,null,null,null,null,null,null,null,null,null,null,null,null,null,null,null,null,null,null,null,null,null,null,null,null,null,1512256,{"$error":"#N/A"}]
[265,{"$f":"IF(A297>$A$8,\"\",OFFSET(InputPriceData!B$15,$A297+$A$11,0,1,1))","v":"2023-06-26T04:00:00"},{"$f":"IF(A297>$A$8,\"\",OFFSET(InputPriceData!G$15,CalculationsAndCharts!$A297+$A$11,IF($C$5,8,0),1,1))","v":1622416},{"$f":"IF(A297>$A$8,\"\",OFFSET(InputPriceData!C$15,CalculationsAndCharts!$A297+$A$11,IF($C$5,8,0),1,1))","v":4390},{"$f":"IF(A297>$A$8,\"\",OFFSET(InputPriceData!D$15,CalculationsAndCharts!$A297+$A$11,IF($C$5,8,0),1,1))","v":4403},{"$f":"IF(A297>$A$8,\"\",OFFSET(InputPriceData!E$15,CalculationsAndCharts!$A297+$A$11,IF($C$5,8,0),1,1))","v":4368.5},{"$f":"IF(A297>$A$8,\"\",OFFSET(InputPriceData!F$15,CalculationsAndCharts!$A297+$A$11,IF($C$5,8,0),1,1))","v":4370.25},0,18.75,{"$f":"IF($A297>$J$30,NA(),AVERAGE(H297:H300))","v":3.625},19.75,null,null,{"$f":"IF($A297>$J$30,NA(),IF($A297>$N$30,0,(1-$M$35)*J297+(2*$M$35-$M$36)*J298-($M$35+$M$37)*J299+$M$36*N298+$M$37*N299))","v":17.613908881203795},6.7615515746964059,0.44521650477706254,0.57896933119103045,null,null,12.750120519234034,11.474230928704312,5.2669711024949196E-2,0.68982550701835599,null,null,null,null,null,null,null,null,null,null,null,null,null,null,null,null,null,null,null,null,null,null,null,null,null,null,null,null,null,null,null,{"$error":"#N/A"},1622416]
[266,{"$f":"IF(A298>$A$8,\"\",OFFSET(InputPriceData!B$15,$A298+$A$11,0,1,1))","v":"2023-06-23T04:00:00"},{"$f":"IF(A298>$A$8,\"\",OFFSET(InputPriceData!G$15,CalculationsAndCharts!$A298+$A$11,IF($C$5,8,0),1,1))","v":1550992},{"$f":"IF(A298>$A$8,\"\",OFFSET(InputPriceData!C$15,CalculationsAndCharts!$A298+$A$11,IF($C$5,8,0),1,1))","v":4425.75},{"$f":"IF(A298>$A$8,\"\",OFFSET(InputPriceData!D$15,CalculationsAndCharts!$A298+$A$11,IF($C$5,8,0),1,1))","v":4426.25},{"$f":"IF(A298>$A$8,\"\",OFFSET(InputPriceData!E$15,CalculationsAndCharts!$A298+$A$11,IF($C$5,8,0),1,1))","v":4381.5},{"$f":"IF(A298>$A$8,\"\",OFFSET(InputPriceData!F$15,CalculationsAndCharts!$A298+$A$11,IF($C$5,8,0),1,1))","v":4389},0,34.75,{"$f":"IF($A298>$J$30,NA(),AVERAGE(H298:H301))","v":3.625},19.712500000000091,null,null,{"$f":"IF($A298>$J$30,NA(),IF($A298>$N$30,0,(1-$M$35)*J298+(2*$M$35-$M$36)*J299-($M$35+$M$37)*J300+$M$36*N299+$M$37*N300))","v":18.672422160594934},5.8198633616308895,0.52475947119352462,0.60080819202857894,null,null,17.183424440159065,7.3484984220931908,0.40090318534300734,0.88969276686938914,null,null,null,null,null,null,null,null,null,null,null,null,null,null,null,null,null,null,null,null,null,null,null,null,null,null,null,null,null,null,null,{"$error":"#N/A"},1550992]
[267,{"$f":"IF(A299>$A$8,\"\",OFFSET(InputPriceData!B$15,$A299+$A$11,0,1,1))","v":"2023-06-22T04:00:00"},{"$f":"IF(A299>$A$8,\"\",OFFSET(InputPriceData!G$15,CalculationsAndCharts!$A299+$A$11,IF($C$5,8,0),1,1))","v":1384002},{"$f":"IF(A299>$A$8,\"\",OFFSET(InputPriceData!C$15,CalculationsAndCharts!$A299+$A$11,IF($C$5,8,0),1,1))","v":4410},{"$f":"IF(A299>$A$8,\"\",OFFSET(InputPriceData!D$15,CalculationsAndCharts!$A299+$A$11,IF($C$5,8,0),1,1))","v":4427},{"$f":"IF(A299>$A$8,\"\",OFFSET(InputPriceData!E$15,CalculationsAndCharts!$A299+$A$11,IF($C$5,8,0),1,1))","v":4393},{"$f":"IF(A299>$A$8,\"\",OFFSET(InputPriceData!F$15,CalculationsAndCharts!$A299+$A$11,IF($C$5,8,0),1,1))","v":4423.75},14.5,0,{"$f":"IF($A299>$J$30,NA(),AVERAGE(H299:H302))","v":10.337500000000091},11.025000000000091,null,null,{"$f":"IF($A299>$J$30,NA(),IF($A299>$N$30,0,(1-$M$35)*J299+(2*$M$35-$M$36)*J300-($M$35+$M$37)*J301+$M$36*N300+$M$37*N301))","v":19.497477793149304},5.1989838897919167,0.57896933119103045,0.59959139664348393,null,null,21.318040467154322,3.9130149034908221,0.68982550701835599,1.0399692214277088,null,null,null,null,null,null,null,null,null,null,null,null,null,null,null,null,null,null,null,null,null,null,null,null,null,null,null,null,null,null,null,1384002,{"$error":"#N/A"}]
[268,{"$f":"IF(A300>$A$8,\"\",OFFSET(InputPriceData!B$15,$A300+$A$11,0,1,1))","v":"2023-06-21T04:00:00"},{"$f":"IF(A300>$A$8,\"\",OFFSET(InputPriceData!G$15,CalculationsAndCharts!$A300+$A$11,IF($C$5,8,0),1,1))","v":1468258},{"$f":"IF(A300>$A$8,\"\",OFFSET(InputPriceData!C$15,CalculationsAndCharts!$A300+$A$11,IF($C$5,8,0),1,1))","v":4430.25},{"$f":"IF(A300>$A$8,\"\",OFFSET(InputPriceData!D$15,CalculationsAndCharts!$A300+$A$11,IF($C$5,8,0),1,1))","v":4438.5},{"$f":"IF(A300>$A$8,\"\",OFFSET(InputPriceData!E$15,CalculationsAndCharts!$A300+$A$11,IF($C$5,8,0),1,1))","v":4403.5},{"$f":"IF(A300>$A$8,\"\",OFFSET(InputPriceData!F$15,CalculationsAndCharts!$A300+$A$11,IF($C$5,8,0),1,1))","v":4409.25},0,25.5,{"$f":"IF($A300>$J$30,NA(),AVERAGE(H300:H303))","v":19.775000000000091},11.025000000000091,null,null,{"$f":"IF($A300>$J$30,NA(),IF($A300>$N$30,0,(1-$M$35)*J300+(2*$M$35-$M$36)*J301-($M$35+$M$37)*J302+$M$36*N301+$M$37*N302))","v":19.696249179571879},4.911632361329489,0.60080819202857894,0.56295817542812043,null,null,23.373649875051992,1.3643925039476212,0.88969276686938914,1.0533132685424536,null,null,null,null,null,null,null,null,null,null,null,null,null,null,null,null,null,null,null,null,null,null,null,null,null,null,null,null,null,null,null,{"$error":"#N/A"},1468258]
[269,{"$f":"IF(A301>$A$8,\"\",OFFSET(InputPriceData!B$15,$A301+$A$11,0,1,1))","v":"2023-06-20T04:00:00"},{"$f":"IF(A301>$A$8,\"\",OFFSET(InputPriceData!G$15,CalculationsAndCharts!$A301+$A$11,IF($C$5,8,0),1,1))","v":1540416},{"$f":"IF(A301>$A$8,\"\",OFFSET(InputPriceData!C$15,CalculationsAndCharts!$A301+$A$11,IF($C$5,8,0),1,1))","v":4458},{"$f":"IF(A301>$A$8,\"\",OFFSET(InputPriceData!D$15,CalculationsAndCharts!$A301+$A$11,IF($C$5,8,0),1,1))","v":4462},{"$f":"IF(A301>$A$8,\"\",OFFSET(InputPriceData!E$15,CalculationsAndCharts!$A301+$A$11,IF($C$5,8,0),1,1))","v":4410.5},{"$f":"IF(A301>$A$8,\"\",OFFSET(InputPriceData!F$15,CalculationsAndCharts!$A301+$A$11,IF($C$5,8,0),1,1))","v":4434.75},0,18.600000000000364,{"$f":"IF($A301>$J$30,NA(),AVERAGE(H301:H304))","v":20.400000000000091},4.6500000000000909,null,null,{"$f":"IF($A301>$J$30,NA(),IF($A301>$N$30,0,(1-$M$35)*J301+(2*$M$35-$M$36)*J302-($M$35+$M$37)*J303+$M$36*N302+$M$37*N303))","v":19.48911465153288},4.8785015940008574,0.59959139664348393,0.50374660941935778,null,null,23.975833360458761,-0.46975973089796819,1.0399692214277088,0.98195753358323712,null,null,null,null,null,null,null,null,null,null,null,null,null,null,null,null,null,null,null,null,null,null,null,null,null,null,null,null,null,null,null,{"$f":"IF(G301>=G302,C301,NA())","v":{"$error":"#N/A"}},{"$f":"IF(G301<G302,C301,NA())","v":1540416}]
[270,{"$f":"IF(A302>$A$8,\"\",OFFSET(InputPriceData!B$15,$A302+$A$11,0,1,1))","v":"2023-06-16T04:00:00"},{"$f":"IF(A302>$A$8,\"\",OFFSET(InputPriceData!G$15,CalculationsAndCharts!$A302+$A$11,IF($C$5,8,0),1,1))","v":1895105},{"$f":"IF(A302>$A$8,\"\",OFFSET(InputPriceData!C$15,CalculationsAndCharts!$A302+$A$11,IF($C$5,8,0),1,1))","v":4424.75},{"$f":"IF(A302>$A$8,\"\",OFFSET(InputPriceData!D$15,CalculationsAndCharts!$A302+$A$11,IF($C$5,8,0),1,1))","v":4453.3500000000004},{"$f":"IF(A302>$A$8,\"\",OFFSET(InputPriceData!E$15,CalculationsAndCharts!$A302+$A$11,IF($C$5,8,0),1,1))","v":4415.25},{"$f":"IF(A302>$A$8,\"\",OFFSET(InputPriceData!F$15,CalculationsAndCharts!$A302+$A$11,IF($C$5,8,0),1,1))","v":4453.3500000000004},26.850000000000364,0,{"$f":"IF($A302>$J$30,NA(),AVERAGE(H302:H305))","v":27.650000000000091},0,null,null,{"$f":"IF($A302>$J$30,NA(),IF($A302>$N$30,0,(1-$M$35)*J302+(2*$M$35-$M$36)*J303-($M$35+$M$37)*J304+$M$36*N303+$M$37*N304))","v":18.948217939105845},5.2983911346342261,0.56295817542812043,0.44796042505311584,null,null,23.219311676086036,-0.60287800099632483,1.0533132685424536,0.87413562474826589,null,null,null,null,null,null,null,null,null,null,null,null,null,null,null,null,null,null,null,null,null,null,null,null,null,null,null,null,null,null,null,1895105,{"$error":"#N/A"}]
[271,{"$f":"IF(A303>$A$8,\"\",OFFSET(InputPriceData!B$15,$A303+$A$11,0,1,1))","v":"2023-06-15T04:00:00"},{"$f":"IF(A303>$A$8,\"\",OFFSET(InputPriceData!G$15,CalculationsAndCharts!$A303+$A$11,IF($C$5,8,0),1,1))","v":486414},{"$f":"IF(A303>$A$8,\"\",OFFSET(InputPriceData!C$15,CalculationsAndCharts!$A303+$A$11,IF($C$5,8,0),1,1))","v":4378.75},{"$f":"IF(A303>$A$8,\"\",OFFSET(InputPriceData!D$15,CalculationsAndCharts!$A303+$A$11,IF($C$5,8,0),1,1))","v":4441},{"$f":"IF(A303>$A$8,\"\",OFFSET(InputPriceData!E$15,CalculationsAndCharts!$A303+$A$11,IF($C$5,8,0),1,1))","v":4350},{"$f":"IF(A303>$A$8,\"\",OFFSET(InputPriceData!F$15,CalculationsAndCharts!$A303+$A$11,IF($C$5,8,0),1,1))","v":4426.5},52.25,0,{"$f":"IF($A303>$J$30,NA(),AVERAGE(H303:H306))","v":30.4375},0,null,null,{"$f":"IF($A303>$J$30,NA(),IF($A303>$N$30,0,(1-$M$35)*J303+(2*$M$35-$M$36)*J304-($M$35+$M$37)*J305+$M$36*N304+$M$37*N305))","v":17.973170805254643},5.9313496673728947,0.50374660941935778,0.39562871722370802,null,null,20.501784536902846,0.18663505787735901,0.98195753358323712,0.73954269948993878,null,null,null,null,null,null,null,null,null,null,null,null,null,null,null,null,null,null,null,null,null,null,null,null,null,null,null,null,null,null,null,486414,{"$error":"#N/A"}]
[272,{"$f":"IF(A304>$A$8,\"\",OFFSET(InputPriceData!B$15,$A304+$A$11,0,1,1))","v":"2023-06-14T04:00:00"},{"$f":"IF(A304>$A$8,\"\",OFFSET(InputPriceData!G$15,CalculationsAndCharts!$A304+$A$11,IF($C$5,8,0),1,1))","v":758316},{"$f":"IF(A304>$A$8,\"\",OFFSET(InputPriceData!C$15,CalculationsAndCharts!$A304+$A$11,IF($C$5,8,0),1,1))","v":4372},{"$f":"IF(A304>$A$8,\"\",OFFSET(InputPriceData!D$15,CalculationsAndCharts!$A304+$A$11,IF($C$5,8,0),1,1))","v":4394.75},{"$f":"IF(A304>$A$8,\"\",OFFSET(InputPriceData!E$15,CalculationsAndCharts!$A304+$A$11,IF($C$5,8,0),1,1))","v":4339.75},{"$f":"IF(A304>$A$8,\"\",OFFSET(InputPriceData!F$15,CalculationsAndCharts!$A304+$A$11,IF($C$5,8,0),1,1))","v":4374.25},2.5,0,{"$f":"IF($A304>$J$30,NA(),AVERAGE(H304:H307))","v":19},0,null,null,{"$f":"IF($A304>$J$30,NA(),IF($A304>$N$30,0,(1-$M$35)*J304+(2*$M$35-$M$36)*J305-($M$35+$M$37)*J306+$M$36*N305+$M$37*N306))","v":17.303844439920475},6.5971464166296467,0.44796042505311584,0.35260017395288812,null,null,18.760868774101809,1.2599541870131548,0.87413562474826589,0.63694460994801727,null,null,null,null,null,null,null,null,null,null,null,null,null,null,null,null,null,null,null,null,null,null,null,null,null,null,null,null,null,null,null,758316,{"$error":"#N/A"}]
[273,{"$f":"IF(A305>$A$8,\"\",OFFSET(InputPriceData!B$15,$A305+$A$11,0,1,1))","v":"2023-06-13T04:00:00"},{"$f":"IF(A305>$A$8,\"\",OFFSET(InputPriceData!G$15,CalculationsAndCharts!$A305+$A$11,IF($C$5,8,0),1,1))","v":1317118},{"$f":"IF(A305>$A$8,\"\",OFFSET(InputPriceData!C$15,CalculationsAndCharts!$A305+$A$11,IF($C$5,8,0),1,1))","v":4345},{"$f":"IF(A305>$A$8,\"\",OFFSET(InputPriceData!D$15,CalculationsAndCharts!$A305+$A$11,IF($C$5,8,0),1,1))","v":4377.75},{"$f":"IF(A305>$A$8,\"\",OFFSET(InputPriceData!E$15,CalculationsAndCharts!$A305+$A$11,IF($C$5,8,0),1,1))","v":4335.75},{"$f":"IF(A305>$A$8,\"\",OFFSET(InputPriceData!F$15,CalculationsAndCharts!$A305+$A$11,IF($C$5,8,0),1,1))","v":4371.75},29,0,{"$f":"IF($A305>$J$30,NA(),AVERAGE(H305:H308))","v":24.375},0,null,null,{"$f":"IF($A305>$J$30,NA(),IF($A305>$N$30,0,(1-$M$35)*J305+(2*$M$35-$M$36)*J306-($M$35+$M$37)*J307+$M$36*N306+$M$37*N307))","v":16.848821352609228},7.2963128720951742,0.39562871722370802,0.33271851449374129,null,null,17.763854430355885,2.6597367072051825,0.73954269948993878,0.61002056738251254,null,null,null,null,null,null,null,null,null,null,null,null,null,null,null,null,null,null,null,null,null,null,null,null,null,null,null,null,null,null,null,1317118,{"$error":"#N/A"}]
[274,{"$f":"IF(A306>$A$8,\"\",OFFSET(InputPriceData!B$15,$A306+$A$11,0,1,1))","v":"2023-06-12T04:00:00"},{"$f":"IF(A306>$A$8,\"\",OFFSET(InputPriceData!G$15,CalculationsAndCharts!$A306+$A$11,IF($C$5,8,0),1,1))","v":1665175},{"$f":"IF(A306>$A$8,\"\",OFFSET(InputPriceData!C$15,CalculationsAndCharts!$A306+$A$11,IF($C$5,8,0),1,1))","v":4306.5},{"$f":"IF(A306>$A$8,\"\",OFFSET(InputPriceData!D$15,CalculationsAndCharts!$A306+$A$11,IF($C$5,8,0),1,1))","v":4346.5},{"$f":"IF(A306>$A$8,\"\",OFFSET(InputPriceData!E$15,CalculationsAndCharts!$A306+$A$11,IF($C$5,8,0),1,1))","v":4305.25},{"$f":"IF(A306>$A$8,\"\",OFFSET(InputPriceData!F$15,CalculationsAndCharts!$A306+$A$11,IF($C$5,8,0),1,1))","v":4342.75},38,0,{"$f":"IF($A306>$J$30,NA(),AVERAGE(H306:H309))","v":17.125},3.875,null,null,{"$f":"IF($A306>$J$30,NA(),IF($A306>$N$30,0,(1-$M$35)*J306+(2*$M$35-$M$36)*J307-($M$35+$M$37)*J308+$M$36*N307+$M$37*N308))","v":16.447934927560958},7.8725335217264796,0.35260017395288812,0.32594351131918148,null,null,16.948437619407748,3.7589675260185986,0.63694460994801727,0.61958785259022686,null,null,null,null,null,null,null,null,null,null,null,null,null,null,null,null,null,null,null,null,null,null,null,null,null,null,null,null,null,null,null,1665175,{"$error":"#N/A"}]
[275,{"$f":"IF(A307>$A$8,\"\",OFFSET(InputPriceData!B$15,$A307+$A$11,0,1,1))","v":"2023-06-09T04:00:00"},{"$f":"IF(A307>$A$8,\"\",OFFSET(InputPriceData!G$15,CalculationsAndCharts!$A307+$A$11,IF($C$5,8,0),1,1))","v":2176645},{"$f":"IF(A307>$A$8,\"\",OFFSET(InputPriceData!C$15,CalculationsAndCharts!$A307+$A$11,IF($C$5,8,0),1,1))","v":4297.75},{"$f":"IF(A307>$A$8,\"\",OFFSET(InputPriceData!D$15,CalculationsAndCharts!$A307+$A$11,IF($C$5,8,0),1,1))","v":4325.5},{"$f":"IF(A307>$A$8,\"\",OFFSET(InputPriceData!E$15,CalculationsAndCharts!$A307+$A$11,IF($C$5,8,0),1,1))","v":4284},{"$f":"IF(A307>$A$8,\"\",OFFSET(InputPriceData!F$15,CalculationsAndCharts!$A307+$A$11,IF($C$5,8,0),1,1))","v":4304.75},6.5,0,{"$f":"IF($A307>$J$30,NA(),AVERAGE(H307:H310))","v":9.8125},3.875,null,null,{"$f":"IF($A307>$J$30,NA(),IF($A307>$N$30,0,(1-$M$35)*J307+(2*$M$35-$M$36)*J308-($M$35+$M$37)*J309+$M$36*N308+$M$37*N309))","v":16.617231304630018},8.3201146148755605,0.33271851449374129,0.31495473765932563,null,null,18.556958998475327,4.4948694991497229,0.61002056738251254,0.62142494189169295,null,null,null,null,null,null,null,null,null,null,null,null,null,null,null,null,null,null,null,null,null,null,null,null,null,null,null,null,null,null,null,2176645,{"$error":"#N/A"}]
[276,{"$f":"IF(A308>$A$8,\"\",OFFSET(InputPriceData!B$15,$A308+$A$11,0,1,1))","v":"2023-06-08T04:00:00"},{"$f":"IF(A308>$A$8,\"\",OFFSET(InputPriceData!G$15,CalculationsAndCharts!$A308+$A$11,IF($C$5,8,0),1,1))","v":1664333},{"$f":"IF(A308>$A$8,\"\",OFFSET(InputPriceData!C$15,CalculationsAndCharts!$A308+$A$11,IF($C$5,8,0),1,1))","v":4273.25},{"$f":"IF(A308>$A$8,\"\",OFFSET(InputPriceData!D$15,CalculationsAndCharts!$A308+$A$11,IF($C$5,8,0),1,1))","v":4302.5},{"$f":"IF(A308>$A$8,\"\",OFFSET(InputPriceData!E$15,CalculationsAndCharts!$A308+$A$11,IF($C$5,8,0),1,1))","v":4262.75},{"$f":"IF(A308>$A$8,\"\",OFFSET(InputPriceData!F$15,CalculationsAndCharts!$A308+$A$11,IF($C$5,8,0),1,1))","v":4298.25},24,0,{"$f":"IF($A308>$J$30,NA(),AVERAGE(H308:H311))","v":8.1875},5.625,null,null,{"$f":"IF($A308>$J$30,NA(),IF($A308>$N$30,0,(1-$M$35)*J308+(2*$M$35-$M$36)*J309-($M$35+$M$37)*J310+$M$36*N309+$M$37*N310))","v":17.151806758795637},8.7192904823399235,0.32594351131918148,0.27651913246429871,null,null,22.002834092099988,5.1680712180510895,0.61958785259022686,0.54394018660821308,null,null,null,null,null,null,null,null,null,null,null,null,null,null,null,null,null,null,null,null,null,null,null,null,null,null,null,null,null,null,null,1664333,{"$error":"#N/A"}]
[277,{"$f":"IF(A309>$A$8,\"\",OFFSET(InputPriceData!B$15,$A309+$A$11,0,1,1))","v":"2023-06-07T04:00:00"},{"$f":"IF(A309>$A$8,\"\",OFFSET(InputPriceData!G$15,CalculationsAndCharts!$A309+$A$11,IF($C$5,8,0),1,1))","v":1925195},{"$f":"IF(A309>$A$8,\"\",OFFSET(InputPriceData!C$15,CalculationsAndCharts!$A309+$A$11,IF($C$5,8,0),1,1))","v":4292.25},{"$f":"IF(A309>$A$8,\"\",OFFSET(InputPriceData!D$15,CalculationsAndCharts!$A309+$A$11,IF($C$5,8,0),1,1))","v":4304.75},{"$f":"IF(A309>$A$8,\"\",OFFSET(InputPriceData!E$15,CalculationsAndCharts!$A309+$A$11,IF($C$5,8,0),1,1))","v":4269.25},{"$f":"IF(A309>$A$8,\"\",OFFSET(InputPriceData!F$15,CalculationsAndCharts!$A309+$A$11,IF($C$5,8,0),1,1))","v":4274.25},0,15.5,{"$f":"IF($A309>$J$30,NA(),AVERAGE(H309:H312))","v":17.1875},5.625,null,null,{"$f":"IF($A309>$J$30,NA(),IF($A309>$N$30,0,(1-$M$35)*J309+(2*$M$35-$M$36)*J310-($M$35+$M$37)*J311+$M$36*N310+$M$37*N311))","v":17.405438658790516},9.0676225961891408,0.31495473765932563,0.23221681364846697,null,null,24.700153904976705,5.7670644864702556,0.62142494189169295,0.45040592334308122,null,null,null,null,null,null,null,null,null,null,null,null,null,null,null,null,null,null,null,null,null,null,null,null,null,null,null,null,null,null,null,{"$error":"#N/A"},1925195]
[278,{"$f":"IF(A310>$A$8,\"\",OFFSET(InputPriceData!B$15,$A310+$A$11,0,1,1))","v":"2023-06-06T04:00:00"},{"$f":"IF(A310>$A$8,\"\",OFFSET(InputPriceData!G$15,CalculationsAndCharts!$A310+$A$11,IF($C$5,8,0),1,1))","v":1548125},{"$f":"IF(A310>$A$8,\"\",OFFSET(InputPriceData!C$15,CalculationsAndCharts!$A310+$A$11,IF($C$5,8,0),1,1))","v":4279.75},{"$f":"IF(A310>$A$8,\"\",OFFSET(InputPriceData!D$15,CalculationsAndCharts!$A310+$A$11,IF($C$5,8,0),1,1))","v":4294.75},{"$f":"IF(A310>$A$8,\"\",OFFSET(InputPriceData!E$15,CalculationsAndCharts!$A310+$A$11,IF($C$5,8,0),1,1))","v":4268.5},{"$f":"IF(A310>$A$8,\"\",OFFSET(InputPriceData!F$15,CalculationsAndCharts!$A310+$A$11,IF($C$5,8,0),1,1))","v":4289.75},8.75,0,{"$f":"IF($A310>$J$30,NA(),AVERAGE(H310:H313))","v":26.5625},1.75,null,null,{"$f":"IF($A310>$J$30,NA(),IF($A310>$N$30,0,(1-$M$35)*J310+(2*$M$35-$M$36)*J311-($M$35+$M$37)*J312+$M$36*N311+$M$37*N312))","v":16.921116678329582},9.5902238068908012,0.27651913246429871,0.19508536622983028,null,null,24.536261165927684,7.2476918378863857,0.54394018660821308,0.37213997252558267,null,null,null,null,null,null,null,null,null,null,null,null,null,null,null,null,null,null,null,null,null,null,null,null,null,null,null,null,null,null,null,1548125,{"$error":"#N/A"}]
[279,{"$f":"IF(A311>$A$8,\"\",OFFSET(InputPriceData!B$15,$A311+$A$11,0,1,1))","v":"2023-06-05T04:00:00"},{"$f":"IF(A311>$A$8,\"\",OFFSET(InputPriceData!G$15,CalculationsAndCharts!$A311+$A$11,IF($C$5,8,0),1,1))","v":1668759},{"$f":"IF(A311>$A$8,\"\",OFFSET(InputPriceData!C$15,CalculationsAndCharts!$A311+$A$11,IF($C$5,8,0),1,1))","v":4288},{"$f":"IF(A311>$A$8,\"\",OFFSET(InputPriceData!D$15,CalculationsAndCharts!$A311+$A$11,IF($C$5,8,0),1,1))","v":4305.75},{"$f":"IF(A311>$A$8,\"\",OFFSET(InputPriceData!E$15,CalculationsAndCharts!$A311+$A$11,IF($C$5,8,0),1,1))","v":4273},{"$f":"IF(A311>$A$8,\"\",OFFSET(InputPriceData!F$15,CalculationsAndCharts!$A311+$A$11,IF($C$5,8,0),1,1))","v":4281},0,7,{"$f":"IF($A311>$J$30,NA(),AVERAGE(H311:H314))","v":24.375},7.875,null,null,{"$f":"IF($A311>$J$30,NA(),IF($A311>$N$30,0,(1-$M$35)*J311+(2*$M$35-$M$36)*J312-($M$35+$M$37)*J313+$M$36*N312+$M$37*N313))","v":16.122222933820229},10.04561174469546,0.23221681364846697,0.15323613483221293,null,null,22.918211232953531,8.6842675822580127,0.45040592334308122,0.26201378967909805,null,null,null,null,null,null,null,null,null,null,null,null,null,null,null,null,null,null,null,null,null,null,null,null,null,null,null,null,null,null,null,{"$error":"#N/A"},1668759]
[280,{"$f":"IF(A312>$A$8,\"\",OFFSET(InputPriceData!B$15,$A312+$A$11,0,1,1))","v":"2023-06-02T04:00:00"},{"$f":"IF(A312>$A$8,\"\",OFFSET(InputPriceData!G$15,CalculationsAndCharts!$A312+$A$11,IF($C$5,8,0),1,1))","v":1955603},{"$f":"IF(A312>$A$8,\"\",OFFSET(InputPriceData!C$15,CalculationsAndCharts!$A312+$A$11,IF($C$5,8,0),1,1))","v":4231.75},{"$f":"IF(A312>$A$8,\"\",OFFSET(InputPriceData!D$15,CalculationsAndCharts!$A312+$A$11,IF($C$5,8,0),1,1))","v":4297.75},{"$f":"IF(A312>$A$8,\"\",OFFSET(InputPriceData!E$15,CalculationsAndCharts!$A312+$A$11,IF($C$5,8,0),1,1))","v":4229},{"$f":"IF(A312>$A$8,\"\",OFFSET(InputPriceData!F$15,CalculationsAndCharts!$A312+$A$11,IF($C$5,8,0),1,1))","v":4288},60,0,{"$f":"IF($A312>$J$30,NA(),AVERAGE(H312:H315))","v":24.8125},6.125,null,null,{"$f":"IF($A312>$J$30,NA(),IF($A312>$N$30,0,(1-$M$35)*J312+(2*$M$35-$M$36)*J313-($M$35+$M$37)*J314+$M$36*N313+$M$37*N314))","v":15.358776306614153},10.344452501327694,0.19508536622983028,0.11200894153924022,null,null,21.147353232351133,9.6765476171037204,0.37213997252558267,0.13717422260155215,null,null,null,null,null,null,null,null,null,null,null,null,null,null,null,null,null,null,null,null,null,null,null,null,null,null,null,null,null,null,null,1955603,{"$error":"#N/A"}]
[281,{"$f":"IF(A313>$A$8,\"\",OFFSET(InputPriceData!B$15,$A313+$A$11,0,1,1))","v":"2023-06-01T04:00:00"},{"$f":"IF(A313>$A$8,\"\",OFFSET(InputPriceData!G$15,CalculationsAndCharts!$A313+$A$11,IF($C$5,8,0),1,1))","v":1868363},{"$f":"IF(A313>$A$8,\"\",OFFSET(InputPriceData!C$15,CalculationsAndCharts!$A313+$A$11,IF($C$5,8,0),1,1))","v":4188.5},{"$f":"IF(A313>$A$8,\"\",OFFSET(InputPriceData!D$15,CalculationsAndCharts!$A313+$A$11,IF($C$5,8,0),1,1))","v":4239.75},{"$f":"IF(A313>$A$8,\"\",OFFSET(InputPriceData!E$15,CalculationsAndCharts!$A313+$A$11,IF($C$5,8,0),1,1))","v":4178},{"$f":"IF(A313>$A$8,\"\",OFFSET(InputPriceData!F$15,CalculationsAndCharts!$A313+$A$11,IF($C$5,8,0),1,1))","v":4228},37.5,0,{"$f":"IF($A313>$J$30,NA(),AVERAGE(H313:H316))","v":23.1875},6.125,null,null,{"$f":"IF($A313>$J$30,NA(),IF($A313>$N$30,0,(1-$M$35)*J313+(2*$M$35-$M$36)*J314-($M$35+$M$37)*J315+$M$36*N314+$M$37*N315))","v":14.610579380501932},10.727820864175902,0.15323613483221293,7.3165460729008064E-2,null,null,19.122750243906857,11.182386514970153,0.26201378967909805,4.118546392018055E-3,null,null,null,null,null,null,null,null,null,null,null,null,null,null,null,null,null,null,null,null,null,null,null,null,null,null,null,null,null,null,null,1868363,{"$error":"#N/A"}]
[282,{"$f":"IF(A314>$A$8,\"\",OFFSET(InputPriceData!B$15,$A314+$A$11,0,1,1))","v":"2023-05-31T04:00:00"},{"$f":"IF(A314>$A$8,\"\",OFFSET(InputPriceData!G$15,CalculationsAndCharts!$A314+$A$11,IF($C$5,8,0),1,1))","v":2138566},{"$f":"IF(A314>$A$8,\"\",OFFSET(InputPriceData!C$15,CalculationsAndCharts!$A314+$A$11,IF($C$5,8,0),1,1))","v":4213},{"$f":"IF(A314>$A$8,\"\",OFFSET(InputPriceData!D$15,CalculationsAndCharts!$A314+$A$11,IF($C$5,8,0),1,1))","v":4217.75},{"$f":"IF(A314>$A$8,\"\",OFFSET(InputPriceData!E$15,CalculationsAndCharts!$A314+$A$11,IF($C$5,8,0),1,1))","v":4174},{"$f":"IF(A314>$A$8,\"\",OFFSET(InputPriceData!F$15,CalculationsAndCharts!$A314+$A$11,IF($C$5,8,0),1,1))","v":4190.5},0,24.5,{"$f":"IF($A314>$J$30,NA(),AVERAGE(H314:H317))","v":22.25},6.125,null,null,{"$f":"IF($A314>$J$30,NA(),IF($A314>$N$30,0,(1-$M$35)*J314+(2*$M$35-$M$36)*J315-($M$35+$M$37)*J316+$M$36*N315+$M$37*N316))","v":13.935028898849771},11.127771189000127,0.11200894153924022,5.6249093542554113E-2,null,null,17.070506706988315,12.952169445370355,0.13717422260155215,-7.8879260278476901E-2,null,null,null,null,null,null,null,null,null,null,null,null,null,null,null,null,null,null,null,null,null,null,null,null,null,null,null,null,null,null,null,{"$error":"#N/A"},2138566]
[283,{"$f":"IF(A315>$A$8,\"\",OFFSET(InputPriceData!B$15,$A315+$A$11,0,1,1))","v":"2023-05-30T04:00:00"},{"$f":"IF(A315>$A$8,\"\",OFFSET(InputPriceData!G$15,CalculationsAndCharts!$A315+$A$11,IF($C$5,8,0),1,1))","v":1957579},{"$f":"IF(A315>$A$8,\"\",OFFSET(InputPriceData!C$15,CalculationsAndCharts!$A315+$A$11,IF($C$5,8,0),1,1))","v":4239.75},{"$f":"IF(A315>$A$8,\"\",OFFSET(InputPriceData!D$15,CalculationsAndCharts!$A315+$A$11,IF($C$5,8,0),1,1))","v":4243.25},{"$f":"IF(A315>$A$8,\"\",OFFSET(InputPriceData!E$15,CalculationsAndCharts!$A315+$A$11,IF($C$5,8,0),1,1))","v":4200},{"$f":"IF(A315>$A$8,\"\",OFFSET(InputPriceData!F$15,CalculationsAndCharts!$A315+$A$11,IF($C$5,8,0),1,1))","v":4215},1.75,0,{"$f":"IF($A315>$J$30,NA(),AVERAGE(H315:H318))","v":22.25},8.1875,null,null,{"$f":"IF($A315>$J$30,NA(),IF($A315>$N$30,0,(1-$M$35)*J315+(2*$M$35-$M$36)*J316-($M$35+$M$37)*J317+$M$36*N316+$M$37*N317))","v":13.270392362815596},11.460914874375833,7.3165460729008064E-2,8.1691867288560704E-2,null,null,14.746352272205993,14.625383416159368,4.118546392018055E-3,-5.3905511243847867E-3,null,null,null,null,null,null,null,null,null,null,null,null,null,null,null,null,null,null,null,null,null,null,null,null,null,null,null,null,null,null,null,1957579,{"$error":"#N/A"}]
[284,{"$f":"IF(A316>$A$8,\"\",OFFSET(InputPriceData!B$15,$A316+$A$11,0,1,1))","v":"2023-05-26T04:00:00"},{"$f":"IF(A316>$A$8,\"\",OFFSET(InputPriceData!G$15,CalculationsAndCharts!$A316+$A$11,IF($C$5,8,0),1,1))","v":1744425},{"$f":"IF(A316>$A$8,\"\",OFFSET(InputPriceData!C$15,CalculationsAndCharts!$A316+$A$11,IF($C$5,8,0),1,1))","v":4157},{"$f":"IF(A316>$A$8,\"\",OFFSET(InputPriceData!D$15,CalculationsAndCharts!$A316+$A$11,IF($C$5,8,0),1,1))","v":4221.25},{"$f":"IF(A316>$A$8,\"\",OFFSET(InputPriceData!E$15,CalculationsAndCharts!$A316+$A$11,IF($C$5,8,0),1,1))","v":4146},{"$f":"IF(A316>$A$8,\"\",OFFSET(InputPriceData!F$15,CalculationsAndCharts!$A316+$A$11,IF($C$5,8,0),1,1))","v":4213.25},53.5,0,{"$f":"IF($A316>$J$30,NA(),AVERAGE(H316:H319))","v":21.8125},19.75,null,null,{"$f":"IF($A316>$J$30,NA(),IF($A316>$N$30,0,(1-$M$35)*J316+(2*$M$35-$M$36)*J317-($M$35+$M$37)*J318+$M$36*N317+$M$37*N318))","v":12.597982140904579},11.2562056977845,5.6249093542554113E-2,0.14781299417008692,null,null,12.072230916845319,14.139817941147053,-7.8879260278476901E-2,0.28389567365043866,null,null,null,null,null,null,null,null,null,null,null,null,null,null,null,null,null,null,null,null,null,null,null,null,null,null,null,null,null,null,null,1744425,{"$error":"#N/A"}]
[285,{"$f":"IF(A317>$A$8,\"\",OFFSET(InputPriceData!B$15,$A317+$A$11,0,1,1))","v":"2023-05-25T04:00:00"},{"$f":"IF(A317>$A$8,\"\",OFFSET(InputPriceData!G$15,CalculationsAndCharts!$A317+$A$11,IF($C$5,8,0),1,1))","v":1966626},{"$f":"IF(A317>$A$8,\"\",OFFSET(InputPriceData!C$15,CalculationsAndCharts!$A317+$A$11,IF($C$5,8,0),1,1))","v":4157},{"$f":"IF(A317>$A$8,\"\",OFFSET(InputPriceData!D$15,CalculationsAndCharts!$A317+$A$11,IF($C$5,8,0),1,1))","v":4175.5},{"$f":"IF(A317>$A$8,\"\",OFFSET(InputPriceData!E$15,CalculationsAndCharts!$A317+$A$11,IF($C$5,8,0),1,1))","v":4131.5},{"$f":"IF(A317>$A$8,\"\",OFFSET(InputPriceData!F$15,CalculationsAndCharts!$A317+$A$11,IF($C$5,8,0),1,1))","v":4159.75},33.75,0,{"$f":"IF($A317>$J$30,NA(),AVERAGE(H317:H320))","v":8.5},19.75,null,null,{"$f":"IF($A317>$J$30,NA(),IF($A317>$N$30,0,(1-$M$35)*J317+(2*$M$35-$M$36)*J318-($M$35+$M$37)*J319+$M$36*N318+$M$37*N319))","v":12.457262345421013},10.575659916714873,8.1691867288560704E-2,0.20091896364230491,null,null,11.351519842675154,11.474565020097476,-5.3905511243847867E-3,0.55274332875335463,null,null,null,null,null,null,null,null,null,null,null,null,null,null,null,null,null,null,null,null,null,null,null,null,null,null,null,null,null,null,null,1966626,{"$error":"#N/A"}]
[286,{"$f":"IF(A318>$A$8,\"\",OFFSET(InputPriceData!B$15,$A318+$A$11,0,1,1))","v":"2023-05-24T04:00:00"},{"$f":"IF(A318>$A$8,\"\",OFFSET(InputPriceData!G$15,CalculationsAndCharts!$A318+$A$11,IF($C$5,8,0),1,1))","v":1911903},{"$f":"IF(A318>$A$8,\"\",OFFSET(InputPriceData!C$15,CalculationsAndCharts!$A318+$A$11,IF($C$5,8,0),1,1))","v":4158},{"$f":"IF(A318>$A$8,\"\",OFFSET(InputPriceData!D$15,CalculationsAndCharts!$A318+$A$11,IF($C$5,8,0),1,1))","v":4166.25},{"$f":"IF(A318>$A$8,\"\",OFFSET(InputPriceData!E$15,CalculationsAndCharts!$A318+$A$11,IF($C$5,8,0),1,1))","v":4114},{"$f":"IF(A318>$A$8,\"\",OFFSET(InputPriceData!F$15,CalculationsAndCharts!$A318+$A$11,IF($C$5,8,0),1,1))","v":4126},0,32.75,{"$f":"IF($A318>$J$30,NA(),AVERAGE(H318:H321))","v":6.25E-2},21.5625,null,null,{"$f":"IF($A318>$J$30,NA(),IF($A318>$N$30,0,(1-$M$35)*J318+(2*$M$35-$M$36)*J319-($M$35+$M$37)*J320+$M$36*N319+$M$37*N320))","v":13.193760673581201},9.7956300034616195,0.14781299417008692,0.18313222864387965,null,null,14.326254757878491,7.9905970734628227,0.28389567365043866,0.54344114763767348,null,null,null,null,null,null,null,null,null,null,null,null,null,null,null,null,null,null,null,null,null,null,null,null,null,null,null,null,null,null,null,{"$error":"#N/A"},1911903]
[287,{"$f":"IF(A319>$A$8,\"\",OFFSET(InputPriceData!B$15,$A319+$A$11,0,1,1))","v":"2023-05-23T04:00:00"},{"$f":"IF(A319>$A$8,\"\",OFFSET(InputPriceData!G$15,CalculationsAndCharts!$A319+$A$11,IF($C$5,8,0),1,1))","v":1685056},{"$f":"IF(A319>$A$8,\"\",OFFSET(InputPriceData!C$15,CalculationsAndCharts!$A319+$A$11,IF($C$5,8,0),1,1))","v":4207.5},{"$f":"IF(A319>$A$8,\"\",OFFSET(InputPriceData!D$15,CalculationsAndCharts!$A319+$A$11,IF($C$5,8,0),1,1))","v":4222.75},{"$f":"IF(A319>$A$8,\"\",OFFSET(InputPriceData!E$15,CalculationsAndCharts!$A319+$A$11,IF($C$5,8,0),1,1))","v":4153},{"$f":"IF(A319>$A$8,\"\",OFFSET(InputPriceData!F$15,CalculationsAndCharts!$A319+$A$11,IF($C$5,8,0),1,1))","v":4158.75},0,46.25,{"$f":"IF($A319>$J$30,NA(),AVERAGE(H319:H322))","v":10.1875},13.375,null,null,{"$f":"IF($A319>$J$30,NA(),IF($A319>$N$30,0,(1-$M$35)*J319+(2*$M$35-$M$36)*J320-($M$35+$M$37)*J321+$M$36*N320+$M$37*N321))","v":13.893610254563596},9.2446874577570224,0.20091896364230491,0.13695890632784258,null,null,17.52901761051243,5.049108839511848,0.55274332875335463,0.41321396248257897,null,null,null,null,null,null,null,null,null,null,null,null,null,null,null,null,null,null,null,null,null,null,null,null,null,null,null,null,null,null,null,{"$error":"#N/A"},1685056]
[288,{"$f":"IF(A320>$A$8,\"\",OFFSET(InputPriceData!B$15,$A320+$A$11,0,1,1))","v":"2023-05-22T04:00:00"},{"$f":"IF(A320>$A$8,\"\",OFFSET(InputPriceData!G$15,CalculationsAndCharts!$A320+$A$11,IF($C$5,8,0),1,1))","v":1302845},{"$f":"IF(A320>$A$8,\"\",OFFSET(InputPriceData!C$15,CalculationsAndCharts!$A320+$A$11,IF($C$5,8,0),1,1))","v":4189},{"$f":"IF(A320>$A$8,\"\",OFFSET(InputPriceData!D$15,CalculationsAndCharts!$A320+$A$11,IF($C$5,8,0),1,1))","v":4221.75},{"$f":"IF(A320>$A$8,\"\",OFFSET(InputPriceData!E$15,CalculationsAndCharts!$A320+$A$11,IF($C$5,8,0),1,1))","v":4186.5},{"$f":"IF(A320>$A$8,\"\",OFFSET(InputPriceData!F$15,CalculationsAndCharts!$A320+$A$11,IF($C$5,8,0),1,1))","v":4205},0.25,0,{"$f":"IF($A320>$J$30,NA(),AVERAGE(H320:H323))","v":22.3125},1.8125,null,null,{"$f":"IF($A320>$J$30,NA(),IF($A320>$N$30,0,(1-$M$35)*J320+(2*$M$35-$M$36)*J321-($M$35+$M$37)*J322+$M$36*N321+$M$37*N322))","v":13.722302366709433},9.4742635529563692,0.18313222864387965,9.2739741118949712E-2,null,null,17.369878171373379,5.1381108089113416,0.54344114763767348,0.2629274873360235,null,null,null,null,null,null,null,null,null,null,null,null,null,null,null,null,null,null,null,null,null,null,null,null,null,null,null,null,null,null,null,1302845,{"$error":"#N/A"}]
[289,{"$f":"IF(A321>$A$8,\"\",OFFSET(InputPriceData!B$15,$A321+$A$11,0,1,1))","v":"2023-05-19T04:00:00"},{"$f":"IF(A321>$A$8,\"\",OFFSET(InputPriceData!G$15,CalculationsAndCharts!$A321+$A$11,IF($C$5,8,0),1,1))","v":1713351},{"$f":"IF(A321>$A$8,\"\",OFFSET(InputPriceData!C$15,CalculationsAndCharts!$A321+$A$11,IF($C$5,8,0),1,1))","v":4215.5},{"$f":"IF(A321>$A$8,\"\",OFFSET(InputPriceData!D$15,CalculationsAndCharts!$A321+$A$11,IF($C$5,8,0),1,1))","v":4227.25},{"$f":"IF(A321>$A$8,\"\",OFFSET(InputPriceData!E$15,CalculationsAndCharts!$A321+$A$11,IF($C$5,8,0),1,1))","v":4191.5},{"$f":"IF(A321>$A$8,\"\",OFFSET(InputPriceData!F$15,CalculationsAndCharts!$A321+$A$11,IF($C$5,8,0),1,1))","v":4204.75},0,7.25,{"$f":"IF($A321>$J$30,NA(),AVERAGE(H321:H324))","v":22.25},8.5625,null,null,{"$f":"IF($A321>$J$30,NA(),IF($A321>$N$30,0,(1-$M$35)*J321+(2*$M$35-$M$36)*J322-($M$35+$M$37)*J323+$M$36*N322+$M$37*N323))","v":13.057080369641364},9.9113493545484204,0.13695890632784258,5.6115296421239677E-2,null,null,15.010989389307319,6.2327709864218637,0.41321396248257897,7.8681098877014535E-2,null,null,null,null,null,null,null,null,null,null,null,null,null,null,null,null,null,null,null,null,null,null,null,null,null,null,null,null,null,null,null,{"$error":"#N/A"},1713351]
[290,{"$f":"IF(A322>$A$8,\"\",OFFSET(InputPriceData!B$15,$A322+$A$11,0,1,1))","v":"2023-05-18T04:00:00"},{"$f":"IF(A322>$A$8,\"\",OFFSET(InputPriceData!G$15,CalculationsAndCharts!$A322+$A$11,IF($C$5,8,0),1,1))","v":1760668},{"$f":"IF(A322>$A$8,\"\",OFFSET(InputPriceData!C$15,CalculationsAndCharts!$A322+$A$11,IF($C$5,8,0),1,1))","v":4171.25},{"$f":"IF(A322>$A$8,\"\",OFFSET(InputPriceData!D$15,CalculationsAndCharts!$A322+$A$11,IF($C$5,8,0),1,1))","v":4215.75},{"$f":"IF(A322>$A$8,\"\",OFFSET(InputPriceData!E$15,CalculationsAndCharts!$A322+$A$11,IF($C$5,8,0),1,1))","v":4161.25},{"$f":"IF(A322>$A$8,\"\",OFFSET(InputPriceData!F$15,CalculationsAndCharts!$A322+$A$11,IF($C$5,8,0),1,1))","v":4212},40.5,0,{"$f":"IF($A322>$J$30,NA(),AVERAGE(H322:H325))","v":25.25},6.75,null,null,{"$f":"IF($A322>$J$30,NA(),IF($A322>$N$30,0,(1-$M$35)*J322+(2*$M$35-$M$36)*J323-($M$35+$M$37)*J324+$M$36*N323+$M$37*N324))","v":12.248285183744406},10.169285483544291,9.2739741118949712E-2,6.2607160975397702E-2,null,null,11.695032600600214,6.8254806004693425,0.2629274873360235,8.4650606012477911E-2,null,null,null,null,null,null,null,null,null,null,null,null,null,null,null,null,null,null,null,null,null,null,null,null,null,null,null,null,null,null,null,1760668,{"$error":"#N/A"}]
[291,{"$f":"IF(A323>$A$8,\"\",OFFSET(InputPriceData!B$15,$A323+$A$11,0,1,1))","v":"2023-05-17T04:00:00"},{"$f":"IF(A323>$A$8,\"\",OFFSET(InputPriceData!G$15,CalculationsAndCharts!$A323+$A$11,IF($C$5,8,0),1,1))","v":1584910},{"$f":"IF(A323>$A$8,\"\",OFFSET(InputPriceData!C$15,CalculationsAndCharts!$A323+$A$11,IF($C$5,8,0),1,1))","v":4126},{"$f":"IF(A323>$A$8,\"\",OFFSET(InputPriceData!D$15,CalculationsAndCharts!$A323+$A$11,IF($C$5,8,0),1,1))","v":4179},{"$f":"IF(A323>$A$8,\"\",OFFSET(InputPriceData!E$15,CalculationsAndCharts!$A323+$A$11,IF($C$5,8,0),1,1))","v":4122},{"$f":"IF(A323>$A$8,\"\",OFFSET(InputPriceData!F$15,CalculationsAndCharts!$A323+$A$11,IF($C$5,8,0),1,1))","v":4171.5},48.5,0,{"$f":"IF($A323>$J$30,NA(),AVERAGE(H323:H326))","v":15.125},8.1875,null,null,{"$f":"IF($A323>$J$30,NA(),IF($A323>$N$30,0,(1-$M$35)*J323+(2*$M$35-$M$36)*J324-($M$35+$M$37)*J325+$M$36*N324+$M$37*N325))","v":11.698646094246083},10.455461764788256,5.6115296421239677E-2,7.2712180678487781E-2,null,null,9.0772355697590275,7.7530131093159831,7.8681098877014535E-2,0.10072862442423056,null,null,null,null,null,null,null,null,null,null,null,null,null,null,null,null,null,null,null,null,null,null,null,null,null,null,null,null,null,null,null,1584910,{"$error":"#N/A"}]
[292,{"$f":"IF(A324>$A$8,\"\",OFFSET(InputPriceData!B$15,$A324+$A$11,0,1,1))","v":"2023-05-16T04:00:00"},{"$f":"IF(A324>$A$8,\"\",OFFSET(InputPriceData!G$15,CalculationsAndCharts!$A324+$A$11,IF($C$5,8,0),1,1))","v":1316691},{"$f":"IF(A324>$A$8,\"\",OFFSET(InputPriceData!C$15,CalculationsAndCharts!$A324+$A$11,IF($C$5,8,0),1,1))","v":4148.25},{"$f":"IF(A324>$A$8,\"\",OFFSET(InputPriceData!D$15,CalculationsAndCharts!$A324+$A$11,IF($C$5,8,0),1,1))","v":4151.5},{"$f":"IF(A324>$A$8,\"\",OFFSET(InputPriceData!E$15,CalculationsAndCharts!$A324+$A$11,IF($C$5,8,0),1,1))","v":4120},{"$f":"IF(A324>$A$8,\"\",OFFSET(InputPriceData!F$15,CalculationsAndCharts!$A324+$A$11,IF($C$5,8,0),1,1))","v":4123},0,27,{"$f":"IF($A324>$J$30,NA(),AVERAGE(H324:H327))","v":3},10.25,null,null,{"$f":"IF($A324>$J$30,NA(),IF($A324>$N$30,0,(1-$M$35)*J324+(2*$M$35-$M$36)*J325-($M$35+$M$37)*J326+$M$36*N325+$M$37*N326))","v":12.031649506320358},10.613877360402732,6.2607160975397702E-2,7.64997163227642E-2,null,null,9.963451456040076,8.4082737812119568,8.4650606012477911E-2,8.6938056775813843E-2,null,null,null,null,null,null,null,null,null,null,null,null,null,null,null,null,null,null,null,null,null,null,null,null,null,null,null,null,null,null,null,{"$error":"#N/A"},1316691]
[293,{"$f":"IF(A325>$A$8,\"\",OFFSET(InputPriceData!B$15,$A325+$A$11,0,1,1))","v":"2023-05-15T04:00:00"},{"$f":"IF(A325>$A$8,\"\",OFFSET(InputPriceData!G$15,CalculationsAndCharts!$A325+$A$11,IF($C$5,8,0),1,1))","v":1179165},{"$f":"IF(A325>$A$8,\"\",OFFSET(InputPriceData!C$15,CalculationsAndCharts!$A325+$A$11,IF($C$5,8,0),1,1))","v":4132.25},{"$f":"IF(A325>$A$8,\"\",OFFSET(InputPriceData!D$15,CalculationsAndCharts!$A325+$A$11,IF($C$5,8,0),1,1))","v":4156.25},{"$f":"IF(A325>$A$8,\"\",OFFSET(InputPriceData!E$15,CalculationsAndCharts!$A325+$A$11,IF($C$5,8,0),1,1))","v":4123},{"$f":"IF(A325>$A$8,\"\",OFFSET(InputPriceData!F$15,CalculationsAndCharts!$A325+$A$11,IF($C$5,8,0),1,1))","v":4150},12,0,{"$f":"IF($A325>$J$30,NA(),AVERAGE(H325:H328))","v":7.5},3.5,null,null,{"$f":"IF($A325>$J$30,NA(),IF($A325>$N$30,0,(1-$M$35)*J325+(2*$M$35-$M$36)*J326-($M$35+$M$37)*J327+$M$36*N326+$M$37*N327))","v":12.690930637569775},10.970459372083686,7.2712180678487781E-2,8.9070243489287076E-2,null,null,12.438631192496665,10.162091486089199,0.10072862442423056,0.10164397585841518,null,null,null,null,null,null,null,null,null,null,null,null,null,null,null,null,null,null,null,null,null,null,null,null,null,null,null,null,null,null,null,1179165,{"$error":"#N/A"}]
[294,{"$f":"IF(A326>$A$8,\"\",OFFSET(InputPriceData!B$15,$A326+$A$11,0,1,1))","v":"2023-05-12T04:00:00"},{"$f":"IF(A326>$A$8,\"\",OFFSET(InputPriceData!G$15,CalculationsAndCharts!$A326+$A$11,IF($C$5,8,0),1,1))","v":1434601},{"$f":"IF(A326>$A$8,\"\",OFFSET(InputPriceData!C$15,CalculationsAndCharts!$A326+$A$11,IF($C$5,8,0),1,1))","v":4144.5},{"$f":"IF(A326>$A$8,\"\",OFFSET(InputPriceData!D$15,CalculationsAndCharts!$A326+$A$11,IF($C$5,8,0),1,1))","v":4164.5},{"$f":"IF(A326>$A$8,\"\",OFFSET(InputPriceData!E$15,CalculationsAndCharts!$A326+$A$11,IF($C$5,8,0),1,1))","v":4111.75},{"$f":"IF(A326>$A$8,\"\",OFFSET(InputPriceData!F$15,CalculationsAndCharts!$A326+$A$11,IF($C$5,8,0),1,1))","v":4138},0,5.75,{"$f":"IF($A326>$J$30,NA(),AVERAGE(H326:H329))","v":4.5},8.1875,null,null,{"$f":"IF($A326>$J$30,NA(),IF($A326>$N$30,0,(1-$M$35)*J326+(2*$M$35-$M$36)*J327-($M$35+$M$37)*J328+$M$36*N327+$M$37*N328))","v":13.319591739334237},11.426521125112924,7.64997163227642E-2,6.8604986739178031E-2,null,null,15.156050846133033,12.731556458905953,8.6938056775813843E-2,1.5884534299953096E-2,null,null,null,null,null,null,null,null,null,null,null,null,null,null,null,null,null,null,null,null,null,null,null,null,null,null,null,null,null,null,null,{"$error":"#N/A"},1434601]
[295,{"$f":"IF(A327>$A$8,\"\",OFFSET(InputPriceData!B$15,$A327+$A$11,0,1,1))","v":"2023-05-11T04:00:00"},{"$f":"IF(A327>$A$8,\"\",OFFSET(InputPriceData!G$15,CalculationsAndCharts!$A327+$A$11,IF($C$5,8,0),1,1))","v":1473383},{"$f":"IF(A327>$A$8,\"\",OFFSET(InputPriceData!C$15,CalculationsAndCharts!$A327+$A$11,IF($C$5,8,0),1,1))","v":4152.75},{"$f":"IF(A327>$A$8,\"\",OFFSET(InputPriceData!D$15,CalculationsAndCharts!$A327+$A$11,IF($C$5,8,0),1,1))","v":4168.5},{"$f":"IF(A327>$A$8,\"\",OFFSET(InputPriceData!E$15,CalculationsAndCharts!$A327+$A$11,IF($C$5,8,0),1,1))","v":4121.5},{"$f":"IF(A327>$A$8,\"\",OFFSET(InputPriceData!F$15,CalculationsAndCharts!$A327+$A$11,IF($C$5,8,0),1,1))","v":4143.75},0,8.25,{"$f":"IF($A327>$J$30,NA(),AVERAGE(H327:H330))","v":5.125},6.75,null,null,{"$f":"IF($A327>$J$30,NA(),IF($A327>$N$30,0,(1-$M$35)*J327+(2*$M$35-$M$36)*J328-($M$35+$M$37)*J329+$M$36*N328+$M$37*N329))","v":14.072283784738246},11.770463951444249,8.9070243489287076E-2,3.688543179624762E-2,null,null,18.75644059747188,15.295287562447697,0.10164397585841518,-0.10565510500410794,null,null,null,null,null,null,null,null,null,null,null,null,null,null,null,null,null,null,null,null,null,null,null,null,null,null,null,null,null,null,null,{"$error":"#N/A"},1473383]
[296,{"$f":"IF(A328>$A$8,\"\",OFFSET(InputPriceData!B$15,$A328+$A$11,0,1,1))","v":"2023-05-10T04:00:00"},{"$f":"IF(A328>$A$8,\"\",OFFSET(InputPriceData!G$15,CalculationsAndCharts!$A328+$A$11,IF($C$5,8,0),1,1))","v":1887587},{"$f":"IF(A328>$A$8,\"\",OFFSET(InputPriceData!C$15,CalculationsAndCharts!$A328+$A$11,IF($C$5,8,0),1,1))","v":4133},{"$f":"IF(A328>$A$8,\"\",OFFSET(InputPriceData!D$15,CalculationsAndCharts!$A328+$A$11,IF($C$5,8,0),1,1))","v":4173.25},{"$f":"IF(A328>$A$8,\"\",OFFSET(InputPriceData!E$15,CalculationsAndCharts!$A328+$A$11,IF($C$5,8,0),1,1))","v":4112.25},{"$f":"IF(A328>$A$8,\"\",OFFSET(InputPriceData!F$15,CalculationsAndCharts!$A328+$A$11,IF($C$5,8,0),1,1))","v":4152},18,0,{"$f":"IF($A328>$J$30,NA(),AVERAGE(H328:H331))","v":23.75},4.6875,null,null,{"$f":"IF($A328>$J$30,NA(),IF($A328>$N$30,0,(1-$M$35)*J328+(2*$M$35-$M$36)*J329-($M$35+$M$37)*J330+$M$36*N329+$M$37*N330))","v":14.077952300599717},12.270328823481959,6.8604986739178031E-2,2.7175712423350536E-2,null,null,19.568438043402864,18.956487541545609,1.5884534299953096E-2,-0.17941798486701838,null,null,null,null,null,null,null,null,null,null,null,null,null,null,null,null,null,null,null,null,null,null,null,null,null,null,null,null,null,null,null,1887587,{"$error":"#N/A"}]
[297,{"$f":"IF(A329>$A$8,\"\",OFFSET(InputPriceData!B$15,$A329+$A$11,0,1,1))","v":"2023-05-09T04:00:00"},{"$f":"IF(A329>$A$8,\"\",OFFSET(InputPriceData!G$15,CalculationsAndCharts!$A329+$A$11,IF($C$5,8,0),1,1))","v":1000924},{"$f":"IF(A329>$A$8,\"\",OFFSET(InputPriceData!C$15,CalculationsAndCharts!$A329+$A$11,IF($C$5,8,0),1,1))","v":4150.5},{"$f":"IF(A329>$A$8,\"\",OFFSET(InputPriceData!D$15,CalculationsAndCharts!$A329+$A$11,IF($C$5,8,0),1,1))","v":4153},{"$f":"IF(A329>$A$8,\"\",OFFSET(InputPriceData!E$15,CalculationsAndCharts!$A329+$A$11,IF($C$5,8,0),1,1))","v":4131},{"$f":"IF(A329>$A$8,\"\",OFFSET(InputPriceData!F$15,CalculationsAndCharts!$A329+$A$11,IF($C$5,8,0),1,1))","v":4134},0,18.75,{"$f":"IF($A329>$J$30,NA(),AVERAGE(H329:H332))","v":19.25},12.625,null,null,{"$f":"IF($A329>$J$30,NA(),IF($A329>$N$30,0,(1-$M$35)*J329+(2*$M$35-$M$36)*J330-($M$35+$M$37)*J331+$M$36*N330+$M$37*N331))","v":13.513771408231237},12.552312642772675,3.688543179624762E-2,4.2885367835162322E-2,null,null,17.95202622986713,22.193618543896772,-0.10565510500410794,-0.20985353345786892,null,null,null,null,null,null,null,null,null,null,null,null,null,null,null,null,null,null,null,null,null,null,null,null,null,null,null,null,null,null,null,{"$error":"#N/A"},1000924]
[298,{"$f":"IF(A330>$A$8,\"\",OFFSET(InputPriceData!B$15,$A330+$A$11,0,1,1))","v":"2023-05-08T04:00:00"},{"$f":"IF(A330>$A$8,\"\",OFFSET(InputPriceData!G$15,CalculationsAndCharts!$A330+$A$11,IF($C$5,8,0),1,1))","v":1026014},{"$f":"IF(A330>$A$8,\"\",OFFSET(InputPriceData!C$15,CalculationsAndCharts!$A330+$A$11,IF($C$5,8,0),1,1))","v":4151},{"$f":"IF(A330>$A$8,\"\",OFFSET(InputPriceData!D$15,CalculationsAndCharts!$A330+$A$11,IF($C$5,8,0),1,1))","v":4161},{"$f":"IF(A330>$A$8,\"\",OFFSET(InputPriceData!E$15,CalculationsAndCharts!$A330+$A$11,IF($C$5,8,0),1,1))","v":4137.5},{"$f":"IF(A330>$A$8,\"\",OFFSET(InputPriceData!F$15,CalculationsAndCharts!$A330+$A$11,IF($C$5,8,0),1,1))","v":4152.75},2.5,0,{"$f":"IF($A330>$J$30,NA(),AVERAGE(H330:H333))","v":19.25},15.25,null,null,{"$f":"IF($A330>$J$30,NA(),IF($A330>$N$30,0,(1-$M$35)*J330+(2*$M$35-$M$36)*J331-($M$35+$M$37)*J332+$M$36*N331+$M$37*N332))","v":13.111226063101634},12.417465677806355,2.7175712423350536E-2,0.11580457026399052,null,null,16.715149229486723,24.024591396629496,-0.17941798486701838,-9.048233878622694E-2,null,null,null,null,null,null,null,null,null,null,null,null,null,null,null,null,null,null,null,null,null,null,null,null,null,null,null,null,null,null,null,1026014,{"$error":"#N/A"}]
[299,{"$f":"IF(A331>$A$8,\"\",OFFSET(InputPriceData!B$15,$A331+$A$11,0,1,1))","v":"2023-05-05T04:00:00"},{"$f":"IF(A331>$A$8,\"\",OFFSET(InputPriceData!G$15,CalculationsAndCharts!$A331+$A$11,IF($C$5,8,0),1,1))","v":1545895},{"$f":"IF(A331>$A$8,\"\",OFFSET(InputPriceData!C$15,CalculationsAndCharts!$A331+$A$11,IF($C$5,8,0),1,1))","v":4077.25},{"$f":"IF(A331>$A$8,\"\",OFFSET(InputPriceData!D$15,CalculationsAndCharts!$A331+$A$11,IF($C$5,8,0),1,1))","v":4163.25},{"$f":"IF(A331>$A$8,\"\",OFFSET(InputPriceData!E$15,CalculationsAndCharts!$A331+$A$11,IF($C$5,8,0),1,1))","v":4076.75},{"$f":"IF(A331>$A$8,\"\",OFFSET(InputPriceData!F$15,CalculationsAndCharts!$A331+$A$11,IF($C$5,8,0),1,1))","v":4150.25},74.5,0,{"$f":"IF($A331>$J$30,NA(),AVERAGE(H331:H334))","v":18.625},27.5,null,null,{"$f":"IF($A331>$J$30,NA(),IF($A331>$N$30,0,(1-$M$35)*J331+(2*$M$35-$M$36)*J332-($M$35+$M$37)*J333+$M$36*N332+$M$37*N333))","v":12.720830941625973},11.674622928883442,4.2885367835162322E-2,0.19673126238417829,null,null,15.273420581890875,23.386299428580088,-0.20985353345786892,7.3456763791843224E-2,null,null,null,null,null,null,null,null,null,null,null,null,null,null,null,null,null,null,null,null,null,null,null,null,null,null,null,null,null,null,null,1545895,{"$error":"#N/A"}]
[300,{"$f":"IF(A332>$A$8,\"\",OFFSET(InputPriceData!B$15,$A332+$A$11,0,1,1))","v":"2023-05-04T04:00:00"},{"$f":"IF(A332>$A$8,\"\",OFFSET(InputPriceData!G$15,CalculationsAndCharts!$A332+$A$11,IF($C$5,8,0),1,1))","v":1994772},{"$f":"IF(A332>$A$8,\"\",OFFSET(InputPriceData!C$15,CalculationsAndCharts!$A332+$A$11,IF($C$5,8,0),1,1))","v":4087},{"$f":"IF(A332>$A$8,\"\",OFFSET(InputPriceData!D$15,CalculationsAndCharts!$A332+$A$11,IF($C$5,8,0),1,1))","v":4118},{"$f":"IF(A332>$A$8,\"\",OFFSET(InputPriceData!E$15,CalculationsAndCharts!$A332+$A$11,IF($C$5,8,0),1,1))","v":4062.25},{"$f":"IF(A332>$A$8,\"\",OFFSET(InputPriceData!F$15,CalculationsAndCharts!$A332+$A$11,IF($C$5,8,0),1,1))","v":4075.75},0,31.75,{"$f":"IF($A332>$J$30,NA(),AVERAGE(H332:H335))","v":0},28.1875,null,null,{"$f":"IF($A332>$J$30,NA(),IF($A332>$N$30,0,(1-$M$35)*J332+(2*$M$35-$M$36)*J333-($M$35+$M$37)*J334+$M$36*N333+$M$37*N334))","v":13.097407492855897},10.37876000439168,0.11580457026399052,0.2110249830045027,null,null,16.819703114280031,20.166281504938325,-9.048233878622694E-2,6.6065024222952587E-2,null,null,null,null,null,null,null,null,null,null,null,null,null,null,null,null,null,null,null,null,null,null,null,null,null,null,null,null,null,null,null,{"$error":"#N/A"},1994772]
[301,{"$f":"IF(A333>$A$8,\"\",OFFSET(InputPriceData!B$15,$A333+$A$11,0,1,1))","v":"2023-05-03T04:00:00"},{"$f":"IF(A333>$A$8,\"\",OFFSET(InputPriceData!G$15,CalculationsAndCharts!$A333+$A$11,IF($C$5,8,0),1,1))","v":1658392},{"$f":"IF(A333>$A$8,\"\",OFFSET(InputPriceData!C$15,CalculationsAndCharts!$A333+$A$11,IF($C$5,8,0),1,1))","v":4133.25},{"$f":"IF(A333>$A$8,\"\",OFFSET(InputPriceData!D$15,CalculationsAndCharts!$A333+$A$11,IF($C$5,8,0),1,1))","v":4167},{"$f":"IF(A333>$A$8,\"\",OFFSET(InputPriceData!E$15,CalculationsAndCharts!$A333+$A$11,IF($C$5,8,0),1,1))","v":4095},{"$f":"IF(A333>$A$8,\"\",OFFSET(InputPriceData!F$15,CalculationsAndCharts!$A333+$A$11,IF($C$5,8,0),1,1))","v":4107.5},0,29.25,{"$f":"IF($A333>$J$30,NA(),AVERAGE(H333:H336))","v":8.6875},20.25,null,null,{"$f":"IF($A333>$J$30,NA(),IF($A333>$N$30,0,(1-$M$35)*J333+(2*$M$35-$M$36)*J334-($M$35+$M$37)*J335+$M$36*N334+$M$37*N335))","v":13.89475182275353},9.3264211498181435,0.19673126238417829,0.16320741487075169,null,null,20.20934928660342,17.443493321079412,7.3456763791843224E-2,-0.12848933523070913,null,null,null,null,null,null,null,null,null,null,null,null,null,null,null,null,null,null,null,null,null,null,null,null,null,null,null,null,null,null,null,{"$error":"#N/A"},1658392]
[302,{"$f":"IF(A334>$A$8,\"\",OFFSET(InputPriceData!B$15,$A334+$A$11,0,1,1))","v":"2023-05-02T04:00:00"},{"$f":"IF(A334>$A$8,\"\",OFFSET(InputPriceData!G$15,CalculationsAndCharts!$A334+$A$11,IF($C$5,8,0),1,1))","v":2034176},{"$f":"IF(A334>$A$8,\"\",OFFSET(InputPriceData!C$15,CalculationsAndCharts!$A334+$A$11,IF($C$5,8,0),1,1))","v":4179.5},{"$f":"IF(A334>$A$8,\"\",OFFSET(InputPriceData!D$15,CalculationsAndCharts!$A334+$A$11,IF($C$5,8,0),1,1))","v":4191.5},{"$f":"IF(A334>$A$8,\"\",OFFSET(InputPriceData!E$15,CalculationsAndCharts!$A334+$A$11,IF($C$5,8,0),1,1))","v":4105.5},{"$f":"IF(A334>$A$8,\"\",OFFSET(InputPriceData!F$15,CalculationsAndCharts!$A334+$A$11,IF($C$5,8,0),1,1))","v":4136.75},0,49,{"$f":"IF($A334>$J$30,NA(),AVERAGE(H334:H337))","v":28.125},12.9375,null,null,{"$f":"IF($A334>$J$30,NA(),IF($A334>$N$30,0,(1-$M$35)*J334+(2*$M$35-$M$36)*J335-($M$35+$M$37)*J336+$M$36*N335+$M$37*N336))","v":13.588725101605936},8.8529673363037649,0.2110249830045027,0.12621731723074944,null,null,19.092402827775881,16.726055510058064,6.6065024222952587E-2,-0.38740844753029408,null,null,null,null,null,null,null,null,null,null,null,null,null,null,null,null,null,null,null,null,null,null,null,null,null,null,null,null,null,null,null,{"$error":"#N/A"},2034176]
[303,{"$f":"IF(A335>$A$8,\"\",OFFSET(InputPriceData!B$15,$A335+$A$11,0,1,1))","v":"2023-05-01T04:00:00"},{"$f":"IF(A335>$A$8,\"\",OFFSET(InputPriceData!G$15,CalculationsAndCharts!$A335+$A$11,IF($C$5,8,0),1,1))","v":1240490},{"$f":"IF(A335>$A$8,\"\",OFFSET(InputPriceData!C$15,CalculationsAndCharts!$A335+$A$11,IF($C$5,8,0),1,1))","v":4190},{"$f":"IF(A335>$A$8,\"\",OFFSET(InputPriceData!D$15,CalculationsAndCharts!$A335+$A$11,IF($C$5,8,0),1,1))","v":4206.25},{"$f":"IF(A335>$A$8,\"\",OFFSET(InputPriceData!E$15,CalculationsAndCharts!$A335+$A$11,IF($C$5,8,0),1,1))","v":4178.5},{"$f":"IF(A335>$A$8,\"\",OFFSET(InputPriceData!F$15,CalculationsAndCharts!$A335+$A$11,IF($C$5,8,0),1,1))","v":4185.75},0,2.75,{"$f":"IF($A335>$J$30,NA(),AVERAGE(H335:H338))","v":28.125},5,null,null,{"$f":"IF($A335>$J$30,NA(),IF($A335>$N$30,0,(1-$M$35)*J335+(2*$M$35-$M$36)*J336-($M$35+$M$37)*J337+$M$36*N336+$M$37*N337))","v":12.486767354308821},8.9827783082698041,0.16320741487075169,0.13592302866185885,null,null,14.175435761335583,18.355286659802317,-0.12848933523070913,-0.71654597670241615,null,null,null,null,null,null,null,null,null,null,null,null,null,null,null,null,null,null,null,null,null,null,null,null,null,null,null,null,null,null,null,{"$error":"#N/A"},1240490]
[304,{"$f":"IF(A336>$A$8,\"\",OFFSET(InputPriceData!B$15,$A336+$A$11,0,1,1))","v":"2023-04-28T04:00:00"},{"$f":"IF(A336>$A$8,\"\",OFFSET(InputPriceData!G$15,CalculationsAndCharts!$A336+$A$11,IF($C$5,8,0),1,1))","v":1753803},{"$f":"IF(A336>$A$8,\"\",OFFSET(InputPriceData!C$15,CalculationsAndCharts!$A336+$A$11,IF($C$5,8,0),1,1))","v":4151},{"$f":"IF(A336>$A$8,\"\",OFFSET(InputPriceData!D$15,CalculationsAndCharts!$A336+$A$11,IF($C$5,8,0),1,1))","v":4193.75},{"$f":"IF(A336>$A$8,\"\",OFFSET(InputPriceData!E$15,CalculationsAndCharts!$A336+$A$11,IF($C$5,8,0),1,1))","v":4131.5},{"$f":"IF(A336>$A$8,\"\",OFFSET(InputPriceData!F$15,CalculationsAndCharts!$A336+$A$11,IF($C$5,8,0),1,1))","v":4188.5},34.75,0,{"$f":"IF($A336>$J$30,NA(),AVERAGE(H336:H339))","v":28.125},20.875,null,null,{"$f":"IF($A336>$J$30,NA(),IF($A336>$N$30,0,(1-$M$35)*J336+(2*$M$35-$M$36)*J337-($M$35+$M$37)*J338+$M$36*N337+$M$37*N338))","v":11.345028415847111},8.8021105817015126,0.12621731723074944,0.1990946991333909,null,null,8.2453486972488399,18.674215126336833,-0.38740844753029408,-0.88636003125302121,null,null,null,null,null,null,null,null,null,null,null,null,null,null,null,null,null,null,null,null,null,null,null,null,null,null,null,null,null,null,null,1753803,{"$error":"#N/A"}]
[305,{"$f":"IF(A337>$A$8,\"\",OFFSET(InputPriceData!B$15,$A337+$A$11,0,1,1))","v":"2023-04-27T04:00:00"},{"$f":"IF(A337>$A$8,\"\",OFFSET(InputPriceData!G$15,CalculationsAndCharts!$A337+$A$11,IF($C$5,8,0),1,1))","v":1686692},{"$f":"IF(A337>$A$8,\"\",OFFSET(InputPriceData!C$15,CalculationsAndCharts!$A337+$A$11,IF($C$5,8,0),1,1))","v":4085.5},{"$f":"IF(A337>$A$8,\"\",OFFSET(InputPriceData!D$15,CalculationsAndCharts!$A337+$A$11,IF($C$5,8,0),1,1))","v":4166.5},{"$f":"IF(A337>$A$8,\"\",OFFSET(InputPriceData!E$15,CalculationsAndCharts!$A337+$A$11,IF($C$5,8,0),1,1))","v":4080.75},{"$f":"IF(A337>$A$8,\"\",OFFSET(InputPriceData!F$15,CalculationsAndCharts!$A337+$A$11,IF($C$5,8,0),1,1))","v":4153.75},77.75,0,{"$f":"IF($A337>$J$30,NA(),AVERAGE(H337:H340))","v":20.125},20.875,null,null,{"$f":"IF($A337>$J$30,NA(),IF($A337>$N$30,0,(1-$M$35)*J337+(2*$M$35-$M$36)*J338-($M$35+$M$37)*J339+$M$36*N338+$M$37*N339))","v":10.487639855875365},7.9777659704859945,0.13592302866185885,0.30659176556567042,null,null,2.6493445464877552,16.043948395107527,-0.71654597670241615,-0.61939528215095163,null,null,null,null,null,null,null,null,null,null,null,null,null,null,null,null,null,null,null,null,null,null,null,null,null,null,null,null,null,null,null,1686692,{"$error":"#N/A"}]
[306,{"$f":"IF(A338>$A$8,\"\",OFFSET(InputPriceData!B$15,$A338+$A$11,0,1,1))","v":"2023-04-26T04:00:00"},{"$f":"IF(A338>$A$8,\"\",OFFSET(InputPriceData!G$15,CalculationsAndCharts!$A338+$A$11,IF($C$5,8,0),1,1))","v":1814741},{"$f":"IF(A338>$A$8,\"\",OFFSET(InputPriceData!C$15,CalculationsAndCharts!$A338+$A$11,IF($C$5,8,0),1,1))","v":4110.25},{"$f":"IF(A338>$A$8,\"\",OFFSET(InputPriceData!D$15,CalculationsAndCharts!$A338+$A$11,IF($C$5,8,0),1,1))","v":4116.25},{"$f":"IF(A338>$A$8,\"\",OFFSET(InputPriceData!E$15,CalculationsAndCharts!$A338+$A$11,IF($C$5,8,0),1,1))","v":4068.75},{"$f":"IF(A338>$A$8,\"\",OFFSET(InputPriceData!F$15,CalculationsAndCharts!$A338+$A$11,IF($C$5,8,0),1,1))","v":4076},0,17.25,{"$f":"IF($A338>$J$30,NA(),AVERAGE(H338:H341))","v":1.75},20.875,null,null,{"$f":"IF($A338>$J$30,NA(),IF($A338>$N$30,0,(1-$M$35)*J338+(2*$M$35-$M$36)*J339-($M$35+$M$37)*J340+$M$36*N339+$M$37*N340))","v":10.671237564100908},7.1275861181540785,0.1990946991333909,0.37426295461635373,null,null,0.76608034613635967,12.716506011169834,-0.88636003125302121,-0.20241881800416059,null,null,null,null,null,null,null,null,null,null,null,null,null,null,null,null,null,null,null,null,null,null,null,null,null,null,null,null,null,null,null,{"$error":"#N/A"},1814741]
[307,{"$f":"IF(A339>$A$8,\"\",OFFSET(InputPriceData!B$15,$A339+$A$11,0,1,1))","v":"2023-04-25T04:00:00"},{"$f":"IF(A339>$A$8,\"\",OFFSET(InputPriceData!G$15,CalculationsAndCharts!$A339+$A$11,IF($C$5,8,0),1,1))","v":1770908},{"$f":"IF(A339>$A$8,\"\",OFFSET(InputPriceData!C$15,CalculationsAndCharts!$A339+$A$11,IF($C$5,8,0),1,1))","v":4157.25},{"$f":"IF(A339>$A$8,\"\",OFFSET(InputPriceData!D$15,CalculationsAndCharts!$A339+$A$11,IF($C$5,8,0),1,1))","v":4158.5},{"$f":"IF(A339>$A$8,\"\",OFFSET(InputPriceData!E$15,CalculationsAndCharts!$A339+$A$11,IF($C$5,8,0),1,1))","v":4091.5},{"$f":"IF(A339>$A$8,\"\",OFFSET(InputPriceData!F$15,CalculationsAndCharts!$A339+$A$11,IF($C$5,8,0),1,1))","v":4093.25},0,66.25,{"$f":"IF($A339>$J$30,NA(),AVERAGE(H339:H342))","v":1.75},23.0625,null,null,{"$f":"IF($A339>$J$30,NA(),IF($A339>$N$30,0,(1-$M$35)*J339+(2*$M$35-$M$36)*J340-($M$35+$M$37)*J341+$M$36*N340+$M$37*N341))","v":11.614312479551874},6.1637154946618189,0.30659176556567042,0.39137867125611409,null,null,1.9393864745713172,8.2516930555594517,-0.61939528215095163,8.9976536246816591E-2,null,null,null,null,null,null,null,null,null,null,null,null,null,null,null,null,null,null,null,null,null,null,null,null,null,null,null,null,null,null,null,{"$error":"#N/A"},1770908]
[308,{"$f":"IF(A340>$A$8,\"\",OFFSET(InputPriceData!B$15,$A340+$A$11,0,1,1))","v":"2023-04-24T04:00:00"},{"$f":"IF(A340>$A$8,\"\",OFFSET(InputPriceData!G$15,CalculationsAndCharts!$A340+$A$11,IF($C$5,8,0),1,1))","v":1328041},{"$f":"IF(A340>$A$8,\"\",OFFSET(InputPriceData!C$15,CalculationsAndCharts!$A340+$A$11,IF($C$5,8,0),1,1))","v":4150},{"$f":"IF(A340>$A$8,\"\",OFFSET(InputPriceData!D$15,CalculationsAndCharts!$A340+$A$11,IF($C$5,8,0),1,1))","v":4164.25},{"$f":"IF(A340>$A$8,\"\",OFFSET(InputPriceData!E$15,CalculationsAndCharts!$A340+$A$11,IF($C$5,8,0),1,1))","v":4133.5},{"$f":"IF(A340>$A$8,\"\",OFFSET(InputPriceData!F$15,CalculationsAndCharts!$A340+$A$11,IF($C$5,8,0),1,1))","v":4159.5},2.75,0,{"$f":"IF($A340>$J$30,NA(),AVERAGE(H340:H343))","v":1.75},6.875,null,null,{"$f":"IF($A340>$J$30,NA(),IF($A340>$N$30,0,(1-$M$35)*J340+(2*$M$35-$M$36)*J341-($M$35+$M$37)*J342+$M$36*N341+$M$37*N342))","v":12.602952966728049},5.7384465804151743,0.37426295461635373,0.40363319387957158,null,null,3.5396507164658013,5.3363127499948853,-0.20241881800416059,0.33318249153223678,null,null,null,null,null,null,null,null,null,null,null,null,null,null,null,null,null,null,null,null,null,null,null,null,null,null,null,null,null,null,null,1328041,{"$error":"#N/A"}]
[309,{"$f":"IF(A341>$A$8,\"\",OFFSET(InputPriceData!B$15,$A341+$A$11,0,1,1))","v":"2023-04-21T04:00:00"},{"$f":"IF(A341>$A$8,\"\",OFFSET(InputPriceData!G$15,CalculationsAndCharts!$A341+$A$11,IF($C$5,8,0),1,1))","v":1645161},{"$f":"IF(A341>$A$8,\"\",OFFSET(InputPriceData!C$15,CalculationsAndCharts!$A341+$A$11,IF($C$5,8,0),1,1))","v":4153.75},{"$f":"IF(A341>$A$8,\"\",OFFSET(InputPriceData!D$15,CalculationsAndCharts!$A341+$A$11,IF($C$5,8,0),1,1))","v":4161},{"$f":"IF(A341>$A$8,\"\",OFFSET(InputPriceData!E$15,CalculationsAndCharts!$A341+$A$11,IF($C$5,8,0),1,1))","v":4135.25},{"$f":"IF(A341>$A$8,\"\",OFFSET(InputPriceData!F$15,CalculationsAndCharts!$A341+$A$11,IF($C$5,8,0),1,1))","v":4156.75},4.25,0,{"$f":"IF($A341>$J$30,NA(),AVERAGE(H341:H344))","v":1.875},6.875,null,null,{"$f":"IF($A341>$J$30,NA(),IF($A341>$N$30,0,(1-$M$35)*J341+(2*$M$35-$M$36)*J342-($M$35+$M$37)*J343+$M$36*N342+$M$37*N343))","v":13.632626924516664},5.9632274696136554,0.39137867125611409,0.40093196340213133,null,null,5.6104036628071556,4.6841365887212021,8.9976536246816591E-2,0.46107813017915006,null,null,null,null,null,null,null,null,null,null,null,null,null,null,null,null,null,null,null,null,null,null,null,null,null,null,null,null,null,null,null,1645161,{"$error":"#N/A"}]
[310,{"$f":"IF(A342>$A$8,\"\",OFFSET(InputPriceData!B$15,$A342+$A$11,0,1,1))","v":"2023-04-20T04:00:00"},{"$f":"IF(A342>$A$8,\"\",OFFSET(InputPriceData!G$15,CalculationsAndCharts!$A342+$A$11,IF($C$5,8,0),1,1))","v":1768379},{"$f":"IF(A342>$A$8,\"\",OFFSET(InputPriceData!C$15,CalculationsAndCharts!$A342+$A$11,IF($C$5,8,0),1,1))","v":4172.25},{"$f":"IF(A342>$A$8,\"\",OFFSET(InputPriceData!D$15,CalculationsAndCharts!$A342+$A$11,IF($C$5,8,0),1,1))","v":4173.5},{"$f":"IF(A342>$A$8,\"\",OFFSET(InputPriceData!E$15,CalculationsAndCharts!$A342+$A$11,IF($C$5,8,0),1,1))","v":4137},{"$f":"IF(A342>$A$8,\"\",OFFSET(InputPriceData!F$15,CalculationsAndCharts!$A342+$A$11,IF($C$5,8,0),1,1))","v":4152.5},0,26,{"$f":"IF($A342>$J$30,NA(),AVERAGE(H342:H345))","v":4.0625},6.875,null,null,{"$f":"IF($A342>$J$30,NA(),IF($A342>$N$30,0,(1-$M$35)*J342+(2*$M$35-$M$36)*J343-($M$35+$M$37)*J344+$M$36*N343+$M$37*N344))","v":14.615050076166684},6.2095501682481977,0.40363319387957158,0.3724875801263513,null,null,7.8326959468660053,3.91767730903211,0.33318249153223678,0.42018770422542268,null,null,null,null,null,null,null,null,null,null,null,null,null,null,null,null,null,null,null,null,null,null,null,null,null,null,null,null,null,null,null,{"$error":"#N/A"},1768379]
[311,{"$f":"IF(A343>$A$8,\"\",OFFSET(InputPriceData!B$15,$A343+$A$11,0,1,1))","v":"2023-04-19T04:00:00"},{"$f":"IF(A343>$A$8,\"\",OFFSET(InputPriceData!G$15,CalculationsAndCharts!$A343+$A$11,IF($C$5,8,0),1,1))","v":1292622},{"$f":"IF(A343>$A$8,\"\",OFFSET(InputPriceData!C$15,CalculationsAndCharts!$A343+$A$11,IF($C$5,8,0),1,1))","v":4176},{"$f":"IF(A343>$A$8,\"\",OFFSET(InputPriceData!D$15,CalculationsAndCharts!$A343+$A$11,IF($C$5,8,0),1,1))","v":4187.5},{"$f":"IF(A343>$A$8,\"\",OFFSET(InputPriceData!E$15,CalculationsAndCharts!$A343+$A$11,IF($C$5,8,0),1,1))","v":4150.5},{"$f":"IF(A343>$A$8,\"\",OFFSET(InputPriceData!F$15,CalculationsAndCharts!$A343+$A$11,IF($C$5,8,0),1,1))","v":4178.5},0,1.5,{"$f":"IF($A343>$J$30,NA(),AVERAGE(H343:H346))","v":4.0625},2.625,null,null,{"$f":"IF($A343>$J$30,NA(),IF($A343>$N$30,0,(1-$M$35)*J343+(2*$M$35-$M$36)*J344-($M$35+$M$37)*J345+$M$36*N344+$M$37*N345))","v":15.551948070267887},6.6503408010636464,0.40093196340213133,0.34005492065964249,null,null,10.221718602046979,3.7703033041239711,0.46107813017915006,0.3556716775543437,null,null,null,null,null,null,null,null,null,null,null,null,null,null,null,null,null,null,null,null,null,null,null,null,null,null,null,null,null,null,null,{"$error":"#N/A"},1292622]
[312,{"$f":"IF(A344>$A$8,\"\",OFFSET(InputPriceData!B$15,$A344+$A$11,0,1,1))","v":"2023-04-18T04:00:00"},{"$f":"IF(A344>$A$8,\"\",OFFSET(InputPriceData!G$15,CalculationsAndCharts!$A344+$A$11,IF($C$5,8,0),1,1))","v":1427797},{"$f":"IF(A344>$A$8,\"\",OFFSET(InputPriceData!C$15,CalculationsAndCharts!$A344+$A$11,IF($C$5,8,0),1,1))","v":4177},{"$f":"IF(A344>$A$8,\"\",OFFSET(InputPriceData!D$15,CalculationsAndCharts!$A344+$A$11,IF($C$5,8,0),1,1))","v":4198.25},{"$f":"IF(A344>$A$8,\"\",OFFSET(InputPriceData!E$15,CalculationsAndCharts!$A344+$A$11,IF($C$5,8,0),1,1))","v":4164.5},{"$f":"IF(A344>$A$8,\"\",OFFSET(InputPriceData!F$15,CalculationsAndCharts!$A344+$A$11,IF($C$5,8,0),1,1))","v":4180},3.25,0,{"$f":"IF($A344>$J$30,NA(),AVERAGE(H344:H347))","v":17.5},2.25,null,null,{"$f":"IF($A344>$J$30,NA(),IF($A344>$N$30,0,(1-$M$35)*J344+(2*$M$35-$M$36)*J345-($M$35+$M$37)*J346+$M$36*N345+$M$37*N346))","v":15.984903468035752},7.3084271230712083,0.3724875801263513,0.32124452045013141,null,null,10.828776617582024,4.4210056265025237,0.42018770422542268,0.38779785187898269,null,null,null,null,null,null,null,null,null,null,null,null,null,null,null,null,null,null,null,null,null,null,null,null,null,null,null,null,null,null,null,1427797,{"$error":"#N/A"}]
[313,{"$f":"IF(A345>$A$8,\"\",OFFSET(InputPriceData!B$15,$A345+$A$11,0,1,1))","v":"2023-04-17T04:00:00"},{"$f":"IF(A345>$A$8,\"\",OFFSET(InputPriceData!G$15,CalculationsAndCharts!$A345+$A$11,IF($C$5,8,0),1,1))","v":1298123},{"$f":"IF(A345>$A$8,\"\",OFFSET(InputPriceData!C$15,CalculationsAndCharts!$A345+$A$11,IF($C$5,8,0),1,1))","v":4174.25},{"$f":"IF(A345>$A$8,\"\",OFFSET(InputPriceData!D$15,CalculationsAndCharts!$A345+$A$11,IF($C$5,8,0),1,1))","v":4180.5},{"$f":"IF(A345>$A$8,\"\",OFFSET(InputPriceData!E$15,CalculationsAndCharts!$A345+$A$11,IF($C$5,8,0),1,1))","v":4148},{"$f":"IF(A345>$A$8,\"\",OFFSET(InputPriceData!F$15,CalculationsAndCharts!$A345+$A$11,IF($C$5,8,0),1,1))","v":4176.75},13,0,{"$f":"IF($A345>$J$30,NA(),AVERAGE(H345:H348))","v":16.6875},6.625,null,null,{"$f":"IF($A345>$J$30,NA(),IF($A345>$N$30,0,(1-$M$35)*J345+(2*$M$35-$M$36)*J346-($M$35+$M$37)*J347+$M$36*N346+$M$37*N347))","v":15.92576299507639},7.8430583413460422,0.34005492065964249,0.29957012241892417,null,null,9.4887316869230034,4.5098372055699745,0.3556716775543437,0.4131636062531861,null,null,null,null,null,null,null,null,null,null,null,null,null,null,null,null,null,null,null,null,null,null,null,null,null,null,null,null,null,null,null,1298123,{"$error":"#N/A"}]
[314,{"$f":"IF(A346>$A$8,\"\",OFFSET(InputPriceData!B$15,$A346+$A$11,0,1,1))","v":"2023-04-14T04:00:00"},{"$f":"IF(A346>$A$8,\"\",OFFSET(InputPriceData!G$15,CalculationsAndCharts!$A346+$A$11,IF($C$5,8,0),1,1))","v":1882896},{"$f":"IF(A346>$A$8,\"\",OFFSET(InputPriceData!C$15,CalculationsAndCharts!$A346+$A$11,IF($C$5,8,0),1,1))","v":4168.75},{"$f":"IF(A346>$A$8,\"\",OFFSET(InputPriceData!D$15,CalculationsAndCharts!$A346+$A$11,IF($C$5,8,0),1,1))","v":4189},{"$f":"IF(A346>$A$8,\"\",OFFSET(InputPriceData!E$15,CalculationsAndCharts!$A346+$A$11,IF($C$5,8,0),1,1))","v":4138},{"$f":"IF(A346>$A$8,\"\",OFFSET(InputPriceData!F$15,CalculationsAndCharts!$A346+$A$11,IF($C$5,8,0),1,1))","v":4163.75},0,9,{"$f":"IF($A346>$J$30,NA(),AVERAGE(H346:H349))","v":13.5},6.625,null,null,{"$f":"IF($A346>$J$30,NA(),IF($A346>$N$30,0,(1-$M$35)*J346+(2*$M$35-$M$36)*J347-($M$35+$M$37)*J348+$M$36*N347+$M$37*N348))","v":16.027402669864323},8.2336669834712879,0.32124452045013141,0.28302549859823101,null,null,8.7847865627044985,3.875251137758148,0.38779785187898269,0.4715554986170668,null,null,null,null,null,null,null,null,null,null,null,null,null,null,null,null,null,null,null,null,null,null,null,null,null,null,null,null,null,null,null,{"$error":"#N/A"},1882896]
[315,{"$f":"IF(A347>$A$8,\"\",OFFSET(InputPriceData!B$15,$A347+$A$11,0,1,1))","v":"2023-04-13T04:00:00"},{"$f":"IF(A347>$A$8,\"\",OFFSET(InputPriceData!G$15,CalculationsAndCharts!$A347+$A$11,IF($C$5,8,0),1,1))","v":1458785},{"$f":"IF(A347>$A$8,\"\",OFFSET(InputPriceData!C$15,CalculationsAndCharts!$A347+$A$11,IF($C$5,8,0),1,1))","v":4117.5},{"$f":"IF(A347>$A$8,\"\",OFFSET(InputPriceData!D$15,CalculationsAndCharts!$A347+$A$11,IF($C$5,8,0),1,1))","v":4177},{"$f":"IF(A347>$A$8,\"\",OFFSET(InputPriceData!E$15,CalculationsAndCharts!$A347+$A$11,IF($C$5,8,0),1,1))","v":4110.25},{"$f":"IF(A347>$A$8,\"\",OFFSET(InputPriceData!F$15,CalculationsAndCharts!$A347+$A$11,IF($C$5,8,0),1,1))","v":4172.75},53.75,0,{"$f":"IF($A347>$J$30,NA(),AVERAGE(H347:H350))","v":14.5625},4.375,null,null,{"$f":"IF($A347>$J$30,NA(),IF($A347>$N$30,0,(1-$M$35)*J347+(2*$M$35-$M$36)*J348-($M$35+$M$37)*J349+$M$36*N348+$M$37*N349))","v":16.220354022524944},8.742291305660304,0.29957012241892417,0.2746022804583183,null,null,8.5555869310531829,3.5528298059687602,0.4131636062531861,0.55125384993803195,null,null,null,null,null,null,null,null,null,null,null,null,null,null,null,null,null,null,null,null,null,null,null,null,null,null,null,null,null,null,null,1458785,{"$error":"#N/A"}]
[316,{"$f":"IF(A348>$A$8,\"\",OFFSET(InputPriceData!B$15,$A348+$A$11,0,1,1))","v":"2023-04-12T04:00:00"},{"$f":"IF(A348>$A$8,\"\",OFFSET(InputPriceData!G$15,CalculationsAndCharts!$A348+$A$11,IF($C$5,8,0),1,1))","v":1853671},{"$f":"IF(A348>$A$8,\"\",OFFSET(InputPriceData!C$15,CalculationsAndCharts!$A348+$A$11,IF($C$5,8,0),1,1))","v":4137.5},{"$f":"IF(A348>$A$8,\"\",OFFSET(InputPriceData!D$15,CalculationsAndCharts!$A348+$A$11,IF($C$5,8,0),1,1))","v":4177.75},{"$f":"IF(A348>$A$8,\"\",OFFSET(InputPriceData!E$15,CalculationsAndCharts!$A348+$A$11,IF($C$5,8,0),1,1))","v":4113.5},{"$f":"IF(A348>$A$8,\"\",OFFSET(InputPriceData!F$15,CalculationsAndCharts!$A348+$A$11,IF($C$5,8,0),1,1))","v":4119},0,17.5,{"$f":"IF($A348>$J$30,NA(),AVERAGE(H348:H351))","v":4.8125},4.375,null,null,{"$f":"IF($A348>$J$30,NA(),IF($A348>$N$30,0,(1-$M$35)*J348+(2*$M$35-$M$36)*J349-($M$35+$M$37)*J350+$M$36*N349+$M$37*N350))","v":16.773562936281209},9.3733265130822812,0.28302549859823101,0.27475662714035987,null,null,10.057731614590599,3.6117924013810967,0.4715554986170668,0.66752841549116304,null,null,null,null,null,null,null,null,null,null,null,null,null,null,null,null,null,null,null,null,null,null,null,null,null,null,null,null,null,null,null,{"$error":"#N/A"},1853671]
[317,{"$f":"IF(A349>$A$8,\"\",OFFSET(InputPriceData!B$15,$A349+$A$11,0,1,1))","v":"2023-04-11T04:00:00"},{"$f":"IF(A349>$A$8,\"\",OFFSET(InputPriceData!G$15,CalculationsAndCharts!$A349+$A$11,IF($C$5,8,0),1,1))","v":1221824},{"$f":"IF(A349>$A$8,\"\",OFFSET(InputPriceData!C$15,CalculationsAndCharts!$A349+$A$11,IF($C$5,8,0),1,1))","v":4138.5},{"$f":"IF(A349>$A$8,\"\",OFFSET(InputPriceData!D$15,CalculationsAndCharts!$A349+$A$11,IF($C$5,8,0),1,1))","v":4151.75},{"$f":"IF(A349>$A$8,\"\",OFFSET(InputPriceData!E$15,CalculationsAndCharts!$A349+$A$11,IF($C$5,8,0),1,1))","v":4128.75},{"$f":"IF(A349>$A$8,\"\",OFFSET(InputPriceData!F$15,CalculationsAndCharts!$A349+$A$11,IF($C$5,8,0),1,1))","v":4136.5},0.25,0,{"$f":"IF($A349>$J$30,NA(),AVERAGE(H349:H352))","v":4.8125},2.9375,null,null,{"$f":"IF($A349>$J$30,NA(),IF($A349>$N$30,0,(1-$M$35)*J349+(2*$M$35-$M$36)*J350-($M$35+$M$37)*J351+$M$36*N350+$M$37*N351))","v":17.743729072124186},10.098256375672031,0.2746022804583183,0.28210309994406862,null,null,13.775560557539698,3.9849891527349834,0.55125384993803195,0.82131881899547188,null,null,null,null,null,null,null,null,null,null,null,null,null,null,null,null,null,null,null,null,null,null,null,null,null,null,null,null,null,null,null,1221824,{"$error":"#N/A"}]
[318,{"$f":"IF(A350>$A$8,\"\",OFFSET(InputPriceData!B$15,$A350+$A$11,0,1,1))","v":"2023-04-10T04:00:00"},{"$f":"IF(A350>$A$8,\"\",OFFSET(InputPriceData!G$15,CalculationsAndCharts!$A350+$A$11,IF($C$5,8,0),1,1))","v":1167715},{"$f":"IF(A350>$A$8,\"\",OFFSET(InputPriceData!C$15,CalculationsAndCharts!$A350+$A$11,IF($C$5,8,0),1,1))","v":4139},{"$f":"IF(A350>$A$8,\"\",OFFSET(InputPriceData!D$15,CalculationsAndCharts!$A350+$A$11,IF($C$5,8,0),1,1))","v":4143},{"$f":"IF(A350>$A$8,\"\",OFFSET(InputPriceData!E$15,CalculationsAndCharts!$A350+$A$11,IF($C$5,8,0),1,1))","v":4098.75},{"$f":"IF(A350>$A$8,\"\",OFFSET(InputPriceData!F$15,CalculationsAndCharts!$A350+$A$11,IF($C$5,8,0),1,1))","v":4136.25},4.25,0,{"$f":"IF($A350>$J$30,NA(),AVERAGE(H350:H353))","v":4.75},9.125,null,null,{"$f":"IF($A350>$J$30,NA(),IF($A350>$N$30,0,(1-$M$35)*J350+(2*$M$35-$M$36)*J351-($M$35+$M$37)*J352+$M$36*N351+$M$37*N352))","v":18.754186390684971},10.669761665589775,0.27475662714035987,0.27615813367991032,null,null,18.363658076303924,3.6613436036764337,0.66752841549116304,0.94107475523288231,null,null,null,null,null,null,null,null,null,null,null,null,null,null,null,null,null,null,null,null,null,null,null,null,null,null,null,null,null,null,null,1167715,{"$error":"#N/A"}]
[319,{"$f":"IF(A351>$A$8,\"\",OFFSET(InputPriceData!B$15,$A351+$A$11,0,1,1))","v":"2023-04-06T04:00:00"},{"$f":"IF(A351>$A$8,\"\",OFFSET(InputPriceData!G$15,CalculationsAndCharts!$A351+$A$11,IF($C$5,8,0),1,1))","v":73009},{"$f":"IF(A351>$A$8,\"\",OFFSET(InputPriceData!C$15,CalculationsAndCharts!$A351+$A$11,IF($C$5,8,0),1,1))","v":4113.75},{"$f":"IF(A351>$A$8,\"\",OFFSET(InputPriceData!D$15,CalculationsAndCharts!$A351+$A$11,IF($C$5,8,0),1,1))","v":4135.25},{"$f":"IF(A351>$A$8,\"\",OFFSET(InputPriceData!E$15,CalculationsAndCharts!$A351+$A$11,IF($C$5,8,0),1,1))","v":4096.5},{"$f":"IF(A351>$A$8,\"\",OFFSET(InputPriceData!F$15,CalculationsAndCharts!$A351+$A$11,IF($C$5,8,0),1,1))","v":4132},14.75,0,{"$f":"IF($A351>$J$30,NA(),AVERAGE(H351:H354))","v":7.6875},9.125,null,null,{"$f":"IF($A351>$J$30,NA(),IF($A351>$N$30,0,(1-$M$35)*J351+(2*$M$35-$M$36)*J352-($M$35+$M$37)*J353+$M$36*N352+$M$37*N353))","v":19.686000512619046},11.022919095293675,0.28210309994406862,0.24984571843818212,null,null,23.369348344509913,2.2926588788042537,0.82131881899547188,1.0155717496918319,null,null,null,null,null,null,null,null,null,null,null,null,null,null,null,null,null,null,null,null,null,null,null,null,null,null,null,null,null,null,null,73009,{"$error":"#N/A"}]
[320,{"$f":"IF(A352>$A$8,\"\",OFFSET(InputPriceData!B$15,$A352+$A$11,0,1,1))","v":"2023-04-05T04:00:00"},{"$f":"IF(A352>$A$8,\"\",OFFSET(InputPriceData!G$15,CalculationsAndCharts!$A352+$A$11,IF($C$5,8,0),1,1))","v":1470176},{"$f":"IF(A352>$A$8,\"\",OFFSET(InputPriceData!C$15,CalculationsAndCharts!$A352+$A$11,IF($C$5,8,0),1,1))","v":4134},{"$f":"IF(A352>$A$8,\"\",OFFSET(InputPriceData!D$15,CalculationsAndCharts!$A352+$A$11,IF($C$5,8,0),1,1))","v":4135.5},{"$f":"IF(A352>$A$8,\"\",OFFSET(InputPriceData!E$15,CalculationsAndCharts!$A352+$A$11,IF($C$5,8,0),1,1))","v":4099},{"$f":"IF(A352>$A$8,\"\",OFFSET(InputPriceData!F$15,CalculationsAndCharts!$A352+$A$11,IF($C$5,8,0),1,1))","v":4117.25},0,11.75,{"$f":"IF($A352>$J$30,NA(),AVERAGE(H352:H355))","v":18.4375},9.125,null,null,{"$f":"IF($A352>$J$30,NA(),IF($A352>$N$30,0,(1-$M$35)*J352+(2*$M$35-$M$36)*J353-($M$35+$M$37)*J354+$M$36*N353+$M$37*N354))","v":20.096862970574318},11.399018989795762,0.27615813367991032,0.18874081012196731,null,null,26.878753943279911,0.81595886550638252,0.94107475523288231,0.96973718601919612,null,null,null,null,null,null,null,null,null,null,null,null,null,null,null,null,null,null,null,null,null,null,null,null,null,null,null,null,null,null,null,{"$error":"#N/A"},1470176]
[321,{"$f":"IF(A353>$A$8,\"\",OFFSET(InputPriceData!B$15,$A353+$A$11,0,1,1))","v":"2023-04-04T04:00:00"},{"$f":"IF(A353>$A$8,\"\",OFFSET(InputPriceData!G$15,CalculationsAndCharts!$A353+$A$11,IF($C$5,8,0),1,1))","v":1582414},{"$f":"IF(A353>$A$8,\"\",OFFSET(InputPriceData!C$15,CalculationsAndCharts!$A353+$A$11,IF($C$5,8,0),1,1))","v":4152.5},{"$f":"IF(A353>$A$8,\"\",OFFSET(InputPriceData!D$15,CalculationsAndCharts!$A353+$A$11,IF($C$5,8,0),1,1))","v":4171.75},{"$f":"IF(A353>$A$8,\"\",OFFSET(InputPriceData!E$15,CalculationsAndCharts!$A353+$A$11,IF($C$5,8,0),1,1))","v":4115.25},{"$f":"IF(A353>$A$8,\"\",OFFSET(InputPriceData!F$15,CalculationsAndCharts!$A353+$A$11,IF($C$5,8,0),1,1))","v":4129},0,24.75,{"$f":"IF($A353>$J$30,NA(),AVERAGE(H353:H356))","v":24.0625},6.1875,null,null,{"$f":"IF($A353>$J$30,NA(),IF($A353>$N$30,0,(1-$M$35)*J353+(2*$M$35-$M$36)*J354-($M$35+$M$37)*J355+$M$36*N354+$M$37*N355))","v":19.8560885732842},11.917574816300457,0.24984571843818212,0.10603297394824912,null,null,{"$f":"IF($A353>$J$30,NA(),IF($A353>$N$30,0,(1-S$35)*$J353+(2*S$35-S$36)*$J354-(S$35+S$37)*$J355+S$36*T354+S$37*T355))","v":28.067707704965599},{"$f":"IF($A353>$J$30,NA(),IF($A353>$N$30,0,(1-S$35)*$K353+(2*S$35-S$36)*$K354-(S$35+S$37)*$K355+S$36*U354+S$37*U355))","v":-0.21684334426301244},{"$f":"IF($A353>$N$30,NA(),(T353-U353)/(T353+U353))","v":1.0155717496918319},{"$f":"IF($A353>$N$30,NA(),OFFSET(V353,$C$18,0,1,1))","v":0.81339020461212153},null,null,null,null,null,null,null,null,null,null,null,null,null,null,null,null,null,null,null,null,null,null,null,null,null,null,null,null,null,null,null,{"$error":"#N/A"},1582414]
[322,{"$f":"IF(A354>$A$8,\"\",OFFSET(InputPriceData!B$15,$A354+$A$11,0,1,1))","v":"2023-04-03T04:00:00"},{"$f":"IF(A354>$A$8,\"\",OFFSET(InputPriceData!G$15,CalculationsAndCharts!$A354+$A$11,IF($C$5,8,0),1,1))","v":1380286},{"$f":"IF(A354>$A$8,\"\",OFFSET(InputPriceData!C$15,CalculationsAndCharts!$A354+$A$11,IF($C$5,8,0),1,1))","v":4127},{"$f":"IF(A354>$A$8,\"\",OFFSET(InputPriceData!D$15,CalculationsAndCharts!$A354+$A$11,IF($C$5,8,0),1,1))","v":4157.75},{"$f":"IF(A354>$A$8,\"\",OFFSET(InputPriceData!E$15,CalculationsAndCharts!$A354+$A$11,IF($C$5,8,0),1,1))","v":4122.75},{"$f":"IF(A354>$A$8,\"\",OFFSET(InputPriceData!F$15,CalculationsAndCharts!$A354+$A$11,IF($C$5,8,0),1,1))","v":4153.75},{"$f":"IF($A354>$H$30,NA(),IF($G354>$G355,$G354-$G355,0))","v":16},{"$f":"IF($A354>$H$30,NA(),IF(G354<G355,G355-G354,0))","v":0},{"$f":"IF($A354>$J$30,NA(),AVERAGE(H354:H357))","v":38.0625},0,null,null,{"$f":"IF($A354>$J$30,NA(),IF($A354>$N$30,0,(1-$M$35)*J354+(2*$M$35-$M$36)*J355-($M$35+$M$37)*J356+$M$36*N355+$M$37*N356))","v":18.805976594913762},12.834186567288484,{"$f":"IF($A354>$N$30,NA(),(N354-O354)/(N354+O354))","v":0.18874081012196731},{"$f":"IF($A354>$N$30,NA(),OFFSET(P354,$C$17,0,1,1))","v":4.0978928321547925E-2},null,null,25.923727596642294,0.39828914817398919,0.96973718601919612,0.63045124874372294,null,null,null,null,null,null,null,null,null,null,null,null,null,null,null,null,null,null,null,null,null,null,null,null,null,null,null,null,null,null,null,1380286,{"$error":"#N/A"}]
[323,{"$f":"IF(A355>$A$8,\"\",OFFSET(InputPriceData!B$15,$A355+$A$11,0,1,1))","v":"2023-03-31T04:00:00"},{"$f":"IF(A355>$A$8,\"\",OFFSET(InputPriceData!G$15,CalculationsAndCharts!$A355+$A$11,IF($C$5,8,0),1,1))","v":1695840},{"$f":"IF(A355>$A$8,\"\",OFFSET(InputPriceData!C$15,CalculationsAndCharts!$A355+$A$11,IF($C$5,8,0),1,1))","v":4081},{"$f":"IF(A355>$A$8,\"\",OFFSET(InputPriceData!D$15,CalculationsAndCharts!$A355+$A$11,IF($C$5,8,0),1,1))","v":4142.5},{"$f":"IF(A355>$A$8,\"\",OFFSET(InputPriceData!E$15,CalculationsAndCharts!$A355+$A$11,IF($C$5,8,0),1,1))","v":4078},{"$f":"IF(A355>$A$8,\"\",OFFSET(InputPriceData!F$15,CalculationsAndCharts!$A355+$A$11,IF($C$5,8,0),1,1))","v":4137.75},57.75,0,{"$f":"IF($A355>$J$30,NA(),AVERAGE(H355:H358))","v":34.0625},1.4375,null,null,{"$f":"IF($A355>$J$30,NA(),IF($A355>$N$30,0,(1-$M$35)*J355+(2*$M$35-$M$36)*J356-($M$35+$M$37)*J357+$M$36*N356+$M$37*N357))","v":17.30469567119615},13.986768650021872,0.10603297394824912,-9.3122295837456143E-3,null,null,21.562721467830841,2.2189460552305169,0.81339020461212153,0.45067485449574657,null,null,null,null,null,null,null,null,null,null,null,null,null,null,null,null,null,null,null,null,null,null,null,null,null,null,null,null,null,null,null,1695840,{"$error":"#N/A"}]
[324,{"$f":"IF(A356>$A$8,\"\",OFFSET(InputPriceData!B$15,$A356+$A$11,0,1,1))","v":"2023-03-30T04:00:00"},{"$f":"IF(A356>$A$8,\"\",OFFSET(InputPriceData!G$15,CalculationsAndCharts!$A356+$A$11,IF($C$5,8,0),1,1))","v":1328529},{"$f":"IF(A356>$A$8,\"\",OFFSET(InputPriceData!C$15,CalculationsAndCharts!$A356+$A$11,IF($C$5,8,0),1,1))","v":4058},{"$f":"IF(A356>$A$8,\"\",OFFSET(InputPriceData!D$15,CalculationsAndCharts!$A356+$A$11,IF($C$5,8,0),1,1))","v":4087.75},{"$f":"IF(A356>$A$8,\"\",OFFSET(InputPriceData!E$15,CalculationsAndCharts!$A356+$A$11,IF($C$5,8,0),1,1))","v":4052.5},{"$f":"IF(A356>$A$8,\"\",OFFSET(InputPriceData!F$15,CalculationsAndCharts!$A356+$A$11,IF($C$5,8,0),1,1))","v":4080},22.5,0,{"$f":"IF($A356>$J$30,NA(),AVERAGE(H356:H359))","v":21.125},1.4375,null,null,{"$f":"IF($A356>$J$30,NA(),IF($A356>$N$30,0,(1-$M$35)*J356+(2*$M$35-$M$36)*J357-($M$35+$M$37)*J358+$M$36*N357+$M$37*N358))","v":16.426166448463476},15.132909343682815,4.0978928321547925E-2,-4.3919139616541335E-2,null,null,19.34121761839598,4.3837697227447725,0.63045124874372294,0.31772935558869447,null,null,null,null,null,null,null,null,null,null,null,null,null,null,null,null,null,null,null,null,null,null,null,null,null,null,null,null,null,null,null,1328529,{"$error":"#N/A"}]
[325,{"$f":"IF(A357>$A$8,\"\",OFFSET(InputPriceData!B$15,$A357+$A$11,0,1,1))","v":"2023-03-29T04:00:00"},{"$f":"IF(A357>$A$8,\"\",OFFSET(InputPriceData!G$15,CalculationsAndCharts!$A357+$A$11,IF($C$5,8,0),1,1))","v":1389352},{"$f":"IF(A357>$A$8,\"\",OFFSET(InputPriceData!C$15,CalculationsAndCharts!$A357+$A$11,IF($C$5,8,0),1,1))","v":4006.5},{"$f":"IF(A357>$A$8,\"\",OFFSET(InputPriceData!D$15,CalculationsAndCharts!$A357+$A$11,IF($C$5,8,0),1,1))","v":4061.25},{"$f":"IF(A357>$A$8,\"\",OFFSET(InputPriceData!E$15,CalculationsAndCharts!$A357+$A$11,IF($C$5,8,0),1,1))","v":4006},{"$f":"IF(A357>$A$8,\"\",OFFSET(InputPriceData!F$15,CalculationsAndCharts!$A357+$A$11,IF($C$5,8,0),1,1))","v":4057.5},56,0,{"$f":"IF($A357>$J$30,NA(),AVERAGE(H357:H360))","v":21.3125},1.4375,null,null,{"$f":"IF($A357>$J$30,NA(),IF($A357>$N$30,0,(1-$M$35)*J357+(2*$M$35-$M$36)*J358-($M$35+$M$37)*J359+$M$36*N358+$M$37*N359))","v":16.027528798970408},16.328838721820059,-9.3122295837456143E-3,-4.6125311156546576E-2,null,null,18.96950543498124,7.1831577564890843,0.45067485449574657,0.33174155196578076,null,null,null,null,null,null,null,null,null,null,null,null,null,null,null,null,null,null,null,null,null,null,null,null,null,null,null,null,null,null,null,1389352,{"$error":"#N/A"}]
[326,{"$f":"IF(A358>$A$8,\"\",OFFSET(InputPriceData!B$15,$A358+$A$11,0,1,1))","v":"2023-03-28T04:00:00"},{"$f":"IF(A358>$A$8,\"\",OFFSET(InputPriceData!G$15,CalculationsAndCharts!$A358+$A$11,IF($C$5,8,0),1,1))","v":1224495},{"$f":"IF(A358>$A$8,\"\",OFFSET(InputPriceData!C$15,CalculationsAndCharts!$A358+$A$11,IF($C$5,8,0),1,1))","v":4013.5},{"$f":"IF(A358>$A$8,\"\",OFFSET(InputPriceData!D$15,CalculationsAndCharts!$A358+$A$11,IF($C$5,8,0),1,1))","v":4023.75},{"$f":"IF(A358>$A$8,\"\",OFFSET(InputPriceData!E$15,CalculationsAndCharts!$A358+$A$11,IF($C$5,8,0),1,1))","v":3980.75},{"$f":"IF(A358>$A$8,\"\",OFFSET(InputPriceData!F$15,CalculationsAndCharts!$A358+$A$11,IF($C$5,8,0),1,1))","v":4001.5},0,5.75,{"$f":"IF($A358>$J$30,NA(),AVERAGE(H358:H361))","v":9.1875},1.4375,null,null,{"$f":"IF($A358>$J$30,NA(),IF($A358>$N$30,0,(1-$M$35)*J358+(2*$M$35-$M$36)*J359-($M$35+$M$37)*J360+$M$36*N359+$M$37*N360))","v":16.095963372089628},17.574752231680463,-4.3919139616541335E-2,-4.6047702814033815E-2,null,null,20.644446191612666,10.688916921315446,0.31772935558869447,0.39097820695781432,null,null,null,null,null,null,null,null,null,null,null,null,null,null,null,null,null,null,null,null,null,null,null,null,null,null,null,null,null,null,null,{"$error":"#N/A"},1224495]
[327,{"$f":"IF(A359>$A$8,\"\",OFFSET(InputPriceData!B$15,$A359+$A$11,0,1,1))","v":"2023-03-27T04:00:00"},{"$f":"IF(A359>$A$8,\"\",OFFSET(InputPriceData!G$15,CalculationsAndCharts!$A359+$A$11,IF($C$5,8,0),1,1))","v":1304572},{"$f":"IF(A359>$A$8,\"\",OFFSET(InputPriceData!C$15,CalculationsAndCharts!$A359+$A$11,IF($C$5,8,0),1,1))","v":4008},{"$f":"IF(A359>$A$8,\"\",OFFSET(InputPriceData!D$15,CalculationsAndCharts!$A359+$A$11,IF($C$5,8,0),1,1))","v":4034.25},{"$f":"IF(A359>$A$8,\"\",OFFSET(InputPriceData!E$15,CalculationsAndCharts!$A359+$A$11,IF($C$5,8,0),1,1))","v":3997.5},{"$f":"IF(A359>$A$8,\"\",OFFSET(InputPriceData!F$15,CalculationsAndCharts!$A359+$A$11,IF($C$5,8,0),1,1))","v":4007.25},6,0,{"$f":"IF($A359>$J$30,NA(),AVERAGE(H359:H362))","v":9.1875},16.3125,null,null,{"$f":"IF($A359>$J$30,NA(),IF($A359>$N$30,0,(1-$M$35)*J359+(2*$M$35-$M$36)*J360-($M$35+$M$37)*J361+$M$36*N360+$M$37*N361))","v":16.657853173351157},18.268858622615127,-4.6125311156546576E-2,-6.0943473718406763E-2,null,null,24.711596031180527,12.400103299224527,0.33174155196578076,0.41422192011192521,null,null,null,null,null,null,null,null,null,null,null,null,null,null,null,null,null,null,null,null,null,null,null,null,null,null,null,null,null,null,null,1304572,{"$error":"#N/A"}]
[328,{"$f":"IF(A360>$A$8,\"\",OFFSET(InputPriceData!B$15,$A360+$A$11,0,1,1))","v":"2023-03-24T04:00:00"},{"$f":"IF(A360>$A$8,\"\",OFFSET(InputPriceData!G$15,CalculationsAndCharts!$A360+$A$11,IF($C$5,8,0),1,1))","v":1944981},{"$f":"IF(A360>$A$8,\"\",OFFSET(InputPriceData!C$15,CalculationsAndCharts!$A360+$A$11,IF($C$5,8,0),1,1))","v":3988.75},{"$f":"IF(A360>$A$8,\"\",OFFSET(InputPriceData!D$15,CalculationsAndCharts!$A360+$A$11,IF($C$5,8,0),1,1))","v":4010.75},{"$f":"IF(A360>$A$8,\"\",OFFSET(InputPriceData!E$15,CalculationsAndCharts!$A360+$A$11,IF($C$5,8,0),1,1))","v":3937},{"$f":"IF(A360>$A$8,\"\",OFFSET(InputPriceData!F$15,CalculationsAndCharts!$A360+$A$11,IF($C$5,8,0),1,1))","v":4001.25},23.25,0,{"$f":"IF($A360>$J$30,NA(),AVERAGE(H360:H363))","v":20.875},16.3125,null,null,{"$f":"IF($A360>$J$30,NA(),IF($A360>$N$30,0,(1-$M$35)*J360+(2*$M$35-$M$36)*J361-($M$35+$M$37)*J362+$M$36*N361+$M$37*N362))","v":16.768802363151352},18.387677499871387,-4.6047702814033815E-2,-7.4201369562245642E-2,null,null,27.371869031398401,11.984418356112821,0.39097820695781432,0.43794582844267532,null,null,null,null,null,null,null,null,null,null,null,null,null,null,null,null,null,null,null,null,null,null,null,null,null,null,null,null,null,null,null,1944981,{"$error":"#N/A"}]
[329,{"$f":"IF(A361>$A$8,\"\",OFFSET(InputPriceData!B$15,$A361+$A$11,0,1,1))","v":"2023-03-23T04:00:00"},{"$f":"IF(A361>$A$8,\"\",OFFSET(InputPriceData!G$15,CalculationsAndCharts!$A361+$A$11,IF($C$5,8,0),1,1))","v":2236954},{"$f":"IF(A361>$A$8,\"\",OFFSET(InputPriceData!C$15,CalculationsAndCharts!$A361+$A$11,IF($C$5,8,0),1,1))","v":3972.75},{"$f":"IF(A361>$A$8,\"\",OFFSET(InputPriceData!D$15,CalculationsAndCharts!$A361+$A$11,IF($C$5,8,0),1,1))","v":4039.5},{"$f":"IF(A361>$A$8,\"\",OFFSET(InputPriceData!E$15,CalculationsAndCharts!$A361+$A$11,IF($C$5,8,0),1,1))","v":3948.5},{"$f":"IF(A361>$A$8,\"\",OFFSET(InputPriceData!F$15,CalculationsAndCharts!$A361+$A$11,IF($C$5,8,0),1,1))","v":3978},7.5,0,{"$f":"IF($A361>$J$30,NA(),AVERAGE(H361:H364))","v":21.549999999999955},16.3125,null,null,{"$f":"IF($A361>$J$30,NA(),IF($A361>$N$30,0,(1-$M$35)*J361+(2*$M$35-$M$36)*J362-($M$35+$M$37)*J363+$M$36*N362+$M$37*N363))","v":16.383039147729583},18.509512448928678,-6.0943473718406763E-2,-0.12402661201304692,null,null,28.171651675940165,11.668844748709493,0.41422192011192521,0.32327814468475935,null,null,null,null,null,null,null,null,null,null,null,null,null,null,null,null,null,null,null,null,null,null,null,null,null,null,null,null,null,null,null,2236954,{"$error":"#N/A"}]
[330,{"$f":"IF(A362>$A$8,\"\",OFFSET(InputPriceData!B$15,$A362+$A$11,0,1,1))","v":"2023-03-22T04:00:00"},{"$f":"IF(A362>$A$8,\"\",OFFSET(InputPriceData!G$15,CalculationsAndCharts!$A362+$A$11,IF($C$5,8,0),1,1))","v":1802929},{"$f":"IF(A362>$A$8,\"\",OFFSET(InputPriceData!C$15,CalculationsAndCharts!$A362+$A$11,IF($C$5,8,0),1,1))","v":4038.75},{"$f":"IF(A362>$A$8,\"\",OFFSET(InputPriceData!D$15,CalculationsAndCharts!$A362+$A$11,IF($C$5,8,0),1,1))","v":4073.75},{"$f":"IF(A362>$A$8,\"\",OFFSET(InputPriceData!E$15,CalculationsAndCharts!$A362+$A$11,IF($C$5,8,0),1,1))","v":3966.25},{"$f":"IF(A362>$A$8,\"\",OFFSET(InputPriceData!F$15,CalculationsAndCharts!$A362+$A$11,IF($C$5,8,0),1,1))","v":3970.5},0,65.25,{"$f":"IF($A362>$J$30,NA(),AVERAGE(H362:H365))","v":19.674999999999955},17.174999999999955,null,null,{"$f":"IF($A362>$J$30,NA(),IF($A362>$N$30,0,(1-$M$35)*J362+(2*$M$35-$M$36)*J363-($M$35+$M$37)*J364+$M$36*N363+$M$37*N364))","v":16.029789909807569},18.599317074781613,-7.4201369562245642E-2,-0.19083166340936158,null,null,29.065882426459304,11.361068090777145,0.43794582844267532,0.12429008456141846,null,null,null,null,null,null,null,null,null,null,null,null,null,null,null,null,null,null,null,null,null,null,null,null,null,null,null,null,null,null,null,{"$error":"#N/A"},1802929]
[331,{"$f":"IF(A363>$A$8,\"\",OFFSET(InputPriceData!B$15,$A363+$A$11,0,1,1))","v":"2023-03-21T04:00:00"},{"$f":"IF(A363>$A$8,\"\",OFFSET(InputPriceData!G$15,CalculationsAndCharts!$A363+$A$11,IF($C$5,8,0),1,1))","v":1531670},{"$f":"IF(A363>$A$8,\"\",OFFSET(InputPriceData!C$15,CalculationsAndCharts!$A363+$A$11,IF($C$5,8,0),1,1))","v":3986.5},{"$f":"IF(A363>$A$8,\"\",OFFSET(InputPriceData!D$15,CalculationsAndCharts!$A363+$A$11,IF($C$5,8,0),1,1))","v":4043.25},{"$f":"IF(A363>$A$8,\"\",OFFSET(InputPriceData!E$15,CalculationsAndCharts!$A363+$A$11,IF($C$5,8,0),1,1))","v":3981.75},{"$f":"IF(A363>$A$8,\"\",OFFSET(InputPriceData!F$15,CalculationsAndCharts!$A363+$A$11,IF($C$5,8,0),1,1))","v":4035.75},52.75,0,{"$f":"IF($A363>$J$30,NA(),AVERAGE(H363:H366))","v":36.612499999999955},0.86249999999995453,null,null,{"$f":"IF($A363>$J$30,NA(),IF($A363>$N$30,0,(1-$M$35)*J363+(2*$M$35-$M$36)*J364-($M$35+$M$37)*J365+$M$36*N364+$M$37*N365))","v":15.052953984109736},19.315564947047424,-0.12402661201304692,-0.248609113443646,null,null,27.205192250388542,13.912682112857372,0.32327814468475935,-5.8847585830728417E-2,null,null,null,null,null,null,null,null,null,null,null,null,null,null,null,null,null,null,null,null,null,null,null,null,null,null,null,null,null,null,null,1531670,{"$error":"#N/A"}]
[332,{"$f":"IF(A364>$A$8,\"\",OFFSET(InputPriceData!B$15,$A364+$A$11,0,1,1))","v":"2023-03-20T04:00:00"},{"$f":"IF(A364>$A$8,\"\",OFFSET(InputPriceData!G$15,CalculationsAndCharts!$A364+$A$11,IF($C$5,8,0),1,1))","v":1818807},{"$f":"IF(A364>$A$8,\"\",OFFSET(InputPriceData!C$15,CalculationsAndCharts!$A364+$A$11,IF($C$5,8,0),1,1))","v":3963.75},{"$f":"IF(A364>$A$8,\"\",OFFSET(InputPriceData!D$15,CalculationsAndCharts!$A364+$A$11,IF($C$5,8,0),1,1))","v":3989.5},{"$f":"IF(A364>$A$8,\"\",OFFSET(InputPriceData!E$15,CalculationsAndCharts!$A364+$A$11,IF($C$5,8,0),1,1))","v":3897.25},{"$f":"IF(A364>$A$8,\"\",OFFSET(InputPriceData!F$15,CalculationsAndCharts!$A364+$A$11,IF($C$5,8,0),1,1))","v":3983},25.949999999999818,0,{"$f":"IF($A364>$J$30,NA(),AVERAGE(H364:H367))","v":23.424999999999955},7.7999999999999545,null,null,{"$f":"IF($A364>$J$30,NA(),IF($A364>$N$30,0,(1-$M$35)*J364+(2*$M$35-$M$36)*J365-($M$35+$M$37)*J366+$M$36*N365+$M$37*N366))","v":13.886603157283515},20.436546994126338,-0.19083166340936158,-0.32339382956890583,null,null,24.060214451946493,18.740508924231456,0.12429008456141846,-0.31255537514082232,null,null,null,null,null,null,null,null,null,null,null,null,null,null,null,null,null,null,null,null,null,null,null,null,null,null,null,null,null,null,null,1818807,{"$error":"#N/A"}]
[333,{"$f":"IF(A365>$A$8,\"\",OFFSET(InputPriceData!B$15,$A365+$A$11,0,1,1))","v":"2023-03-17T04:00:00"},{"$f":"IF(A365>$A$8,\"\",OFFSET(InputPriceData!G$15,CalculationsAndCharts!$A365+$A$11,IF($C$5,8,0),1,1))","v":2224268},{"$f":"IF(A365>$A$8,\"\",OFFSET(InputPriceData!C$15,CalculationsAndCharts!$A365+$A$11,IF($C$5,8,0),1,1))","v":3962.25},{"$f":"IF(A365>$A$8,\"\",OFFSET(InputPriceData!D$15,CalculationsAndCharts!$A365+$A$11,IF($C$5,8,0),1,1))","v":3974},{"$f":"IF(A365>$A$8,\"\",OFFSET(InputPriceData!E$15,CalculationsAndCharts!$A365+$A$11,IF($C$5,8,0),1,1))","v":3923},{"$f":"IF(A365>$A$8,\"\",OFFSET(InputPriceData!F$15,CalculationsAndCharts!$A365+$A$11,IF($C$5,8,0),1,1))","v":3957.05},0,3.4499999999998181,{"$f":"IF($A365>$J$30,NA(),AVERAGE(H365:H368))","v":32.875},7.7999999999999545,null,null,{"$f":"IF($A365>$J$30,NA(),IF($A365>$N$30,0,(1-$M$35)*J365+(2*$M$35-$M$36)*J366-($M$35+$M$37)*J367+$M$36*N366+$M$37*N367))","v":12.827990354326097},21.316662139709717,-0.248609113443646,-0.36349460628659835,null,null,20.73507285166653,23.328083209976871,-5.8847585830728417E-2,-0.48760402763455918,null,null,null,null,null,null,null,null,null,null,null,null,null,null,null,null,null,null,null,null,null,null,null,null,null,null,null,null,null,null,null,{"$f":"IF(G365>=G366,C365,NA())","v":{"$error":"#N/A"}},{"$f":"IF(G365<G366,C365,NA())","v":2224268}]
[334,{"$f":"IF(A366>$A$8,\"\",OFFSET(InputPriceData!B$15,$A366+$A$11,0,1,1))","v":"2023-03-16T04:00:00"},{"$f":"IF(A366>$A$8,\"\",OFFSET(InputPriceData!G$15,CalculationsAndCharts!$A366+$A$11,IF($C$5,8,0),1,1))","v":466914},{"$f":"IF(A366>$A$8,\"\",OFFSET(InputPriceData!C$15,CalculationsAndCharts!$A366+$A$11,IF($C$5,8,0),1,1))","v":3892.75},{"$f":"IF(A366>$A$8,\"\",OFFSET(InputPriceData!D$15,CalculationsAndCharts!$A366+$A$11,IF($C$5,8,0),1,1))","v":3966.5},{"$f":"IF(A366>$A$8,\"\",OFFSET(InputPriceData!E$15,CalculationsAndCharts!$A366+$A$11,IF($C$5,8,0),1,1))","v":3863.25},{"$f":"IF(A366>$A$8,\"\",OFFSET(InputPriceData!F$15,CalculationsAndCharts!$A366+$A$11,IF($C$5,8,0),1,1))","v":3960.5},67.75,0,{"$f":"IF($A366>$J$30,NA(),AVERAGE(H366:H369))","v":32.875},8.4375,null,null,{"$f":"IF($A366>$J$30,NA(),IF($A366>$N$30,0,(1-$M$35)*J366+(2*$M$35-$M$36)*J367-($M$35+$M$37)*J368+$M$36*N367+$M$37*N368))","v":11.349794681979558},22.199395904763474,-0.32339382956890583,-0.35641118830356155,null,null,14.980699955545044,28.603028577102439,-0.31255537514082232,-0.54098672121384794,null,null,null,null,null,null,null,null,null,null,null,null,null,null,null,null,null,null,null,null,null,null,null,null,null,null,null,null,null,null,null,466914,{"$error":"#N/A"}]
[335,{"$f":"IF(A367>$A$8,\"\",OFFSET(InputPriceData!B$15,$A367+$A$11,0,1,1))","v":"2023-03-15T04:00:00"},{"$f":"IF(A367>$A$8,\"\",OFFSET(InputPriceData!G$15,CalculationsAndCharts!$A367+$A$11,IF($C$5,8,0),1,1))","v":833643},{"$f":"IF(A367>$A$8,\"\",OFFSET(InputPriceData!C$15,CalculationsAndCharts!$A367+$A$11,IF($C$5,8,0),1,1))","v":3920.5},{"$f":"IF(A367>$A$8,\"\",OFFSET(InputPriceData!D$15,CalculationsAndCharts!$A367+$A$11,IF($C$5,8,0),1,1))","v":3931},{"$f":"IF(A367>$A$8,\"\",OFFSET(InputPriceData!E$15,CalculationsAndCharts!$A367+$A$11,IF($C$5,8,0),1,1))","v":3834},{"$f":"IF(A367>$A$8,\"\",OFFSET(InputPriceData!F$15,CalculationsAndCharts!$A367+$A$11,IF($C$5,8,0),1,1))","v":3892.75},0,27.75,{"$f":"IF($A367>$J$30,NA(),AVERAGE(H367:H370))","v":15.9375},22.75,null,null,{"$f":"IF($A367>$J$30,NA(),IF($A367>$N$30,0,(1-$M$35)*J367+(2*$M$35-$M$36)*J368-($M$35+$M$37)*J369+$M$36*N368+$M$37*N369))","v":10.505315744474848},22.504037666299425,-0.36349460628659835,-0.31241047589568033,null,null,11.045783658134233,32.068464906865728,-0.48760402763455918,-0.48011982405234055,null,null,null,null,null,null,null,null,null,null,null,null,null,null,null,null,null,null,null,null,null,null,null,null,null,null,null,null,null,null,null,{"$error":"#N/A"},833643]
[336,{"$f":"IF(A368>$A$8,\"\",OFFSET(InputPriceData!B$15,$A368+$A$11,0,1,1))","v":"2023-03-14T04:00:00"},{"$f":"IF(A368>$A$8,\"\",OFFSET(InputPriceData!G$15,CalculationsAndCharts!$A368+$A$11,IF($C$5,8,0),1,1))","v":1606509},{"$f":"IF(A368>$A$8,\"\",OFFSET(InputPriceData!C$15,CalculationsAndCharts!$A368+$A$11,IF($C$5,8,0),1,1))","v":3865.75},{"$f":"IF(A368>$A$8,\"\",OFFSET(InputPriceData!D$15,CalculationsAndCharts!$A368+$A$11,IF($C$5,8,0),1,1))","v":3938},{"$f":"IF(A368>$A$8,\"\",OFFSET(InputPriceData!E$15,CalculationsAndCharts!$A368+$A$11,IF($C$5,8,0),1,1))","v":3855.25},{"$f":"IF(A368>$A$8,\"\",OFFSET(InputPriceData!F$15,CalculationsAndCharts!$A368+$A$11,IF($C$5,8,0),1,1))","v":3920.5},63.75,0,{"$f":"IF($A368>$J$30,NA(),AVERAGE(H368:H371))","v":15.9375},34.5625,null,null,{"$f":"IF($A368>$J$30,NA(),IF($A368>$N$30,0,(1-$M$35)*J368+(2*$M$35-$M$36)*J369-($M$35+$M$37)*J370+$M$36*N369+$M$37*N370))","v":10.321912505313781},21.754196705181066,-0.35641118830356155,-0.22482196797130757,null,null,9.3422647007586743,31.363593419355123,-0.54098672121384794,-0.24855918687673748,null,null,null,null,null,null,null,null,null,null,null,null,null,null,null,null,null,null,null,null,null,null,null,null,null,null,null,null,null,null,null,1606509,{"$error":"#N/A"}]
[337,{"$f":"IF(A369>$A$8,\"\",OFFSET(InputPriceData!B$15,$A369+$A$11,0,1,1))","v":"2023-03-13T04:00:00"},{"$f":"IF(A369>$A$8,\"\",OFFSET(InputPriceData!G$15,CalculationsAndCharts!$A369+$A$11,IF($C$5,8,0),1,1))","v":2750477},{"$f":"IF(A369>$A$8,\"\",OFFSET(InputPriceData!C$15,CalculationsAndCharts!$A369+$A$11,IF($C$5,8,0),1,1))","v":3887.75},{"$f":"IF(A369>$A$8,\"\",OFFSET(InputPriceData!D$15,CalculationsAndCharts!$A369+$A$11,IF($C$5,8,0),1,1))","v":3938.75},{"$f":"IF(A369>$A$8,\"\",OFFSET(InputPriceData!E$15,CalculationsAndCharts!$A369+$A$11,IF($C$5,8,0),1,1))","v":3808.75},{"$f":"IF(A369>$A$8,\"\",OFFSET(InputPriceData!F$15,CalculationsAndCharts!$A369+$A$11,IF($C$5,8,0),1,1))","v":3856.75},0,6,{"$f":"IF($A369>$J$30,NA(),AVERAGE(H369:H372))","v":1.3125},34.5625,null,null,{"$f":"IF($A369>$J$30,NA(),IF($A369>$N$30,0,(1-$M$35)*J369+(2*$M$35-$M$36)*J370-($M$35+$M$37)*J371+$M$36*N370+$M$37*N371))","v":10.733475286983454},20.487114645550172,-0.31241047589568033,-0.12893343874520355,null,null,9.9066124612656186,28.204525141576919,-0.48011982405234055,8.153574939933575E-2,null,null,null,null,null,null,null,null,null,null,null,null,null,null,null,null,null,null,null,null,null,null,null,null,null,null,null,null,null,null,null,{"$error":"#N/A"},2750477]
[338,{"$f":"IF(A370>$A$8,\"\",OFFSET(InputPriceData!B$15,$A370+$A$11,0,1,1))","v":"2023-03-10T05:00:00"},{"$f":"IF(A370>$A$8,\"\",OFFSET(InputPriceData!G$15,CalculationsAndCharts!$A370+$A$11,IF($C$5,8,0),1,1))","v":3285811},{"$f":"IF(A370>$A$8,\"\",OFFSET(InputPriceData!C$15,CalculationsAndCharts!$A370+$A$11,IF($C$5,8,0),1,1))","v":3919},{"$f":"IF(A370>$A$8,\"\",OFFSET(InputPriceData!D$15,CalculationsAndCharts!$A370+$A$11,IF($C$5,8,0),1,1))","v":3941.75},{"$f":"IF(A370>$A$8,\"\",OFFSET(InputPriceData!E$15,CalculationsAndCharts!$A370+$A$11,IF($C$5,8,0),1,1))","v":3846.25},{"$f":"IF(A370>$A$8,\"\",OFFSET(InputPriceData!F$15,CalculationsAndCharts!$A370+$A$11,IF($C$5,8,0),1,1))","v":3862.75},0,57.25,{"$f":"IF($A370>$J$30,NA(),AVERAGE(H370:H373))","v":1.3125},48.75,null,null,{"$f":"IF($A370>$J$30,NA(),IF($A370>$N$30,0,(1-$M$35)*J370+(2*$M$35-$M$36)*J371-($M$35+$M$37)*J372+$M$36*N371+$M$37*N372))","v":11.763837264063044},18.587480183043397,-0.22482196797130757,-9.1194385989584778E-2,null,null,13.120990376932594,21.801228772695346,-0.24855918687673748,0.23517839477037245,null,null,null,null,null,null,null,null,null,null,null,null,null,null,null,null,null,null,null,null,null,null,null,null,null,null,null,null,null,null,null,{"$error":"#N/A"},3285811]
[339,{"$f":"IF(A371>$A$8,\"\",OFFSET(InputPriceData!B$15,$A371+$A$11,0,1,1))","v":"2023-03-09T05:00:00"},{"$f":"IF(A371>$A$8,\"\",OFFSET(InputPriceData!G$15,CalculationsAndCharts!$A371+$A$11,IF($C$5,8,0),1,1))","v":2547423},{"$f":"IF(A371>$A$8,\"\",OFFSET(InputPriceData!C$15,CalculationsAndCharts!$A371+$A$11,IF($C$5,8,0),1,1))","v":3997},{"$f":"IF(A371>$A$8,\"\",OFFSET(InputPriceData!D$15,CalculationsAndCharts!$A371+$A$11,IF($C$5,8,0),1,1))","v":4019.75},{"$f":"IF(A371>$A$8,\"\",OFFSET(InputPriceData!E$15,CalculationsAndCharts!$A371+$A$11,IF($C$5,8,0),1,1))","v":3909.5},{"$f":"IF(A371>$A$8,\"\",OFFSET(InputPriceData!F$15,CalculationsAndCharts!$A371+$A$11,IF($C$5,8,0),1,1))","v":3920},0,75,{"$f":"IF($A371>$J$30,NA(),AVERAGE(H371:H374))","v":2},34.4375,null,null,{"$f":"IF($A371>$J$30,NA(),IF($A371>$N$30,0,(1-$M$35)*J371+(2*$M$35-$M$36)*J372-($M$35+$M$37)*J373+$M$36*N372+$M$37*N373))","v":12.817233164655171},16.611592908501805,-0.12893343874520355,-0.10851091825484027,null,null,16.720805220806582,14.199680264935331,8.153574939933575E-2,0.16898483559648039,null,null,null,null,null,null,null,null,null,null,null,null,null,null,null,null,null,null,null,null,null,null,null,null,null,null,null,null,null,null,null,{"$error":"#N/A"},2547423]
[340,{"$f":"IF(A372>$A$8,\"\",OFFSET(InputPriceData!B$15,$A372+$A$11,0,1,1))","v":"2023-03-08T05:00:00"},{"$f":"IF(A372>$A$8,\"\",OFFSET(InputPriceData!G$15,CalculationsAndCharts!$A372+$A$11,IF($C$5,8,0),1,1))","v":1831712},{"$f":"IF(A372>$A$8,\"\",OFFSET(InputPriceData!C$15,CalculationsAndCharts!$A372+$A$11,IF($C$5,8,0),1,1))","v":3990},{"$f":"IF(A372>$A$8,\"\",OFFSET(InputPriceData!D$15,CalculationsAndCharts!$A372+$A$11,IF($C$5,8,0),1,1))","v":4003.25},{"$f":"IF(A372>$A$8,\"\",OFFSET(InputPriceData!E$15,CalculationsAndCharts!$A372+$A$11,IF($C$5,8,0),1,1))","v":3971.5},{"$f":"IF(A372>$A$8,\"\",OFFSET(InputPriceData!F$15,CalculationsAndCharts!$A372+$A$11,IF($C$5,8,0),1,1))","v":3995},5.25,0,{"$f":"IF($A372>$J$30,NA(),AVERAGE(H372:H375))","v":18.25},15.6875,null,null,{"$f":"IF($A372>$J$30,NA(),IF($A372>$N$30,0,(1-$M$35)*J372+(2*$M$35-$M$36)*J373-($M$35+$M$37)*J374+$M$36*N373+$M$37*N374))","v":13.235770126112874},15.892065182266256,-9.1194385989584778E-2,-0.14954516414035715,null,null,17.863558070208843,11.061102765572359,0.23517839477037245,-7.3405716958573869E-2,null,null,null,null,null,null,null,null,null,null,null,null,null,null,null,null,null,null,null,null,null,null,null,null,null,null,null,null,null,null,null,1831712,{"$error":"#N/A"}]
[341,{"$f":"IF(A373>$A$8,\"\",OFFSET(InputPriceData!B$15,$A373+$A$11,0,1,1))","v":"2023-03-07T05:00:00"},{"$f":"IF(A373>$A$8,\"\",OFFSET(InputPriceData!G$15,CalculationsAndCharts!$A373+$A$11,IF($C$5,8,0),1,1))","v":2141615},{"$f":"IF(A373>$A$8,\"\",OFFSET(InputPriceData!C$15,CalculationsAndCharts!$A373+$A$11,IF($C$5,8,0),1,1))","v":4053.75},{"$f":"IF(A373>$A$8,\"\",OFFSET(InputPriceData!D$15,CalculationsAndCharts!$A373+$A$11,IF($C$5,8,0),1,1))","v":4064.5},{"$f":"IF(A373>$A$8,\"\",OFFSET(InputPriceData!E$15,CalculationsAndCharts!$A373+$A$11,IF($C$5,8,0),1,1))","v":3982.5},{"$f":"IF(A373>$A$8,\"\",OFFSET(InputPriceData!F$15,CalculationsAndCharts!$A373+$A$11,IF($C$5,8,0),1,1))","v":3989.75},0,62.75,{"$f":"IF($A373>$J$30,NA(),AVERAGE(H373:H376))","v":24},15.6875,null,null,{"$f":"IF($A373>$J$30,NA(),IF($A373>$N$30,0,(1-$M$35)*J373+(2*$M$35-$M$36)*J374-($M$35+$M$37)*J375+$M$36*N374+$M$37*N375))","v":12.788561597531524},15.901776533131642,-0.10851091825484027,-0.20029788074459473,null,null,15.193396499574483,10.800775600736769,0.16898483559648039,-0.47084224093790916,null,null,null,null,null,null,null,null,null,null,null,null,null,null,null,null,null,null,null,null,null,null,null,null,null,null,null,null,null,null,null,{"$error":"#N/A"},2141615]
[342,{"$f":"IF(A374>$A$8,\"\",OFFSET(InputPriceData!B$15,$A374+$A$11,0,1,1))","v":"2023-03-06T05:00:00"},{"$f":"IF(A374>$A$8,\"\",OFFSET(InputPriceData!G$15,CalculationsAndCharts!$A374+$A$11,IF($C$5,8,0),1,1))","v":1528845},{"$f":"IF(A374>$A$8,\"\",OFFSET(InputPriceData!C$15,CalculationsAndCharts!$A374+$A$11,IF($C$5,8,0),1,1))","v":4049.25},{"$f":"IF(A374>$A$8,\"\",OFFSET(InputPriceData!D$15,CalculationsAndCharts!$A374+$A$11,IF($C$5,8,0),1,1))","v":4082.5},{"$f":"IF(A374>$A$8,\"\",OFFSET(InputPriceData!E$15,CalculationsAndCharts!$A374+$A$11,IF($C$5,8,0),1,1))","v":4041.75},{"$f":"IF(A374>$A$8,\"\",OFFSET(InputPriceData!F$15,CalculationsAndCharts!$A374+$A$11,IF($C$5,8,0),1,1))","v":4052.5},2.75,0,{"$f":"IF($A374>$J$30,NA(),AVERAGE(H374:H377))","v":24},4.75,null,null,{"$f":"IF($A374>$J$30,NA(),IF($A374>$N$30,0,(1-$M$35)*J374+(2*$M$35-$M$36)*J375-($M$35+$M$37)*J376+$M$36*N375+$M$37*N376))","v":12.099079119431977},16.354117004033377,-0.14954516414035715,-0.22475154044654722,null,null,10.887323789927828,12.612332940505675,-7.3405716958573869E-2,-0.78778600925519771,null,null,null,null,null,null,null,null,null,null,null,null,null,null,null,null,null,null,null,null,null,null,null,null,null,null,null,null,null,null,null,1528845,{"$error":"#N/A"}]
[343,{"$f":"IF(A375>$A$8,\"\",OFFSET(InputPriceData!B$15,$A375+$A$11,0,1,1))","v":"2023-03-03T05:00:00"},{"$f":"IF(A375>$A$8,\"\",OFFSET(InputPriceData!G$15,CalculationsAndCharts!$A375+$A$11,IF($C$5,8,0),1,1))","v":1665102},{"$f":"IF(A375>$A$8,\"\",OFFSET(InputPriceData!C$15,CalculationsAndCharts!$A375+$A$11,IF($C$5,8,0),1,1))","v":3983},{"$f":"IF(A375>$A$8,\"\",OFFSET(InputPriceData!D$15,CalculationsAndCharts!$A375+$A$11,IF($C$5,8,0),1,1))","v":4053},{"$f":"IF(A375>$A$8,\"\",OFFSET(InputPriceData!E$15,CalculationsAndCharts!$A375+$A$11,IF($C$5,8,0),1,1))","v":3974},{"$f":"IF(A375>$A$8,\"\",OFFSET(InputPriceData!F$15,CalculationsAndCharts!$A375+$A$11,IF($C$5,8,0),1,1))","v":4049.75},65,0,{"$f":"IF($A375>$J$30,NA(),AVERAGE(H375:H378))","v":23.3125},7.875,null,null,{"$f":"IF($A375>$J$30,NA(),IF($A375>$N$30,0,(1-$M$35)*J375+(2*$M$35-$M$36)*J376-($M$35+$M$37)*J377+$M$36*N376+$M$37*N377))","v":11.41944974872507},17.139808689548438,-0.20029788074459473,-0.20375483151888177,null,null,5.8650984393573822,16.302575903179008,-0.47084224093790916,-0.84235143373834143,null,null,null,null,null,null,null,null,null,null,null,null,null,null,null,null,null,null,null,null,null,null,null,null,null,null,null,null,null,null,null,1665102,{"$error":"#N/A"}]
[344,{"$f":"IF(A376>$A$8,\"\",OFFSET(InputPriceData!B$15,$A376+$A$11,0,1,1))","v":"2023-03-02T05:00:00"},{"$f":"IF(A376>$A$8,\"\",OFFSET(InputPriceData!G$15,CalculationsAndCharts!$A376+$A$11,IF($C$5,8,0),1,1))","v":1836555},{"$f":"IF(A376>$A$8,\"\",OFFSET(InputPriceData!C$15,CalculationsAndCharts!$A376+$A$11,IF($C$5,8,0),1,1))","v":3959.75},{"$f":"IF(A376>$A$8,\"\",OFFSET(InputPriceData!D$15,CalculationsAndCharts!$A376+$A$11,IF($C$5,8,0),1,1))","v":3995.25},{"$f":"IF(A376>$A$8,\"\",OFFSET(InputPriceData!E$15,CalculationsAndCharts!$A376+$A$11,IF($C$5,8,0),1,1))","v":3925},{"$f":"IF(A376>$A$8,\"\",OFFSET(InputPriceData!F$15,CalculationsAndCharts!$A376+$A$11,IF($C$5,8,0),1,1))","v":3984.75},28.25,0,{"$f":"IF($A376>$J$30,NA(),AVERAGE(H376:H379))","v":10.125},7.875,null,null,{"$f":"IF($A376>$J$30,NA(),IF($A376>$N$30,0,(1-$M$35)*J376+(2*$M$35-$M$36)*J377-($M$35+$M$37)*J378+$M$36*N377+$M$37*N378))","v":11.285149768269708},17.828483749351246,-0.22475154044654722,-0.17305325190380344,null,null,2.4030149924500028,20.2440780103836,-0.78778600925519771,-0.85213320462641562,null,null,null,null,null,null,null,null,null,null,null,null,null,null,null,null,null,null,null,null,null,null,null,null,null,null,null,null,null,null,null,1836555,{"$error":"#N/A"}]
[345,{"$f":"IF(A377>$A$8,\"\",OFFSET(InputPriceData!B$15,$A377+$A$11,0,1,1))","v":"2023-03-01T05:00:00"},{"$f":"IF(A377>$A$8,\"\",OFFSET(InputPriceData!G$15,CalculationsAndCharts!$A377+$A$11,IF($C$5,8,0),1,1))","v":2042321},{"$f":"IF(A377>$A$8,\"\",OFFSET(InputPriceData!C$15,CalculationsAndCharts!$A377+$A$11,IF($C$5,8,0),1,1))","v":3968.5},{"$f":"IF(A377>$A$8,\"\",OFFSET(InputPriceData!D$15,CalculationsAndCharts!$A377+$A$11,IF($C$5,8,0),1,1))","v":3991},{"$f":"IF(A377>$A$8,\"\",OFFSET(InputPriceData!E$15,CalculationsAndCharts!$A377+$A$11,IF($C$5,8,0),1,1))","v":3943},{"$f":"IF(A377>$A$8,\"\",OFFSET(InputPriceData!F$15,CalculationsAndCharts!$A377+$A$11,IF($C$5,8,0),1,1))","v":3956.5},0,19,{"$f":"IF($A377>$J$30,NA(),AVERAGE(H377:H380))","v":3.0625},18.625,null,null,{"$f":"IF($A377>$J$30,NA(),IF($A377>$N$30,0,(1-$M$35)*J377+(2*$M$35-$M$36)*J378-($M$35+$M$37)*J379+$M$36*N378+$M$37*N379))","v":11.976860105827001},18.10648753613992,-0.20375483151888177,-0.15625552744936075,null,null,1.9748627003686818,23.079126018956387,-0.84235143373834143,-0.90476482176366591,null,null,null,null,null,null,null,null,null,null,null,null,null,null,null,null,null,null,null,null,null,null,null,null,null,null,null,null,null,null,null,{"$error":"#N/A"},2042321]
[346,{"$f":"IF(A378>$A$8,\"\",OFFSET(InputPriceData!B$15,$A378+$A$11,0,1,1))","v":"2023-02-28T05:00:00"},{"$f":"IF(A378>$A$8,\"\",OFFSET(InputPriceData!G$15,CalculationsAndCharts!$A378+$A$11,IF($C$5,8,0),1,1))","v":1847930},{"$f":"IF(A378>$A$8,\"\",OFFSET(InputPriceData!C$15,CalculationsAndCharts!$A378+$A$11,IF($C$5,8,0),1,1))","v":3991.5},{"$f":"IF(A378>$A$8,\"\",OFFSET(InputPriceData!D$15,CalculationsAndCharts!$A378+$A$11,IF($C$5,8,0),1,1))","v":4003.75},{"$f":"IF(A378>$A$8,\"\",OFFSET(InputPriceData!E$15,CalculationsAndCharts!$A378+$A$11,IF($C$5,8,0),1,1))","v":3965},{"$f":"IF(A378>$A$8,\"\",OFFSET(InputPriceData!F$15,CalculationsAndCharts!$A378+$A$11,IF($C$5,8,0),1,1))","v":3975.5},0,12.5,{"$f":"IF($A378>$J$30,NA(),AVERAGE(H378:H381))","v":8},13.875,null,null,{"$f":"IF($A378>$J$30,NA(),IF($A378>$N$30,0,(1-$M$35)*J378+(2*$M$35-$M$36)*J379-($M$35+$M$37)*J380+$M$36*N379+$M$37*N380))","v":12.794030707524101},18.148785711982043,-0.17305325190380344,-0.114432737045261,null,null,2.0247354514930422,25.361202633897456,-0.85213320462641562,-0.89968215873550095,null,null,null,null,null,null,null,null,null,null,null,null,null,null,null,null,null,null,null,null,null,null,null,null,null,null,null,null,null,null,null,{"$error":"#N/A"},1847930]
[347,{"$f":"IF(A379>$A$8,\"\",OFFSET(InputPriceData!B$15,$A379+$A$11,0,1,1))","v":"2023-02-27T05:00:00"},{"$f":"IF(A379>$A$8,\"\",OFFSET(InputPriceData!G$15,CalculationsAndCharts!$A379+$A$11,IF($C$5,8,0),1,1))","v":1621961},{"$f":"IF(A379>$A$8,\"\",OFFSET(InputPriceData!C$15,CalculationsAndCharts!$A379+$A$11,IF($C$5,8,0),1,1))","v":3976.5},{"$f":"IF(A379>$A$8,\"\",OFFSET(InputPriceData!D$15,CalculationsAndCharts!$A379+$A$11,IF($C$5,8,0),1,1))","v":4024.75},{"$f":"IF(A379>$A$8,\"\",OFFSET(InputPriceData!E$15,CalculationsAndCharts!$A379+$A$11,IF($C$5,8,0),1,1))","v":3973},{"$f":"IF(A379>$A$8,\"\",OFFSET(InputPriceData!F$15,CalculationsAndCharts!$A379+$A$11,IF($C$5,8,0),1,1))","v":3988},12.25,0,{"$f":"IF($A379>$J$30,NA(),AVERAGE(H379:H382))","v":8},12.4375,null,null,{"$f":"IF($A379>$J$30,NA(),IF($A379>$N$30,0,(1-$M$35)*J379+(2*$M$35-$M$36)*J380-($M$35+$M$37)*J381+$M$36*N380+$M$37*N381))","v":13.455118746410434},18.43870499796472,-0.15625552744936075,-5.2456572072037896E-2,null,null,1.4510496051331052,29.021925444741882,-0.90476482176366591,-0.83423524838581997,null,null,null,null,null,null,null,null,null,null,null,null,null,null,null,null,null,null,null,null,null,null,null,null,null,null,null,null,null,null,null,1621961,{"$error":"#N/A"}]
[348,{"$f":"IF(A380>$A$8,\"\",OFFSET(InputPriceData!B$15,$A380+$A$11,0,1,1))","v":"2023-02-24T05:00:00"},{"$f":"IF(A380>$A$8,\"\",OFFSET(InputPriceData!G$15,CalculationsAndCharts!$A380+$A$11,IF($C$5,8,0),1,1))","v":2063242},{"$f":"IF(A380>$A$8,\"\",OFFSET(InputPriceData!C$15,CalculationsAndCharts!$A380+$A$11,IF($C$5,8,0),1,1))","v":4015.25},{"$f":"IF(A380>$A$8,\"\",OFFSET(InputPriceData!D$15,CalculationsAndCharts!$A380+$A$11,IF($C$5,8,0),1,1))","v":4023.25},{"$f":"IF(A380>$A$8,\"\",OFFSET(InputPriceData!E$15,CalculationsAndCharts!$A380+$A$11,IF($C$5,8,0),1,1))","v":3947.5},{"$f":"IF(A380>$A$8,\"\",OFFSET(InputPriceData!F$15,CalculationsAndCharts!$A380+$A$11,IF($C$5,8,0),1,1))","v":3975.75},0,43,{"$f":"IF($A380>$J$30,NA(),AVERAGE(H380:H383))","v":4.9375},32.875,null,null,{"$f":"IF($A380>$J$30,NA(),IF($A380>$N$30,0,(1-$M$35)*J380+(2*$M$35-$M$36)*J381-($M$35+$M$37)*J382+$M$36*N381+$M$37*N382))","v":14.276834304213102},17.966530827821561,-0.114432737045261,2.7449272636965484E-2,null,null,1.5761198045849216,29.846402544740936,-0.89968215873550095,-0.67365466579435829,null,null,null,null,null,null,null,null,null,null,null,null,null,null,null,null,null,null,null,null,null,null,null,null,null,null,null,null,null,null,null,{"$error":"#N/A"},2063242]
[349,{"$f":"IF(A381>$A$8,\"\",OFFSET(InputPriceData!B$15,$A381+$A$11,0,1,1))","v":"2023-02-23T05:00:00"},{"$f":"IF(A381>$A$8,\"\",OFFSET(InputPriceData!G$15,CalculationsAndCharts!$A381+$A$11,IF($C$5,8,0),1,1))","v":1955820},{"$f":"IF(A381>$A$8,\"\",OFFSET(InputPriceData!C$15,CalculationsAndCharts!$A381+$A$11,IF($C$5,8,0),1,1))","v":4010},{"$f":"IF(A381>$A$8,\"\",OFFSET(InputPriceData!D$15,CalculationsAndCharts!$A381+$A$11,IF($C$5,8,0),1,1))","v":4034.25},{"$f":"IF(A381>$A$8,\"\",OFFSET(InputPriceData!E$15,CalculationsAndCharts!$A381+$A$11,IF($C$5,8,0),1,1))","v":3974.25},{"$f":"IF(A381>$A$8,\"\",OFFSET(InputPriceData!F$15,CalculationsAndCharts!$A381+$A$11,IF($C$5,8,0),1,1))","v":4018.75},19.75,0,{"$f":"IF($A381>$J$30,NA(),AVERAGE(H381:H384))","v":4.9375},25.1875,null,null,{"$f":"IF($A381>$J$30,NA(),IF($A381>$N$30,0,(1-$M$35)*J381+(2*$M$35-$M$36)*J382-($M$35+$M$37)*J383+$M$36*N382+$M$37*N383))","v":15.26473567009657},16.954865501063864,-5.2456572072037896E-2,0.13174799397971421,null,null,2.5631581377234873,28.362091202248088,-0.83423524838581997,-0.39255498017137691,null,null,null,null,null,null,null,null,null,null,null,null,null,null,null,null,null,null,null,null,null,null,null,null,null,null,null,null,null,null,null,1955820,{"$error":"#N/A"}]
[350,{"$f":"IF(A382>$A$8,\"\",OFFSET(InputPriceData!B$15,$A382+$A$11,0,1,1))","v":"2023-02-22T05:00:00"},{"$f":"IF(A382>$A$8,\"\",OFFSET(InputPriceData!G$15,CalculationsAndCharts!$A382+$A$11,IF($C$5,8,0),1,1))","v":1925300},{"$f":"IF(A382>$A$8,\"\",OFFSET(InputPriceData!C$15,CalculationsAndCharts!$A382+$A$11,IF($C$5,8,0),1,1))","v":4007.5},{"$f":"IF(A382>$A$8,\"\",OFFSET(InputPriceData!D$15,CalculationsAndCharts!$A382+$A$11,IF($C$5,8,0),1,1))","v":4025},{"$f":"IF(A382>$A$8,\"\",OFFSET(InputPriceData!E$15,CalculationsAndCharts!$A382+$A$11,IF($C$5,8,0),1,1))","v":3983.75},{"$f":"IF(A382>$A$8,\"\",OFFSET(InputPriceData!F$15,CalculationsAndCharts!$A382+$A$11,IF($C$5,8,0),1,1))","v":3999},0,6.75,{"$f":"IF($A382>$J$30,NA(),AVERAGE(H382:H385))","v":0},39.8125,null,null,{"$f":"IF($A382>$J$30,NA(),IF($A382>$N$30,0,(1-$M$35)*J382+(2*$M$35-$M$36)*J383-($M$35+$M$37)*J384+$M$36*N383+$M$37*N384))","v":16.500158074198744},15.618523623537664,2.7449272636965484E-2,0.20676880257968316,null,null,4.9078943346789572,25.17002509766273,-0.67365466579435829,-0.12547650017957981,null,null,null,null,null,null,null,null,null,null,null,null,null,null,null,null,null,null,null,null,null,null,null,null,null,null,null,null,null,null,null,{"$error":"#N/A"},1925300]
[351,{"$f":"IF(A383>$A$8,\"\",OFFSET(InputPriceData!B$15,$A383+$A$11,0,1,1))","v":"2023-02-21T05:00:00"},{"$f":"IF(A383>$A$8,\"\",OFFSET(InputPriceData!G$15,CalculationsAndCharts!$A383+$A$11,IF($C$5,8,0),1,1))","v":1883040},{"$f":"IF(A383>$A$8,\"\",OFFSET(InputPriceData!C$15,CalculationsAndCharts!$A383+$A$11,IF($C$5,8,0),1,1))","v":4083},{"$f":"IF(A383>$A$8,\"\",OFFSET(InputPriceData!D$15,CalculationsAndCharts!$A383+$A$11,IF($C$5,8,0),1,1))","v":4089.25},{"$f":"IF(A383>$A$8,\"\",OFFSET(InputPriceData!E$15,CalculationsAndCharts!$A383+$A$11,IF($C$5,8,0),1,1))","v":4002},{"$f":"IF(A383>$A$8,\"\",OFFSET(InputPriceData!F$15,CalculationsAndCharts!$A383+$A$11,IF($C$5,8,0),1,1))","v":4005.75},0,81.75,{"$f":"IF($A383>$J$30,NA(),AVERAGE(H383:H386))","v":3.1875},38.125,null,null,{"$f":"IF($A383>$J$30,NA(),IF($A383>$N$30,0,(1-$M$35)*J383+(2*$M$35-$M$36)*J384-($M$35+$M$37)*J385+$M$36*N384+$M$37*N385))","v":17.862444640084234},13.703672083961678,0.13174799397971421,0.23620946886379965,null,null,8.2852233529854633,18.993700936567365,-0.39255498017137691,-2.4522877988013003E-2,null,null,null,null,null,null,null,null,null,null,null,null,null,null,null,null,null,null,null,null,null,null,null,null,null,null,null,null,null,null,null,{"$error":"#N/A"},1883040]
[352,{"$f":"IF(A384>$A$8,\"\",OFFSET(InputPriceData!B$15,$A384+$A$11,0,1,1))","v":"2023-02-17T05:00:00"},{"$f":"IF(A384>$A$8,\"\",OFFSET(InputPriceData!G$15,CalculationsAndCharts!$A384+$A$11,IF($C$5,8,0),1,1))","v":2008448},{"$f":"IF(A384>$A$8,\"\",OFFSET(InputPriceData!C$15,CalculationsAndCharts!$A384+$A$11,IF($C$5,8,0),1,1))","v":4095.5},{"$f":"IF(A384>$A$8,\"\",OFFSET(InputPriceData!D$15,CalculationsAndCharts!$A384+$A$11,IF($C$5,8,0),1,1))","v":4096},{"$f":"IF(A384>$A$8,\"\",OFFSET(InputPriceData!E$15,CalculationsAndCharts!$A384+$A$11,IF($C$5,8,0),1,1))","v":4055.75},{"$f":"IF(A384>$A$8,\"\",OFFSET(InputPriceData!F$15,CalculationsAndCharts!$A384+$A$11,IF($C$5,8,0),1,1))","v":4087.5},0,12.25,{"$f":"IF($A384>$J$30,NA(),AVERAGE(H384:H387))","v":3.1875},18.125,null,null,{"$f":"IF($A384>$J$30,NA(),IF($A384>$N$30,0,(1-$M$35)*J384+(2*$M$35-$M$36)*J385-($M$35+$M$37)*J386+$M$36*N385+$M$37*N386))","v":19.154974800701051},12.590915148979256,0.20676880257968316,0.22579494343763962,null,null,11.980817723196635,15.418829571946027,-0.12547650017957981,-8.5009112675472773E-2,null,null,null,null,null,null,null,null,null,null,null,null,null,null,null,null,null,null,null,null,null,null,null,null,null,null,null,null,null,null,null,{"$error":"#N/A"},2008448]
[353,{"$f":"IF(A385>$A$8,\"\",OFFSET(InputPriceData!B$15,$A385+$A$11,0,1,1))","v":"2023-02-16T05:00:00"},{"$f":"IF(A385>$A$8,\"\",OFFSET(InputPriceData!G$15,CalculationsAndCharts!$A385+$A$11,IF($C$5,8,0),1,1))","v":2042993},{"$f":"IF(A385>$A$8,\"\",OFFSET(InputPriceData!C$15,CalculationsAndCharts!$A385+$A$11,IF($C$5,8,0),1,1))","v":4159},{"$f":"IF(A385>$A$8,\"\",OFFSET(InputPriceData!D$15,CalculationsAndCharts!$A385+$A$11,IF($C$5,8,0),1,1))","v":4168.5},{"$f":"IF(A385>$A$8,\"\",OFFSET(InputPriceData!E$15,CalculationsAndCharts!$A385+$A$11,IF($C$5,8,0),1,1))","v":4095},{"$f":"IF(A385>$A$8,\"\",OFFSET(InputPriceData!F$15,CalculationsAndCharts!$A385+$A$11,IF($C$5,8,0),1,1))","v":4099.75},0,58.5,{"$f":"IF($A385>$J$30,NA(),AVERAGE(H385:H388))","v":15.0625},15.0625,null,null,{"$f":"IF($A385>$J$30,NA(),IF($A385>$N$30,0,(1-$M$35)*J385+(2*$M$35-$M$36)*J386-($M$35+$M$37)*J387+$M$36*N386+$M$37*N387))","v":20.021481451364703},12.370248195822761,0.23620946886379965,0.20939263384171933,null,null,14.495629673773795,15.224451600660579,-2.4522877988013003E-2,-0.14728196648583086,null,null,null,null,null,null,null,null,null,null,null,null,null,null,null,null,null,null,null,null,null,null,null,null,null,null,null,null,null,null,null,{"$error":"#N/A"},2042993]
[354,{"$f":"IF(A386>$A$8,\"\",OFFSET(InputPriceData!B$15,$A386+$A$11,0,1,1))","v":"2023-02-15T05:00:00"},{"$f":"IF(A386>$A$8,\"\",OFFSET(InputPriceData!G$15,CalculationsAndCharts!$A386+$A$11,IF($C$5,8,0),1,1))","v":1611550},{"$f":"IF(A386>$A$8,\"\",OFFSET(InputPriceData!C$15,CalculationsAndCharts!$A386+$A$11,IF($C$5,8,0),1,1))","v":4141.25},{"$f":"IF(A386>$A$8,\"\",OFFSET(InputPriceData!D$15,CalculationsAndCharts!$A386+$A$11,IF($C$5,8,0),1,1))","v":4161.75},{"$f":"IF(A386>$A$8,\"\",OFFSET(InputPriceData!E$15,CalculationsAndCharts!$A386+$A$11,IF($C$5,8,0),1,1))","v":4113},{"$f":"IF(A386>$A$8,\"\",OFFSET(InputPriceData!F$15,CalculationsAndCharts!$A386+$A$11,IF($C$5,8,0),1,1))","v":4158.25},12.75,0,{"$f":"IF($A386>$J$30,NA(),AVERAGE(H386:H389))","v":17.0625},0.4375,null,null,{"$f":"IF($A386>$J$30,NA(),IF($A386>$N$30,0,(1-$M$35)*J386+(2*$M$35-$M$36)*J387-($M$35+$M$37)*J388+$M$36*N387+$M$37*N388))","v":20.362474202155035},12.8608219309652,0.22579494343763962,0.22483173598169326,null,null,15.246739264450591,18.079798683993275,-8.5009112675472773E-2,-0.10995930541601602,null,null,null,null,null,null,null,null,null,null,null,null,null,null,null,null,null,null,null,null,null,null,null,null,null,null,null,null,null,null,null,1611550,{"$error":"#N/A"}]
[355,{"$f":"IF(A387>$A$8,\"\",OFFSET(InputPriceData!B$15,$A387+$A$11,0,1,1))","v":"2023-02-14T05:00:00"},{"$f":"IF(A387>$A$8,\"\",OFFSET(InputPriceData!G$15,CalculationsAndCharts!$A387+$A$11,IF($C$5,8,0),1,1))","v":2379034},{"$f":"IF(A387>$A$8,\"\",OFFSET(InputPriceData!C$15,CalculationsAndCharts!$A387+$A$11,IF($C$5,8,0),1,1))","v":4149.75},{"$f":"IF(A387>$A$8,\"\",OFFSET(InputPriceData!D$15,CalculationsAndCharts!$A387+$A$11,IF($C$5,8,0),1,1))","v":4186.5},{"$f":"IF(A387>$A$8,\"\",OFFSET(InputPriceData!E$15,CalculationsAndCharts!$A387+$A$11,IF($C$5,8,0),1,1))","v":4103.75},{"$f":"IF(A387>$A$8,\"\",OFFSET(InputPriceData!F$15,CalculationsAndCharts!$A387+$A$11,IF($C$5,8,0),1,1))","v":4145.5},0,1.75,{"$f":"IF($A387>$J$30,NA(),AVERAGE(H387:H390))","v":13.875},10.125,null,null,{"$f":"IF($A387>$J$30,NA(),IF($A387>$N$30,0,(1-$M$35)*J387+(2*$M$35-$M$36)*J388-($M$35+$M$37)*J389+$M$36*N388+$M$37*N389))","v":20.765587908138421},13.574935305030317,0.20939263384171933,0.25496217430767365,null,null,16.530652155775016,22.241020322288826,-0.14728196648583086,-3.0180492836163902E-2,null,null,null,null,null,null,null,null,null,null,null,null,null,null,null,null,null,null,null,null,null,null,null,null,null,null,null,null,null,null,null,{"$error":"#N/A"},2379034]
[356,{"$f":"IF(A388>$A$8,\"\",OFFSET(InputPriceData!B$15,$A388+$A$11,0,1,1))","v":"2023-02-13T05:00:00"},{"$f":"IF(A388>$A$8,\"\",OFFSET(InputPriceData!G$15,CalculationsAndCharts!$A388+$A$11,IF($C$5,8,0),1,1))","v":1376325},{"$f":"IF(A388>$A$8,\"\",OFFSET(InputPriceData!C$15,CalculationsAndCharts!$A388+$A$11,IF($C$5,8,0),1,1))","v":4105},{"$f":"IF(A388>$A$8,\"\",OFFSET(InputPriceData!D$15,CalculationsAndCharts!$A388+$A$11,IF($C$5,8,0),1,1))","v":4150.75},{"$f":"IF(A388>$A$8,\"\",OFFSET(InputPriceData!E$15,CalculationsAndCharts!$A388+$A$11,IF($C$5,8,0),1,1))","v":4078.75},{"$f":"IF(A388>$A$8,\"\",OFFSET(InputPriceData!F$15,CalculationsAndCharts!$A388+$A$11,IF($C$5,8,0),1,1))","v":4147.25},47.5,0,{"$f":"IF($A388>$J$30,NA(),AVERAGE(H388:H391))","v":13.875},21,null,null,{"$f":"IF($A388>$J$30,NA(),IF($A388>$N$30,0,(1-$M$35)*J388+(2*$M$35-$M$36)*J389-($M$35+$M$37)*J390+$M$36*N389+$M$37*N390))","v":21.313607330567784},13.488899339436305,0.22483173598169326,0.29592469385055536,null,null,18.77947126568457,23.41965823470828,-0.10995930541601602,9.0403997542923817E-2,null,null,null,null,null,null,null,null,null,null,null,null,null,null,null,null,null,null,null,null,null,null,null,null,null,null,null,null,null,null,null,1376325,{"$error":"#N/A"}]
[357,{"$f":"IF(A389>$A$8,\"\",OFFSET(InputPriceData!B$15,$A389+$A$11,0,1,1))","v":"2023-02-10T05:00:00"},{"$f":"IF(A389>$A$8,\"\",OFFSET(InputPriceData!G$15,CalculationsAndCharts!$A389+$A$11,IF($C$5,8,0),1,1))","v":1744956},{"$f":"IF(A389>$A$8,\"\",OFFSET(InputPriceData!C$15,CalculationsAndCharts!$A389+$A$11,IF($C$5,8,0),1,1))","v":4098},{"$f":"IF(A389>$A$8,\"\",OFFSET(InputPriceData!D$15,CalculationsAndCharts!$A389+$A$11,IF($C$5,8,0),1,1))","v":4104.25},{"$f":"IF(A389>$A$8,\"\",OFFSET(InputPriceData!E$15,CalculationsAndCharts!$A389+$A$11,IF($C$5,8,0),1,1))","v":4060.75},{"$f":"IF(A389>$A$8,\"\",OFFSET(InputPriceData!F$15,CalculationsAndCharts!$A389+$A$11,IF($C$5,8,0),1,1))","v":4099.75},8,0,{"$f":"IF($A389>$J$30,NA(),AVERAGE(H389:H392))","v":15.0625},21,null,null,{"$f":"IF($A389>$J$30,NA(),IF($A389>$N$30,0,(1-$M$35)*J389+(2*$M$35-$M$36)*J390-($M$35+$M$37)*J391+$M$36*N390+$M$37*N391))","v":21.834472651687129},12.962548483603385,0.25496217430767365,0.35197941990407977,null,null,21.374494632586185,22.704830385518019,-3.0180492836163902E-2,0.27036979088790863,null,null,null,null,null,null,null,null,null,null,null,null,null,null,null,null,null,null,null,null,null,null,null,null,null,null,null,null,null,null,null,1744956,{"$error":"#N/A"}]
[358,{"$f":"IF(A390>$A$8,\"\",OFFSET(InputPriceData!B$15,$A390+$A$11,0,1,1))","v":"2023-02-09T05:00:00"},{"$f":"IF(A390>$A$8,\"\",OFFSET(InputPriceData!G$15,CalculationsAndCharts!$A390+$A$11,IF($C$5,8,0),1,1))","v":1828571},{"$f":"IF(A390>$A$8,\"\",OFFSET(InputPriceData!C$15,CalculationsAndCharts!$A390+$A$11,IF($C$5,8,0),1,1))","v":4132.25},{"$f":"IF(A390>$A$8,\"\",OFFSET(InputPriceData!D$15,CalculationsAndCharts!$A390+$A$11,IF($C$5,8,0),1,1))","v":4170.25},{"$f":"IF(A390>$A$8,\"\",OFFSET(InputPriceData!E$15,CalculationsAndCharts!$A390+$A$11,IF($C$5,8,0),1,1))","v":4078.25},{"$f":"IF(A390>$A$8,\"\",OFFSET(InputPriceData!F$15,CalculationsAndCharts!$A390+$A$11,IF($C$5,8,0),1,1))","v":4091.75},0,38.75,{"$f":"IF($A390>$J$30,NA(),AVERAGE(H390:H393))","v":13.0625},27.0625,null,null,{"$f":"IF($A390>$J$30,NA(),IF($A390>$N$30,0,(1-$M$35)*J390+(2*$M$35-$M$36)*J391-($M$35+$M$37)*J392+$M$36*N391+$M$37*N392))","v":22.407100276987933},12.173767551697637,0.29592469385055536,0.38376602028816431,null,null,24.670853775249281,20.579996058099962,9.0403997542923817E-2,0.39570509076236021,null,null,null,null,null,null,null,null,null,null,null,null,null,null,null,null,null,null,null,null,null,null,null,null,null,null,null,null,null,null,null,{"$error":"#N/A"},1828571]
[359,{"$f":"IF(A391>$A$8,\"\",OFFSET(InputPriceData!B$15,$A391+$A$11,0,1,1))","v":"2023-02-08T05:00:00"},{"$f":"IF(A391>$A$8,\"\",OFFSET(InputPriceData!G$15,CalculationsAndCharts!$A391+$A$11,IF($C$5,8,0),1,1))","v":1804101},{"$f":"IF(A391>$A$8,\"\",OFFSET(InputPriceData!C$15,CalculationsAndCharts!$A391+$A$11,IF($C$5,8,0),1,1))","v":4167.25},{"$f":"IF(A391>$A$8,\"\",OFFSET(InputPriceData!D$15,CalculationsAndCharts!$A391+$A$11,IF($C$5,8,0),1,1))","v":4179.25},{"$f":"IF(A391>$A$8,\"\",OFFSET(InputPriceData!E$15,CalculationsAndCharts!$A391+$A$11,IF($C$5,8,0),1,1))","v":4121.25},{"$f":"IF(A391>$A$8,\"\",OFFSET(InputPriceData!F$15,CalculationsAndCharts!$A391+$A$11,IF($C$5,8,0),1,1))","v":4130.5},0,45.25,{"$f":"IF($A391>$J$30,NA(),AVERAGE(H391:H394))","v":13.0625},28.3125,null,null,{"$f":"IF($A391>$J$30,NA(),IF($A391>$N$30,0,(1-$M$35)*J391+(2*$M$35-$M$36)*J392-($M$35+$M$37)*J393+$M$36*N392+$M$37*N393))","v":23.080605103508553},11.062821584371171,0.35197941990407977,0.38904851521048894,null,null,28.916205014524099,16.607870293207345,0.27036979088790863,0.45786225517152668,null,null,null,null,null,null,null,null,null,null,null,null,null,null,null,null,null,null,null,null,null,null,null,null,null,null,null,null,null,null,null,{"$error":"#N/A"},1804101]
[360,{"$f":"IF(A392>$A$8,\"\",OFFSET(InputPriceData!B$15,$A392+$A$11,0,1,1))","v":"2023-02-07T05:00:00"},{"$f":"IF(A392>$A$8,\"\",OFFSET(InputPriceData!G$15,CalculationsAndCharts!$A392+$A$11,IF($C$5,8,0),1,1))","v":2180936},{"$f":"IF(A392>$A$8,\"\",OFFSET(InputPriceData!C$15,CalculationsAndCharts!$A392+$A$11,IF($C$5,8,0),1,1))","v":4123.5},{"$f":"IF(A392>$A$8,\"\",OFFSET(InputPriceData!D$15,CalculationsAndCharts!$A392+$A$11,IF($C$5,8,0),1,1))","v":4188.25},{"$f":"IF(A392>$A$8,\"\",OFFSET(InputPriceData!E$15,CalculationsAndCharts!$A392+$A$11,IF($C$5,8,0),1,1))","v":4098.25},{"$f":"IF(A392>$A$8,\"\",OFFSET(InputPriceData!F$15,CalculationsAndCharts!$A392+$A$11,IF($C$5,8,0),1,1))","v":4175.75},52.25,0,{"$f":"IF($A392>$J$30,NA(),AVERAGE(H392:H395))","v":27.875},17,null,null,{"$f":"IF($A392>$J$30,NA(),IF($A392>$N$30,0,(1-$M$35)*J392+(2*$M$35-$M$36)*J393-($M$35+$M$37)*J394+$M$36*N393+$M$37*N394))","v":23.177606866637866},10.321708085193675,0.38376602028816431,0.37438456888596655,null,null,31.264405069987724,13.536470526031664,0.39570509076236021,0.47225006171986805,null,null,null,null,null,null,null,null,null,null,null,null,null,null,null,null,null,null,null,null,null,null,null,null,null,null,null,null,null,null,null,2180936,{"$error":"#N/A"}]
[361,{"$f":"IF(A393>$A$8,\"\",OFFSET(InputPriceData!B$15,$A393+$A$11,0,1,1))","v":"2023-02-06T05:00:00"},{"$f":"IF(A393>$A$8,\"\",OFFSET(InputPriceData!G$15,CalculationsAndCharts!$A393+$A$11,IF($C$5,8,0),1,1))","v":1560324},{"$f":"IF(A393>$A$8,\"\",OFFSET(InputPriceData!C$15,CalculationsAndCharts!$A393+$A$11,IF($C$5,8,0),1,1))","v":4134.25},{"$f":"IF(A393>$A$8,\"\",OFFSET(InputPriceData!D$15,CalculationsAndCharts!$A393+$A$11,IF($C$5,8,0),1,1))","v":4143},{"$f":"IF(A393>$A$8,\"\",OFFSET(InputPriceData!E$15,CalculationsAndCharts!$A393+$A$11,IF($C$5,8,0),1,1))","v":4104},{"$f":"IF(A393>$A$8,\"\",OFFSET(InputPriceData!F$15,CalculationsAndCharts!$A393+$A$11,IF($C$5,8,0),1,1))","v":4123.5},0,24.25,{"$f":"IF($A393>$J$30,NA(),AVERAGE(H393:H396))","v":25.375},17,null,null,{"$f":"IF($A393>$J$30,NA(),IF($A393>$N$30,0,(1-$M$35)*J393+(2*$M$35-$M$36)*J394-($M$35+$M$37)*J395+$M$36*N394+$M$37*N395))","v":22.77558816015005},10.017489850805903,0.38904851521048894,0.33800540245985383,null,null,31.73532473758776,11.801469805260048,0.45786225517152668,0.42530623678028329,null,null,null,null,null,null,null,null,null,null,null,null,null,null,null,null,null,null,null,null,null,null,null,null,null,null,null,null,null,null,null,{"$error":"#N/A"},1560324]
[362,{"$f":"IF(A394>$A$8,\"\",OFFSET(InputPriceData!B$15,$A394+$A$11,0,1,1))","v":"2023-02-03T05:00:00"},{"$f":"IF(A394>$A$8,\"\",OFFSET(InputPriceData!G$15,CalculationsAndCharts!$A394+$A$11,IF($C$5,8,0),1,1))","v":2354996},{"$f":"IF(A394>$A$8,\"\",OFFSET(InputPriceData!C$15,CalculationsAndCharts!$A394+$A$11,IF($C$5,8,0),1,1))","v":4176},{"$f":"IF(A394>$A$8,\"\",OFFSET(InputPriceData!D$15,CalculationsAndCharts!$A394+$A$11,IF($C$5,8,0),1,1))","v":4194},{"$f":"IF(A394>$A$8,\"\",OFFSET(InputPriceData!E$15,CalculationsAndCharts!$A394+$A$11,IF($C$5,8,0),1,1))","v":4132.5},{"$f":"IF(A394>$A$8,\"\",OFFSET(InputPriceData!F$15,CalculationsAndCharts!$A394+$A$11,IF($C$5,8,0),1,1))","v":4147.75},0,43.75,{"$f":"IF($A394>$J$30,NA(),AVERAGE(H394:H397))","v":39.75},10.9375,null,null,{"$f":"IF($A394>$J$30,NA(),IF($A394>$N$30,0,(1-$M$35)*J394+(2*$M$35-$M$36)*J395-($M$35+$M$37)*J396+$M$36*N395+$M$37*N396))","v":21.872521600464236},9.9563014169440898,0.37438456888596655,0.31169253303226518,null,null,30.038595484506292,10.767781455856001,0.47225006171986805,0.40774595147633907,null,null,null,null,null,null,null,null,null,null,null,null,null,null,null,null,null,null,null,null,null,null,null,null,null,null,null,null,null,null,null,{"$error":"#N/A"},2354996]
[363,{"$f":"IF(A395>$A$8,\"\",OFFSET(InputPriceData!B$15,$A395+$A$11,0,1,1))","v":"2023-02-02T05:00:00"},{"$f":"IF(A395>$A$8,\"\",OFFSET(InputPriceData!G$15,CalculationsAndCharts!$A395+$A$11,IF($C$5,8,0),1,1))","v":2290729},{"$f":"IF(A395>$A$8,\"\",OFFSET(InputPriceData!C$15,CalculationsAndCharts!$A395+$A$11,IF($C$5,8,0),1,1))","v":4145.5},{"$f":"IF(A395>$A$8,\"\",OFFSET(InputPriceData!D$15,CalculationsAndCharts!$A395+$A$11,IF($C$5,8,0),1,1))","v":4208.5},{"$f":"IF(A395>$A$8,\"\",OFFSET(InputPriceData!E$15,CalculationsAndCharts!$A395+$A$11,IF($C$5,8,0),1,1))","v":4136.75},{"$f":"IF(A395>$A$8,\"\",OFFSET(InputPriceData!F$15,CalculationsAndCharts!$A395+$A$11,IF($C$5,8,0),1,1))","v":4191.5},59.25,0,{"$f":"IF($A395>$J$30,NA(),AVERAGE(H395:H398))","v":39.75},12.9375,null,null,{"$f":"IF($A395>$J$30,NA(),IF($A395>$N$30,0,(1-$M$35)*J395+(2*$M$35-$M$36)*J396-($M$35+$M$37)*J397+$M$36*N396+$M$37*N397))","v":20.348285944279983},10.06756425613133,0.33800540245985383,0.29421693911352376,null,null,25.385265679962654,10.235522365288698,0.42530623678028329,0.42500776299533277,null,null,null,null,null,null,null,null,null,null,null,null,null,null,null,null,null,null,null,null,null,null,null,null,null,null,null,null,null,null,null,2290729,{"$error":"#N/A"}]
[364,{"$f":"IF(A396>$A$8,\"\",OFFSET(InputPriceData!B$15,$A396+$A$11,0,1,1))","v":"2023-02-01T05:00:00"},{"$f":"IF(A396>$A$8,\"\",OFFSET(InputPriceData!G$15,CalculationsAndCharts!$A396+$A$11,IF($C$5,8,0),1,1))","v":2000400},{"$f":"IF(A396>$A$8,\"\",OFFSET(InputPriceData!C$15,CalculationsAndCharts!$A396+$A$11,IF($C$5,8,0),1,1))","v":4085.75},{"$f":"IF(A396>$A$8,\"\",OFFSET(InputPriceData!D$15,CalculationsAndCharts!$A396+$A$11,IF($C$5,8,0),1,1))","v":4163.25},{"$f":"IF(A396>$A$8,\"\",OFFSET(InputPriceData!E$15,CalculationsAndCharts!$A396+$A$11,IF($C$5,8,0),1,1))","v":4048.5},{"$f":"IF(A396>$A$8,\"\",OFFSET(InputPriceData!F$15,CalculationsAndCharts!$A396+$A$11,IF($C$5,8,0),1,1))","v":4132.25},42.25,0,{"$f":"IF($A396>$J$30,NA(),AVERAGE(H396:H399))","v":27.125},12.9375,null,null,{"$f":"IF($A396>$J$30,NA(),IF($A396>$N$30,0,(1-$M$35)*J396+(2*$M$35-$M$36)*J397-($M$35+$M$37)*J398+$M$36*N397+$M$37*N398))","v":19.272531999821368},10.113214300447156,0.31169253303226518,0.2894859396093919,null,null,22.012739201003598,9.2609990440515944,0.40774595147633907,0.49875351501775256,null,null,null,null,null,null,null,null,null,null,null,null,null,null,null,null,null,null,null,null,null,null,null,null,null,null,null,null,null,null,null,2000400,{"$error":"#N/A"}]
[365,{"$f":"IF(A397>$A$8,\"\",OFFSET(InputPriceData!B$15,$A397+$A$11,0,1,1))","v":"2023-01-31T05:00:00"},{"$f":"IF(A397>$A$8,\"\",OFFSET(InputPriceData!G$15,CalculationsAndCharts!$A397+$A$11,IF($C$5,8,0),1,1))","v":1790751},{"$f":"IF(A397>$A$8,\"\",OFFSET(InputPriceData!C$15,CalculationsAndCharts!$A397+$A$11,IF($C$5,8,0),1,1))","v":4039.25},{"$f":"IF(A397>$A$8,\"\",OFFSET(InputPriceData!D$15,CalculationsAndCharts!$A397+$A$11,IF($C$5,8,0),1,1))","v":4091.25},{"$f":"IF(A397>$A$8,\"\",OFFSET(InputPriceData!E$15,CalculationsAndCharts!$A397+$A$11,IF($C$5,8,0),1,1))","v":4007.5},{"$f":"IF(A397>$A$8,\"\",OFFSET(InputPriceData!F$15,CalculationsAndCharts!$A397+$A$11,IF($C$5,8,0),1,1))","v":4090},57.5,0,{"$f":"IF($A397>$J$30,NA(),AVERAGE(H397:H400))","v":27.4375},12.9375,null,null,{"$f":"IF($A397>$J$30,NA(),IF($A397>$N$30,0,(1-$M$35)*J397+(2*$M$35-$M$36)*J398-($M$35+$M$37)*J399+$M$36*N398+$M$37*N399))","v":18.652498387166574},10.171878459488882,0.29421693911352376,0.27748522698409045,null,null,20.172107540560432,8.1394681075035997,0.42500776299533277,0.51525059350127689,null,null,null,null,null,null,null,null,null,null,null,null,null,null,null,null,null,null,null,null,null,null,null,null,null,null,null,null,null,null,null,1790751,{"$error":"#N/A"}]
[366,{"$f":"IF(A398>$A$8,\"\",OFFSET(InputPriceData!B$15,$A398+$A$11,0,1,1))","v":"2023-01-30T05:00:00"},{"$f":"IF(A398>$A$8,\"\",OFFSET(InputPriceData!G$15,CalculationsAndCharts!$A398+$A$11,IF($C$5,8,0),1,1))","v":1786112},{"$f":"IF(A398>$A$8,\"\",OFFSET(InputPriceData!C$15,CalculationsAndCharts!$A398+$A$11,IF($C$5,8,0),1,1))","v":4077},{"$f":"IF(A398>$A$8,\"\",OFFSET(InputPriceData!D$15,CalculationsAndCharts!$A398+$A$11,IF($C$5,8,0),1,1))","v":4086},{"$f":"IF(A398>$A$8,\"\",OFFSET(InputPriceData!E$15,CalculationsAndCharts!$A398+$A$11,IF($C$5,8,0),1,1))","v":4029.5},{"$f":"IF(A398>$A$8,\"\",OFFSET(InputPriceData!F$15,CalculationsAndCharts!$A398+$A$11,IF($C$5,8,0),1,1))","v":4032.5},0,51.75,{"$f":"IF($A398>$J$30,NA(),AVERAGE(H398:H401))","v":13.0625},13.125,null,null,{"$f":"IF($A398>$J$30,NA(),IF($A398>$N$30,0,(1-$M$35)*J398+(2*$M$35-$M$36)*J399-($M$35+$M$37)*J400+$M$36*N399+$M$37*N400))","v":18.578489285486402},10.236852882748725,0.2894859396093919,0.2363017818502402,null,null,20.481733432372685,6.8499568384322256,0.49875351501775256,0.41389075594641406,null,null,null,null,null,null,null,null,null,null,null,null,null,null,null,null,null,null,null,null,null,null,null,null,null,null,null,null,null,null,null,{"$error":"#N/A"},1786112]
[367,{"$f":"IF(A399>$A$8,\"\",OFFSET(InputPriceData!B$15,$A399+$A$11,0,1,1))","v":"2023-01-27T05:00:00"},{"$f":"IF(A399>$A$8,\"\",OFFSET(InputPriceData!G$15,CalculationsAndCharts!$A399+$A$11,IF($C$5,8,0),1,1))","v":1587936},{"$f":"IF(A399>$A$8,\"\",OFFSET(InputPriceData!C$15,CalculationsAndCharts!$A399+$A$11,IF($C$5,8,0),1,1))","v":4065},{"$f":"IF(A399>$A$8,\"\",OFFSET(InputPriceData!D$15,CalculationsAndCharts!$A399+$A$11,IF($C$5,8,0),1,1))","v":4109.25},{"$f":"IF(A399>$A$8,\"\",OFFSET(InputPriceData!E$15,CalculationsAndCharts!$A399+$A$11,IF($C$5,8,0),1,1))","v":4057.25},{"$f":"IF(A399>$A$8,\"\",OFFSET(InputPriceData!F$15,CalculationsAndCharts!$A399+$A$11,IF($C$5,8,0),1,1))","v":4084.25},8.75,0,{"$f":"IF($A399>$J$30,NA(),AVERAGE(H399:H402))","v":13.0625},1.125,null,null,{"$f":"IF($A399>$J$30,NA(),IF($A399>$N$30,0,(1-$M$35)*J399+(2*$M$35-$M$36)*J400-($M$35+$M$37)*J401+$M$36*N400+$M$37*N401))","v":19.085451341656331},10.794270064928698,0.27748522698409045,0.17873134446611758,null,null,23.365220026110187,7.4748537231702787,0.51525059350127689,0.26828492200428233,null,null,null,null,null,null,null,null,null,null,null,null,null,null,null,null,null,null,null,null,null,null,null,null,null,null,null,null,null,null,null,1587936,{"$error":"#N/A"}]
[368,{"$f":"IF(A400>$A$8,\"\",OFFSET(InputPriceData!B$15,$A400+$A$11,0,1,1))","v":"2023-01-26T05:00:00"},{"$f":"IF(A400>$A$8,\"\",OFFSET(InputPriceData!G$15,CalculationsAndCharts!$A400+$A$11,IF($C$5,8,0),1,1))","v":1613804},{"$f":"IF(A400>$A$8,\"\",OFFSET(InputPriceData!C$15,CalculationsAndCharts!$A400+$A$11,IF($C$5,8,0),1,1))","v":4031},{"$f":"IF(A400>$A$8,\"\",OFFSET(InputPriceData!D$15,CalculationsAndCharts!$A400+$A$11,IF($C$5,8,0),1,1))","v":4077},{"$f":"IF(A400>$A$8,\"\",OFFSET(InputPriceData!E$15,CalculationsAndCharts!$A400+$A$11,IF($C$5,8,0),1,1))","v":4027.25},{"$f":"IF(A400>$A$8,\"\",OFFSET(InputPriceData!F$15,CalculationsAndCharts!$A400+$A$11,IF($C$5,8,0),1,1))","v":4075.5},43.5,0,{"$f":"IF($A400>$J$30,NA(),AVERAGE(H400:H403))","v":22.875},1.125,null,null,{"$f":"IF($A400>$J$30,NA(),IF($A400>$N$30,0,(1-$M$35)*J400+(2*$M$35-$M$36)*J401-($M$35+$M$37)*J402+$M$36*N401+$M$37*N402))","v":19.217538367570352},11.871211401615493,0.2363017818502402,0.12304599303743578,null,null,25.030289122138637,10.375967007436449,0.41389075594641406,0.12730903381713377,null,null,null,null,null,null,null,null,null,null,null,null,null,null,null,null,null,null,null,null,null,null,null,null,null,null,null,null,null,null,null,1613804,{"$error":"#N/A"}]
[369,{"$f":"IF(A401>$A$8,\"\",OFFSET(InputPriceData!B$15,$A401+$A$11,0,1,1))","v":"2023-01-25T05:00:00"},{"$f":"IF(A401>$A$8,\"\",OFFSET(InputPriceData!G$15,CalculationsAndCharts!$A401+$A$11,IF($C$5,8,0),1,1))","v":1760515},{"$f":"IF(A401>$A$8,\"\",OFFSET(InputPriceData!C$15,CalculationsAndCharts!$A401+$A$11,IF($C$5,8,0),1,1))","v":4039},{"$f":"IF(A401>$A$8,\"\",OFFSET(InputPriceData!D$15,CalculationsAndCharts!$A401+$A$11,IF($C$5,8,0),1,1))","v":4040.5},{"$f":"IF(A401>$A$8,\"\",OFFSET(InputPriceData!E$15,CalculationsAndCharts!$A401+$A$11,IF($C$5,8,0),1,1))","v":3963.25},{"$f":"IF(A401>$A$8,\"\",OFFSET(InputPriceData!F$15,CalculationsAndCharts!$A401+$A$11,IF($C$5,8,0),1,1))","v":4032},0,0.75,{"$f":"IF($A401>$J$30,NA(),AVERAGE(H401:H404))","v":30.25},1.125,null,null,{"$f":"IF($A401>$J$30,NA(),IF($A401>$N$30,0,(1-$M$35)*J401+(2*$M$35-$M$36)*J402-($M$35+$M$37)*J403+$M$36*N402+$M$37*N403))","v":18.661039607071004},13.001882898011175,0.17873134446611758,9.6322808266736434E-2,null,null,23.944978891381712,13.814641957128009,0.26828492200428233,7.6226192298026657E-2,null,null,null,null,null,null,null,null,null,null,null,null,null,null,null,null,null,null,null,null,null,null,null,null,null,null,null,null,null,null,null,{"$error":"#N/A"},1760515]
[370,{"$f":"IF(A402>$A$8,\"\",OFFSET(InputPriceData!B$15,$A402+$A$11,0,1,1))","v":"2023-01-24T05:00:00"},{"$f":"IF(A402>$A$8,\"\",OFFSET(InputPriceData!G$15,CalculationsAndCharts!$A402+$A$11,IF($C$5,8,0),1,1))","v":1472856},{"$f":"IF(A402>$A$8,\"\",OFFSET(InputPriceData!C$15,CalculationsAndCharts!$A402+$A$11,IF($C$5,8,0),1,1))","v":4036.5},{"$f":"IF(A402>$A$8,\"\",OFFSET(InputPriceData!D$15,CalculationsAndCharts!$A402+$A$11,IF($C$5,8,0),1,1))","v":4047.5},{"$f":"IF(A402>$A$8,\"\",OFFSET(InputPriceData!E$15,CalculationsAndCharts!$A402+$A$11,IF($C$5,8,0),1,1))","v":4005.25},{"$f":"IF(A402>$A$8,\"\",OFFSET(InputPriceData!F$15,CalculationsAndCharts!$A402+$A$11,IF($C$5,8,0),1,1))","v":4032.75},0,3.75,{"$f":"IF($A402>$J$30,NA(),AVERAGE(H402:H405))","v":30.25},8.5,null,null,{"$f":"IF($A402>$J$30,NA(),IF($A402>$N$30,0,(1-$M$35)*J402+(2*$M$35-$M$36)*J403-($M$35+$M$37)*J404+$M$36*N403+$M$37*N404))","v":17.786073238147551},13.888628151494766,0.12304599303743578,0.10699919300007692,null,null,21.340618446371238,16.520549709286428,0.12730903381713377,0.18371778477586206,null,null,null,null,null,null,null,null,null,null,null,null,null,null,null,null,null,null,null,null,null,null,null,null,null,null,null,null,null,null,null,{"$error":"#N/A"},1472856]
[371,{"$f":"IF(A403>$A$8,\"\",OFFSET(InputPriceData!B$15,$A403+$A$11,0,1,1))","v":"2023-01-23T05:00:00"},{"$f":"IF(A403>$A$8,\"\",OFFSET(InputPriceData!G$15,CalculationsAndCharts!$A403+$A$11,IF($C$5,8,0),1,1))","v":1594736},{"$f":"IF(A403>$A$8,\"\",OFFSET(InputPriceData!C$15,CalculationsAndCharts!$A403+$A$11,IF($C$5,8,0),1,1))","v":3987},{"$f":"IF(A403>$A$8,\"\",OFFSET(InputPriceData!D$15,CalculationsAndCharts!$A403+$A$11,IF($C$5,8,0),1,1))","v":4056.75},{"$f":"IF(A403>$A$8,\"\",OFFSET(InputPriceData!E$15,CalculationsAndCharts!$A403+$A$11,IF($C$5,8,0),1,1))","v":3980.25},{"$f":"IF(A403>$A$8,\"\",OFFSET(InputPriceData!F$15,CalculationsAndCharts!$A403+$A$11,IF($C$5,8,0),1,1))","v":4036.5},48,0,{"$f":"IF($A403>$J$30,NA(),AVERAGE(H403:H406))","v":30.25},23.5,null,null,{"$f":"IF($A403>$J$30,NA(),IF($A403>$N$30,0,(1-$M$35)*J403+(2*$M$35-$M$36)*J404-($M$35+$M$37)*J405+$M$36*N404+$M$37*N405))","v":16.879674032626838},13.913581211808424,9.6322808266736434E-2,0.15426237818178321,null,null,18.289356718638611,15.698585313483861,7.6226192298026657E-2,0.51163018622102896,null,null,null,null,null,null,null,null,null,null,null,null,null,null,null,null,null,null,null,null,null,null,null,null,null,null,null,null,null,null,null,1594736,{"$error":"#N/A"}]
[372,{"$f":"IF(A404>$A$8,\"\",OFFSET(InputPriceData!B$15,$A404+$A$11,0,1,1))","v":"2023-01-20T05:00:00"},{"$f":"IF(A404>$A$8,\"\",OFFSET(InputPriceData!G$15,CalculationsAndCharts!$A404+$A$11,IF($C$5,8,0),1,1))","v":1620355},{"$f":"IF(A404>$A$8,\"\",OFFSET(InputPriceData!C$15,CalculationsAndCharts!$A404+$A$11,IF($C$5,8,0),1,1))","v":3925},{"$f":"IF(A404>$A$8,\"\",OFFSET(InputPriceData!D$15,CalculationsAndCharts!$A404+$A$11,IF($C$5,8,0),1,1))","v":3990.5},{"$f":"IF(A404>$A$8,\"\",OFFSET(InputPriceData!E$15,CalculationsAndCharts!$A404+$A$11,IF($C$5,8,0),1,1))","v":3911.75},{"$f":"IF(A404>$A$8,\"\",OFFSET(InputPriceData!F$15,CalculationsAndCharts!$A404+$A$11,IF($C$5,8,0),1,1))","v":3988.5},73,0,{"$f":"IF($A404>$J$30,NA(),AVERAGE(H404:H407))","v":18.25},25.6875,null,null,{"$f":"IF($A404>$J$30,NA(),IF($A404>$N$30,0,(1-$M$35)*J404+(2*$M$35-$M$36)*J405-($M$35+$M$37)*J406+$M$36*N405+$M$37*N406))","v":16.427731490234201},13.252021835896832,0.10699919300007692,0.20342356332454606,null,null,16.867832203572362,11.631920728274142,0.18371778477586206,0.87266532486157999,null,null,null,null,null,null,null,null,null,null,null,null,null,null,null,null,null,null,null,null,null,null,null,null,null,null,null,null,null,null,null,1620355,{"$error":"#N/A"}]
[373,{"$f":"IF(A405>$A$8,\"\",OFFSET(InputPriceData!B$15,$A405+$A$11,0,1,1))","v":"2023-01-19T05:00:00"},{"$f":"IF(A405>$A$8,\"\",OFFSET(InputPriceData!G$15,CalculationsAndCharts!$A405+$A$11,IF($C$5,8,0),1,1))","v":1896890},{"$f":"IF(A405>$A$8,\"\",OFFSET(InputPriceData!C$15,CalculationsAndCharts!$A405+$A$11,IF($C$5,8,0),1,1))","v":3945.25},{"$f":"IF(A405>$A$8,\"\",OFFSET(InputPriceData!D$15,CalculationsAndCharts!$A405+$A$11,IF($C$5,8,0),1,1))","v":3948.75},{"$f":"IF(A405>$A$8,\"\",OFFSET(InputPriceData!E$15,CalculationsAndCharts!$A405+$A$11,IF($C$5,8,0),1,1))","v":3901.75},{"$f":"IF(A405>$A$8,\"\",OFFSET(InputPriceData!F$15,CalculationsAndCharts!$A405+$A$11,IF($C$5,8,0),1,1))","v":3915.5},0,30.25,{"$f":"IF($A405>$J$30,NA(),AVERAGE(H405:H408))","v":3.6875},25.6875,null,null,{"$f":"IF($A405>$J$30,NA(),IF($A405>$N$30,0,(1-$M$35)*J405+(2*$M$35-$M$36)*J406-($M$35+$M$37)*J407+$M$36*N406+$M$37*N407))","v":17.038797618696933},12.484468392167567,0.15426237818178321,0.19857300844133108,null,null,19.918662757995822,6.4352205390705102,0.51163018622102896,0.96584741039745114,null,null,null,null,null,null,null,null,null,null,null,null,null,null,null,null,null,null,null,null,null,null,null,null,null,null,null,null,null,null,null,{"$error":"#N/A"},1896890]
[374,{"$f":"IF(A406>$A$8,\"\",OFFSET(InputPriceData!B$15,$A406+$A$11,0,1,1))","v":"2023-01-18T05:00:00"},{"$f":"IF(A406>$A$8,\"\",OFFSET(InputPriceData!G$15,CalculationsAndCharts!$A406+$A$11,IF($C$5,8,0),1,1))","v":1902551},{"$f":"IF(A406>$A$8,\"\",OFFSET(InputPriceData!C$15,CalculationsAndCharts!$A406+$A$11,IF($C$5,8,0),1,1))","v":4008.5},{"$f":"IF(A406>$A$8,\"\",OFFSET(InputPriceData!D$15,CalculationsAndCharts!$A406+$A$11,IF($C$5,8,0),1,1))","v":4033.5},{"$f":"IF(A406>$A$8,\"\",OFFSET(InputPriceData!E$15,CalculationsAndCharts!$A406+$A$11,IF($C$5,8,0),1,1))","v":3943.75},{"$f":"IF(A406>$A$8,\"\",OFFSET(InputPriceData!F$15,CalculationsAndCharts!$A406+$A$11,IF($C$5,8,0),1,1))","v":3945.75},0,63.75,{"$f":"IF($A406>$J$30,NA(),AVERAGE(H406:H409))","v":7.0625},18.125,null,null,{"$f":"IF($A406>$J$30,NA(),IF($A406>$N$30,0,(1-$M$35)*J406+(2*$M$35-$M$36)*J407-($M$35+$M$37)*J408+$M$36*N407+$M$37*N408))","v":18.133084347996544},12.002746294877966,0.20342356332454606,0.14683250166048778,null,null,25.504515275871722,1.7342176010313251,0.87266532486157999,0.84673109290771498,null,null,null,null,null,null,null,null,null,null,null,null,null,null,null,null,null,null,null,null,null,null,null,null,null,null,null,null,null,null,null,{"$error":"#N/A"},1902551]
[375,{"$f":"IF(A407>$A$8,\"\",OFFSET(InputPriceData!B$15,$A407+$A$11,0,1,1))","v":"2023-01-17T05:00:00"},{"$f":"IF(A407>$A$8,\"\",OFFSET(InputPriceData!G$15,CalculationsAndCharts!$A407+$A$11,IF($C$5,8,0),1,1))","v":1423931},{"$f":"IF(A407>$A$8,\"\",OFFSET(InputPriceData!C$15,CalculationsAndCharts!$A407+$A$11,IF($C$5,8,0),1,1))","v":4020},{"$f":"IF(A407>$A$8,\"\",OFFSET(InputPriceData!D$15,CalculationsAndCharts!$A407+$A$11,IF($C$5,8,0),1,1))","v":4035.25},{"$f":"IF(A407>$A$8,\"\",OFFSET(InputPriceData!E$15,CalculationsAndCharts!$A407+$A$11,IF($C$5,8,0),1,1))","v":3996.75},{"$f":"IF(A407>$A$8,\"\",OFFSET(InputPriceData!F$15,CalculationsAndCharts!$A407+$A$11,IF($C$5,8,0),1,1))","v":4009.5},0,8.75,{"$f":"IF($A407>$J$30,NA(),AVERAGE(H407:H410))","v":19.375},2.1875,null,null,{"$f":"IF($A407>$J$30,NA(),IF($A407>$N$30,0,(1-$M$35)*J407+(2*$M$35-$M$36)*J408-($M$35+$M$37)*J409+$M$36*N408+$M$37*N409))","v":18.64123448218389},12.464479313967159,0.19857300844133108,9.0310463218881129E-2,null,null,29.291065722978907,0.50887253067924032,0.96584741039745114,0.69650940025650199,null,null,null,null,null,null,null,null,null,null,null,null,null,null,null,null,null,null,null,null,null,null,null,null,null,null,null,null,null,null,null,{"$error":"#N/A"},1423931]
[376,{"$f":"IF(A408>$A$8,\"\",OFFSET(InputPriceData!B$15,$A408+$A$11,0,1,1))","v":"2023-01-13T05:00:00"},{"$f":"IF(A408>$A$8,\"\",OFFSET(InputPriceData!G$15,CalculationsAndCharts!$A408+$A$11,IF($C$5,8,0),1,1))","v":1456784},{"$f":"IF(A408>$A$8,\"\",OFFSET(InputPriceData!C$15,CalculationsAndCharts!$A408+$A$11,IF($C$5,8,0),1,1))","v":4003},{"$f":"IF(A408>$A$8,\"\",OFFSET(InputPriceData!D$15,CalculationsAndCharts!$A408+$A$11,IF($C$5,8,0),1,1))","v":4024.25},{"$f":"IF(A408>$A$8,\"\",OFFSET(InputPriceData!E$15,CalculationsAndCharts!$A408+$A$11,IF($C$5,8,0),1,1))","v":3961.75},{"$f":"IF(A408>$A$8,\"\",OFFSET(InputPriceData!F$15,CalculationsAndCharts!$A408+$A$11,IF($C$5,8,0),1,1))","v":4018.25},14.75,0,{"$f":"IF($A408>$J$30,NA(),AVERAGE(H408:H411))","v":26.125},0,null,null,{"$f":"IF($A408>$J$30,NA(),IF($A408>$N$30,0,(1-$M$35)*J408+(2*$M$35-$M$36)*J409-($M$35+$M$37)*J410+$M$36*N409+$M$37*N410))","v":18.402320369285803},13.690108721520849,0.14683250166048778,1.8437314153306635E-2,null,null,30.265418312710086,2.5118695435923515,0.84673109290771498,0.50998131947251513,null,null,null,null,null,null,null,null,null,null,null,null,null,null,null,null,null,null,null,null,null,null,null,null,null,null,null,null,null,null,null,1456784,{"$error":"#N/A"}]
[377,{"$f":"IF(A409>$A$8,\"\",OFFSET(InputPriceData!B$15,$A409+$A$11,0,1,1))","v":"2023-01-12T05:00:00"},{"$f":"IF(A409>$A$8,\"\",OFFSET(InputPriceData!G$15,CalculationsAndCharts!$A409+$A$11,IF($C$5,8,0),1,1))","v":2102587},{"$f":"IF(A409>$A$8,\"\",OFFSET(InputPriceData!C$15,CalculationsAndCharts!$A409+$A$11,IF($C$5,8,0),1,1))","v":3991.75},{"$f":"IF(A409>$A$8,\"\",OFFSET(InputPriceData!D$15,CalculationsAndCharts!$A409+$A$11,IF($C$5,8,0),1,1))","v":4021.5},{"$f":"IF(A409>$A$8,\"\",OFFSET(InputPriceData!E$15,CalculationsAndCharts!$A409+$A$11,IF($C$5,8,0),1,1))","v":3954},{"$f":"IF(A409>$A$8,\"\",OFFSET(InputPriceData!F$15,CalculationsAndCharts!$A409+$A$11,IF($C$5,8,0),1,1))","v":4003.5},13.5,0,{"$f":"IF($A409>$J$30,NA(),AVERAGE(H409:H412))","v":22.4375},0.4375,null,null,{"$f":"IF($A409>$J$30,NA(),IF($A409>$N$30,0,(1-$M$35)*J409+(2*$M$35-$M$36)*J410-($M$35+$M$37)*J411+$M$36*N410+$M$37*N411))","v":18.034006619293606},15.046491509748485,9.0310463218881129E-2,-4.8900273268447703E-2,null,null,30.633613462576971,5.4800838242701904,0.69650940025650199,0.34514303806654784,null,null,null,null,null,null,null,null,null,null,null,null,null,null,null,null,null,null,null,null,null,null,null,null,null,null,null,null,null,null,null,2102587,{"$error":"#N/A"}]
[378,{"$f":"IF(A410>$A$8,\"\",OFFSET(InputPriceData!B$15,$A410+$A$11,0,1,1))","v":"2023-01-11T05:00:00"},{"$f":"IF(A410>$A$8,\"\",OFFSET(InputPriceData!G$15,CalculationsAndCharts!$A410+$A$11,IF($C$5,8,0),1,1))","v":1398769},{"$f":"IF(A410>$A$8,\"\",OFFSET(InputPriceData!C$15,CalculationsAndCharts!$A410+$A$11,IF($C$5,8,0),1,1))","v":3941},{"$f":"IF(A410>$A$8,\"\",OFFSET(InputPriceData!D$15,CalculationsAndCharts!$A410+$A$11,IF($C$5,8,0),1,1))","v":3992.5},{"$f":"IF(A410>$A$8,\"\",OFFSET(InputPriceData!E$15,CalculationsAndCharts!$A410+$A$11,IF($C$5,8,0),1,1))","v":3934.5},{"$f":"IF(A410>$A$8,\"\",OFFSET(InputPriceData!F$15,CalculationsAndCharts!$A410+$A$11,IF($C$5,8,0),1,1))","v":3990},49.25,0,{"$f":"IF($A410>$J$30,NA(),AVERAGE(H410:H413))","v":40.6875},0.4375,null,null,{"$f":"IF($A410>$J$30,NA(),IF($A410>$N$30,0,(1-$M$35)*J410+(2*$M$35-$M$36)*J411-($M$35+$M$37)*J412+$M$36*N411+$M$37*N412))","v":17.066541317856341},16.448611908918092,1.8437314153306635E-2,-9.1210330813425625E-2,null,null,28.260386642234153,9.1710521150432012,0.50998131947251513,0.23863051911305858,null,null,null,null,null,null,null,null,null,null,null,null,null,null,null,null,null,null,null,null,null,null,null,null,null,null,null,null,null,null,null,1398769,{"$error":"#N/A"}]
[379,{"$f":"IF(A411>$A$8,\"\",OFFSET(InputPriceData!B$15,$A411+$A$11,0,1,1))","v":"2023-01-10T05:00:00"},{"$f":"IF(A411>$A$8,\"\",OFFSET(InputPriceData!G$15,CalculationsAndCharts!$A411+$A$11,IF($C$5,8,0),1,1))","v":1520955},{"$f":"IF(A411>$A$8,\"\",OFFSET(InputPriceData!C$15,CalculationsAndCharts!$A411+$A$11,IF($C$5,8,0),1,1))","v":3914.5},{"$f":"IF(A411>$A$8,\"\",OFFSET(InputPriceData!D$15,CalculationsAndCharts!$A411+$A$11,IF($C$5,8,0),1,1))","v":3943.75},{"$f":"IF(A411>$A$8,\"\",OFFSET(InputPriceData!E$15,CalculationsAndCharts!$A411+$A$11,IF($C$5,8,0),1,1))","v":3891.5},{"$f":"IF(A411>$A$8,\"\",OFFSET(InputPriceData!F$15,CalculationsAndCharts!$A411+$A$11,IF($C$5,8,0),1,1))","v":3940.75},27,0,{"$f":"IF($A411>$J$30,NA(),AVERAGE(H411:H414))","v":28.375},11.8125,null,null,{"$f":"IF($A411>$J$30,NA(),IF($A411>$N$30,0,(1-$M$35)*J411+(2*$M$35-$M$36)*J412-($M$35+$M$37)*J413+$M$36*N412+$M$37*N413))","v":15.826428811141355},17.453843207290969,-4.8900273268447703E-2,-0.13253302067196851,null,null,24.17476001000415,11.769015969020261,0.34514303806654784,0.10675071412122451,null,null,null,null,null,null,null,null,null,null,null,null,null,null,null,null,null,null,null,null,null,null,null,null,null,null,null,null,null,null,null,1520955,{"$error":"#N/A"}]
[380,{"$f":"IF(A412>$A$8,\"\",OFFSET(InputPriceData!B$15,$A412+$A$11,0,1,1))","v":"2023-01-09T05:00:00"},{"$f":"IF(A412>$A$8,\"\",OFFSET(InputPriceData!G$15,CalculationsAndCharts!$A412+$A$11,IF($C$5,8,0),1,1))","v":1697887},{"$f":"IF(A412>$A$8,\"\",OFFSET(InputPriceData!C$15,CalculationsAndCharts!$A412+$A$11,IF($C$5,8,0),1,1))","v":3918.5},{"$f":"IF(A412>$A$8,\"\",OFFSET(InputPriceData!D$15,CalculationsAndCharts!$A412+$A$11,IF($C$5,8,0),1,1))","v":3973.25},{"$f":"IF(A412>$A$8,\"\",OFFSET(InputPriceData!E$15,CalculationsAndCharts!$A412+$A$11,IF($C$5,8,0),1,1))","v":3909.75},{"$f":"IF(A412>$A$8,\"\",OFFSET(InputPriceData!F$15,CalculationsAndCharts!$A412+$A$11,IF($C$5,8,0),1,1))","v":3913.75},0,1.75,{"$f":"IF($A412>$J$30,NA(),AVERAGE(H412:H415))","v":28.75},11.8125,null,null,{"$f":"IF($A412>$J$30,NA(),IF($A412>$N$30,0,(1-$M$35)*J412+(2*$M$35-$M$36)*J413-($M$35+$M$37)*J414+$M$36*N413+$M$37*N414))","v":15.028156774879941},18.044747296160203,-9.1210330813425625E-2,-0.13888488760616094,null,null,21.227238217072482,13.048097146491125,0.23863051911305858,7.1537191871905756E-2,null,null,null,null,null,null,null,null,null,null,null,null,null,null,null,null,null,null,null,null,null,null,null,null,null,null,null,null,null,null,null,{"$error":"#N/A"},1697887]
[381,{"$f":"IF(A413>$A$8,\"\",OFFSET(InputPriceData!B$15,$A413+$A$11,0,1,1))","v":"2023-01-06T05:00:00"},{"$f":"IF(A413>$A$8,\"\",OFFSET(InputPriceData!G$15,CalculationsAndCharts!$A413+$A$11,IF($C$5,8,0),1,1))","v":2026154},{"$f":"IF(A413>$A$8,\"\",OFFSET(InputPriceData!C$15,CalculationsAndCharts!$A413+$A$11,IF($C$5,8,0),1,1))","v":3833},{"$f":"IF(A413>$A$8,\"\",OFFSET(InputPriceData!D$15,CalculationsAndCharts!$A413+$A$11,IF($C$5,8,0),1,1))","v":3928.75},{"$f":"IF(A413>$A$8,\"\",OFFSET(InputPriceData!E$15,CalculationsAndCharts!$A413+$A$11,IF($C$5,8,0),1,1))","v":3819},{"$f":"IF(A413>$A$8,\"\",OFFSET(InputPriceData!F$15,CalculationsAndCharts!$A413+$A$11,IF($C$5,8,0),1,1))","v":3915.5},86.5,0,{"$f":"IF($A413>$J$30,NA(),AVERAGE(H413:H416))","v":28.75},15.125,null,null,{"$f":"IF($A413>$J$30,NA(),IF($A413>$N$30,0,(1-$M$35)*J413+(2*$M$35-$M$36)*J414-($M$35+$M$37)*J415+$M$36*N414+$M$37*N415))","v":14.19311513953269},18.530009723449748,-0.13253302067196851,-0.14628744527596002,null,null,17.547323629890286,14.162298791854624,0.10675071412122451,3.3824272375562732E-3,null,null,null,null,null,null,null,null,null,null,null,null,null,null,null,null,null,null,null,null,null,null,null,null,null,null,null,null,null,null,null,2026154,{"$error":"#N/A"}]
[382,{"$f":"IF(A414>$A$8,\"\",OFFSET(InputPriceData!B$15,$A414+$A$11,0,1,1))","v":"2023-01-05T05:00:00"},{"$f":"IF(A414>$A$8,\"\",OFFSET(InputPriceData!G$15,CalculationsAndCharts!$A414+$A$11,IF($C$5,8,0),1,1))","v":1679973},{"$f":"IF(A414>$A$8,\"\",OFFSET(InputPriceData!C$15,CalculationsAndCharts!$A414+$A$11,IF($C$5,8,0),1,1))","v":3871},{"$f":"IF(A414>$A$8,\"\",OFFSET(InputPriceData!D$15,CalculationsAndCharts!$A414+$A$11,IF($C$5,8,0),1,1))","v":3885.5},{"$f":"IF(A414>$A$8,\"\",OFFSET(InputPriceData!E$15,CalculationsAndCharts!$A414+$A$11,IF($C$5,8,0),1,1))","v":3822.5},{"$f":"IF(A414>$A$8,\"\",OFFSET(InputPriceData!F$15,CalculationsAndCharts!$A414+$A$11,IF($C$5,8,0),1,1))","v":3829},0,45.5,{"$f":"IF($A414>$J$30,NA(),AVERAGE(H414:H417))","v":7.125},17.8125,null,null,{"$f":"IF($A414>$J$30,NA(),IF($A414>$N$30,0,(1-$M$35)*J414+(2*$M$35-$M$36)*J415-($M$35+$M$37)*J416+$M$36*N415+$M$37*N416))","v":14.21173080533147},18.796006721940266,-0.13888488760616094,-0.16482591552290229,null,null,16.87278794452731,14.619890186507316,7.1537191871905756E-2,-0.11718305512139128,null,null,null,null,null,null,null,null,null,null,null,null,null,null,null,null,null,null,null,null,null,null,null,null,null,null,null,null,null,null,null,{"$error":"#N/A"},1679973]
[383,{"$f":"IF(A415>$A$8,\"\",OFFSET(InputPriceData!B$15,$A415+$A$11,0,1,1))","v":"2023-01-04T05:00:00"},{"$f":"IF(A415>$A$8,\"\",OFFSET(InputPriceData!G$15,CalculationsAndCharts!$A415+$A$11,IF($C$5,8,0),1,1))","v":1912155},{"$f":"IF(A415>$A$8,\"\",OFFSET(InputPriceData!C$15,CalculationsAndCharts!$A415+$A$11,IF($C$5,8,0),1,1))","v":3842.75},{"$f":"IF(A415>$A$8,\"\",OFFSET(InputPriceData!D$15,CalculationsAndCharts!$A415+$A$11,IF($C$5,8,0),1,1))","v":3896.25},{"$f":"IF(A415>$A$8,\"\",OFFSET(InputPriceData!E$15,CalculationsAndCharts!$A415+$A$11,IF($C$5,8,0),1,1))","v":3836.5},{"$f":"IF(A415>$A$8,\"\",OFFSET(InputPriceData!F$15,CalculationsAndCharts!$A415+$A$11,IF($C$5,8,0),1,1))","v":3874.5},28.5,0,{"$f":"IF($A415>$J$30,NA(),AVERAGE(H415:H418))","v":23.1875},6.4375,null,null,{"$f":"IF($A415>$J$30,NA(),IF($A415>$N$30,0,(1-$M$35)*J415+(2*$M$35-$M$36)*J416-($M$35+$M$37)*J417+$M$36*N416+$M$37*N417))","v":14.469137288950558},19.42783941330179,-0.14628744527596002,-0.16208180875666203,null,null,16.965705294198926,16.85132166113204,3.3824272375562732E-3,-0.16736551166365535,null,null,null,null,null,null,null,null,null,null,null,null,null,null,null,null,null,null,null,null,null,null,null,null,null,null,null,null,null,null,null,1912155,{"$error":"#N/A"}]
[384,{"$f":"IF(A416>$A$8,\"\",OFFSET(InputPriceData!B$15,$A416+$A$11,0,1,1))","v":"2023-01-03T05:00:00"},{"$f":"IF(A416>$A$8,\"\",OFFSET(InputPriceData!G$15,CalculationsAndCharts!$A416+$A$11,IF($C$5,8,0),1,1))","v":1782473},{"$f":"IF(A416>$A$8,\"\",OFFSET(InputPriceData!C$15,CalculationsAndCharts!$A416+$A$11,IF($C$5,8,0),1,1))","v":3895},{"$f":"IF(A416>$A$8,\"\",OFFSET(InputPriceData!D$15,CalculationsAndCharts!$A416+$A$11,IF($C$5,8,0),1,1))","v":3906.75},{"$f":"IF(A416>$A$8,\"\",OFFSET(InputPriceData!E$15,CalculationsAndCharts!$A416+$A$11,IF($C$5,8,0),1,1))","v":3814.5},{"$f":"IF(A416>$A$8,\"\",OFFSET(InputPriceData!F$15,CalculationsAndCharts!$A416+$A$11,IF($C$5,8,0),1,1))","v":3846},0,15,{"$f":"IF($A416>$J$30,NA(),AVERAGE(H416:H419))","v":16.0625},18.3125,null,null,{"$f":"IF($A416>$J$30,NA(),IF($A416>$N$30,0,(1-$M$35)*J416+(2*$M$35-$M$36)*J417-($M$35+$M$37)*J418+$M$36*N417+$M$37*N418))","v":14.388434326015421},20.067697858747032,-0.16482591552290229,-0.16835550299033586,null,null,15.449686059134432,19.551196397327328,-0.11718305512139128,-0.26798938125229582,null,null,null,null,null,null,null,null,null,null,null,null,null,null,null,null,null,null,null,null,null,null,null,null,null,null,null,null,null,null,null,{"$error":"#N/A"},1782473]
[385,{"$f":"IF(A417>$A$8,\"\",OFFSET(InputPriceData!B$15,$A417+$A$11,0,1,1))","v":"2022-12-30T05:00:00"},{"$f":"IF(A417>$A$8,\"\",OFFSET(InputPriceData!G$15,CalculationsAndCharts!$A417+$A$11,IF($C$5,8,0),1,1))","v":1401810},{"$f":"IF(A417>$A$8,\"\",OFFSET(InputPriceData!C$15,CalculationsAndCharts!$A417+$A$11,IF($C$5,8,0),1,1))","v":3869.75},{"$f":"IF(A417>$A$8,\"\",OFFSET(InputPriceData!D$15,CalculationsAndCharts!$A417+$A$11,IF($C$5,8,0),1,1))","v":3871},{"$f":"IF(A417>$A$8,\"\",OFFSET(InputPriceData!E$15,CalculationsAndCharts!$A417+$A$11,IF($C$5,8,0),1,1))","v":3821.5},{"$f":"IF(A417>$A$8,\"\",OFFSET(InputPriceData!F$15,CalculationsAndCharts!$A417+$A$11,IF($C$5,8,0),1,1))","v":3861},0,10.75,{"$f":"IF($A417>$J$30,NA(),AVERAGE(H417:H420))","v":16.0625},18.25,null,null,{"$f":"IF($A417>$J$30,NA(),IF($A417>$N$30,0,(1-$M$35)*J417+(2*$M$35-$M$36)*J418-($M$35+$M$37)*J419+$M$36*N418+$M$37*N419))","v":14.606486857888729},20.257267170926458,-0.16208180875666203,-0.14894295006152208,null,null,{"$f":"IF($A417>$J$30,NA(),IF($A417>$N$30,0,(1-S$35)*$J417+(2*S$35-S$36)*$J418-(S$35+S$37)*$J419+S$36*T418+S$37*T419))","v":14.839092394966427},{"$f":"IF($A417>$J$30,NA(),IF($A417>$N$30,0,(1-S$35)*$K417+(2*S$35-S$36)*$K418-(S$35+S$37)*$K419+S$36*U418+S$37*U419))","v":20.804620669612135},{"$f":"IF($A417>$N$30,NA(),(T417-U417)/(T417+U417))","v":-0.16736551166365535},{"$f":"IF($A417>$N$30,NA(),OFFSET(V417,$C$18,0,1,1))","v":-0.28000454150568704},null,null,null,null,null,null,null,null,null,null,null,null,null,null,null,null,null,null,null,null,null,null,null,null,null,null,null,null,null,null,null,{"$error":"#N/A"},1401810]
[386,{"$f":"IF(A418>$A$8,\"\",OFFSET(InputPriceData!B$15,$A418+$A$11,0,1,1))","v":"2022-12-29T05:00:00"},{"$f":"IF(A418>$A$8,\"\",OFFSET(InputPriceData!G$15,CalculationsAndCharts!$A418+$A$11,IF($C$5,8,0),1,1))","v":1146984},{"$f":"IF(A418>$A$8,\"\",OFFSET(InputPriceData!C$15,CalculationsAndCharts!$A418+$A$11,IF($C$5,8,0),1,1))","v":3811},{"$f":"IF(A418>$A$8,\"\",OFFSET(InputPriceData!D$15,CalculationsAndCharts!$A418+$A$11,IF($C$5,8,0),1,1))","v":3882.75},{"$f":"IF(A418>$A$8,\"\",OFFSET(InputPriceData!E$15,CalculationsAndCharts!$A418+$A$11,IF($C$5,8,0),1,1))","v":3806.25},{"$f":"IF(A418>$A$8,\"\",OFFSET(InputPriceData!F$15,CalculationsAndCharts!$A418+$A$11,IF($C$5,8,0),1,1))","v":3871.75},{"$f":"IF($A418>$H$30,NA(),IF($G418>$G419,$G418-$G419,0))","v":64.25},{"$f":"IF($A418>$H$30,NA(),IF(G418<G419,G419-G418,0))","v":0},{"$f":"IF($A418>$J$30,NA(),AVERAGE(H418:H421))","v":21.1875},15.5625,null,null,{"$f":"IF($A418>$J$30,NA(),IF($A418>$N$30,0,(1-$M$35)*J418+(2*$M$35-$M$36)*J419-($M$35+$M$37)*J420+$M$36*N419+$M$37*N420))","v":14.639950958765423},20.567282447831143,{"$f":"IF($A418>$N$30,NA(),(N418-O418)/(N418+O418))","v":-0.16835550299033586},{"$f":"IF($A418>$N$30,NA(),OFFSET(P418,$C$17,0,1,1))","v":-0.12406446351984324},null,null,13.191377654364013,22.850114959312325,-0.26798938125229582,-0.27614340327093084,null,null,null,null,null,null,null,null,null,null,null,null,null,null,null,null,null,null,null,null,null,null,null,null,null,null,null,null,null,null,null,1146984,{"$error":"#N/A"}]
[387,{"$f":"IF(A419>$A$8,\"\",OFFSET(InputPriceData!B$15,$A419+$A$11,0,1,1))","v":"2022-12-28T05:00:00"},{"$f":"IF(A419>$A$8,\"\",OFFSET(InputPriceData!G$15,CalculationsAndCharts!$A419+$A$11,IF($C$5,8,0),1,1))","v":1282810},{"$f":"IF(A419>$A$8,\"\",OFFSET(InputPriceData!C$15,CalculationsAndCharts!$A419+$A$11,IF($C$5,8,0),1,1))","v":3858},{"$f":"IF(A419>$A$8,\"\",OFFSET(InputPriceData!D$15,CalculationsAndCharts!$A419+$A$11,IF($C$5,8,0),1,1))","v":3875},{"$f":"IF(A419>$A$8,\"\",OFFSET(InputPriceData!E$15,CalculationsAndCharts!$A419+$A$11,IF($C$5,8,0),1,1))","v":3804.5},{"$f":"IF(A419>$A$8,\"\",OFFSET(InputPriceData!F$15,CalculationsAndCharts!$A419+$A$11,IF($C$5,8,0),1,1))","v":3807.5},0,47.5,{"$f":"IF($A419>$J$30,NA(),AVERAGE(H419:H422))","v":5.125},29.6875,null,null,{"$f":"IF($A419>$J$30,NA(),IF($A419>$N$30,0,(1-$M$35)*J419+(2*$M$35-$M$36)*J420-($M$35+$M$37)*J421+$M$36*N420+$M$37*N421))","v":15.131751783441981},20.428148189270402,-0.14894295006152208,-0.13237561481087132,null,null,13.129739272356831,23.341988757190286,-0.28000454150568704,-0.412726048934837,null,null,null,null,null,null,null,null,null,null,null,null,null,null,null,null,null,null,null,null,null,null,null,null,null,null,null,null,null,null,null,{"$error":"#N/A"},1282810]
[388,{"$f":"IF(A420>$A$8,\"\",OFFSET(InputPriceData!B$15,$A420+$A$11,0,1,1))","v":"2022-12-27T05:00:00"},{"$f":"IF(A420>$A$8,\"\",OFFSET(InputPriceData!G$15,CalculationsAndCharts!$A420+$A$11,IF($C$5,8,0),1,1))","v":1006414},{"$f":"IF(A420>$A$8,\"\",OFFSET(InputPriceData!C$15,CalculationsAndCharts!$A420+$A$11,IF($C$5,8,0),1,1))","v":3878},{"$f":"IF(A420>$A$8,\"\",OFFSET(InputPriceData!D$15,CalculationsAndCharts!$A420+$A$11,IF($C$5,8,0),1,1))","v":3900.5},{"$f":"IF(A420>$A$8,\"\",OFFSET(InputPriceData!E$15,CalculationsAndCharts!$A420+$A$11,IF($C$5,8,0),1,1))","v":3837.25},{"$f":"IF(A420>$A$8,\"\",OFFSET(InputPriceData!F$15,CalculationsAndCharts!$A420+$A$11,IF($C$5,8,0),1,1))","v":3855},0,14.75,{"$f":"IF($A420>$J$30,NA(),AVERAGE(H420:H423))","v":19.25},17.8125,null,null,{"$f":"IF($A420>$J$30,NA(),IF($A420>$N$30,0,(1-$M$35)*J420+(2*$M$35-$M$36)*J421-($M$35+$M$37)*J422+$M$36*N421+$M$37*N422))","v":15.736077813621126},20.193684499378964,-0.12406446351984324,-0.13251697462592915,null,null,13.37981897745359,23.58832923840496,-0.27614340327093084,-0.52993900511111902,null,null,null,null,null,null,null,null,null,null,null,null,null,null,null,null,null,null,null,null,null,null,null,null,null,null,null,null,null,null,null,{"$error":"#N/A"},1006414]
[389,{"$f":"IF(A421>$A$8,\"\",OFFSET(InputPriceData!B$15,$A421+$A$11,0,1,1))","v":"2022-12-23T05:00:00"},{"$f":"IF(A421>$A$8,\"\",OFFSET(InputPriceData!G$15,CalculationsAndCharts!$A421+$A$11,IF($C$5,8,0),1,1))","v":1374913},{"$f":"IF(A421>$A$8,\"\",OFFSET(InputPriceData!C$15,CalculationsAndCharts!$A421+$A$11,IF($C$5,8,0),1,1))","v":3850},{"$f":"IF(A421>$A$8,\"\",OFFSET(InputPriceData!D$15,CalculationsAndCharts!$A421+$A$11,IF($C$5,8,0),1,1))","v":3872.5},{"$f":"IF(A421>$A$8,\"\",OFFSET(InputPriceData!E$15,CalculationsAndCharts!$A421+$A$11,IF($C$5,8,0),1,1))","v":3821.25},{"$f":"IF(A421>$A$8,\"\",OFFSET(InputPriceData!F$15,CalculationsAndCharts!$A421+$A$11,IF($C$5,8,0),1,1))","v":3869.75},20.5,0,{"$f":"IF($A421>$J$30,NA(),AVERAGE(H421:H424))","v":20.1875},14.125,null,null,{"$f":"IF($A421>$J$30,NA(),IF($A421>$N$30,0,(1-$M$35)*J421+(2*$M$35-$M$36)*J422-($M$35+$M$37)*J423+$M$36*N422+$M$37*N423))","v":15.769252950415879},20.581161398481026,-0.13237561481087132,-0.12716919254301373,null,null,11.062807147063223,26.61230896186057,-0.412726048934837,-0.62008763231026454,null,null,null,null,null,null,null,null,null,null,null,null,null,null,null,null,null,null,null,null,null,null,null,null,null,null,null,null,null,null,null,1374913,{"$error":"#N/A"}]
[390,{"$f":"IF(A422>$A$8,\"\",OFFSET(InputPriceData!B$15,$A422+$A$11,0,1,1))","v":"2022-12-22T05:00:00"},{"$f":"IF(A422>$A$8,\"\",OFFSET(InputPriceData!G$15,CalculationsAndCharts!$A422+$A$11,IF($C$5,8,0),1,1))","v":1842326},{"$f":"IF(A422>$A$8,\"\",OFFSET(InputPriceData!C$15,CalculationsAndCharts!$A422+$A$11,IF($C$5,8,0),1,1))","v":3915},{"$f":"IF(A422>$A$8,\"\",OFFSET(InputPriceData!D$15,CalculationsAndCharts!$A422+$A$11,IF($C$5,8,0),1,1))","v":3919.75},{"$f":"IF(A422>$A$8,\"\",OFFSET(InputPriceData!E$15,CalculationsAndCharts!$A422+$A$11,IF($C$5,8,0),1,1))","v":3788.5},{"$f":"IF(A422>$A$8,\"\",OFFSET(InputPriceData!F$15,CalculationsAndCharts!$A422+$A$11,IF($C$5,8,0),1,1))","v":3849.25},0,56.5,{"$f":"IF($A422>$J$30,NA(),AVERAGE(H422:H425))","v":15.0625},20.61749999999995,null,null,{"$f":"IF($A422>$J$30,NA(),IF($A422>$N$30,0,(1-$M$35)*J422+(2*$M$35-$M$36)*J423-($M$35+$M$37)*J424+$M$36*N423+$M$37*N424))","v":15.987521068055017},20.872038370957576,-0.13251697462592915,-8.8510502174230704E-2,null,null,9.1113218295228151,29.655229441878323,-0.52993900511111902,-0.58903859268537195,null,null,null,null,null,null,null,null,null,null,null,null,null,null,null,null,null,null,null,null,null,null,null,null,null,null,null,null,null,null,null,{"$error":"#N/A"},1842326]
[391,{"$f":"IF(A423>$A$8,\"\",OFFSET(InputPriceData!B$15,$A423+$A$11,0,1,1))","v":"2022-12-21T05:00:00"},{"$f":"IF(A423>$A$8,\"\",OFFSET(InputPriceData!G$15,CalculationsAndCharts!$A423+$A$11,IF($C$5,8,0),1,1))","v":1522069},{"$f":"IF(A423>$A$8,\"\",OFFSET(InputPriceData!C$15,CalculationsAndCharts!$A423+$A$11,IF($C$5,8,0),1,1))","v":3857.25},{"$f":"IF(A423>$A$8,\"\",OFFSET(InputPriceData!D$15,CalculationsAndCharts!$A423+$A$11,IF($C$5,8,0),1,1))","v":3918.75},{"$f":"IF(A423>$A$8,\"\",OFFSET(InputPriceData!E$15,CalculationsAndCharts!$A423+$A$11,IF($C$5,8,0),1,1))","v":3855.5},{"$f":"IF(A423>$A$8,\"\",OFFSET(InputPriceData!F$15,CalculationsAndCharts!$A423+$A$11,IF($C$5,8,0),1,1))","v":3905.75},56.5,0,{"$f":"IF($A423>$J$30,NA(),AVERAGE(H423:H426))","v":15.0625},12.875,null,null,{"$f":"IF($A423>$J$30,NA(),IF($A423>$N$30,0,(1-$M$35)*J423+(2*$M$35-$M$36)*J424-($M$35+$M$37)*J425+$M$36*N424+$M$37*N425))","v":16.436525320052141},21.226043827662423,-0.12716919254301373,-1.5249185342626752E-3,null,null,7.8146751735565871,33.324681363204697,-0.62008763231026454,-0.39718098990326423,null,null,null,null,null,null,null,null,null,null,null,null,null,null,null,null,null,null,null,null,null,null,null,null,null,null,null,null,null,null,null,1522069,{"$error":"#N/A"}]
[392,{"$f":"IF(A424>$A$8,\"\",OFFSET(InputPriceData!B$15,$A424+$A$11,0,1,1))","v":"2022-12-20T05:00:00"},{"$f":"IF(A424>$A$8,\"\",OFFSET(InputPriceData!G$15,CalculationsAndCharts!$A424+$A$11,IF($C$5,8,0),1,1))","v":1541868},{"$f":"IF(A424>$A$8,\"\",OFFSET(InputPriceData!C$15,CalculationsAndCharts!$A424+$A$11,IF($C$5,8,0),1,1))","v":3842.75},{"$f":"IF(A424>$A$8,\"\",OFFSET(InputPriceData!D$15,CalculationsAndCharts!$A424+$A$11,IF($C$5,8,0),1,1))","v":3866.5},{"$f":"IF(A424>$A$8,\"\",OFFSET(InputPriceData!E$15,CalculationsAndCharts!$A424+$A$11,IF($C$5,8,0),1,1))","v":3803.5},{"$f":"IF(A424>$A$8,\"\",OFFSET(InputPriceData!F$15,CalculationsAndCharts!$A424+$A$11,IF($C$5,8,0),1,1))","v":3849.25},3.75,0,{"$f":"IF($A424>$J$30,NA(),AVERAGE(H424:H427))","v":0.9375},38.125,null,null,{"$f":"IF($A424>$J$30,NA(),IF($A424>$N$30,0,(1-$M$35)*J424+(2*$M$35-$M$36)*J425-($M$35+$M$37)*J426+$M$36*N425+$M$37*N426))","v":17.489594160400046},20.886260311031663,-8.8510502174230704E-2,8.1743291491195219E-2,null,null,8.8903476128110928,34.375747230030086,-0.58903859268537195,-0.19440956680801386,null,null,null,null,null,null,null,null,null,null,null,null,null,null,null,null,null,null,null,null,null,null,null,null,null,null,null,null,null,null,null,1541868,{"$error":"#N/A"}]
[393,{"$f":"IF(A425>$A$8,\"\",OFFSET(InputPriceData!B$15,$A425+$A$11,0,1,1))","v":"2022-12-19T05:00:00"},{"$f":"IF(A425>$A$8,\"\",OFFSET(InputPriceData!G$15,CalculationsAndCharts!$A425+$A$11,IF($C$5,8,0),1,1))","v":1405774},{"$f":"IF(A425>$A$8,\"\",OFFSET(InputPriceData!C$15,CalculationsAndCharts!$A425+$A$11,IF($C$5,8,0),1,1))","v":3874},{"$f":"IF(A425>$A$8,\"\",OFFSET(InputPriceData!D$15,CalculationsAndCharts!$A425+$A$11,IF($C$5,8,0),1,1))","v":3899},{"$f":"IF(A425>$A$8,\"\",OFFSET(InputPriceData!E$15,CalculationsAndCharts!$A425+$A$11,IF($C$5,8,0),1,1))","v":3827.25},{"$f":"IF(A425>$A$8,\"\",OFFSET(InputPriceData!F$15,CalculationsAndCharts!$A425+$A$11,IF($C$5,8,0),1,1))","v":3845.5},0,25.9699999999998,{"$f":"IF($A425>$J$30,NA(),AVERAGE(H425:H428))","v":0},44.1875,null,null,{"$f":"IF($A425>$J$30,NA(),IF($A425>$N$30,0,(1-$M$35)*J425+(2*$M$35-$M$36)*J426-($M$35+$M$37)*J427+$M$36*N426+$M$37*N427))","v":19.207961339446097},19.266631959866437,-1.5249185342626752E-3,0.13383572892125614,null,null,12.9053016195474,29.91120351182348,-0.39718098990326423,-8.6090456920222019E-2,null,null,null,null,null,null,null,null,null,null,null,null,null,null,null,null,null,null,null,null,null,null,null,null,null,null,null,null,null,null,null,{"$error":"#N/A"},1405774]
[394,{"$f":"IF(A426>$A$8,\"\",OFFSET(InputPriceData!B$15,$A426+$A$11,0,1,1))","v":"2022-12-16T05:00:00"},{"$f":"IF(A426>$A$8,\"\",OFFSET(InputPriceData!G$15,CalculationsAndCharts!$A426+$A$11,IF($C$5,8,0),1,1))","v":1965701},{"$f":"IF(A426>$A$8,\"\",OFFSET(InputPriceData!C$15,CalculationsAndCharts!$A426+$A$11,IF($C$5,8,0),1,1))","v":3890.5},{"$f":"IF(A426>$A$8,\"\",OFFSET(InputPriceData!D$15,CalculationsAndCharts!$A426+$A$11,IF($C$5,8,0),1,1))","v":3904.25},{"$f":"IF(A426>$A$8,\"\",OFFSET(InputPriceData!E$15,CalculationsAndCharts!$A426+$A$11,IF($C$5,8,0),1,1))","v":3842},{"$f":"IF(A426>$A$8,\"\",OFFSET(InputPriceData!F$15,CalculationsAndCharts!$A426+$A$11,IF($C$5,8,0),1,1))","v":3871.47},0,25.5300000000002,{"$f":"IF($A426>$J$30,NA(),AVERAGE(H426:H429))","v":7.625},37.69500000000005,null,null,{"$f":"IF($A426>$J$30,NA(),IF($A426>$N$30,0,(1-$M$35)*J426+(2*$M$35-$M$36)*J427-($M$35+$M$37)*J428+$M$36*N427+$M$37*N428))","v":20.736272258187576},17.602347303949745,8.1743291491195219E-2,0.14643170515455925,null,null,16.535833023463553,24.51687153248238,-0.19440956680801386,-0.12127069207700862,null,null,null,null,null,null,null,null,null,null,null,null,null,null,null,null,null,null,null,null,null,null,null,null,null,null,null,null,null,null,null,{"$error":"#N/A"},1965701]
[395,{"$f":"IF(A427>$A$8,\"\",OFFSET(InputPriceData!B$15,$A427+$A$11,0,1,1))","v":"2022-12-15T05:00:00"},{"$f":"IF(A427>$A$8,\"\",OFFSET(InputPriceData!G$15,CalculationsAndCharts!$A427+$A$11,IF($C$5,8,0),1,1))","v":560669},{"$f":"IF(A427>$A$8,\"\",OFFSET(InputPriceData!C$15,CalculationsAndCharts!$A427+$A$11,IF($C$5,8,0),1,1))","v":4004.25},{"$f":"IF(A427>$A$8,\"\",OFFSET(InputPriceData!D$15,CalculationsAndCharts!$A427+$A$11,IF($C$5,8,0),1,1))","v":4010.25},{"$f":"IF(A427>$A$8,\"\",OFFSET(InputPriceData!E$15,CalculationsAndCharts!$A427+$A$11,IF($C$5,8,0),1,1))","v":3878.5},{"$f":"IF(A427>$A$8,\"\",OFFSET(InputPriceData!F$15,CalculationsAndCharts!$A427+$A$11,IF($C$5,8,0),1,1))","v":3897},0,101,{"$f":"IF($A427>$J$30,NA(),AVERAGE(H427:H430))","v":21.5},31.3125,null,null,{"$f":"IF($A427>$J$30,NA(),IF($A427>$N$30,0,(1-$M$35)*J427+(2*$M$35-$M$36)*J428-($M$35+$M$37)*J429+$M$36*N428+$M$37*N429))","v":21.465469011706347},16.397985921273815,0.13383572892125614,0.12384230700745041,null,null,17.074329015767375,20.291139251975409,-8.6090456920222019E-2,-0.3106561786438865,null,null,null,null,null,null,null,null,null,null,null,null,null,null,null,null,null,null,null,null,null,null,null,null,null,null,null,null,null,null,null,{"$error":"#N/A"},560669]
[396,{"$f":"IF(A428>$A$8,\"\",OFFSET(InputPriceData!B$15,$A428+$A$11,0,1,1))","v":"2022-12-14T05:00:00"},{"$f":"IF(A428>$A$8,\"\",OFFSET(InputPriceData!G$15,CalculationsAndCharts!$A428+$A$11,IF($C$5,8,0),1,1))","v":712439},{"$f":"IF(A428>$A$8,\"\",OFFSET(InputPriceData!C$15,CalculationsAndCharts!$A428+$A$11,IF($C$5,8,0),1,1))","v":4021.75},{"$f":"IF(A428>$A$8,\"\",OFFSET(InputPriceData!D$15,CalculationsAndCharts!$A428+$A$11,IF($C$5,8,0),1,1))","v":4073},{"$f":"IF(A428>$A$8,\"\",OFFSET(InputPriceData!E$15,CalculationsAndCharts!$A428+$A$11,IF($C$5,8,0),1,1))","v":3965.25},{"$f":"IF(A428>$A$8,\"\",OFFSET(InputPriceData!F$15,CalculationsAndCharts!$A428+$A$11,IF($C$5,8,0),1,1))","v":3998},0,24.25,{"$f":"IF($A428>$J$30,NA(),AVERAGE(H428:H431))","v":21.5},13.4375,null,null,{"$f":"IF($A428>$J$30,NA(),IF($A428>$N$30,0,(1-$M$35)*J428+(2*$M$35-$M$36)*J429-($M$35+$M$37)*J430+$M$36*N429+$M$37*N430))","v":21.670888990702203},16.134919926246031,0.14643170515455925,9.6881170185401072E-2,null,null,15.279789796244732,19.497222096896305,-0.12127069207700862,-0.5353477075494355,null,null,null,null,null,null,null,null,null,null,null,null,null,null,null,null,null,null,null,null,null,null,null,null,null,null,null,null,null,null,null,{"$error":"#N/A"},712439]
[397,{"$f":"IF(A429>$A$8,\"\",OFFSET(InputPriceData!B$15,$A429+$A$11,0,1,1))","v":"2022-12-13T05:00:00"},{"$f":"IF(A429>$A$8,\"\",OFFSET(InputPriceData!G$15,CalculationsAndCharts!$A429+$A$11,IF($C$5,8,0),1,1))","v":1419560},{"$f":"IF(A429>$A$8,\"\",OFFSET(InputPriceData!C$15,CalculationsAndCharts!$A429+$A$11,IF($C$5,8,0),1,1))","v":3989.25},{"$f":"IF(A429>$A$8,\"\",OFFSET(InputPriceData!D$15,CalculationsAndCharts!$A429+$A$11,IF($C$5,8,0),1,1))","v":4145},{"$f":"IF(A429>$A$8,\"\",OFFSET(InputPriceData!E$15,CalculationsAndCharts!$A429+$A$11,IF($C$5,8,0),1,1))","v":3985},{"$f":"IF(A429>$A$8,\"\",OFFSET(InputPriceData!F$15,CalculationsAndCharts!$A429+$A$11,IF($C$5,8,0),1,1))","v":4022.25},30.5,0,{"$f":"IF($A429>$J$30,NA(),AVERAGE(H429:H432))","v":28.75},7.375,null,null,{"$f":"IF($A429>$J$30,NA(),IF($A429>$N$30,0,(1-$M$35)*J429+(2*$M$35-$M$36)*J430-($M$35+$M$37)*J431+$M$36*N430+$M$37*N431))","v":21.599374881137638},16.839069278616613,0.12384230700745041,0.10789988181405344,null,null,11.935398190409458,22.692889815217441,-0.3106561786438865,-0.58028861250005426,null,null,null,null,null,null,null,null,null,null,null,null,null,null,null,null,null,null,null,null,null,null,null,null,null,null,null,null,null,null,null,{"$f":"IF(G429>=G430,C429,NA())","v":1419560},{"$f":"IF(G429<G430,C429,NA())","v":{"$error":"#N/A"}}]
[398,{"$f":"IF(A430>$A$8,\"\",OFFSET(InputPriceData!B$15,$A430+$A$11,0,1,1))","v":"2022-12-12T05:00:00"},{"$f":"IF(A430>$A$8,\"\",OFFSET(InputPriceData!G$15,CalculationsAndCharts!$A430+$A$11,IF($C$5,8,0),1,1))","v":1619977},{"$f":"IF(A430>$A$8,\"\",OFFSET(InputPriceData!C$15,CalculationsAndCharts!$A430+$A$11,IF($C$5,8,0),1,1))","v":3933},{"$f":"IF(A430>$A$8,\"\",OFFSET(InputPriceData!D$15,CalculationsAndCharts!$A430+$A$11,IF($C$5,8,0),1,1))","v":3992.75},{"$f":"IF(A430>$A$8,\"\",OFFSET(InputPriceData!E$15,CalculationsAndCharts!$A430+$A$11,IF($C$5,8,0),1,1))","v":3924.5},{"$f":"IF(A430>$A$8,\"\",OFFSET(InputPriceData!F$15,CalculationsAndCharts!$A430+$A$11,IF($C$5,8,0),1,1))","v":3991.75},55.5,0,{"$f":"IF($A430>$J$30,NA(),AVERAGE(H430:H433))","v":21.125},9.4375,null,null,{"$f":"IF($A430>$J$30,NA(),IF($A430>$N$30,0,(1-$M$35)*J430+(2*$M$35-$M$36)*J431-($M$35+$M$37)*J432+$M$36*N431+$M$37*N432))","v":21.548670524274449},17.742131633687968,9.6881170185401072E-2,0.15857037986905162,null,null,8.184761763829993,27.04485787568052,-0.5353477075494355,-0.46210293927006574,null,null,null,null,null,null,null,null,null,null,null,null,null,null,null,null,null,null,null,null,null,null,null,null,null,null,null,null,null,null,null,1619977,{"$error":"#N/A"}]
[399,{"$f":"IF(A431>$A$8,\"\",OFFSET(InputPriceData!B$15,$A431+$A$11,0,1,1))","v":"2022-12-09T05:00:00"},{"$f":"IF(A431>$A$8,\"\",OFFSET(InputPriceData!G$15,CalculationsAndCharts!$A431+$A$11,IF($C$5,8,0),1,1))","v":1739761},{"$f":"IF(A431>$A$8,\"\",OFFSET(InputPriceData!C$15,CalculationsAndCharts!$A431+$A$11,IF($C$5,8,0),1,1))","v":3964.75},{"$f":"IF(A431>$A$8,\"\",OFFSET(InputPriceData!D$15,CalculationsAndCharts!$A431+$A$11,IF($C$5,8,0),1,1))","v":3990},{"$f":"IF(A431>$A$8,\"\",OFFSET(InputPriceData!E$15,CalculationsAndCharts!$A431+$A$11,IF($C$5,8,0),1,1))","v":3930},{"$f":"IF(A431>$A$8,\"\",OFFSET(InputPriceData!F$15,CalculationsAndCharts!$A431+$A$11,IF($C$5,8,0),1,1))","v":3936.25},0,29.5,{"$f":"IF($A431>$J$30,NA(),AVERAGE(H431:H434))","v":7.25},24,null,null,{"$f":"IF($A431>$J$30,NA(),IF($A431>$N$30,0,(1-$M$35)*J431+(2*$M$35-$M$36)*J432-($M$35+$M$37)*J433+$M$36*N432+$M$37*N433))","v":22.374758915845266},18.016542289475339,0.10789988181405344,0.22931691327466083,null,null,7.7190258932841314,29.0635162210164,-0.58028861250005426,-0.21939629283933787,null,null,null,null,null,null,null,null,null,null,null,null,null,null,null,null,null,null,null,null,null,null,null,null,null,null,null,null,null,null,null,{"$error":"#N/A"},1739761]
[400,{"$f":"IF(A432>$A$8,\"\",OFFSET(InputPriceData!B$15,$A432+$A$11,0,1,1))","v":"2022-12-08T05:00:00"},{"$f":"IF(A432>$A$8,\"\",OFFSET(InputPriceData!G$15,CalculationsAndCharts!$A432+$A$11,IF($C$5,8,0),1,1))","v":1708915},{"$f":"IF(A432>$A$8,\"\",OFFSET(InputPriceData!C$15,CalculationsAndCharts!$A432+$A$11,IF($C$5,8,0),1,1))","v":3935.75},{"$f":"IF(A432>$A$8,\"\",OFFSET(InputPriceData!D$15,CalculationsAndCharts!$A432+$A$11,IF($C$5,8,0),1,1))","v":3977.25},{"$f":"IF(A432>$A$8,\"\",OFFSET(InputPriceData!E$15,CalculationsAndCharts!$A432+$A$11,IF($C$5,8,0),1,1))","v":3916},{"$f":"IF(A432>$A$8,\"\",OFFSET(InputPriceData!F$15,CalculationsAndCharts!$A432+$A$11,IF($C$5,8,0),1,1))","v":3965.75},29,0,{"$f":"IF($A432>$J$30,NA(),AVERAGE(H432:H435))","v":7.25},34.6875,null,null,{"$f":"IF($A432>$J$30,NA(),IF($A432>$N$30,0,(1-$M$35)*J432+(2*$M$35-$M$36)*J433-($M$35+$M$37)*J434+$M$36*N433+$M$37*N434))","v":23.803624234226287},17.28774949296448,0.15857037986905162,0.30483288065848774,null,null,9.8469167802710853,26.765727159105253,-0.46210293927006574,0.12555155654944425,null,null,null,null,null,null,null,null,null,null,null,null,null,null,null,null,null,null,null,null,null,null,null,null,null,null,null,null,null,null,null,1708915,{"$error":"#N/A"}]
[401,{"$f":"IF(A433>$A$8,\"\",OFFSET(InputPriceData!B$15,$A433+$A$11,0,1,1))","v":"2022-12-07T05:00:00"},{"$f":"IF(A433>$A$8,\"\",OFFSET(InputPriceData!G$15,CalculationsAndCharts!$A433+$A$11,IF($C$5,8,0),1,1))","v":1756473},{"$f":"IF(A433>$A$8,\"\",OFFSET(InputPriceData!C$15,CalculationsAndCharts!$A433+$A$11,IF($C$5,8,0),1,1))","v":3944.5},{"$f":"IF(A433>$A$8,\"\",OFFSET(InputPriceData!D$15,CalculationsAndCharts!$A433+$A$11,IF($C$5,8,0),1,1))","v":3961.5},{"$f":"IF(A433>$A$8,\"\",OFFSET(InputPriceData!E$15,CalculationsAndCharts!$A433+$A$11,IF($C$5,8,0),1,1))","v":3914},{"$f":"IF(A433>$A$8,\"\",OFFSET(InputPriceData!F$15,CalculationsAndCharts!$A433+$A$11,IF($C$5,8,0),1,1))","v":3936.75},0,8.25,{"$f":"IF($A433>$J$30,NA(),AVERAGE(H433:H436))","v":0},36.25,null,null,{"$f":"IF($A433>$J$30,NA(),IF($A433>$N$30,0,(1-$M$35)*J433+(2*$M$35-$M$36)*J434-($M$35+$M$37)*J435+$M$36*N434+$M$37*N435))","v":25.589595856192673},16.042623760841593,0.22931691327466083,0.34056527809501702,null,null,13.862894537946445,21.655498241331543,-0.21939629283933787,0.32916947171811539,null,null,null,null,null,null,null,null,null,null,null,null,null,null,null,null,null,null,null,null,null,null,null,null,null,null,null,null,null,null,null,{"$error":"#N/A"},1756473]
[402,{"$f":"IF(A434>$A$8,\"\",OFFSET(InputPriceData!B$15,$A434+$A$11,0,1,1))","v":"2022-12-06T05:00:00"},{"$f":"IF(A434>$A$8,\"\",OFFSET(InputPriceData!G$15,CalculationsAndCharts!$A434+$A$11,IF($C$5,8,0),1,1))","v":1869101},{"$f":"IF(A434>$A$8,\"\",OFFSET(InputPriceData!C$15,CalculationsAndCharts!$A434+$A$11,IF($C$5,8,0),1,1))","v":4005.75},{"$f":"IF(A434>$A$8,\"\",OFFSET(InputPriceData!D$15,CalculationsAndCharts!$A434+$A$11,IF($C$5,8,0),1,1))","v":4014.75},{"$f":"IF(A434>$A$8,\"\",OFFSET(InputPriceData!E$15,CalculationsAndCharts!$A434+$A$11,IF($C$5,8,0),1,1))","v":3921.5},{"$f":"IF(A434>$A$8,\"\",OFFSET(InputPriceData!F$15,CalculationsAndCharts!$A434+$A$11,IF($C$5,8,0),1,1))","v":3945},0,58.25,{"$f":"IF($A434>$J$30,NA(),AVERAGE(H434:H437))","v":0.125},34.1875,null,null,{"$f":"IF($A434>$J$30,NA(),IF($A434>$N$30,0,(1-$M$35)*J434+(2*$M$35-$M$36)*J435-($M$35+$M$37)*J436+$M$36*N435+$M$37*N436))","v":27.739384657663358},14.77852712834957,0.30483288065848774,0.31995165970244588,null,null,19.999727069677924,15.537920145684188,0.12555155654944425,0.26413438916690357,null,null,null,null,null,null,null,null,null,null,null,null,null,null,null,null,null,null,null,null,null,null,null,null,null,null,null,null,null,null,null,{"$error":"#N/A"},1869101]
[403,{"$f":"IF(A435>$A$8,\"\",OFFSET(InputPriceData!B$15,$A435+$A$11,0,1,1))","v":"2022-12-05T05:00:00"},{"$f":"IF(A435>$A$8,\"\",OFFSET(InputPriceData!G$15,CalculationsAndCharts!$A435+$A$11,IF($C$5,8,0),1,1))","v":1497688},{"$f":"IF(A435>$A$8,\"\",OFFSET(InputPriceData!C$15,CalculationsAndCharts!$A435+$A$11,IF($C$5,8,0),1,1))","v":4074},{"$f":"IF(A435>$A$8,\"\",OFFSET(InputPriceData!D$15,CalculationsAndCharts!$A435+$A$11,IF($C$5,8,0),1,1))","v":4075.75},{"$f":"IF(A435>$A$8,\"\",OFFSET(InputPriceData!E$15,CalculationsAndCharts!$A435+$A$11,IF($C$5,8,0),1,1))","v":3987.25},{"$f":"IF(A435>$A$8,\"\",OFFSET(InputPriceData!F$15,CalculationsAndCharts!$A435+$A$11,IF($C$5,8,0),1,1))","v":4003.25},0,72.25,{"$f":"IF($A435>$J$30,NA(),AVERAGE(H435:H438))","v":29.9375},19.625,null,null,{"$f":"IF($A435>$J$30,NA(),IF($A435>$N$30,0,(1-$M$35)*J435+(2*$M$35-$M$36)*J436-($M$35+$M$37)*J437+$M$36*N436+$M$37*N437))","v":28.764786089889597},14.149627045985756,0.34056527809501702,0.29609980249365558,null,null,22.103928422698512,11.155830988005468,0.32916947171811539,0.15922143266340821,null,null,null,null,null,null,null,null,null,null,null,null,null,null,null,null,null,null,null,null,null,null,null,null,null,null,null,null,null,null,null,{"$error":"#N/A"},1497688]
[404,{"$f":"IF(A436>$A$8,\"\",OFFSET(InputPriceData!B$15,$A436+$A$11,0,1,1))","v":"2022-12-02T05:00:00"},{"$f":"IF(A436>$A$8,\"\",OFFSET(InputPriceData!G$15,CalculationsAndCharts!$A436+$A$11,IF($C$5,8,0),1,1))","v":1849784},{"$f":"IF(A436>$A$8,\"\",OFFSET(InputPriceData!C$15,CalculationsAndCharts!$A436+$A$11,IF($C$5,8,0),1,1))","v":4077.5},{"$f":"IF(A436>$A$8,\"\",OFFSET(InputPriceData!D$15,CalculationsAndCharts!$A436+$A$11,IF($C$5,8,0),1,1))","v":4085.5},{"$f":"IF(A436>$A$8,\"\",OFFSET(InputPriceData!E$15,CalculationsAndCharts!$A436+$A$11,IF($C$5,8,0),1,1))","v":4006.75},{"$f":"IF(A436>$A$8,\"\",OFFSET(InputPriceData!F$15,CalculationsAndCharts!$A436+$A$11,IF($C$5,8,0),1,1))","v":4075.5},0,6.25,{"$f":"IF($A436>$J$30,NA(),AVERAGE(H436:H439))","v":29.9375},3.625,null,null,{"$f":"IF($A436>$J$30,NA(),IF($A436>$N$30,0,(1-$M$35)*J436+(2*$M$35-$M$36)*J437-($M$35+$M$37)*J438+$M$36*N437+$M$37*N438))","v":28.623676454501645},14.747118595605302,0.31995165970244588,0.28810270739016686,null,null,19.450088051030903,11.322096010584573,0.26413438916690357,0.12309614620150924,null,null,null,null,null,null,null,null,null,null,null,null,null,null,null,null,null,null,null,null,null,null,null,null,null,null,null,null,null,null,null,{"$error":"#N/A"},1849784]
[405,{"$f":"IF(A437>$A$8,\"\",OFFSET(InputPriceData!B$15,$A437+$A$11,0,1,1))","v":"2022-12-01T05:00:00"},{"$f":"IF(A437>$A$8,\"\",OFFSET(InputPriceData!G$15,CalculationsAndCharts!$A437+$A$11,IF($C$5,8,0),1,1))","v":1834073},{"$f":"IF(A437>$A$8,\"\",OFFSET(InputPriceData!C$15,CalculationsAndCharts!$A437+$A$11,IF($C$5,8,0),1,1))","v":4094.5},{"$f":"IF(A437>$A$8,\"\",OFFSET(InputPriceData!D$15,CalculationsAndCharts!$A437+$A$11,IF($C$5,8,0),1,1))","v":4110},{"$f":"IF(A437>$A$8,\"\",OFFSET(InputPriceData!E$15,CalculationsAndCharts!$A437+$A$11,IF($C$5,8,0),1,1))","v":4054.5},{"$f":"IF(A437>$A$8,\"\",OFFSET(InputPriceData!F$15,CalculationsAndCharts!$A437+$A$11,IF($C$5,8,0),1,1))","v":4081.75},0.5,0,{"$f":"IF($A437>$J$30,NA(),AVERAGE(H437:H440))","v":29.9375},17.625,null,null,{"$f":"IF($A437>$J$30,NA(),IF($A437>$N$30,0,(1-$M$35)*J437+(2*$M$35-$M$36)*J438-($M$35+$M$37)*J439+$M$36*N438+$M$37*N439))","v":28.475218180880741},15.464636028024019,0.29609980249365558,0.2952043607015391,null,null,16.423965516648906,11.912235063965742,0.15922143266340821,0.24363005012405542,null,null,null,null,null,null,null,null,null,null,null,null,null,null,null,null,null,null,null,null,null,null,null,null,null,null,null,null,null,null,null,1834073,{"$error":"#N/A"}]
[406,{"$f":"IF(A438>$A$8,\"\",OFFSET(InputPriceData!B$15,$A438+$A$11,0,1,1))","v":"2022-11-30T05:00:00"},{"$f":"IF(A438>$A$8,\"\",OFFSET(InputPriceData!G$15,CalculationsAndCharts!$A438+$A$11,IF($C$5,8,0),1,1))","v":2479997},{"$f":"IF(A438>$A$8,\"\",OFFSET(InputPriceData!C$15,CalculationsAndCharts!$A438+$A$11,IF($C$5,8,0),1,1))","v":3962.25},{"$f":"IF(A438>$A$8,\"\",OFFSET(InputPriceData!D$15,CalculationsAndCharts!$A438+$A$11,IF($C$5,8,0),1,1))","v":4093.5},{"$f":"IF(A438>$A$8,\"\",OFFSET(InputPriceData!E$15,CalculationsAndCharts!$A438+$A$11,IF($C$5,8,0),1,1))","v":3942.75},{"$f":"IF(A438>$A$8,\"\",OFFSET(InputPriceData!F$15,CalculationsAndCharts!$A438+$A$11,IF($C$5,8,0),1,1))","v":4081.25},119.25,0,{"$f":"IF($A438>$J$30,NA(),AVERAGE(H438:H441))","v":29.8125},17.75,null,null,{"$f":"IF($A438>$J$30,NA(),IF($A438>$N$30,0,(1-$M$35)*J438+(2*$M$35-$M$36)*J439-($M$35+$M$37)*J440+$M$36*N439+$M$37*N440))","v":28.324348049005582},15.654051944258503,0.28810270739016686,0.30616843665110044,null,null,13.086565415967922,10.21787821555691,0.12309614620150924,0.43093099407768237,null,null,null,null,null,null,null,null,null,null,null,null,null,null,null,null,null,null,null,null,null,null,null,null,null,null,null,null,null,null,null,2479997,{"$error":"#N/A"}]
[407,{"$f":"IF(A439>$A$8,\"\",OFFSET(InputPriceData!B$15,$A439+$A$11,0,1,1))","v":"2022-11-29T05:00:00"},{"$f":"IF(A439>$A$8,\"\",OFFSET(InputPriceData!G$15,CalculationsAndCharts!$A439+$A$11,IF($C$5,8,0),1,1))","v":1500171},{"$f":"IF(A439>$A$8,\"\",OFFSET(InputPriceData!C$15,CalculationsAndCharts!$A439+$A$11,IF($C$5,8,0),1,1))","v":3972},{"$f":"IF(A439>$A$8,\"\",OFFSET(InputPriceData!D$15,CalculationsAndCharts!$A439+$A$11,IF($C$5,8,0),1,1))","v":3990.25},{"$f":"IF(A439>$A$8,\"\",OFFSET(InputPriceData!E$15,CalculationsAndCharts!$A439+$A$11,IF($C$5,8,0),1,1))","v":3941.25},{"$f":"IF(A439>$A$8,\"\",OFFSET(InputPriceData!F$15,CalculationsAndCharts!$A439+$A$11,IF($C$5,8,0),1,1))","v":3962},0,8.25,{"$f":"IF($A439>$J$30,NA(),AVERAGE(H439:H442))","v":5.6875},17.75,null,null,{"$f":"IF($A439>$J$30,NA(),IF($A439>$N$30,0,(1-$M$35)*J439+(2*$M$35-$M$36)*J440-($M$35+$M$37)*J441+$M$36*N440+$M$37*N441))","v":29.147248389159834},15.860704445977957,0.2952043607015391,0.29383240662127186,null,null,13.663368340379471,8.3099963897772398,0.24363005012405542,0.43174000938035223,null,null,null,null,null,null,null,null,null,null,null,null,null,null,null,null,null,null,null,null,null,null,null,null,null,null,null,null,null,null,null,{"$error":"#N/A"},1500171]
[408,{"$f":"IF(A440>$A$8,\"\",OFFSET(InputPriceData!B$15,$A440+$A$11,0,1,1))","v":"2022-11-28T05:00:00"},{"$f":"IF(A440>$A$8,\"\",OFFSET(InputPriceData!G$15,CalculationsAndCharts!$A440+$A$11,IF($C$5,8,0),1,1))","v":1481503},{"$f":"IF(A440>$A$8,\"\",OFFSET(InputPriceData!C$15,CalculationsAndCharts!$A440+$A$11,IF($C$5,8,0),1,1))","v":4020.25},{"$f":"IF(A440>$A$8,\"\",OFFSET(InputPriceData!D$15,CalculationsAndCharts!$A440+$A$11,IF($C$5,8,0),1,1))","v":4024},{"$f":"IF(A440>$A$8,\"\",OFFSET(InputPriceData!E$15,CalculationsAndCharts!$A440+$A$11,IF($C$5,8,0),1,1))","v":3960.25},{"$f":"IF(A440>$A$8,\"\",OFFSET(InputPriceData!F$15,CalculationsAndCharts!$A440+$A$11,IF($C$5,8,0),1,1))","v":3970.25},0,62.25,{"$f":"IF($A440>$J$30,NA(),AVERAGE(H440:H443))","v":18.75},15.6875,null,null,{"$f":"IF($A440>$J$30,NA(),IF($A440>$N$30,0,(1-$M$35)*J440+(2*$M$35-$M$36)*J441-($M$35+$M$37)*J442+$M$36*N441+$M$37*N442))","v":30.448361302931676},16.174050399189319,0.30616843665110044,0.26671404331705301,null,null,16.598946821521857,6.6012590447586987,0.43093099407768237,0.31302349747038799,null,null,null,null,null,null,null,null,null,null,null,null,null,null,null,null,null,null,null,null,null,null,null,null,null,null,null,null,null,null,null,{"$error":"#N/A"},1481503]
[409,{"$f":"IF(A441>$A$8,\"\",OFFSET(InputPriceData!B$15,$A441+$A$11,0,1,1))","v":"2022-11-25T14:30:00"},{"$f":"IF(A441>$A$8,\"\",OFFSET(InputPriceData!G$15,CalculationsAndCharts!$A441+$A$11,IF($C$5,8,0),1,1))","v":608795},{"$f":"IF(A441>$A$8,\"\",OFFSET(InputPriceData!C$15,CalculationsAndCharts!$A441+$A$11,IF($C$5,8,0),1,1))","v":4038.75},{"$f":"IF(A441>$A$8,\"\",OFFSET(InputPriceData!D$15,CalculationsAndCharts!$A441+$A$11,IF($C$5,8,0),1,1))","v":4049.25},{"$f":"IF(A441>$A$8,\"\",OFFSET(InputPriceData!E$15,CalculationsAndCharts!$A441+$A$11,IF($C$5,8,0),1,1))","v":4024.75},{"$f":"IF(A441>$A$8,\"\",OFFSET(InputPriceData!F$15,CalculationsAndCharts!$A441+$A$11,IF($C$5,8,0),1,1))","v":4032.5},0,0.5,{"$f":"IF($A441>$J$30,NA(),AVERAGE(H441:H444))","v":18.75},4.125,null,null,{"$f":"IF($A441>$J$30,NA(),IF($A441>$N$30,0,(1-$M$35)*J441+(2*$M$35-$M$36)*J442-($M$35+$M$37)*J443+$M$36*N442+$M$37*N443))","v":31.268708083802391},17.06631262488095,0.29383240662127186,0.24399784181139766,null,null,18.126091036523317,7.1942756749834338,0.43174000938035223,0.23425014763696209,null,null,null,null,null,null,null,null,null,null,null,null,null,null,null,null,null,null,null,null,null,null,null,null,null,null,null,null,null,null,null,{"$error":"#N/A"},608795]
[410,{"$f":"IF(A442>$A$8,\"\",OFFSET(InputPriceData!B$15,$A442+$A$11,0,1,1))","v":"2022-11-23T05:00:00"},{"$f":"IF(A442>$A$8,\"\",OFFSET(InputPriceData!G$15,CalculationsAndCharts!$A442+$A$11,IF($C$5,8,0),1,1))","v":1281153},{"$f":"IF(A442>$A$8,\"\",OFFSET(InputPriceData!C$15,CalculationsAndCharts!$A442+$A$11,IF($C$5,8,0),1,1))","v":4010},{"$f":"IF(A442>$A$8,\"\",OFFSET(InputPriceData!D$15,CalculationsAndCharts!$A442+$A$11,IF($C$5,8,0),1,1))","v":4039.5},{"$f":"IF(A442>$A$8,\"\",OFFSET(InputPriceData!E$15,CalculationsAndCharts!$A442+$A$11,IF($C$5,8,0),1,1))","v":4002},{"$f":"IF(A442>$A$8,\"\",OFFSET(InputPriceData!F$15,CalculationsAndCharts!$A442+$A$11,IF($C$5,8,0),1,1))","v":4033},22.75,0,{"$f":"IF($A442>$J$30,NA(),AVERAGE(H442:H445))","v":23.4375},4,null,null,{"$f":"IF($A442>$J$30,NA(),IF($A442>$N$30,0,(1-$M$35)*J442+(2*$M$35-$M$36)*J443-($M$35+$M$37)*J444+$M$36*N443+$M$37*N444))","v":31.926143967085878},18.481671649267721,0.26671404331705301,0.24251720971615942,null,null,19.454243866264409,10.178499041602938,0.31302349747038799,0.28379348987888192,null,null,null,null,null,null,null,null,null,null,null,null,null,null,null,null,null,null,null,null,null,null,null,null,null,null,null,null,null,null,null,1281153,{"$error":"#N/A"}]
[411,{"$f":"IF(A443>$A$8,\"\",OFFSET(InputPriceData!B$15,$A443+$A$11,0,1,1))","v":"2022-11-22T05:00:00"},{"$f":"IF(A443>$A$8,\"\",OFFSET(InputPriceData!G$15,CalculationsAndCharts!$A443+$A$11,IF($C$5,8,0),1,1))","v":1161999},{"$f":"IF(A443>$A$8,\"\",OFFSET(InputPriceData!C$15,CalculationsAndCharts!$A443+$A$11,IF($C$5,8,0),1,1))","v":3957.75},{"$f":"IF(A443>$A$8,\"\",OFFSET(InputPriceData!D$15,CalculationsAndCharts!$A443+$A$11,IF($C$5,8,0),1,1))","v":4012.5},{"$f":"IF(A443>$A$8,\"\",OFFSET(InputPriceData!E$15,CalculationsAndCharts!$A443+$A$11,IF($C$5,8,0),1,1))","v":3945.25},{"$f":"IF(A443>$A$8,\"\",OFFSET(InputPriceData!F$15,CalculationsAndCharts!$A443+$A$11,IF($C$5,8,0),1,1))","v":4010.25},52.25,0,{"$f":"IF($A443>$J$30,NA(),AVERAGE(H443:H446))","v":17.75},7.3125,null,null,{"$f":"IF($A443>$J$30,NA(),IF($A443>$N$30,0,(1-$M$35)*J443+(2*$M$35-$M$36)*J444-($M$35+$M$37)*J445+$M$36*N444+$M$37*N445))","v":32.642854836884943},19.837710224792907,0.24399784181139766,0.24651998576412004,null,null,21.54703142550926,13.368145966629934,0.23425014763696209,0.34808105372756976,null,null,null,null,null,null,null,null,null,null,null,null,null,null,null,null,null,null,null,null,null,null,null,null,null,null,null,null,null,null,null,1161999,{"$error":"#N/A"}]
[412,{"$f":"IF(A444>$A$8,\"\",OFFSET(InputPriceData!B$15,$A444+$A$11,0,1,1))","v":"2022-11-21T05:00:00"},{"$f":"IF(A444>$A$8,\"\",OFFSET(InputPriceData!G$15,CalculationsAndCharts!$A444+$A$11,IF($C$5,8,0),1,1))","v":1178421},{"$f":"IF(A444>$A$8,\"\",OFFSET(InputPriceData!C$15,CalculationsAndCharts!$A444+$A$11,IF($C$5,8,0),1,1))","v":3972.5},{"$f":"IF(A444>$A$8,\"\",OFFSET(InputPriceData!D$15,CalculationsAndCharts!$A444+$A$11,IF($C$5,8,0),1,1))","v":3982},{"$f":"IF(A444>$A$8,\"\",OFFSET(InputPriceData!E$15,CalculationsAndCharts!$A444+$A$11,IF($C$5,8,0),1,1))","v":3937.5},{"$f":"IF(A444>$A$8,\"\",OFFSET(InputPriceData!F$15,CalculationsAndCharts!$A444+$A$11,IF($C$5,8,0),1,1))","v":3958},0,16,{"$f":"IF($A444>$J$30,NA(),AVERAGE(H444:H447))","v":4.6875},15.0625,null,null,{"$f":"IF($A444>$J$30,NA(),IF($A444>$N$30,0,(1-$M$35)*J444+(2*$M$35-$M$36)*J445-($M$35+$M$37)*J446+$M$36*N445+$M$37*N446))","v":34.137912337619717},20.811688473814002,0.24251720971615942,0.25193340382546853,null,null,27.589293870098714,15.391596884693314,0.28379348987888192,0.40698400581716448,null,null,null,null,null,null,null,null,null,null,null,null,null,null,null,null,null,null,null,null,null,null,null,null,null,null,null,null,null,null,null,{"$error":"#N/A"},1178421]
[413,{"$f":"IF(A445>$A$8,\"\",OFFSET(InputPriceData!B$15,$A445+$A$11,0,1,1))","v":"2022-11-18T05:00:00"},{"$f":"IF(A445>$A$8,\"\",OFFSET(InputPriceData!G$15,CalculationsAndCharts!$A445+$A$11,IF($C$5,8,0),1,1))","v":1534155},{"$f":"IF(A445>$A$8,\"\",OFFSET(InputPriceData!C$15,CalculationsAndCharts!$A445+$A$11,IF($C$5,8,0),1,1))","v":3960.5},{"$f":"IF(A445>$A$8,\"\",OFFSET(InputPriceData!D$15,CalculationsAndCharts!$A445+$A$11,IF($C$5,8,0),1,1))","v":3994},{"$f":"IF(A445>$A$8,\"\",OFFSET(InputPriceData!E$15,CalculationsAndCharts!$A445+$A$11,IF($C$5,8,0),1,1))","v":3942.5},{"$f":"IF(A445>$A$8,\"\",OFFSET(InputPriceData!F$15,CalculationsAndCharts!$A445+$A$11,IF($C$5,8,0),1,1))","v":3974},18.75,0,{"$f":"IF($A445>$J$30,NA(),AVERAGE(H445:H448))","v":13.0625},11.0625,null,null,{"$f":"IF($A445>$J$30,NA(),IF($A445>$N$30,0,(1-$M$35)*J445+(2*$M$35-$M$36)*J446-($M$35+$M$37)*J447+$M$36*N446+$M$37*N447))","v":35.871024693301123},21.682845445912232,0.24651998576412004,0.25857453812742726,null,null,35.72811236411772,17.277769241185105,0.34808105372756976,0.46291064875297633,null,null,null,null,null,null,null,null,null,null,null,null,null,null,null,null,null,null,null,null,null,null,null,null,null,null,null,null,null,null,null,1534155,{"$error":"#N/A"}]
[414,{"$f":"IF(A446>$A$8,\"\",OFFSET(InputPriceData!B$15,$A446+$A$11,0,1,1))","v":"2022-11-17T05:00:00"},{"$f":"IF(A446>$A$8,\"\",OFFSET(InputPriceData!G$15,CalculationsAndCharts!$A446+$A$11,IF($C$5,8,0),1,1))","v":1560808},{"$f":"IF(A446>$A$8,\"\",OFFSET(InputPriceData!C$15,CalculationsAndCharts!$A446+$A$11,IF($C$5,8,0),1,1))","v":3977.25},{"$f":"IF(A446>$A$8,\"\",OFFSET(InputPriceData!D$15,CalculationsAndCharts!$A446+$A$11,IF($C$5,8,0),1,1))","v":3990.25},{"$f":"IF(A446>$A$8,\"\",OFFSET(InputPriceData!E$15,CalculationsAndCharts!$A446+$A$11,IF($C$5,8,0),1,1))","v":3912.5},{"$f":"IF(A446>$A$8,\"\",OFFSET(InputPriceData!F$15,CalculationsAndCharts!$A446+$A$11,IF($C$5,8,0),1,1))","v":3955.25},0,13.25,{"$f":"IF($A446>$J$30,NA(),AVERAGE(H446:H449))","v":8.375},19.625,null,null,{"$f":"IF($A446>$J$30,NA(),IF($A446>$N$30,0,(1-$M$35)*J446+(2*$M$35-$M$36)*J447-($M$35+$M$37)*J448+$M$36*N447+$M$37*N448))","v":37.509648416350394},22.413105145035683,0.25193340382546853,0.22617387634886851,null,null,44.687798303519472,18.835025152551264,0.40698400581716448,0.40221589313872907,null,null,null,null,null,null,null,null,null,null,null,null,null,null,null,null,null,null,null,null,null,null,null,null,null,null,null,null,null,null,null,{"$error":"#N/A"},1560808]
[415,{"$f":"IF(A447>$A$8,\"\",OFFSET(InputPriceData!B$15,$A447+$A$11,0,1,1))","v":"2022-11-16T05:00:00"},{"$f":"IF(A447>$A$8,\"\",OFFSET(InputPriceData!G$15,CalculationsAndCharts!$A447+$A$11,IF($C$5,8,0),1,1))","v":1502501},{"$f":"IF(A447>$A$8,\"\",OFFSET(InputPriceData!C$15,CalculationsAndCharts!$A447+$A$11,IF($C$5,8,0),1,1))","v":3992},{"$f":"IF(A447>$A$8,\"\",OFFSET(InputPriceData!D$15,CalculationsAndCharts!$A447+$A$11,IF($C$5,8,0),1,1))","v":4015.75},{"$f":"IF(A447>$A$8,\"\",OFFSET(InputPriceData!E$15,CalculationsAndCharts!$A447+$A$11,IF($C$5,8,0),1,1))","v":3962},{"$f":"IF(A447>$A$8,\"\",OFFSET(InputPriceData!F$15,CalculationsAndCharts!$A447+$A$11,IF($C$5,8,0),1,1))","v":3968.5},0,31,{"$f":"IF($A447>$J$30,NA(),AVERAGE(H447:H450))","v":18.1875},16.3125,null,null,{"$f":"IF($A447>$J$30,NA(),IF($A447>$N$30,0,(1-$M$35)*J447+(2*$M$35-$M$36)*J448-($M$35+$M$37)*J449+$M$36*N448+$M$37*N449))","v":38.988493429602535},22.968096742023924,0.25857453812742726,0.17850071403915613,null,null,54.107881495297399,19.865032081373041,0.46291064875297633,0.30162676626953094,null,null,null,null,null,null,null,null,null,null,null,null,null,null,null,null,null,null,null,null,null,null,null,null,null,null,null,null,null,null,null,{"$error":"#N/A"},1502501]
[416,{"$f":"IF(A448>$A$8,\"\",OFFSET(InputPriceData!B$15,$A448+$A$11,0,1,1))","v":"2022-11-15T05:00:00"},{"$f":"IF(A448>$A$8,\"\",OFFSET(InputPriceData!G$15,CalculationsAndCharts!$A448+$A$11,IF($C$5,8,0),1,1))","v":2230543},{"$f":"IF(A448>$A$8,\"\",OFFSET(InputPriceData!C$15,CalculationsAndCharts!$A448+$A$11,IF($C$5,8,0),1,1))","v":3974.75},{"$f":"IF(A448>$A$8,\"\",OFFSET(InputPriceData!D$15,CalculationsAndCharts!$A448+$A$11,IF($C$5,8,0),1,1))","v":4050.75},{"$f":"IF(A448>$A$8,\"\",OFFSET(InputPriceData!E$15,CalculationsAndCharts!$A448+$A$11,IF($C$5,8,0),1,1))","v":3960},{"$f":"IF(A448>$A$8,\"\",OFFSET(InputPriceData!F$15,CalculationsAndCharts!$A448+$A$11,IF($C$5,8,0),1,1))","v":3999.5},33.5,0,{"$f":"IF($A448>$J$30,NA(),AVERAGE(H448:H451))","v":69.5625},8.5625,null,null,{"$f":"IF($A448>$J$30,NA(),IF($A448>$N$30,0,(1-$M$35)*J448+(2*$M$35-$M$36)*J449-($M$35+$M$37)*J450+$M$36*N449+$M$37*N450))","v":38.029640034884707},24.00012714319957,0.22617387634886851,0.13584648052699774,null,null,54.115260069924339,23.070086829535477,0.40221589313872907,0.19706480435709622,null,null,null,null,null,null,null,null,null,null,null,null,null,null,null,null,null,null,null,null,null,null,null,null,null,null,null,null,null,null,null,2230543,{"$error":"#N/A"}]
[417,{"$f":"IF(A449>$A$8,\"\",OFFSET(InputPriceData!B$15,$A449+$A$11,0,1,1))","v":"2022-11-14T05:00:00"},{"$f":"IF(A449>$A$8,\"\",OFFSET(InputPriceData!G$15,CalculationsAndCharts!$A449+$A$11,IF($C$5,8,0),1,1))","v":1592615},{"$f":"IF(A449>$A$8,\"\",OFFSET(InputPriceData!C$15,CalculationsAndCharts!$A449+$A$11,IF($C$5,8,0),1,1))","v":3984},{"$f":"IF(A449>$A$8,\"\",OFFSET(InputPriceData!D$15,CalculationsAndCharts!$A449+$A$11,IF($C$5,8,0),1,1))","v":4017.5},{"$f":"IF(A449>$A$8,\"\",OFFSET(InputPriceData!E$15,CalculationsAndCharts!$A449+$A$11,IF($C$5,8,0),1,1))","v":3964},{"$f":"IF(A449>$A$8,\"\",OFFSET(InputPriceData!F$15,CalculationsAndCharts!$A449+$A$11,IF($C$5,8,0),1,1))","v":3966},0,34.25,{"$f":"IF($A449>$J$30,NA(),AVERAGE(H449:H452))","v":61.1875},28.5,null,null,{"$f":"IF($A449>$J$30,NA(),IF($A449>$N$30,0,(1-$M$35)*J449+(2*$M$35-$M$36)*J450-($M$35+$M$37)*J451+$M$36*N450+$M$37*N451))","v":35.270991765553653},24.586403898920693,0.17850071403915613,7.7165850113992004E-2,null,null,46.127028135218517,24.748939278111219,0.30162676626953094,-2.1831874202992752E-2,null,null,null,null,null,null,null,null,null,null,null,null,null,null,null,null,null,null,null,null,null,null,null,null,null,null,null,null,null,null,null,{"$error":"#N/A"},1592615]
[418,{"$f":"IF(A450>$A$8,\"\",OFFSET(InputPriceData!B$15,$A450+$A$11,0,1,1))","v":"2022-11-11T05:00:00"},{"$f":"IF(A450>$A$8,\"\",OFFSET(InputPriceData!G$15,CalculationsAndCharts!$A450+$A$11,IF($C$5,8,0),1,1))","v":1927068},{"$f":"IF(A450>$A$8,\"\",OFFSET(InputPriceData!C$15,CalculationsAndCharts!$A450+$A$11,IF($C$5,8,0),1,1))","v":3973},{"$f":"IF(A450>$A$8,\"\",OFFSET(InputPriceData!D$15,CalculationsAndCharts!$A450+$A$11,IF($C$5,8,0),1,1))","v":4009.75},{"$f":"IF(A450>$A$8,\"\",OFFSET(InputPriceData!E$15,CalculationsAndCharts!$A450+$A$11,IF($C$5,8,0),1,1))","v":3951},{"$f":"IF(A450>$A$8,\"\",OFFSET(InputPriceData!F$15,CalculationsAndCharts!$A450+$A$11,IF($C$5,8,0),1,1))","v":4000.25},39.25,0,{"$f":"IF($A450>$J$30,NA(),AVERAGE(H450:H453))","v":66.1875},19.9375,null,null,{"$f":"IF($A450>$J$30,NA(),IF($A450>$N$30,0,(1-$M$35)*J450+(2*$M$35-$M$36)*J451-($M$35+$M$37)*J452+$M$36*N451+$M$37*N452))","v":32.519698080088034},24.741029734114282,0.13584648052699774,3.9138994628213804E-2,null,null,36.871758617126076,24.731854625732023,0.19706480435709622,-0.21451425342897409,null,null,null,null,null,null,null,null,null,null,null,null,null,null,null,null,null,null,null,null,null,null,null,null,null,null,null,null,null,null,null,1927068,{"$error":"#N/A"}]
[419,{"$f":"IF(A451>$A$8,\"\",OFFSET(InputPriceData!B$15,$A451+$A$11,0,1,1))","v":"2022-11-10T05:00:00"},{"$f":"IF(A451>$A$8,\"\",OFFSET(InputPriceData!G$15,CalculationsAndCharts!$A451+$A$11,IF($C$5,8,0),1,1))","v":2408104},{"$f":"IF(A451>$A$8,\"\",OFFSET(InputPriceData!C$15,CalculationsAndCharts!$A451+$A$11,IF($C$5,8,0),1,1))","v":3757},{"$f":"IF(A451>$A$8,\"\",OFFSET(InputPriceData!D$15,CalculationsAndCharts!$A451+$A$11,IF($C$5,8,0),1,1))","v":3973.5},{"$f":"IF(A451>$A$8,\"\",OFFSET(InputPriceData!E$15,CalculationsAndCharts!$A451+$A$11,IF($C$5,8,0),1,1))","v":3751.5},{"$f":"IF(A451>$A$8,\"\",OFFSET(InputPriceData!F$15,CalculationsAndCharts!$A451+$A$11,IF($C$5,8,0),1,1))","v":3961},205.5,0,{"$f":"IF($A451>$J$30,NA(),AVERAGE(H451:H454))","v":65.3125},19.9375,null,null,{"$f":"IF($A451>$J$30,NA(),IF($A451>$N$30,0,(1-$M$35)*J451+(2*$M$35-$M$36)*J452-($M$35+$M$37)*J453+$M$36*N452+$M$37*N453))","v":29.476400177773495},25.253148061532698,7.7165850113992004E-2,1.9172871547086058E-2,null,null,25.033085834308043,26.150519875418372,-2.1831874202992752E-2,-0.30799899074362413,null,null,null,null,null,null,null,null,null,null,null,null,null,null,null,null,null,null,null,null,null,null,null,null,null,null,null,null,null,null,null,2408104,{"$error":"#N/A"}]
[420,{"$f":"IF(A452>$A$8,\"\",OFFSET(InputPriceData!B$15,$A452+$A$11,0,1,1))","v":"2022-11-09T05:00:00"},{"$f":"IF(A452>$A$8,\"\",OFFSET(InputPriceData!G$15,CalculationsAndCharts!$A452+$A$11,IF($C$5,8,0),1,1))","v":1889153},{"$f":"IF(A452>$A$8,\"\",OFFSET(InputPriceData!C$15,CalculationsAndCharts!$A452+$A$11,IF($C$5,8,0),1,1))","v":3832.5},{"$f":"IF(A452>$A$8,\"\",OFFSET(InputPriceData!D$15,CalculationsAndCharts!$A452+$A$11,IF($C$5,8,0),1,1))","v":3848.75},{"$f":"IF(A452>$A$8,\"\",OFFSET(InputPriceData!E$15,CalculationsAndCharts!$A452+$A$11,IF($C$5,8,0),1,1))","v":3750},{"$f":"IF(A452>$A$8,\"\",OFFSET(InputPriceData!F$15,CalculationsAndCharts!$A452+$A$11,IF($C$5,8,0),1,1))","v":3755.5},0,79.75,{"$f":"IF($A452>$J$30,NA(),AVERAGE(H452:H455))","v":26.875},19.9375,null,null,{"$f":"IF($A452>$J$30,NA(),IF($A452>$N$30,0,(1-$M$35)*J452+(2*$M$35-$M$36)*J453-($M$35+$M$37)*J454+$M$36*N453+$M$37*N454))","v":27.89117693832452},25.790144006239796,3.9138994628213804E-2,1.3305351835031403E-2,null,null,17.935899402024535,27.732400704813163,-0.21451425342897409,-0.33997109400633224,null,null,null,null,null,null,null,null,null,null,null,null,null,null,null,null,null,null,null,null,null,null,null,null,null,null,null,null,null,null,null,{"$error":"#N/A"},1889153]
[421,{"$f":"IF(A453>$A$8,\"\",OFFSET(InputPriceData!B$15,$A453+$A$11,0,1,1))","v":"2022-11-08T05:00:00"},{"$f":"IF(A453>$A$8,\"\",OFFSET(InputPriceData!G$15,CalculationsAndCharts!$A453+$A$11,IF($C$5,8,0),1,1))","v":1878046},{"$f":"IF(A453>$A$8,\"\",OFFSET(InputPriceData!C$15,CalculationsAndCharts!$A453+$A$11,IF($C$5,8,0),1,1))","v":3812.75},{"$f":"IF(A453>$A$8,\"\",OFFSET(InputPriceData!D$15,CalculationsAndCharts!$A453+$A$11,IF($C$5,8,0),1,1))","v":3867},{"$f":"IF(A453>$A$8,\"\",OFFSET(InputPriceData!E$15,CalculationsAndCharts!$A453+$A$11,IF($C$5,8,0),1,1))","v":3792.75},{"$f":"IF(A453>$A$8,\"\",OFFSET(InputPriceData!F$15,CalculationsAndCharts!$A453+$A$11,IF($C$5,8,0),1,1))","v":3835.25},20,0,{"$f":"IF($A453>$J$30,NA(),AVERAGE(H453:H456))","v":26.875},10.25,null,null,{"$f":"IF($A453>$J$30,NA(),IF($A453>$N$30,0,(1-$M$35)*J453+(2*$M$35-$M$36)*J454-($M$35+$M$37)*J455+$M$36*N454+$M$37*N455))","v":27.78984310038069},26.744267600969138,1.9172871547086058E-2,3.8521786690067158E-2,null,null,16.4593602251764,31.110975670326482,-0.30799899074362413,-0.2233352811392699,null,null,null,null,null,null,null,null,null,null,null,null,null,null,null,null,null,null,null,null,null,null,null,null,null,null,null,null,null,null,null,1878046,{"$error":"#N/A"}]
[422,{"$f":"IF(A454>$A$8,\"\",OFFSET(InputPriceData!B$15,$A454+$A$11,0,1,1))","v":"2022-11-07T05:00:00"},{"$f":"IF(A454>$A$8,\"\",OFFSET(InputPriceData!G$15,CalculationsAndCharts!$A454+$A$11,IF($C$5,8,0),1,1))","v":1483146},{"$f":"IF(A454>$A$8,\"\",OFFSET(InputPriceData!C$15,CalculationsAndCharts!$A454+$A$11,IF($C$5,8,0),1,1))","v":3750},{"$f":"IF(A454>$A$8,\"\",OFFSET(InputPriceData!D$15,CalculationsAndCharts!$A454+$A$11,IF($C$5,8,0),1,1))","v":3821.75},{"$f":"IF(A454>$A$8,\"\",OFFSET(InputPriceData!E$15,CalculationsAndCharts!$A454+$A$11,IF($C$5,8,0),1,1))","v":3738.25},{"$f":"IF(A454>$A$8,\"\",OFFSET(InputPriceData!F$15,CalculationsAndCharts!$A454+$A$11,IF($C$5,8,0),1,1))","v":3815.25},35.75,0,{"$f":"IF($A454>$J$30,NA(),AVERAGE(H454:H457))","v":21.875},34.5625,null,null,{"$f":"IF($A454>$J$30,NA(),IF($A454>$N$30,0,(1-$M$35)*J454+(2*$M$35-$M$36)*J455-($M$35+$M$37)*J456+$M$36*N455+$M$37*N456))","v":27.879447630113464},27.147297426794726,1.3305351835031403E-2,8.8428001185868021E-2,null,null,15.905723151821388,32.291327030020149,-0.33997109400633224,6.6016682686378142E-2,null,null,null,null,null,null,null,null,null,null,null,null,null,null,null,null,null,null,null,null,null,null,null,null,null,null,null,null,null,null,null,1483146,{"$error":"#N/A"}]
[423,{"$f":"IF(A455>$A$8,\"\",OFFSET(InputPriceData!B$15,$A455+$A$11,0,1,1))","v":"2022-11-04T04:00:00"},{"$f":"IF(A455>$A$8,\"\",OFFSET(InputPriceData!G$15,CalculationsAndCharts!$A455+$A$11,IF($C$5,8,0),1,1))","v":2494788},{"$f":"IF(A455>$A$8,\"\",OFFSET(InputPriceData!C$15,CalculationsAndCharts!$A455+$A$11,IF($C$5,8,0),1,1))","v":3724},{"$f":"IF(A455>$A$8,\"\",OFFSET(InputPriceData!D$15,CalculationsAndCharts!$A455+$A$11,IF($C$5,8,0),1,1))","v":3805.5},{"$f":"IF(A455>$A$8,\"\",OFFSET(InputPriceData!E$15,CalculationsAndCharts!$A455+$A$11,IF($C$5,8,0),1,1))","v":3711},{"$f":"IF(A455>$A$8,\"\",OFFSET(InputPriceData!F$15,CalculationsAndCharts!$A455+$A$11,IF($C$5,8,0),1,1))","v":3779.5},51.75,0,{"$f":"IF($A455>$J$30,NA(),AVERAGE(H455:H458))","v":12.9375},38.8125,null,null,{"$f":"IF($A455>$J$30,NA(),IF($A455>$N$30,0,(1-$M$35)*J455+(2*$M$35-$M$36)*J456-($M$35+$M$37)*J457+$M$36*N456+$M$37*N457))","v":28.52888579386212},26.412447473277478,3.8521786690067158E-2,0.13048940287849298,null,null,18.041673694614495,28.417688386566098,-0.2233352811392699,0.37534706413794849,null,null,null,null,null,null,null,null,null,null,null,null,null,null,null,null,null,null,null,null,null,null,null,null,null,null,null,null,null,null,null,2494788,{"$error":"#N/A"}]
[424,{"$f":"IF(A456>$A$8,\"\",OFFSET(InputPriceData!B$15,$A456+$A$11,0,1,1))","v":"2022-11-03T04:00:00"},{"$f":"IF(A456>$A$8,\"\",OFFSET(InputPriceData!G$15,CalculationsAndCharts!$A456+$A$11,IF($C$5,8,0),1,1))","v":1887557},{"$f":"IF(A456>$A$8,\"\",OFFSET(InputPriceData!C$15,CalculationsAndCharts!$A456+$A$11,IF($C$5,8,0),1,1))","v":3766.75},{"$f":"IF(A456>$A$8,\"\",OFFSET(InputPriceData!D$15,CalculationsAndCharts!$A456+$A$11,IF($C$5,8,0),1,1))","v":3782.5},{"$f":"IF(A456>$A$8,\"\",OFFSET(InputPriceData!E$15,CalculationsAndCharts!$A456+$A$11,IF($C$5,8,0),1,1))","v":3704.25},{"$f":"IF(A456>$A$8,\"\",OFFSET(InputPriceData!F$15,CalculationsAndCharts!$A456+$A$11,IF($C$5,8,0),1,1))","v":3727.75},0,41,{"$f":"IF($A456>$J$30,NA(),AVERAGE(H456:H459))","v":0},45.875,null,null,{"$f":"IF($A456>$J$30,NA(),IF($A456>$N$30,0,(1-$M$35)*J456+(2*$M$35-$M$36)*J457-($M$35+$M$37)*J458+$M$36*N457+$M$37*N458))","v":30.080586443705517},25.192865564019399,8.8428001185868021E-2,0.13510224192748163,null,null,24.699341142555568,21.640160937867517,6.6016682686378142E-2,0.54057466563155065,null,null,null,null,null,null,null,null,null,null,null,null,null,null,null,null,null,null,null,null,null,null,null,null,null,null,null,null,null,null,null,{"$error":"#N/A"},1887557]
[425,{"$f":"IF(A457>$A$8,\"\",OFFSET(InputPriceData!B$15,$A457+$A$11,0,1,1))","v":"2022-11-02T04:00:00"},{"$f":"IF(A457>$A$8,\"\",OFFSET(InputPriceData!G$15,CalculationsAndCharts!$A457+$A$11,IF($C$5,8,0),1,1))","v":2210708},{"$f":"IF(A457>$A$8,\"\",OFFSET(InputPriceData!C$15,CalculationsAndCharts!$A457+$A$11,IF($C$5,8,0),1,1))","v":3863},{"$f":"IF(A457>$A$8,\"\",OFFSET(InputPriceData!D$15,CalculationsAndCharts!$A457+$A$11,IF($C$5,8,0),1,1))","v":3907},{"$f":"IF(A457>$A$8,\"\",OFFSET(InputPriceData!E$15,CalculationsAndCharts!$A457+$A$11,IF($C$5,8,0),1,1))","v":3760.25},{"$f":"IF(A457>$A$8,\"\",OFFSET(InputPriceData!F$15,CalculationsAndCharts!$A457+$A$11,IF($C$5,8,0),1,1))","v":3768.75},0,97.25,{"$f":"IF($A457>$J$30,NA(),AVERAGE(H457:H460))","v":22.9375},35.625,null,null,{"$f":"IF($A457>$J$30,NA(),IF($A457>$N$30,0,(1-$M$35)*J457+(2*$M$35-$M$36)*J458-($M$35+$M$37)*J459+$M$36*N458+$M$37*N459))","v":31.278497702181852},24.05770911681072,0.13048940287849298,0.12653403501248117,null,null,31.047983442310453,14.101323597176293,0.37534706413794849,0.63024311843086978,null,null,null,null,null,null,null,null,null,null,null,null,null,null,null,null,null,null,null,null,null,null,null,null,null,null,null,null,null,null,null,{"$error":"#N/A"},2210708]
[426,{"$f":"IF(A458>$A$8,\"\",OFFSET(InputPriceData!B$15,$A458+$A$11,0,1,1))","v":"2022-11-01T04:00:00"},{"$f":"IF(A458>$A$8,\"\",OFFSET(InputPriceData!G$15,CalculationsAndCharts!$A458+$A$11,IF($C$5,8,0),1,1))","v":1895614},{"$f":"IF(A458>$A$8,\"\",OFFSET(InputPriceData!C$15,CalculationsAndCharts!$A458+$A$11,IF($C$5,8,0),1,1))","v":3884},{"$f":"IF(A458>$A$8,\"\",OFFSET(InputPriceData!D$15,CalculationsAndCharts!$A458+$A$11,IF($C$5,8,0),1,1))","v":3928},{"$f":"IF(A458>$A$8,\"\",OFFSET(InputPriceData!E$15,CalculationsAndCharts!$A458+$A$11,IF($C$5,8,0),1,1))","v":3852.5},{"$f":"IF(A458>$A$8,\"\",OFFSET(InputPriceData!F$15,CalculationsAndCharts!$A458+$A$11,IF($C$5,8,0),1,1))","v":3866},0,17,{"$f":"IF($A458>$J$30,NA(),AVERAGE(H458:H461))","v":22.9375},16.6875,null,null,{"$f":"IF($A458>$J$30,NA(),IF($A458>$N$30,0,(1-$M$35)*J458+(2*$M$35-$M$36)*J459-($M$35+$M$37)*J460+$M$36*N459+$M$37*N460))","v":31.582409922275293},24.064401009304209,0.13510224192748163,0.10484806470054649,null,null,34.6679214154357,10.338558554457567,0.54057466563155065,0.67489389433773717,null,null,null,null,null,null,null,null,null,null,null,null,null,null,null,null,null,null,null,null,null,null,null,null,null,null,null,null,null,null,null,{"$error":"#N/A"},1895614]
[427,{"$f":"IF(A459>$A$8,\"\",OFFSET(InputPriceData!B$15,$A459+$A$11,0,1,1))","v":"2022-10-31T04:00:00"},{"$f":"IF(A459>$A$8,\"\",OFFSET(InputPriceData!G$15,CalculationsAndCharts!$A459+$A$11,IF($C$5,8,0),1,1))","v":2002625},{"$f":"IF(A459>$A$8,\"\",OFFSET(InputPriceData!C$15,CalculationsAndCharts!$A459+$A$11,IF($C$5,8,0),1,1))","v":3911.5},{"$f":"IF(A459>$A$8,\"\",OFFSET(InputPriceData!D$15,CalculationsAndCharts!$A459+$A$11,IF($C$5,8,0),1,1))","v":3914.75},{"$f":"IF(A459>$A$8,\"\",OFFSET(InputPriceData!E$15,CalculationsAndCharts!$A459+$A$11,IF($C$5,8,0),1,1))","v":3872.25},{"$f":"IF(A459>$A$8,\"\",OFFSET(InputPriceData!F$15,CalculationsAndCharts!$A459+$A$11,IF($C$5,8,0),1,1))","v":3883},0,28.25,{"$f":"IF($A459>$J$30,NA(),AVERAGE(H459:H462))","v":22.9375},19.75,null,null,{"$f":"IF($A459>$J$30,NA(),IF($A459>$N$30,0,(1-$M$35)*J459+(2*$M$35-$M$36)*J460-($M$35+$M$37)*J461+$M$36*N460+$M$37*N461))","v":31.883112553191943},24.720792099966097,0.12653403501248117,7.4665775505092902E-2,null,null,38.947566390765346,8.8337319327054296,0.63024311843086978,0.6686524317585294,null,null,null,null,null,null,null,null,null,null,null,null,null,null,null,null,null,null,null,null,null,null,null,null,null,null,null,null,null,null,null,{"$error":"#N/A"},2002625]
[428,{"$f":"IF(A460>$A$8,\"\",OFFSET(InputPriceData!B$15,$A460+$A$11,0,1,1))","v":"2022-10-28T04:00:00"},{"$f":"IF(A460>$A$8,\"\",OFFSET(InputPriceData!G$15,CalculationsAndCharts!$A460+$A$11,IF($C$5,8,0),1,1))","v":2084386},{"$f":"IF(A460>$A$8,\"\",OFFSET(InputPriceData!C$15,CalculationsAndCharts!$A460+$A$11,IF($C$5,8,0),1,1))","v":3798.25},{"$f":"IF(A460>$A$8,\"\",OFFSET(InputPriceData!D$15,CalculationsAndCharts!$A460+$A$11,IF($C$5,8,0),1,1))","v":3924.25},{"$f":"IF(A460>$A$8,\"\",OFFSET(InputPriceData!E$15,CalculationsAndCharts!$A460+$A$11,IF($C$5,8,0),1,1))","v":3776.75},{"$f":"IF(A460>$A$8,\"\",OFFSET(InputPriceData!F$15,CalculationsAndCharts!$A460+$A$11,IF($C$5,8,0),1,1))","v":3911.25},91.75,0,{"$f":"IF($A460>$J$30,NA(),AVERAGE(H460:H463))","v":38.1875},12.6875,null,null,{"$f":"IF($A460>$J$30,NA(),IF($A460>$N$30,0,(1-$M$35)*J460+(2*$M$35-$M$36)*J461-($M$35+$M$37)*J462+$M$36*N461+$M$37*N462))","v":31.562344635462079},25.571926842882064,0.10484806470054649,3.2768037454595118E-2,null,null,41.258409359705453,8.0084839034278179,0.67489389433773717,0.60958201109525345,null,null,null,null,null,null,null,null,null,null,null,null,null,null,null,null,null,null,null,null,null,null,null,null,null,null,null,null,null,null,null,2084386,{"$error":"#N/A"}]
[429,{"$f":"IF(A461>$A$8,\"\",OFFSET(InputPriceData!B$15,$A461+$A$11,0,1,1))","v":"2022-10-27T04:00:00"},{"$f":"IF(A461>$A$8,\"\",OFFSET(InputPriceData!G$15,CalculationsAndCharts!$A461+$A$11,IF($C$5,8,0),1,1))","v":2211786},{"$f":"IF(A461>$A$8,\"\",OFFSET(InputPriceData!C$15,CalculationsAndCharts!$A461+$A$11,IF($C$5,8,0),1,1))","v":3844.25},{"$f":"IF(A461>$A$8,\"\",OFFSET(InputPriceData!D$15,CalculationsAndCharts!$A461+$A$11,IF($C$5,8,0),1,1))","v":3870.75},{"$f":"IF(A461>$A$8,\"\",OFFSET(InputPriceData!E$15,CalculationsAndCharts!$A461+$A$11,IF($C$5,8,0),1,1))","v":3757.5},{"$f":"IF(A461>$A$8,\"\",OFFSET(InputPriceData!F$15,CalculationsAndCharts!$A461+$A$11,IF($C$5,8,0),1,1))","v":3819.5},0,21.5,{"$f":"IF($A461>$J$30,NA(),AVERAGE(H461:H464))","v":26.5625},12.6875,null,null,{"$f":"IF($A461>$J$30,NA(),IF($A461>$N$30,0,(1-$M$35)*J461+(2*$M$35-$M$36)*J462-($M$35+$M$37)*J463+$M$36*N462+$M$37*N463))","v":31.065155566265474},26.748457324988742,7.4665775505092902E-2,-2.9233908786142473E-2,null,null,43.177801717168805,8.5739003094364143,0.6686524317585294,0.4772795437695207,null,null,null,null,null,null,null,null,null,null,null,null,null,null,null,null,null,null,null,null,null,null,null,null,null,null,null,null,null,null,null,{"$error":"#N/A"},2211786]
[430,{"$f":"IF(A462>$A$8,\"\",OFFSET(InputPriceData!B$15,$A462+$A$11,0,1,1))","v":"2022-10-26T04:00:00"},{"$f":"IF(A462>$A$8,\"\",OFFSET(InputPriceData!G$15,CalculationsAndCharts!$A462+$A$11,IF($C$5,8,0),1,1))","v":2118534},{"$f":"IF(A462>$A$8,\"\",OFFSET(InputPriceData!C$15,CalculationsAndCharts!$A462+$A$11,IF($C$5,8,0),1,1))","v":3841},{"$f":"IF(A462>$A$8,\"\",OFFSET(InputPriceData!D$15,CalculationsAndCharts!$A462+$A$11,IF($C$5,8,0),1,1))","v":3897.5},{"$f":"IF(A462>$A$8,\"\",OFFSET(InputPriceData!E$15,CalculationsAndCharts!$A462+$A$11,IF($C$5,8,0),1,1))","v":3824.25},{"$f":"IF(A462>$A$8,\"\",OFFSET(InputPriceData!F$15,CalculationsAndCharts!$A462+$A$11,IF($C$5,8,0),1,1))","v":3841},0,29.25,{"$f":"IF($A462>$J$30,NA(),AVERAGE(H462:H465))","v":48.75},7.3125,null,null,{"$f":"IF($A462>$J$30,NA(),IF($A462>$N$30,0,(1-$M$35)*J462+(2*$M$35-$M$36)*J463-($M$35+$M$37)*J464+$M$36*N463+$M$37*N464))","v":30.103851810025603},28.193560035176077,3.2768037454595118E-2,-7.8413040622997254E-2,null,null,43.360297031016529,10.517413743735055,0.60958201109525345,0.37082259223988101,null,null,null,null,null,null,null,null,null,null,null,null,null,null,null,null,null,null,null,null,null,null,null,null,null,null,null,null,null,null,null,{"$error":"#N/A"},2118534]
[431,{"$f":"IF(A463>$A$8,\"\",OFFSET(InputPriceData!B$15,$A463+$A$11,0,1,1))","v":"2022-10-25T04:00:00"},{"$f":"IF(A463>$A$8,\"\",OFFSET(InputPriceData!G$15,CalculationsAndCharts!$A463+$A$11,IF($C$5,8,0),1,1))","v":1836723},{"$f":"IF(A463>$A$8,\"\",OFFSET(InputPriceData!C$15,CalculationsAndCharts!$A463+$A$11,IF($C$5,8,0),1,1))","v":3803.25},{"$f":"IF(A463>$A$8,\"\",OFFSET(InputPriceData!D$15,CalculationsAndCharts!$A463+$A$11,IF($C$5,8,0),1,1))","v":3874.25},{"$f":"IF(A463>$A$8,\"\",OFFSET(InputPriceData!E$15,CalculationsAndCharts!$A463+$A$11,IF($C$5,8,0),1,1))","v":3790},{"$f":"IF(A463>$A$8,\"\",OFFSET(InputPriceData!F$15,CalculationsAndCharts!$A463+$A$11,IF($C$5,8,0),1,1))","v":3870.25},61,0,{"$f":"IF($A463>$J$30,NA(),AVERAGE(H463:H466))","v":48.75},8,null,null,{"$f":"IF($A463>$J$30,NA(),IF($A463>$N$30,0,(1-$M$35)*J463+(2*$M$35-$M$36)*J464-($M$35+$M$37)*J465+$M$36*N464+$M$37*N465))","v":28.190208089992218},29.888062968575237,-2.9233908786142473E-2,-0.1135275120647443,null,null,39.459086053705022,13.962199335543247,0.4772795437695207,0.30105223572902007,null,null,null,null,null,null,null,null,null,null,null,null,null,null,null,null,null,null,null,null,null,null,null,null,null,null,null,null,null,null,null,1836723,{"$error":"#N/A"}]
[432,{"$f":"IF(A464>$A$8,\"\",OFFSET(InputPriceData!B$15,$A464+$A$11,0,1,1))","v":"2022-10-24T04:00:00"},{"$f":"IF(A464>$A$8,\"\",OFFSET(InputPriceData!G$15,CalculationsAndCharts!$A464+$A$11,IF($C$5,8,0),1,1))","v":2109780},{"$f":"IF(A464>$A$8,\"\",OFFSET(InputPriceData!C$15,CalculationsAndCharts!$A464+$A$11,IF($C$5,8,0),1,1))","v":3771},{"$f":"IF(A464>$A$8,\"\",OFFSET(InputPriceData!D$15,CalculationsAndCharts!$A464+$A$11,IF($C$5,8,0),1,1))","v":3822},{"$f":"IF(A464>$A$8,\"\",OFFSET(InputPriceData!E$15,CalculationsAndCharts!$A464+$A$11,IF($C$5,8,0),1,1))","v":3736.5},{"$f":"IF(A464>$A$8,\"\",OFFSET(InputPriceData!F$15,CalculationsAndCharts!$A464+$A$11,IF($C$5,8,0),1,1))","v":3809.25},45.25,0,{"$f":"IF($A464>$J$30,NA(),AVERAGE(H464:H467))","v":33.5},14.375,null,null,{"$f":"IF($A464>$J$30,NA(),IF($A464>$N$30,0,(1-$M$35)*J464+(2*$M$35-$M$36)*J465-($M$35+$M$37)*J466+$M$36*N465+$M$37*N466))","v":26.802895916195038},31.363933905949853,-7.8413040622997254E-2,-0.14985494359203913,null,null,37.271594741655477,17.106841903096434,0.37082259223988101,0.21860580113976502,null,null,null,null,null,null,null,null,null,null,null,null,null,null,null,null,null,null,null,null,null,null,null,null,null,null,null,null,null,null,null,2109780,{"$error":"#N/A"}]
[433,{"$f":"IF(A465>$A$8,\"\",OFFSET(InputPriceData!B$15,$A465+$A$11,0,1,1))","v":"2022-10-21T04:00:00"},{"$f":"IF(A465>$A$8,\"\",OFFSET(InputPriceData!G$15,CalculationsAndCharts!$A465+$A$11,IF($C$5,8,0),1,1))","v":2681019},{"$f":"IF(A465>$A$8,\"\",OFFSET(InputPriceData!C$15,CalculationsAndCharts!$A465+$A$11,IF($C$5,8,0),1,1))","v":3677.75},{"$f":"IF(A465>$A$8,\"\",OFFSET(InputPriceData!D$15,CalculationsAndCharts!$A465+$A$11,IF($C$5,8,0),1,1))","v":3773.25},{"$f":"IF(A465>$A$8,\"\",OFFSET(InputPriceData!E$15,CalculationsAndCharts!$A465+$A$11,IF($C$5,8,0),1,1))","v":3641.5},{"$f":"IF(A465>$A$8,\"\",OFFSET(InputPriceData!F$15,CalculationsAndCharts!$A465+$A$11,IF($C$5,8,0),1,1))","v":3764},88.75,0,{"$f":"IF($A465>$J$30,NA(),AVERAGE(H465:H468))","v":33.0625},14.375,null,null,{"$f":"IF($A465>$J$30,NA(),IF($A465>$N$30,0,(1-$M$35)*J465+(2*$M$35-$M$36)*J466-($M$35+$M$37)*J467+$M$36*N466+$M$37*N467))","v":25.982649115392817},32.637667857806882,-0.1135275120647443,-0.18047724333823206,null,null,37.19219993620554,19.980293088819842,0.30105223572902007,0.16464744889756236,null,null,null,null,null,null,null,null,null,null,null,null,null,null,null,null,null,null,null,null,null,null,null,null,null,null,null,null,null,null,null,2681019,{"$error":"#N/A"}]
[434,{"$f":"IF(A466>$A$8,\"\",OFFSET(InputPriceData!B$15,$A466+$A$11,0,1,1))","v":"2022-10-20T04:00:00"},{"$f":"IF(A466>$A$8,\"\",OFFSET(InputPriceData!G$15,CalculationsAndCharts!$A466+$A$11,IF($C$5,8,0),1,1))","v":2403705},{"$f":"IF(A466>$A$8,\"\",OFFSET(InputPriceData!C$15,CalculationsAndCharts!$A466+$A$11,IF($C$5,8,0),1,1))","v":3708},{"$f":"IF(A466>$A$8,\"\",OFFSET(InputPriceData!D$15,CalculationsAndCharts!$A466+$A$11,IF($C$5,8,0),1,1))","v":3748},{"$f":"IF(A466>$A$8,\"\",OFFSET(InputPriceData!E$15,CalculationsAndCharts!$A466+$A$11,IF($C$5,8,0),1,1))","v":3666.25},{"$f":"IF(A466>$A$8,\"\",OFFSET(InputPriceData!F$15,CalculationsAndCharts!$A466+$A$11,IF($C$5,8,0),1,1))","v":3675.25},0,32,{"$f":"IF($A466>$J$30,NA(),AVERAGE(H466:H469))","v":33.8125},14.375,null,null,{"$f":"IF($A466>$J$30,NA(),IF($A466>$N$30,0,(1-$M$35)*J466+(2*$M$35-$M$36)*J467-($M$35+$M$37)*J468+$M$36*N467+$M$37*N468))","v":25.105934338323941},33.956773017528292,-0.14985494359203913,-0.22866247470263459,null,null,36.798694639020027,23.596052546004231,0.21860580113976502,5.6665402367533785E-2,null,null,null,null,null,null,null,null,null,null,null,null,null,null,null,null,null,null,null,null,null,null,null,null,null,null,null,null,null,null,null,{"$error":"#N/A"},2403705]
[435,{"$f":"IF(A467>$A$8,\"\",OFFSET(InputPriceData!B$15,$A467+$A$11,0,1,1))","v":"2022-10-19T04:00:00"},{"$f":"IF(A467>$A$8,\"\",OFFSET(InputPriceData!G$15,CalculationsAndCharts!$A467+$A$11,IF($C$5,8,0),1,1))","v":2348844},{"$f":"IF(A467>$A$8,\"\",OFFSET(InputPriceData!C$15,CalculationsAndCharts!$A467+$A$11,IF($C$5,8,0),1,1))","v":3759.75},{"$f":"IF(A467>$A$8,\"\",OFFSET(InputPriceData!D$15,CalculationsAndCharts!$A467+$A$11,IF($C$5,8,0),1,1))","v":3774.25},{"$f":"IF(A467>$A$8,\"\",OFFSET(InputPriceData!E$15,CalculationsAndCharts!$A467+$A$11,IF($C$5,8,0),1,1))","v":3676.75},{"$f":"IF(A467>$A$8,\"\",OFFSET(InputPriceData!F$15,CalculationsAndCharts!$A467+$A$11,IF($C$5,8,0),1,1))","v":3707.25},0,25.5,{"$f":"IF($A467>$J$30,NA(),AVERAGE(H467:H470))","v":33.8125},27.4375,null,null,{"$f":"IF($A467>$J$30,NA(),IF($A467>$N$30,0,(1-$M$35)*J467+(2*$M$35-$M$36)*J468-($M$35+$M$37)*J469+$M$36*N468+$M$37*N469))","v":24.153770095472261},34.792171061451498,-0.18047724333823206,-0.29471538179796852,null,null,35.930985677597086,25.771782334488996,0.16464744889756236,-0.15166237825796436,null,null,null,null,null,null,null,null,null,null,null,null,null,null,null,null,null,null,null,null,null,null,null,null,null,null,null,null,null,null,null,{"$error":"#N/A"},2348844]
[436,{"$f":"IF(A468>$A$8,\"\",OFFSET(InputPriceData!B$15,$A468+$A$11,0,1,1))","v":"2022-10-18T04:00:00"},{"$f":"IF(A468>$A$8,\"\",OFFSET(InputPriceData!G$15,CalculationsAndCharts!$A468+$A$11,IF($C$5,8,0),1,1))","v":2746886},{"$f":"IF(A468>$A$8,\"\",OFFSET(InputPriceData!C$15,CalculationsAndCharts!$A468+$A$11,IF($C$5,8,0),1,1))","v":3706.25},{"$f":"IF(A468>$A$8,\"\",OFFSET(InputPriceData!D$15,CalculationsAndCharts!$A468+$A$11,IF($C$5,8,0),1,1))","v":3777.25},{"$f":"IF(A468>$A$8,\"\",OFFSET(InputPriceData!E$15,CalculationsAndCharts!$A468+$A$11,IF($C$5,8,0),1,1))","v":3697.25},{"$f":"IF(A468>$A$8,\"\",OFFSET(InputPriceData!F$15,CalculationsAndCharts!$A468+$A$11,IF($C$5,8,0),1,1))","v":3732.75},43.5,0,{"$f":"IF($A468>$J$30,NA(),AVERAGE(H468:H471))","v":57.125},21.0625,null,null,{"$f":"IF($A468>$J$30,NA(),IF($A468>$N$30,0,(1-$M$35)*J468+(2*$M$35-$M$36)*J469-($M$35+$M$37)*J470+$M$36*N469+$M$37*N470))","v":22.211398325429599},35.380505599811634,-0.22866247470263459,-0.32961526474313801,null,null,30.605483351445823,27.322945615513948,5.6665402367533785E-2,-0.27649672050967256,null,null,null,null,null,null,null,null,null,null,null,null,null,null,null,null,null,null,null,null,null,null,null,null,null,null,null,null,null,null,null,2746886,{"$error":"#N/A"}]
[437,{"$f":"IF(A469>$A$8,\"\",OFFSET(InputPriceData!B$15,$A469+$A$11,0,1,1))","v":"2022-10-17T04:00:00"},{"$f":"IF(A469>$A$8,\"\",OFFSET(InputPriceData!G$15,CalculationsAndCharts!$A469+$A$11,IF($C$5,8,0),1,1))","v":1951998},{"$f":"IF(A469>$A$8,\"\",OFFSET(InputPriceData!C$15,CalculationsAndCharts!$A469+$A$11,IF($C$5,8,0),1,1))","v":3591},{"$f":"IF(A469>$A$8,\"\",OFFSET(InputPriceData!D$15,CalculationsAndCharts!$A469+$A$11,IF($C$5,8,0),1,1))","v":3702.5},{"$f":"IF(A469>$A$8,\"\",OFFSET(InputPriceData!E$15,CalculationsAndCharts!$A469+$A$11,IF($C$5,8,0),1,1))","v":3590.5},{"$f":"IF(A469>$A$8,\"\",OFFSET(InputPriceData!F$15,CalculationsAndCharts!$A469+$A$11,IF($C$5,8,0),1,1))","v":3689.25},91.75,0,{"$f":"IF($A469>$J$30,NA(),AVERAGE(H469:H472))","v":46.25},23.75,null,null,{"$f":"IF($A469>$J$30,NA(),IF($A469>$N$30,0,(1-$M$35)*J469+(2*$M$35-$M$36)*J470-($M$35+$M$37)*J471+$M$36*N470+$M$37*N471))","v":19.681586868646619},36.130170146047703,-0.29471538179796852,-0.34749026428183705,null,null,22.029469516990115,29.906148926415156,-0.15166237825796436,-0.34137089120266967,null,null,null,null,null,null,null,null,null,null,null,null,null,null,null,null,null,null,null,null,null,null,null,null,null,null,null,null,null,null,null,1951998,{"$error":"#N/A"}]
[438,{"$f":"IF(A470>$A$8,\"\",OFFSET(InputPriceData!B$15,$A470+$A$11,0,1,1))","v":"2022-10-14T04:00:00"},{"$f":"IF(A470>$A$8,\"\",OFFSET(InputPriceData!G$15,CalculationsAndCharts!$A470+$A$11,IF($C$5,8,0),1,1))","v":2730405},{"$f":"IF(A470>$A$8,\"\",OFFSET(InputPriceData!C$15,CalculationsAndCharts!$A470+$A$11,IF($C$5,8,0),1,1))","v":3680.25},{"$f":"IF(A470>$A$8,\"\",OFFSET(InputPriceData!D$15,CalculationsAndCharts!$A470+$A$11,IF($C$5,8,0),1,1))","v":3733.75},{"$f":"IF(A470>$A$8,\"\",OFFSET(InputPriceData!E$15,CalculationsAndCharts!$A470+$A$11,IF($C$5,8,0),1,1))","v":3591.25},{"$f":"IF(A470>$A$8,\"\",OFFSET(InputPriceData!F$15,CalculationsAndCharts!$A470+$A$11,IF($C$5,8,0),1,1))","v":3597.5},0,84.25,{"$f":"IF($A470>$J$30,NA(),AVERAGE(H470:H473))","v":23.3125},30.25,null,null,{"$f":"IF($A470>$J$30,NA(),IF($A470>$N$30,0,(1-$M$35)*J470+(2*$M$35-$M$36)*J471-($M$35+$M$37)*J472+$M$36*N471+$M$37*N472))","v":18.415742400350055},36.525074213840753,-0.32961526474313801,-0.33726501014318161,null,null,17.815077455841568,31.431630778546573,-0.27649672050967256,-0.28335950992300546,null,null,null,null,null,null,null,null,null,null,null,null,null,null,null,null,null,null,null,null,null,null,null,null,null,null,null,null,null,null,null,{"$error":"#N/A"},2730405]
[439,{"$f":"IF(A471>$A$8,\"\",OFFSET(InputPriceData!B$15,$A471+$A$11,0,1,1))","v":"2022-10-13T04:00:00"},{"$f":"IF(A471>$A$8,\"\",OFFSET(InputPriceData!G$15,CalculationsAndCharts!$A471+$A$11,IF($C$5,8,0),1,1))","v":3288646},{"$f":"IF(A471>$A$8,\"\",OFFSET(InputPriceData!C$15,CalculationsAndCharts!$A471+$A$11,IF($C$5,8,0),1,1))","v":3596.25},{"$f":"IF(A471>$A$8,\"\",OFFSET(InputPriceData!D$15,CalculationsAndCharts!$A471+$A$11,IF($C$5,8,0),1,1))","v":3697.75},{"$f":"IF(A471>$A$8,\"\",OFFSET(InputPriceData!E$15,CalculationsAndCharts!$A471+$A$11,IF($C$5,8,0),1,1))","v":3502},{"$f":"IF(A471>$A$8,\"\",OFFSET(InputPriceData!F$15,CalculationsAndCharts!$A471+$A$11,IF($C$5,8,0),1,1))","v":3681.75},93.25,0,{"$f":"IF($A471>$J$30,NA(),AVERAGE(H471:H474))","v":23.3125},16.1875,null,null,{"$f":"IF($A471>$J$30,NA(),IF($A471>$N$30,0,(1-$M$35)*J471+(2*$M$35-$M$36)*J472-($M$35+$M$37)*J473+$M$36*N472+$M$37*N473))","v":18.02701379331025},37.227376467915271,-0.34749026428183705,-0.28886282151060033,null,null,16.972195100949513,34.565749014338905,-0.34137089120266967,-7.0016864444686619E-2,null,null,null,null,null,null,null,null,null,null,null,null,null,null,null,null,null,null,null,null,null,null,null,null,null,null,null,null,null,null,null,3288646,{"$error":"#N/A"}]
[440,{"$f":"IF(A472>$A$8,\"\",OFFSET(InputPriceData!B$15,$A472+$A$11,0,1,1))","v":"2022-10-12T04:00:00"},{"$f":"IF(A472>$A$8,\"\",OFFSET(InputPriceData!G$15,CalculationsAndCharts!$A472+$A$11,IF($C$5,8,0),1,1))","v":1948173},{"$f":"IF(A472>$A$8,\"\",OFFSET(InputPriceData!C$15,CalculationsAndCharts!$A472+$A$11,IF($C$5,8,0),1,1))","v":3607},{"$f":"IF(A472>$A$8,\"\",OFFSET(InputPriceData!D$15,CalculationsAndCharts!$A472+$A$11,IF($C$5,8,0),1,1))","v":3635.25},{"$f":"IF(A472>$A$8,\"\",OFFSET(InputPriceData!E$15,CalculationsAndCharts!$A472+$A$11,IF($C$5,8,0),1,1))","v":3585.5},{"$f":"IF(A472>$A$8,\"\",OFFSET(InputPriceData!F$15,CalculationsAndCharts!$A472+$A$11,IF($C$5,8,0),1,1))","v":3588.5},0,10.75,{"$f":"IF($A472>$J$30,NA(),AVERAGE(H472:H475))","v":0},42.0625,null,null,{"$f":"IF($A472>$J$30,NA(),IF($A472>$N$30,0,(1-$M$35)*J472+(2*$M$35-$M$36)*J473-($M$35+$M$37)*J474+$M$36*N473+$M$37*N474))","v":18.566714026134264},37.463869269748571,-0.33726501014318161,-0.23777025829275208,null,null,20.197410121940063,36.169514163262107,-0.28335950992300546,0.15223591830789079,null,null,null,null,null,null,null,null,null,null,null,null,null,null,null,null,null,null,null,null,null,null,null,null,null,null,null,null,null,null,null,{"$error":"#N/A"},1948173]
[441,{"$f":"IF(A473>$A$8,\"\",OFFSET(InputPriceData!B$15,$A473+$A$11,0,1,1))","v":"2022-10-11T04:00:00"},{"$f":"IF(A473>$A$8,\"\",OFFSET(InputPriceData!G$15,CalculationsAndCharts!$A473+$A$11,IF($C$5,8,0),1,1))","v":2398140},{"$f":"IF(A473>$A$8,\"\",OFFSET(InputPriceData!C$15,CalculationsAndCharts!$A473+$A$11,IF($C$5,8,0),1,1))","v":3624.75},{"$f":"IF(A473>$A$8,\"\",OFFSET(InputPriceData!D$15,CalculationsAndCharts!$A473+$A$11,IF($C$5,8,0),1,1))","v":3653.25},{"$f":"IF(A473>$A$8,\"\",OFFSET(InputPriceData!E$15,CalculationsAndCharts!$A473+$A$11,IF($C$5,8,0),1,1))","v":3579},{"$f":"IF(A473>$A$8,\"\",OFFSET(InputPriceData!F$15,CalculationsAndCharts!$A473+$A$11,IF($C$5,8,0),1,1))","v":3599.25},0,26,{"$f":"IF($A473>$J$30,NA(),AVERAGE(H473:H476))","v":0},48.6875,null,null,{"$f":"IF($A473>$J$30,NA(),IF($A473>$N$30,0,(1-$M$35)*J473+(2*$M$35-$M$36)*J474-($M$35+$M$37)*J475+$M$36*N474+$M$37*N475))","v":20.071566832821102},36.377645611554826,-0.28886282151060033,-0.21566995815418299,null,null,28.131883867897461,32.367888208290339,-7.0016864444686619E-2,0.2863488434596701,null,null,null,null,null,null,null,null,null,null,null,null,null,null,null,null,null,null,null,null,null,null,null,null,null,null,null,null,null,null,null,{"$error":"#N/A"},2398140]
[442,{"$f":"IF(A474>$A$8,\"\",OFFSET(InputPriceData!B$15,$A474+$A$11,0,1,1))","v":"2022-10-10T04:00:00"},{"$f":"IF(A474>$A$8,\"\",OFFSET(InputPriceData!G$15,CalculationsAndCharts!$A474+$A$11,IF($C$5,8,0),1,1))","v":2024447},{"$f":"IF(A474>$A$8,\"\",OFFSET(InputPriceData!C$15,CalculationsAndCharts!$A474+$A$11,IF($C$5,8,0),1,1))","v":3638.75},{"$f":"IF(A474>$A$8,\"\",OFFSET(InputPriceData!D$15,CalculationsAndCharts!$A474+$A$11,IF($C$5,8,0),1,1))","v":3667.5},{"$f":"IF(A474>$A$8,\"\",OFFSET(InputPriceData!E$15,CalculationsAndCharts!$A474+$A$11,IF($C$5,8,0),1,1))","v":3600},{"$f":"IF(A474>$A$8,\"\",OFFSET(InputPriceData!F$15,CalculationsAndCharts!$A474+$A$11,IF($C$5,8,0),1,1))","v":3625.25},0,28,{"$f":"IF($A474>$J$30,NA(),AVERAGE(H474:H477))","v":0},44.5,null,null,{"$f":"IF($A474>$J$30,NA(),IF($A474>$N$30,0,(1-$M$35)*J474+(2*$M$35-$M$36)*J475-($M$35+$M$37)*J476+$M$36*N475+$M$37*N476))","v":21.634949666576333},35.132579813756486,-0.23777025829275208,-0.25574999677039661,null,null,37.369577880039529,27.49487789030028,0.15223591830789079,0.22514606335529008,null,null,null,null,null,null,null,null,null,null,null,null,null,null,null,null,null,null,null,null,null,null,null,null,null,null,null,null,null,null,null,{"$error":"#N/A"},2024447]
[443,{"$f":"IF(A475>$A$8,\"\",OFFSET(InputPriceData!B$15,$A475+$A$11,0,1,1))","v":"2022-10-07T04:00:00"},{"$f":"IF(A475>$A$8,\"\",OFFSET(InputPriceData!G$15,CalculationsAndCharts!$A475+$A$11,IF($C$5,8,0),1,1))","v":2238683},{"$f":"IF(A475>$A$8,\"\",OFFSET(InputPriceData!C$15,CalculationsAndCharts!$A475+$A$11,IF($C$5,8,0),1,1))","v":3745.75},{"$f":"IF(A475>$A$8,\"\",OFFSET(InputPriceData!D$15,CalculationsAndCharts!$A475+$A$11,IF($C$5,8,0),1,1))","v":3770.5},{"$f":"IF(A475>$A$8,\"\",OFFSET(InputPriceData!E$15,CalculationsAndCharts!$A475+$A$11,IF($C$5,8,0),1,1))","v":3632.5},{"$f":"IF(A475>$A$8,\"\",OFFSET(InputPriceData!F$15,CalculationsAndCharts!$A475+$A$11,IF($C$5,8,0),1,1))","v":3653.25},0,103.5,{"$f":"IF($A475>$J$30,NA(),AVERAGE(H475:H478))","v":28.25},37.5,null,null,{"$f":"IF($A475>$J$30,NA(),IF($A475>$N$30,0,(1-$M$35)*J475+(2*$M$35-$M$36)*J476-($M$35+$M$37)*J477+$M$36*N476+$M$37*N477))","v":22.113588005528349},34.274888339166914,-0.21566995815418299,-0.33222109448381149,null,null,42.994312844896271,23.85273733670439,0.2863488434596701,2.0230709002579745E-2,null,null,null,null,null,null,null,null,null,null,null,null,null,null,null,null,null,null,null,null,null,null,null,null,null,null,null,null,null,null,null,{"$error":"#N/A"},2238683]
[444,{"$f":"IF(A476>$A$8,\"\",OFFSET(InputPriceData!B$15,$A476+$A$11,0,1,1))","v":"2022-10-06T04:00:00"},{"$f":"IF(A476>$A$8,\"\",OFFSET(InputPriceData!G$15,CalculationsAndCharts!$A476+$A$11,IF($C$5,8,0),1,1))","v":2157569},{"$f":"IF(A476>$A$8,\"\",OFFSET(InputPriceData!C$15,CalculationsAndCharts!$A476+$A$11,IF($C$5,8,0),1,1))","v":3795.75},{"$f":"IF(A476>$A$8,\"\",OFFSET(InputPriceData!D$15,CalculationsAndCharts!$A476+$A$11,IF($C$5,8,0),1,1))","v":3819.5},{"$f":"IF(A476>$A$8,\"\",OFFSET(InputPriceData!E$15,CalculationsAndCharts!$A476+$A$11,IF($C$5,8,0),1,1))","v":3750},{"$f":"IF(A476>$A$8,\"\",OFFSET(InputPriceData!F$15,CalculationsAndCharts!$A476+$A$11,IF($C$5,8,0),1,1))","v":3756.75},0,37.25,{"$f":"IF($A476>$J$30,NA(),AVERAGE(H476:H479))","v":50.4375},11.625,null,null,{"$f":"IF($A476>$J$30,NA(),IF($A476>$N$30,0,(1-$M$35)*J476+(2*$M$35-$M$36)*J477-($M$35+$M$37)*J478+$M$36*N477+$M$37*N478))","v":20.564899910359735},34.698519158824737,-0.25574999677039661,-0.40569610098947789,null,null,40.343081755658133,25.515321519411142,0.22514606335529008,-0.19717249937180581,null,null,null,null,null,null,null,null,null,null,null,null,null,null,null,null,null,null,null,null,null,null,null,null,null,null,null,null,null,null,null,{"$error":"#N/A"},2157569]
[445,{"$f":"IF(A477>$A$8,\"\",OFFSET(InputPriceData!B$15,$A477+$A$11,0,1,1))","v":"2022-10-05T04:00:00"},{"$f":"IF(A477>$A$8,\"\",OFFSET(InputPriceData!G$15,CalculationsAndCharts!$A477+$A$11,IF($C$5,8,0),1,1))","v":2089198},{"$f":"IF(A477>$A$8,\"\",OFFSET(InputPriceData!C$15,CalculationsAndCharts!$A477+$A$11,IF($C$5,8,0),1,1))","v":3801},{"$f":"IF(A477>$A$8,\"\",OFFSET(InputPriceData!D$15,CalculationsAndCharts!$A477+$A$11,IF($C$5,8,0),1,1))","v":3820},{"$f":"IF(A477>$A$8,\"\",OFFSET(InputPriceData!E$15,CalculationsAndCharts!$A477+$A$11,IF($C$5,8,0),1,1))","v":3734},{"$f":"IF(A477>$A$8,\"\",OFFSET(InputPriceData!F$15,CalculationsAndCharts!$A477+$A$11,IF($C$5,8,0),1,1))","v":3794},0,9.25,{"$f":"IF($A477>$J$30,NA(),AVERAGE(H477:H480))","v":50.4375},15.5,null,null,{"$f":"IF($A477>$J$30,NA(),IF($A477>$N$30,0,(1-$M$35)*J477+(2*$M$35-$M$36)*J478-($M$35+$M$37)*J479+$M$36*N478+$M$37*N479))","v":18.052129806599091},36.014057841676255,-0.33222109448381149,-0.46848497281651119,null,null,32.827540488477922,31.525630218511481,2.0230709002579745E-2,-0.43948921732400653,null,null,null,null,null,null,null,null,null,null,null,null,null,null,null,null,null,null,null,null,null,null,null,null,null,null,null,null,null,null,null,{"$error":"#N/A"},2089198]
[446,{"$f":"IF(A478>$A$8,\"\",OFFSET(InputPriceData!B$15,$A478+$A$11,0,1,1))","v":"2022-10-04T04:00:00"},{"$f":"IF(A478>$A$8,\"\",OFFSET(InputPriceData!G$15,CalculationsAndCharts!$A478+$A$11,IF($C$5,8,0),1,1))","v":2381497},{"$f":"IF(A478>$A$8,\"\",OFFSET(InputPriceData!C$15,CalculationsAndCharts!$A478+$A$11,IF($C$5,8,0),1,1))","v":3696.5},{"$f":"IF(A478>$A$8,\"\",OFFSET(InputPriceData!D$15,CalculationsAndCharts!$A478+$A$11,IF($C$5,8,0),1,1))","v":3808.75},{"$f":"IF(A478>$A$8,\"\",OFFSET(InputPriceData!E$15,CalculationsAndCharts!$A478+$A$11,IF($C$5,8,0),1,1))","v":3686.25},{"$f":"IF(A478>$A$8,\"\",OFFSET(InputPriceData!F$15,CalculationsAndCharts!$A478+$A$11,IF($C$5,8,0),1,1))","v":3803.25},113,0,{"$f":"IF($A478>$J$30,NA(),AVERAGE(H478:H481))","v":50.4375},32.625,null,null,{"$f":"IF($A478>$J$30,NA(),IF($A478>$N$30,0,(1-$M$35)*J478+(2*$M$35-$M$36)*J479-($M$35+$M$37)*J480+$M$36*N479+$M$37*N480))","v":15.437929463669398},36.515051122096779,-0.40569610098947789,-0.49717874651263455,null,null,23.544475338670139,35.109408142518845,-0.19717249937180581,-0.62156031091963515,null,null,null,null,null,null,null,null,null,null,null,null,null,null,null,null,null,null,null,null,null,null,null,null,null,null,null,null,null,null,null,2381497,{"$error":"#N/A"}]
[447,{"$f":"IF(A479>$A$8,\"\",OFFSET(InputPriceData!B$15,$A479+$A$11,0,1,1))","v":"2022-10-03T04:00:00"},{"$f":"IF(A479>$A$8,\"\",OFFSET(InputPriceData!G$15,CalculationsAndCharts!$A479+$A$11,IF($C$5,8,0),1,1))","v":2315515},{"$f":"IF(A479>$A$8,\"\",OFFSET(InputPriceData!C$15,CalculationsAndCharts!$A479+$A$11,IF($C$5,8,0),1,1))","v":3593.25},{"$f":"IF(A479>$A$8,\"\",OFFSET(InputPriceData!D$15,CalculationsAndCharts!$A479+$A$11,IF($C$5,8,0),1,1))","v":3711.75},{"$f":"IF(A479>$A$8,\"\",OFFSET(InputPriceData!E$15,CalculationsAndCharts!$A479+$A$11,IF($C$5,8,0),1,1))","v":3571.75},{"$f":"IF(A479>$A$8,\"\",OFFSET(InputPriceData!F$15,CalculationsAndCharts!$A479+$A$11,IF($C$5,8,0),1,1))","v":3690.25},88.75,0,{"$f":"IF($A479>$J$30,NA(),AVERAGE(H479:H482))","v":39.9375},32.625,null,null,{"$f":"IF($A479>$J$30,NA(),IF($A479>$N$30,0,(1-$M$35)*J479+(2*$M$35-$M$36)*J480-($M$35+$M$37)*J481+$M$36*N480+$M$37*N481))","v":13.147310541569032},36.323766922550675,-0.46848497281651119,-0.49992989369413765,null,null,14.187089313362787,36.434913873197551,-0.43948921732400653,-0.72109646349865342,null,null,null,null,null,null,null,null,null,null,null,null,null,null,null,null,null,null,null,null,null,null,null,null,null,null,null,null,null,null,null,2315515,{"$error":"#N/A"}]
[448,{"$f":"IF(A480>$A$8,\"\",OFFSET(InputPriceData!B$15,$A480+$A$11,0,1,1))","v":"2022-09-30T04:00:00"},{"$f":"IF(A480>$A$8,\"\",OFFSET(InputPriceData!G$15,CalculationsAndCharts!$A480+$A$11,IF($C$5,8,0),1,1))","v":2976179},{"$f":"IF(A480>$A$8,\"\",OFFSET(InputPriceData!C$15,CalculationsAndCharts!$A480+$A$11,IF($C$5,8,0),1,1))","v":3656.5},{"$f":"IF(A480>$A$8,\"\",OFFSET(InputPriceData!D$15,CalculationsAndCharts!$A480+$A$11,IF($C$5,8,0),1,1))","v":3693.75},{"$f":"IF(A480>$A$8,\"\",OFFSET(InputPriceData!E$15,CalculationsAndCharts!$A480+$A$11,IF($C$5,8,0),1,1))","v":3595.25},{"$f":"IF(A480>$A$8,\"\",OFFSET(InputPriceData!F$15,CalculationsAndCharts!$A480+$A$11,IF($C$5,8,0),1,1))","v":3601.5},0,52.75,{"$f":"IF($A480>$J$30,NA(),AVERAGE(H480:H483))","v":17.75},34.875,null,null,{"$f":"IF($A480>$J$30,NA(),IF($A480>$N$30,0,(1-$M$35)*J480+(2*$M$35-$M$36)*J481-($M$35+$M$37)*J482+$M$36*N481+$M$37*N482))","v":12.095000419184192},36.013548435098102,-0.49717874651263455,-0.50529992332314644,null,null,8.7852879261487793,37.643710826585895,-0.62156031091963515,-0.83892788227924686,null,null,null,null,null,null,null,null,null,null,null,null,null,null,null,null,null,null,null,null,null,null,null,null,null,null,null,null,null,null,null,{"$error":"#N/A"},2976179]
[449,{"$f":"IF(A481>$A$8,\"\",OFFSET(InputPriceData!B$15,$A481+$A$11,0,1,1))","v":"2022-09-29T04:00:00"},{"$f":"IF(A481>$A$8,\"\",OFFSET(InputPriceData!G$15,CalculationsAndCharts!$A481+$A$11,IF($C$5,8,0),1,1))","v":2860631},{"$f":"IF(A481>$A$8,\"\",OFFSET(InputPriceData!C$15,CalculationsAndCharts!$A481+$A$11,IF($C$5,8,0),1,1))","v":3730.25},{"$f":"IF(A481>$A$8,\"\",OFFSET(InputPriceData!D$15,CalculationsAndCharts!$A481+$A$11,IF($C$5,8,0),1,1))","v":3736},{"$f":"IF(A481>$A$8,\"\",OFFSET(InputPriceData!E$15,CalculationsAndCharts!$A481+$A$11,IF($C$5,8,0),1,1))","v":3622},{"$f":"IF(A481>$A$8,\"\",OFFSET(InputPriceData!F$15,CalculationsAndCharts!$A481+$A$11,IF($C$5,8,0),1,1))","v":3654.25},0,77.75,{"$f":"IF($A481>$J$30,NA(),AVERAGE(H481:H484))","v":17.75},31.4375,null,null,{"$f":"IF($A481>$J$30,NA(),IF($A481>$N$30,0,(1-$M$35)*J481+(2*$M$35-$M$36)*J482-($M$35+$M$37)*J483+$M$36*N482+$M$37*N483))","v":11.90834449378986},35.718355617359173,-0.49992989369413765,-0.4855596119790932,null,null,{"$f":"IF($A481>$J$30,NA(),IF($A481>$N$30,0,(1-S$35)*$J481+(2*S$35-S$36)*$J482-(S$35+S$37)*$J483+S$36*T482+S$37*T483))","v":6.3650588182444778},{"$f":"IF($A481>$J$30,NA(),IF($A481>$N$30,0,(1-S$35)*$K481+(2*S$35-S$36)*$K482-(S$35+S$37)*$K483+S$36*U482+S$37*U483))","v":39.278384058742816},{"$f":"IF($A481>$N$30,NA(),(T481-U481)/(T481+U481))","v":-0.72109646349865342},{"$f":"IF($A481>$N$30,NA(),OFFSET(V481,$C$18,0,1,1))","v":-0.83880894988972377},null,null,null,null,null,null,null,null,null,null,null,null,null,null,null,null,null,null,null,null,null,null,null,null,null,null,null,null,null,null,null,{"$error":"#N/A"},2860631]
[450,{"$f":"IF(A482>$A$8,\"\",OFFSET(InputPriceData!B$15,$A482+$A$11,0,1,1))","v":"2022-09-28T04:00:00"},{"$f":"IF(A482>$A$8,\"\",OFFSET(InputPriceData!G$15,CalculationsAndCharts!$A482+$A$11,IF($C$5,8,0),1,1))","v":2780935},{"$f":"IF(A482>$A$8,\"\",OFFSET(InputPriceData!C$15,CalculationsAndCharts!$A482+$A$11,IF($C$5,8,0),1,1))","v":3668.5},{"$f":"IF(A482>$A$8,\"\",OFFSET(InputPriceData!D$15,CalculationsAndCharts!$A482+$A$11,IF($C$5,8,0),1,1))","v":3751.25},{"$f":"IF(A482>$A$8,\"\",OFFSET(InputPriceData!E$15,CalculationsAndCharts!$A482+$A$11,IF($C$5,8,0),1,1))","v":3613},{"$f":"IF(A482>$A$8,\"\",OFFSET(InputPriceData!F$15,CalculationsAndCharts!$A482+$A$11,IF($C$5,8,0),1,1))","v":3732},{"$f":"IF($A482>$H$30,NA(),IF($G482>$G483,$G482-$G483,0))","v":71},{"$f":"IF($A482>$H$30,NA(),IF(G482<G483,G483-G482,0))","v":0},{"$f":"IF($A482>$J$30,NA(),AVERAGE(H482:H485))","v":17.75},27.75,null,null,{"$f":"IF($A482>$J$30,NA(),IF($A482>$N$30,0,(1-$M$35)*J482+(2*$M$35-$M$36)*J483-($M$35+$M$37)*J484+$M$36*N483+$M$37*N484))","v":11.725401838744769},35.678681530354851,{"$f":"IF($A482>$N$30,NA(),(N482-O482)/(N482+O482))","v":-0.50529992332314644},{"$f":"IF($A482>$N$30,NA(),OFFSET(P482,$C$17,0,1,1))","v":-0.43223405912606305},null,null,3.7127312869460827,42.387504302962206,-0.83892788227924686,-0.7049396484199536,null,null,null,null,null,null,null,null,null,null,null,null,null,null,null,null,null,null,null,null,null,null,null,null,null,null,null,null,null,null,null,2780935,{"$error":"#N/A"}]
[451,{"$f":"IF(A483>$A$8,\"\",OFFSET(InputPriceData!B$15,$A483+$A$11,0,1,1))","v":"2022-09-27T04:00:00"},{"$f":"IF(A483>$A$8,\"\",OFFSET(InputPriceData!G$15,CalculationsAndCharts!$A483+$A$11,IF($C$5,8,0),1,1))","v":2963065},{"$f":"IF(A483>$A$8,\"\",OFFSET(InputPriceData!C$15,CalculationsAndCharts!$A483+$A$11,IF($C$5,8,0),1,1))","v":3668},{"$f":"IF(A483>$A$8,\"\",OFFSET(InputPriceData!D$15,CalculationsAndCharts!$A483+$A$11,IF($C$5,8,0),1,1))","v":3733},{"$f":"IF(A483>$A$8,\"\",OFFSET(InputPriceData!E$15,CalculationsAndCharts!$A483+$A$11,IF($C$5,8,0),1,1))","v":3635.25},{"$f":"IF(A483>$A$8,\"\",OFFSET(InputPriceData!F$15,CalculationsAndCharts!$A483+$A$11,IF($C$5,8,0),1,1))","v":3661},0,9,{"$f":"IF($A483>$J$30,NA(),AVERAGE(H483:H486))","v":0},36.3125,null,null,{"$f":"IF($A483>$J$30,NA(),IF($A483>$N$30,0,(1-$M$35)*J483+(2*$M$35-$M$36)*J484-($M$35+$M$37)*J485+$M$36*N484+$M$37*N485))","v":12.265238950248296},35.418571403109254,-0.4855596119790932,-0.36793471640059028,null,null,3.950384563652289,45.064552195549908,-0.83880894988972377,-0.53107831354872925,null,null,null,null,null,null,null,null,null,null,null,null,null,null,null,null,null,null,null,null,null,null,null,null,null,null,null,null,null,null,null,{"$error":"#N/A"},2963065]
[452,{"$f":"IF(A484>$A$8,\"\",OFFSET(InputPriceData!B$15,$A484+$A$11,0,1,1))","v":"2022-09-26T04:00:00"},{"$f":"IF(A484>$A$8,\"\",OFFSET(InputPriceData!G$15,CalculationsAndCharts!$A484+$A$11,IF($C$5,8,0),1,1))","v":2899415},{"$f":"IF(A484>$A$8,\"\",OFFSET(InputPriceData!C$15,CalculationsAndCharts!$A484+$A$11,IF($C$5,8,0),1,1))","v":3705.25},{"$f":"IF(A484>$A$8,\"\",OFFSET(InputPriceData!D$15,CalculationsAndCharts!$A484+$A$11,IF($C$5,8,0),1,1))","v":3730.5},{"$f":"IF(A484>$A$8,\"\",OFFSET(InputPriceData!E$15,CalculationsAndCharts!$A484+$A$11,IF($C$5,8,0),1,1))","v":3657.5},{"$f":"IF(A484>$A$8,\"\",OFFSET(InputPriceData!F$15,CalculationsAndCharts!$A484+$A$11,IF($C$5,8,0),1,1))","v":3670},0,39,{"$f":"IF($A484>$J$30,NA(),AVERAGE(H484:H487))","v":0},50.6875,null,null,{"$f":"IF($A484>$J$30,NA(),IF($A484>$N$30,0,(1-$M$35)*J484+(2*$M$35-$M$36)*J485-($M$35+$M$37)*J486+$M$36*N485+$M$37*N486))","v":13.556706017482758},34.197852829832115,-0.43223405912606305,-0.32052315109230634,null,null,7.6195830731489451,44.02804109828665,-0.7049396484199536,-0.40448375100242473,null,null,null,null,null,null,null,null,null,null,null,null,null,null,null,null,null,null,null,null,null,null,null,null,null,null,null,null,null,null,null,{"$error":"#N/A"},2899415]
[453,{"$f":"IF(A485>$A$8,\"\",OFFSET(InputPriceData!B$15,$A485+$A$11,0,1,1))","v":"2022-09-23T04:00:00"},{"$f":"IF(A485>$A$8,\"\",OFFSET(InputPriceData!G$15,CalculationsAndCharts!$A485+$A$11,IF($C$5,8,0),1,1))","v":2913560},{"$f":"IF(A485>$A$8,\"\",OFFSET(InputPriceData!C$15,CalculationsAndCharts!$A485+$A$11,IF($C$5,8,0),1,1))","v":3777.25},{"$f":"IF(A485>$A$8,\"\",OFFSET(InputPriceData!D$15,CalculationsAndCharts!$A485+$A$11,IF($C$5,8,0),1,1))","v":3783.25},{"$f":"IF(A485>$A$8,\"\",OFFSET(InputPriceData!E$15,CalculationsAndCharts!$A485+$A$11,IF($C$5,8,0),1,1))","v":3660.25},{"$f":"IF(A485>$A$8,\"\",OFFSET(InputPriceData!F$15,CalculationsAndCharts!$A485+$A$11,IF($C$5,8,0),1,1))","v":3709},0,63,{"$f":"IF($A485>$J$30,NA(),AVERAGE(H485:H488))","v":0},52.0625,null,null,{"$f":"IF($A485>$J$30,NA(),IF($A485>$N$30,0,(1-$M$35)*J485+(2*$M$35-$M$36)*J486-($M$35+$M$37)*J487+$M$36*N486+$M$37*N487))","v":14.910413431943891},32.269565658297715,-0.36793471640059028,-0.29299450361770135,null,null,12.209401627341276,39.864972325120597,-0.53107831354872925,-0.34115384693387113,null,null,null,null,null,null,null,null,null,null,null,null,null,null,null,null,null,null,null,null,null,null,null,null,null,null,null,null,null,null,null,{"$error":"#N/A"},2913560]
[454,{"$f":"IF(A486>$A$8,\"\",OFFSET(InputPriceData!B$15,$A486+$A$11,0,1,1))","v":"2022-09-22T04:00:00"},{"$f":"IF(A486>$A$8,\"\",OFFSET(InputPriceData!G$15,CalculationsAndCharts!$A486+$A$11,IF($C$5,8,0),1,1))","v":2578314},{"$f":"IF(A486>$A$8,\"\",OFFSET(InputPriceData!C$15,CalculationsAndCharts!$A486+$A$11,IF($C$5,8,0),1,1))","v":3794},{"$f":"IF(A486>$A$8,\"\",OFFSET(InputPriceData!D$15,CalculationsAndCharts!$A486+$A$11,IF($C$5,8,0),1,1))","v":3833},{"$f":"IF(A486>$A$8,\"\",OFFSET(InputPriceData!E$15,CalculationsAndCharts!$A486+$A$11,IF($C$5,8,0),1,1))","v":3763.5},{"$f":"IF(A486>$A$8,\"\",OFFSET(InputPriceData!F$15,CalculationsAndCharts!$A486+$A$11,IF($C$5,8,0),1,1))","v":3772},0,34.25,{"$f":"IF($A486>$J$30,NA(),AVERAGE(H486:H489))","v":11.502500000000055},36.3125,null,null,{"$f":"IF($A486>$J$30,NA(),IF($A486>$N$30,0,(1-$M$35)*J486+(2*$M$35-$M$36)*J487-($M$35+$M$37)*J488+$M$36*N487+$M$37*N488))","v":15.861679507049649},30.826237918094129,-0.32052315109230634,-0.26745866251313438,null,null,15.814878467433141,37.298293487334234,-0.40448375100242473,-0.28255602910916966,null,null,null,null,null,null,null,null,null,null,null,null,null,null,null,null,null,null,null,null,null,null,null,null,null,null,null,null,null,null,null,{"$error":"#N/A"},2578314]
[455,{"$f":"IF(A487>$A$8,\"\",OFFSET(InputPriceData!B$15,$A487+$A$11,0,1,1))","v":"2022-09-21T04:00:00"},{"$f":"IF(A487>$A$8,\"\",OFFSET(InputPriceData!G$15,CalculationsAndCharts!$A487+$A$11,IF($C$5,8,0),1,1))","v":2440206},{"$f":"IF(A487>$A$8,\"\",OFFSET(InputPriceData!C$15,CalculationsAndCharts!$A487+$A$11,IF($C$5,8,0),1,1))","v":3878.75},{"$f":"IF(A487>$A$8,\"\",OFFSET(InputPriceData!D$15,CalculationsAndCharts!$A487+$A$11,IF($C$5,8,0),1,1))","v":3925.25},{"$f":"IF(A487>$A$8,\"\",OFFSET(InputPriceData!E$15,CalculationsAndCharts!$A487+$A$11,IF($C$5,8,0),1,1))","v":3792},{"$f":"IF(A487>$A$8,\"\",OFFSET(InputPriceData!F$15,CalculationsAndCharts!$A487+$A$11,IF($C$5,8,0),1,1))","v":3806.25},0,66.5,{"$f":"IF($A487>$J$30,NA(),AVERAGE(H487:H490))","v":11.502500000000055},35.440000000000055,null,null,{"$f":"IF($A487>$J$30,NA(),IF($A487>$N$30,0,(1-$M$35)*J487+(2*$M$35-$M$36)*J488-($M$35+$M$37)*J489+$M$36*N488+$M$37*N489))","v":16.392993107262239},29.980035648933075,-0.29299450361770135,-0.25551908914414029,null,null,18.195034544666868,37.037995078382686,-0.34115384693387113,-0.26696634413752662,null,null,null,null,null,null,null,null,null,null,null,null,null,null,null,null,null,null,null,null,null,null,null,null,null,null,null,null,null,null,null,{"$error":"#N/A"},2440206]
[456,{"$f":"IF(A488>$A$8,\"\",OFFSET(InputPriceData!B$15,$A488+$A$11,0,1,1))","v":"2022-09-20T04:00:00"},{"$f":"IF(A488>$A$8,\"\",OFFSET(InputPriceData!G$15,CalculationsAndCharts!$A488+$A$11,IF($C$5,8,0),1,1))","v":2357296},{"$f":"IF(A488>$A$8,\"\",OFFSET(InputPriceData!C$15,CalculationsAndCharts!$A488+$A$11,IF($C$5,8,0),1,1))","v":3923},{"$f":"IF(A488>$A$8,\"\",OFFSET(InputPriceData!D$15,CalculationsAndCharts!$A488+$A$11,IF($C$5,8,0),1,1))","v":3936.25},{"$f":"IF(A488>$A$8,\"\",OFFSET(InputPriceData!E$15,CalculationsAndCharts!$A488+$A$11,IF($C$5,8,0),1,1))","v":3843.25},{"$f":"IF(A488>$A$8,\"\",OFFSET(InputPriceData!F$15,CalculationsAndCharts!$A488+$A$11,IF($C$5,8,0),1,1))","v":3872.75},0,44.5,{"$f":"IF($A488>$J$30,NA(),AVERAGE(H488:H491))","v":11.502500000000055},30.190000000000055,null,null,{"$f":"IF($A488>$J$30,NA(),IF($A488>$N$30,0,(1-$M$35)*J488+(2*$M$35-$M$36)*J489-($M$35+$M$37)*J490+$M$36*N489+$M$37*N490))","v":16.952160778121588},29.330990521652094,-0.26745866251313438,-0.21230521975164715,null,null,21.069153077609659,37.664779974886898,-0.28255602910916966,-0.16139357089775466,null,null,null,null,null,null,null,null,null,null,null,null,null,null,null,null,null,null,null,null,null,null,null,null,null,null,null,null,null,null,null,{"$error":"#N/A"},2357296]
[457,{"$f":"IF(A489>$A$8,\"\",OFFSET(InputPriceData!B$15,$A489+$A$11,0,1,1))","v":"2022-09-19T04:00:00"},{"$f":"IF(A489>$A$8,\"\",OFFSET(InputPriceData!G$15,CalculationsAndCharts!$A489+$A$11,IF($C$5,8,0),1,1))","v":2100098},{"$f":"IF(A489>$A$8,\"\",OFFSET(InputPriceData!C$15,CalculationsAndCharts!$A489+$A$11,IF($C$5,8,0),1,1))","v":3889.5},{"$f":"IF(A489>$A$8,\"\",OFFSET(InputPriceData!D$15,CalculationsAndCharts!$A489+$A$11,IF($C$5,8,0),1,1))","v":3927},{"$f":"IF(A489>$A$8,\"\",OFFSET(InputPriceData!E$15,CalculationsAndCharts!$A489+$A$11,IF($C$5,8,0),1,1))","v":3846.25},{"$f":"IF(A489>$A$8,\"\",OFFSET(InputPriceData!F$15,CalculationsAndCharts!$A489+$A$11,IF($C$5,8,0),1,1))","v":3917.25},46.010000000000218,0,{"$f":"IF($A489>$J$30,NA(),AVERAGE(H489:H492))","v":15.565000000000055},19.065000000000055,null,null,{"$f":"IF($A489>$J$30,NA(),IF($A489>$N$30,0,(1-$M$35)*J489+(2*$M$35-$M$36)*J490-($M$35+$M$37)*J491+$M$36*N490+$M$37*N491))","v":17.375283740205084},29.30229653577635,-0.25551908914414029,-0.13629729664818277,null,null,23.753545152824696,41.055334938435863,-0.26696634413752662,5.3199216690913535E-2,null,null,null,null,null,null,null,null,null,null,null,null,null,null,null,null,null,null,null,null,null,null,null,null,null,null,null,null,null,null,null,2100098,{"$error":"#N/A"}]
[458,{"$f":"IF(A490>$A$8,\"\",OFFSET(InputPriceData!B$15,$A490+$A$11,0,1,1))","v":"2022-09-16T04:00:00"},{"$f":"IF(A490>$A$8,\"\",OFFSET(InputPriceData!G$15,CalculationsAndCharts!$A490+$A$11,IF($C$5,8,0),1,1))","v":2688630},{"$f":"IF(A490>$A$8,\"\",OFFSET(InputPriceData!C$15,CalculationsAndCharts!$A490+$A$11,IF($C$5,8,0),1,1))","v":3888.5},{"$f":"IF(A490>$A$8,\"\",OFFSET(InputPriceData!D$15,CalculationsAndCharts!$A490+$A$11,IF($C$5,8,0),1,1))","v":3888.5},{"$f":"IF(A490>$A$8,\"\",OFFSET(InputPriceData!E$15,CalculationsAndCharts!$A490+$A$11,IF($C$5,8,0),1,1))","v":3846},{"$f":"IF(A490>$A$8,\"\",OFFSET(InputPriceData!F$15,CalculationsAndCharts!$A490+$A$11,IF($C$5,8,0),1,1))","v":3871.24},0,30.760000000000218,{"$f":"IF($A490>$J$30,NA(),AVERAGE(H490:H493))","v":4.0625},63.940000000000055,null,null,{"$f":"IF($A490>$J$30,NA(),IF($A490>$N$30,0,(1-$M$35)*J490+(2*$M$35-$M$36)*J491-($M$35+$M$37)*J492+$M$36*N491+$M$37*N492))","v":18.12178351606487},27.890413010999179,-0.21230521975164715,-9.3264029206468924E-2,null,null,28.116791884682826,38.939197454160521,-0.16139357089775466,0.20962542359307437,null,null,null,null,null,null,null,null,null,null,null,null,null,null,null,null,null,null,null,null,null,null,null,null,null,null,null,null,null,null,null,{"$error":"#N/A"},2688630]
[459,{"$f":"IF(A491>$A$8,\"\",OFFSET(InputPriceData!B$15,$A491+$A$11,0,1,1))","v":"2022-09-15T04:00:00"},{"$f":"IF(A491>$A$8,\"\",OFFSET(InputPriceData!G$15,CalculationsAndCharts!$A491+$A$11,IF($C$5,8,0),1,1))","v":438921},{"$f":"IF(A491>$A$8,\"\",OFFSET(InputPriceData!C$15,CalculationsAndCharts!$A491+$A$11,IF($C$5,8,0),1,1))","v":3955},{"$f":"IF(A491>$A$8,\"\",OFFSET(InputPriceData!D$15,CalculationsAndCharts!$A491+$A$11,IF($C$5,8,0),1,1))","v":3959.5},{"$f":"IF(A491>$A$8,\"\",OFFSET(InputPriceData!E$15,CalculationsAndCharts!$A491+$A$11,IF($C$5,8,0),1,1))","v":3888},{"$f":"IF(A491>$A$8,\"\",OFFSET(InputPriceData!F$15,CalculationsAndCharts!$A491+$A$11,IF($C$5,8,0),1,1))","v":3902},0,45.5,{"$f":"IF($A491>$J$30,NA(),AVERAGE(H491:H494))","v":14.9375},56.25,null,null,{"$f":"IF($A491>$J$30,NA(),IF($A491>$N$30,0,(1-$M$35)*J491+(2*$M$35-$M$36)*J492-($M$35+$M$37)*J493+$M$36*N492+$M$37*N493))","v":18.928103395926687},24.902032419259221,-0.13629729664818277,-7.3160296816168979E-2,null,null,33.137462241000037,29.789782131846884,5.3199216690913535E-2,0.34035676179979096,null,null,null,null,null,null,null,null,null,null,null,null,null,null,null,null,null,null,null,null,null,null,null,null,null,null,null,null,null,null,null,{"$error":"#N/A"},438921]
[460,{"$f":"IF(A492>$A$8,\"\",OFFSET(InputPriceData!B$15,$A492+$A$11,0,1,1))","v":"2022-09-14T04:00:00"},{"$f":"IF(A492>$A$8,\"\",OFFSET(InputPriceData!G$15,CalculationsAndCharts!$A492+$A$11,IF($C$5,8,0),1,1))","v":662596},{"$f":"IF(A492>$A$8,\"\",OFFSET(InputPriceData!C$15,CalculationsAndCharts!$A492+$A$11,IF($C$5,8,0),1,1))","v":3936.75},{"$f":"IF(A492>$A$8,\"\",OFFSET(InputPriceData!D$15,CalculationsAndCharts!$A492+$A$11,IF($C$5,8,0),1,1))","v":3962.75},{"$f":"IF(A492>$A$8,\"\",OFFSET(InputPriceData!E$15,CalculationsAndCharts!$A492+$A$11,IF($C$5,8,0),1,1))","v":3911.25},{"$f":"IF(A492>$A$8,\"\",OFFSET(InputPriceData!F$15,CalculationsAndCharts!$A492+$A$11,IF($C$5,8,0),1,1))","v":3947.5},16.25,0,{"$f":"IF($A492>$J$30,NA(),AVERAGE(H492:H495))","v":30.375},44.875,null,null,{"$f":"IF($A492>$J$30,NA(),IF($A492>$N$30,0,(1-$M$35)*J492+(2*$M$35-$M$36)*J493-($M$35+$M$37)*J494+$M$36*N493+$M$37*N494))","v":18.70552887511214},22.553513398774875,-9.3264029206468924E-2,-0.1190464711117388,null,null,34.113765898084075,22.290084802660061,0.20962542359307437,0.22382875885710823,null,null,null,null,null,null,null,null,null,null,null,null,null,null,null,null,null,null,null,null,null,null,null,null,null,null,null,null,null,null,null,662596,{"$error":"#N/A"}]
[461,{"$f":"IF(A493>$A$8,\"\",OFFSET(InputPriceData!B$15,$A493+$A$11,0,1,1))","v":"2022-09-13T04:00:00"},{"$f":"IF(A493>$A$8,\"\",OFFSET(InputPriceData!G$15,CalculationsAndCharts!$A493+$A$11,IF($C$5,8,0),1,1))","v":1418271},{"$f":"IF(A493>$A$8,\"\",OFFSET(InputPriceData!C$15,CalculationsAndCharts!$A493+$A$11,IF($C$5,8,0),1,1))","v":4118.25},{"$f":"IF(A493>$A$8,\"\",OFFSET(InputPriceData!D$15,CalculationsAndCharts!$A493+$A$11,IF($C$5,8,0),1,1))","v":4158},{"$f":"IF(A493>$A$8,\"\",OFFSET(InputPriceData!E$15,CalculationsAndCharts!$A493+$A$11,IF($C$5,8,0),1,1))","v":3919.75},{"$f":"IF(A493>$A$8,\"\",OFFSET(InputPriceData!F$15,CalculationsAndCharts!$A493+$A$11,IF($C$5,8,0),1,1))","v":3931.25},0,179.5,{"$f":"IF($A493>$J$30,NA(),AVERAGE(H493:H496))","v":32.6875},44.875,null,null,{"$f":"IF($A493>$J$30,NA(),IF($A493>$N$30,0,(1-$M$35)*J493+(2*$M$35-$M$36)*J494-($M$35+$M$37)*J495+$M$36*N494+$M$37*N495))","v":17.75935119432966},20.563027817539751,-7.3160296816168979E-2,-0.21981462052955547,null,null,31.726427285940652,15.613845378986788,0.34035676179979096,-0.20351566113650246,null,null,null,null,null,null,null,null,null,null,null,null,null,null,null,null,null,null,null,null,null,null,null,null,null,null,null,null,null,null,null,{"$f":"IF(G493>=G494,C493,NA())","v":{"$error":"#N/A"}},{"$f":"IF(G493<G494,C493,NA())","v":1418271}]
[462,{"$f":"IF(A494>$A$8,\"\",OFFSET(InputPriceData!B$15,$A494+$A$11,0,1,1))","v":"2022-09-12T04:00:00"},{"$f":"IF(A494>$A$8,\"\",OFFSET(InputPriceData!G$15,CalculationsAndCharts!$A494+$A$11,IF($C$5,8,0),1,1))","v":1718859},{"$f":"IF(A494>$A$8,\"\",OFFSET(InputPriceData!C$15,CalculationsAndCharts!$A494+$A$11,IF($C$5,8,0),1,1))","v":4077.25},{"$f":"IF(A494>$A$8,\"\",OFFSET(InputPriceData!D$15,CalculationsAndCharts!$A494+$A$11,IF($C$5,8,0),1,1))","v":4119.75},{"$f":"IF(A494>$A$8,\"\",OFFSET(InputPriceData!E$15,CalculationsAndCharts!$A494+$A$11,IF($C$5,8,0),1,1))","v":4062.25},{"$f":"IF(A494>$A$8,\"\",OFFSET(InputPriceData!F$15,CalculationsAndCharts!$A494+$A$11,IF($C$5,8,0),1,1))","v":4110.75},43.5,0,{"$f":"IF($A494>$J$30,NA(),AVERAGE(H494:H497))","v":50.0625},0,null,null,{"$f":"IF($A494>$J$30,NA(),IF($A494>$N$30,0,(1-$M$35)*J494+(2*$M$35-$M$36)*J495-($M$35+$M$37)*J496+$M$36*N495+$M$37*N496))","v":15.98359153928892},20.30343386024553,-0.1190464711117388,-0.27716332318954184,null,null,25.050658929549456,15.887517671143289,0.22382875885710823,-0.54161910252217083,null,null,null,null,null,null,null,null,null,null,null,null,null,null,null,null,null,null,null,null,null,null,null,null,null,null,null,null,null,null,null,1718859,{"$error":"#N/A"}]
[463,{"$f":"IF(A495>$A$8,\"\",OFFSET(InputPriceData!B$15,$A495+$A$11,0,1,1))","v":"2022-09-09T04:00:00"},{"$f":"IF(A495>$A$8,\"\",OFFSET(InputPriceData!G$15,CalculationsAndCharts!$A495+$A$11,IF($C$5,8,0),1,1))","v":1677890},{"$f":"IF(A495>$A$8,\"\",OFFSET(InputPriceData!C$15,CalculationsAndCharts!$A495+$A$11,IF($C$5,8,0),1,1))","v":4010.25},{"$f":"IF(A495>$A$8,\"\",OFFSET(InputPriceData!D$15,CalculationsAndCharts!$A495+$A$11,IF($C$5,8,0),1,1))","v":4077.25},{"$f":"IF(A495>$A$8,\"\",OFFSET(InputPriceData!E$15,CalculationsAndCharts!$A495+$A$11,IF($C$5,8,0),1,1))","v":4005.75},{"$f":"IF(A495>$A$8,\"\",OFFSET(InputPriceData!F$15,CalculationsAndCharts!$A495+$A$11,IF($C$5,8,0),1,1))","v":4067.25},61.75,0,{"$f":"IF($A495>$J$30,NA(),AVERAGE(H495:H498))","v":39.1875},3.5,null,null,{"$f":"IF($A495>$J$30,NA(),IF($A495>$N$30,0,(1-$M$35)*J495+(2*$M$35-$M$36)*J496-($M$35+$M$37)*J497+$M$36*N496+$M$37*N497))","v":13.881362940079905},21.703418075688329,-0.21981462052955547,-0.29995324043238003,null,null,15.727371795595968,23.764608217563698,-0.20351566113650246,-0.77741424877429399,null,null,null,null,null,null,null,null,null,null,null,null,null,null,null,null,null,null,null,null,null,null,null,null,null,null,null,null,null,null,null,1677890,{"$error":"#N/A"}]
[464,{"$f":"IF(A496>$A$8,\"\",OFFSET(InputPriceData!B$15,$A496+$A$11,0,1,1))","v":"2022-09-08T04:00:00"},{"$f":"IF(A496>$A$8,\"\",OFFSET(InputPriceData!G$15,CalculationsAndCharts!$A496+$A$11,IF($C$5,8,0),1,1))","v":2356008},{"$f":"IF(A496>$A$8,\"\",OFFSET(InputPriceData!C$15,CalculationsAndCharts!$A496+$A$11,IF($C$5,8,0),1,1))","v":3980},{"$f":"IF(A496>$A$8,\"\",OFFSET(InputPriceData!D$15,CalculationsAndCharts!$A496+$A$11,IF($C$5,8,0),1,1))","v":4011.5},{"$f":"IF(A496>$A$8,\"\",OFFSET(InputPriceData!E$15,CalculationsAndCharts!$A496+$A$11,IF($C$5,8,0),1,1))","v":3942.75},{"$f":"IF(A496>$A$8,\"\",OFFSET(InputPriceData!F$15,CalculationsAndCharts!$A496+$A$11,IF($C$5,8,0),1,1))","v":4005.5},25.5,0,{"$f":"IF($A496>$J$30,NA(),AVERAGE(H496:H499))","v":23.75},14.5625,null,null,{"$f":"IF($A496>$J$30,NA(),IF($A496>$N$30,0,(1-$M$35)*J496+(2*$M$35-$M$36)*J497-($M$35+$M$37)*J498+$M$36*N497+$M$37*N498))","v":12.770820547333143},22.564465989827177,-0.27716332318954184,-0.2861562444905531,null,null,9.1521094702779262,30.780224187760666,-0.54161910252217083,-0.86745129464566428,null,null,null,null,null,null,null,null,null,null,null,null,null,null,null,null,null,null,null,null,null,null,null,null,null,null,null,null,null,null,null,2356008,{"$error":"#N/A"}]
[465,{"$f":"IF(A497>$A$8,\"\",OFFSET(InputPriceData!B$15,$A497+$A$11,0,1,1))","v":"2022-09-07T04:00:00"},{"$f":"IF(A497>$A$8,\"\",OFFSET(InputPriceData!G$15,CalculationsAndCharts!$A497+$A$11,IF($C$5,8,0),1,1))","v":1956209},{"$f":"IF(A497>$A$8,\"\",OFFSET(InputPriceData!C$15,CalculationsAndCharts!$A497+$A$11,IF($C$5,8,0),1,1))","v":3907.5},{"$f":"IF(A497>$A$8,\"\",OFFSET(InputPriceData!D$15,CalculationsAndCharts!$A497+$A$11,IF($C$5,8,0),1,1))","v":3988.75},{"$f":"IF(A497>$A$8,\"\",OFFSET(InputPriceData!E$15,CalculationsAndCharts!$A497+$A$11,IF($C$5,8,0),1,1))","v":3883.5},{"$f":"IF(A497>$A$8,\"\",OFFSET(InputPriceData!F$15,CalculationsAndCharts!$A497+$A$11,IF($C$5,8,0),1,1))","v":3980},69.5,0,{"$f":"IF($A497>$J$30,NA(),AVERAGE(H497:H500))","v":20.4375},14.5625,null,null,{"$f":"IF($A497>$J$30,NA(),IF($A497>$N$30,0,(1-$M$35)*J497+(2*$M$35-$M$36)*J498-($M$35+$M$37)*J499+$M$36*N498+$M$37*N499))","v":12.388425139880479},23.004711020144377,-0.29995324043238003,-0.23497815159911184,null,null,4.6623420838510885,37.230205468515699,-0.77741424877429399,-0.83116544538798853,null,null,null,null,null,null,null,null,null,null,null,null,null,null,null,null,null,null,null,null,null,null,null,null,null,null,null,null,null,null,null,1956209,{"$error":"#N/A"}]
[466,{"$f":"IF(A498>$A$8,\"\",OFFSET(InputPriceData!B$15,$A498+$A$11,0,1,1))","v":"2022-09-06T04:00:00"},{"$f":"IF(A498>$A$8,\"\",OFFSET(InputPriceData!G$15,CalculationsAndCharts!$A498+$A$11,IF($C$5,8,0),1,1))","v":2360326},{"$f":"IF(A498>$A$8,\"\",OFFSET(InputPriceData!C$15,CalculationsAndCharts!$A498+$A$11,IF($C$5,8,0),1,1))","v":3929},{"$f":"IF(A498>$A$8,\"\",OFFSET(InputPriceData!D$15,CalculationsAndCharts!$A498+$A$11,IF($C$5,8,0),1,1))","v":3963.25},{"$f":"IF(A498>$A$8,\"\",OFFSET(InputPriceData!E$15,CalculationsAndCharts!$A498+$A$11,IF($C$5,8,0),1,1))","v":3886.75},{"$f":"IF(A498>$A$8,\"\",OFFSET(InputPriceData!F$15,CalculationsAndCharts!$A498+$A$11,IF($C$5,8,0),1,1))","v":3910.5},0,14,{"$f":"IF($A498>$J$30,NA(),AVERAGE(H498:H501))","v":3.0625},22.3125,null,null,{"$f":"IF($A498>$J$30,NA(),IF($A498>$N$30,0,(1-$M$35)*J498+(2*$M$35-$M$36)*J499-($M$35+$M$37)*J500+$M$36*N499+$M$37*N500))","v":12.843243021423966},23.140101855658177,-0.2861562444905531,-0.18008631091637894,null,null,3.0817933705829246,43.418749389823816,-0.86745129464566428,-0.78838376465866045,null,null,null,null,null,null,null,null,null,null,null,null,null,null,null,null,null,null,null,null,null,null,null,null,null,null,null,null,null,null,null,{"$error":"#N/A"},2360326]
[467,{"$f":"IF(A499>$A$8,\"\",OFFSET(InputPriceData!B$15,$A499+$A$11,0,1,1))","v":"2022-09-02T04:00:00"},{"$f":"IF(A499>$A$8,\"\",OFFSET(InputPriceData!G$15,CalculationsAndCharts!$A499+$A$11,IF($C$5,8,0),1,1))","v":2510355},{"$f":"IF(A499>$A$8,\"\",OFFSET(InputPriceData!C$15,CalculationsAndCharts!$A499+$A$11,IF($C$5,8,0),1,1))","v":3967.5},{"$f":"IF(A499>$A$8,\"\",OFFSET(InputPriceData!D$15,CalculationsAndCharts!$A499+$A$11,IF($C$5,8,0),1,1))","v":4019.25},{"$f":"IF(A499>$A$8,\"\",OFFSET(InputPriceData!E$15,CalculationsAndCharts!$A499+$A$11,IF($C$5,8,0),1,1))","v":3906},{"$f":"IF(A499>$A$8,\"\",OFFSET(InputPriceData!F$15,CalculationsAndCharts!$A499+$A$11,IF($C$5,8,0),1,1))","v":3924.5},0,44.25,{"$f":"IF($A499>$J$30,NA(),AVERAGE(H499:H502))","v":3.0625},29.75,null,null,{"$f":"IF($A499>$J$30,NA(),IF($A499>$N$30,0,(1-$M$35)*J499+(2*$M$35-$M$36)*J500-($M$35+$M$37)*J501+$M$36*N500+$M$37*N501))","v":14.035018876342754},22.656793012899126,-0.23497815159911184,-9.0236676661313284E-2,null,null,4.4102127063789576,47.832797813757779,-0.83116544538798853,-0.70265015975715506,null,null,null,null,null,null,null,null,null,null,null,null,null,null,null,null,null,null,null,null,null,null,null,null,null,null,null,null,null,null,null,{"$error":"#N/A"},2510355]
[468,{"$f":"IF(A500>$A$8,\"\",OFFSET(InputPriceData!B$15,$A500+$A$11,0,1,1))","v":"2022-09-01T04:00:00"},{"$f":"IF(A500>$A$8,\"\",OFFSET(InputPriceData!G$15,CalculationsAndCharts!$A500+$A$11,IF($C$5,8,0),1,1))","v":2212034},{"$f":"IF(A500>$A$8,\"\",OFFSET(InputPriceData!C$15,CalculationsAndCharts!$A500+$A$11,IF($C$5,8,0),1,1))","v":3958},{"$f":"IF(A500>$A$8,\"\",OFFSET(InputPriceData!D$15,CalculationsAndCharts!$A500+$A$11,IF($C$5,8,0),1,1))","v":3971.25},{"$f":"IF(A500>$A$8,\"\",OFFSET(InputPriceData!E$15,CalculationsAndCharts!$A500+$A$11,IF($C$5,8,0),1,1))","v":3903.5},{"$f":"IF(A500>$A$8,\"\",OFFSET(InputPriceData!F$15,CalculationsAndCharts!$A500+$A$11,IF($C$5,8,0),1,1))","v":3968.75},12.25,0,{"$f":"IF($A500>$J$30,NA(),AVERAGE(H500:H503))","v":3.0625},25.75,null,null,{"$f":"IF($A500>$J$30,NA(),IF($A500>$N$30,0,(1-$M$35)*J500+(2*$M$35-$M$36)*J501-($M$35+$M$37)*J502+$M$36*N501+$M$37*N502))","v":15.289264380335201},22.00554990047841,-0.18008631091637894,2.5524362174071159E-2,null,null,6.155176556093652,52.017832203515702,-0.78838376465866045,-0.62400570694762991,null,null,null,null,null,null,null,null,null,null,null,null,null,null,null,null,null,null,null,null,null,null,null,null,null,null,null,null,null,null,null,2212034,{"$error":"#N/A"}]
[469,{"$f":"IF(A501>$A$8,\"\",OFFSET(InputPriceData!B$15,$A501+$A$11,0,1,1))","v":"2022-08-31T04:00:00"},{"$f":"IF(A501>$A$8,\"\",OFFSET(InputPriceData!G$15,CalculationsAndCharts!$A501+$A$11,IF($C$5,8,0),1,1))","v":2366488},{"$f":"IF(A501>$A$8,\"\",OFFSET(InputPriceData!C$15,CalculationsAndCharts!$A501+$A$11,IF($C$5,8,0),1,1))","v":3987.25},{"$f":"IF(A501>$A$8,\"\",OFFSET(InputPriceData!D$15,CalculationsAndCharts!$A501+$A$11,IF($C$5,8,0),1,1))","v":4018.25},{"$f":"IF(A501>$A$8,\"\",OFFSET(InputPriceData!E$15,CalculationsAndCharts!$A501+$A$11,IF($C$5,8,0),1,1))","v":3953},{"$f":"IF(A501>$A$8,\"\",OFFSET(InputPriceData!F$15,CalculationsAndCharts!$A501+$A$11,IF($C$5,8,0),1,1))","v":3956.5},0,31,{"$f":"IF($A501>$J$30,NA(),AVERAGE(H501:H504))","v":0},61.125,null,null,{"$f":"IF($A501>$J$30,NA(),IF($A501>$N$30,0,(1-$M$35)*J501+(2*$M$35-$M$36)*J502-($M$35+$M$37)*J503+$M$36*N502+$M$37*N503))","v":16.730939046574097},20.049921683608368,-9.0236676661313284E-2,0.11684816940197634,null,null,8.8959101274362951,50.938728560588729,-0.70265015975715506,-0.62900261719474149,null,null,null,null,null,null,null,null,null,null,null,null,null,null,null,null,null,null,null,null,null,null,null,null,null,null,null,null,null,null,null,{"$error":"#N/A"},2366488]
[470,{"$f":"IF(A502>$A$8,\"\",OFFSET(InputPriceData!B$15,$A502+$A$11,0,1,1))","v":"2022-08-30T04:00:00"},{"$f":"IF(A502>$A$8,\"\",OFFSET(InputPriceData!G$15,CalculationsAndCharts!$A502+$A$11,IF($C$5,8,0),1,1))","v":2555455},{"$f":"IF(A502>$A$8,\"\",OFFSET(InputPriceData!C$15,CalculationsAndCharts!$A502+$A$11,IF($C$5,8,0),1,1))","v":4035.75},{"$f":"IF(A502>$A$8,\"\",OFFSET(InputPriceData!D$15,CalculationsAndCharts!$A502+$A$11,IF($C$5,8,0),1,1))","v":4072.75},{"$f":"IF(A502>$A$8,\"\",OFFSET(InputPriceData!E$15,CalculationsAndCharts!$A502+$A$11,IF($C$5,8,0),1,1))","v":3964.5},{"$f":"IF(A502>$A$8,\"\",OFFSET(InputPriceData!F$15,CalculationsAndCharts!$A502+$A$11,IF($C$5,8,0),1,1))","v":3987.5},0,43.75,{"$f":"IF($A502>$J$30,NA(),AVERAGE(H502:H505))","v":14.5625},53.375,null,null,{"$f":"IF($A502>$J$30,NA(),IF($A502>$N$30,0,(1-$M$35)*J502+(2*$M$35-$M$36)*J503-($M$35+$M$37)*J504+$M$36*N503+$M$37*N504))","v":17.776588820631144},16.891702789614911,2.5524362174071159E-2,0.19794075971944614,null,null,10.24806940290004,44.263765442809429,-0.62400570694762991,-0.6696862003050158,null,null,null,null,null,null,null,null,null,null,null,null,null,null,null,null,null,null,null,null,null,null,null,null,null,null,null,null,null,null,null,{"$error":"#N/A"},2555455]
[471,{"$f":"IF(A503>$A$8,\"\",OFFSET(InputPriceData!B$15,$A503+$A$11,0,1,1))","v":"2022-08-29T04:00:00"},{"$f":"IF(A503>$A$8,\"\",OFFSET(InputPriceData!G$15,CalculationsAndCharts!$A503+$A$11,IF($C$5,8,0),1,1))","v":1963446},{"$f":"IF(A503>$A$8,\"\",OFFSET(InputPriceData!C$15,CalculationsAndCharts!$A503+$A$11,IF($C$5,8,0),1,1))","v":4024},{"$f":"IF(A503>$A$8,\"\",OFFSET(InputPriceData!D$15,CalculationsAndCharts!$A503+$A$11,IF($C$5,8,0),1,1))","v":4064},{"$f":"IF(A503>$A$8,\"\",OFFSET(InputPriceData!E$15,CalculationsAndCharts!$A503+$A$11,IF($C$5,8,0),1,1))","v":4006.75},{"$f":"IF(A503>$A$8,\"\",OFFSET(InputPriceData!F$15,CalculationsAndCharts!$A503+$A$11,IF($C$5,8,0),1,1))","v":4031.25},0,28.25,{"$f":"IF($A503>$J$30,NA(),AVERAGE(H503:H506))","v":17.625},42.4375,null,null,{"$f":"IF($A503>$J$30,NA(),IF($A503>$N$30,0,(1-$M$35)*J503+(2*$M$35-$M$36)*J504-($M$35+$M$37)*J505+$M$36*N504+$M$37*N505))","v":18.161103079907143},14.360959591568827,0.11684816940197634,0.26223343187060399,null,null,8.8993392529239159,39.075873863850532,-0.62900261719474149,-0.7412495932091252,null,null,null,null,null,null,null,null,null,null,null,null,null,null,null,null,null,null,null,null,null,null,null,null,null,null,null,null,null,null,null,{"$error":"#N/A"},1963446]
[472,{"$f":"IF(A504>$A$8,\"\",OFFSET(InputPriceData!B$15,$A504+$A$11,0,1,1))","v":"2022-08-26T04:00:00"},{"$f":"IF(A504>$A$8,\"\",OFFSET(InputPriceData!G$15,CalculationsAndCharts!$A504+$A$11,IF($C$5,8,0),1,1))","v":2241117},{"$f":"IF(A504>$A$8,\"\",OFFSET(InputPriceData!C$15,CalculationsAndCharts!$A504+$A$11,IF($C$5,8,0),1,1))","v":4198.25},{"$f":"IF(A504>$A$8,\"\",OFFSET(InputPriceData!D$15,CalculationsAndCharts!$A504+$A$11,IF($C$5,8,0),1,1))","v":4217.25},{"$f":"IF(A504>$A$8,\"\",OFFSET(InputPriceData!E$15,CalculationsAndCharts!$A504+$A$11,IF($C$5,8,0),1,1))","v":4042.75},{"$f":"IF(A504>$A$8,\"\",OFFSET(InputPriceData!F$15,CalculationsAndCharts!$A504+$A$11,IF($C$5,8,0),1,1))","v":4059.5},0,141.5,{"$f":"IF($A504>$J$30,NA(),AVERAGE(H504:H507))","v":17.625},38.0625,null,null,{"$f":"IF($A504>$J$30,NA(),IF($A504>$N$30,0,(1-$M$35)*J504+(2*$M$35-$M$36)*J505-($M$35+$M$37)*J506+$M$36*N505+$M$37*N506))","v":18.446685787330907},12.35063976932026,0.19794075971944614,0.3492736643916397,null,null,6.9447805567194614,35.104813272738213,-0.6696862003050158,-0.69561641021402354,null,null,null,null,null,null,null,null,null,null,null,null,null,null,null,null,null,null,null,null,null,null,null,null,null,null,null,null,null,null,null,{"$error":"#N/A"},2241117]
[473,{"$f":"IF(A505>$A$8,\"\",OFFSET(InputPriceData!B$15,$A505+$A$11,0,1,1))","v":"2022-08-25T04:00:00"},{"$f":"IF(A505>$A$8,\"\",OFFSET(InputPriceData!G$15,CalculationsAndCharts!$A505+$A$11,IF($C$5,8,0),1,1))","v":1635476},{"$f":"IF(A505>$A$8,\"\",OFFSET(InputPriceData!C$15,CalculationsAndCharts!$A505+$A$11,IF($C$5,8,0),1,1))","v":4148.75},{"$f":"IF(A505>$A$8,\"\",OFFSET(InputPriceData!D$15,CalculationsAndCharts!$A505+$A$11,IF($C$5,8,0),1,1))","v":4202.75},{"$f":"IF(A505>$A$8,\"\",OFFSET(InputPriceData!E$15,CalculationsAndCharts!$A505+$A$11,IF($C$5,8,0),1,1))","v":4143},{"$f":"IF(A505>$A$8,\"\",OFFSET(InputPriceData!F$15,CalculationsAndCharts!$A505+$A$11,IF($C$5,8,0),1,1))","v":4201},58.25,0,{"$f":"IF($A505>$J$30,NA(),AVERAGE(H505:H508))","v":17.625},25.25,null,null,{"$f":"IF($A505>$J$30,NA(),IF($A505>$N$30,0,(1-$M$35)*J505+(2*$M$35-$M$36)*J506-($M$35+$M$37)*J507+$M$36*N506+$M$37*N507))","v":18.753155332358784},10.961087467512224,0.26223343187060399,0.48294673029945956,null,null,4.8904371167172735,32.909983584996112,-0.7412495932091252,-0.4448832182366777,null,null,null,null,null,null,null,null,null,null,null,null,null,null,null,null,null,null,null,null,null,null,null,null,null,null,null,null,null,null,null,1635476,{"$error":"#N/A"}]
[474,{"$f":"IF(A506>$A$8,\"\",OFFSET(InputPriceData!B$15,$A506+$A$11,0,1,1))","v":"2022-08-24T04:00:00"},{"$f":"IF(A506>$A$8,\"\",OFFSET(InputPriceData!G$15,CalculationsAndCharts!$A506+$A$11,IF($C$5,8,0),1,1))","v":1348612},{"$f":"IF(A506>$A$8,\"\",OFFSET(InputPriceData!C$15,CalculationsAndCharts!$A506+$A$11,IF($C$5,8,0),1,1))","v":4128.25},{"$f":"IF(A506>$A$8,\"\",OFFSET(InputPriceData!D$15,CalculationsAndCharts!$A506+$A$11,IF($C$5,8,0),1,1))","v":4158.5},{"$f":"IF(A506>$A$8,\"\",OFFSET(InputPriceData!E$15,CalculationsAndCharts!$A506+$A$11,IF($C$5,8,0),1,1))","v":4110.75},{"$f":"IF(A506>$A$8,\"\",OFFSET(InputPriceData!F$15,CalculationsAndCharts!$A506+$A$11,IF($C$5,8,0),1,1))","v":4142.75},12.25,0,{"$f":"IF($A506>$J$30,NA(),AVERAGE(H506:H509))","v":3.0625},39,null,null,{"$f":"IF($A506>$J$30,NA(),IF($A506>$N$30,0,(1-$M$35)*J506+(2*$M$35-$M$36)*J507-($M$35+$M$37)*J508+$M$36*N507+$M$37*N508))","v":19.670428342378287},9.4866342484005628,0.3492736643916397,0.63848772297918799,null,null,5.3243984226962962,29.660394459469806,-0.69561641021402354,-1.7845133670903523E-2,null,null,null,null,null,null,null,null,null,null,null,null,null,null,null,null,null,null,null,null,null,null,null,null,null,null,null,null,null,null,null,1348612,{"$error":"#N/A"}]
[475,{"$f":"IF(A507>$A$8,\"\",OFFSET(InputPriceData!B$15,$A507+$A$11,0,1,1))","v":"2022-08-23T04:00:00"},{"$f":"IF(A507>$A$8,\"\",OFFSET(InputPriceData!G$15,CalculationsAndCharts!$A507+$A$11,IF($C$5,8,0),1,1))","v":1575674},{"$f":"IF(A507>$A$8,\"\",OFFSET(InputPriceData!C$15,CalculationsAndCharts!$A507+$A$11,IF($C$5,8,0),1,1))","v":4147},{"$f":"IF(A507>$A$8,\"\",OFFSET(InputPriceData!D$15,CalculationsAndCharts!$A507+$A$11,IF($C$5,8,0),1,1))","v":4161.75},{"$f":"IF(A507>$A$8,\"\",OFFSET(InputPriceData!E$15,CalculationsAndCharts!$A507+$A$11,IF($C$5,8,0),1,1))","v":4118},{"$f":"IF(A507>$A$8,\"\",OFFSET(InputPriceData!F$15,CalculationsAndCharts!$A507+$A$11,IF($C$5,8,0),1,1))","v":4130.5},0,10.75,{"$f":"IF($A507>$J$30,NA(),AVERAGE(H507:H510))","v":2.4375},39,null,null,{"$f":"IF($A507>$J$30,NA(),IF($A507>$N$30,0,(1-$M$35)*J507+(2*$M$35-$M$36)*J508-($M$35+$M$37)*J509+$M$36*N508+$M$37*N509))","v":21.247379669935658},7.4082412445729275,0.48294673029945956,0.76070143785660649,null,null,8.8281531188243161,22.978318632153147,-0.4448832182366777,0.51125933490516295,null,null,null,null,null,null,null,null,null,null,null,null,null,null,null,null,null,null,null,null,null,null,null,null,null,null,null,null,null,null,null,{"$error":"#N/A"},1575674]
[476,{"$f":"IF(A508>$A$8,\"\",OFFSET(InputPriceData!B$15,$A508+$A$11,0,1,1))","v":"2022-08-22T04:00:00"},{"$f":"IF(A508>$A$8,\"\",OFFSET(InputPriceData!G$15,CalculationsAndCharts!$A508+$A$11,IF($C$5,8,0),1,1))","v":1724203},{"$f":"IF(A508>$A$8,\"\",OFFSET(InputPriceData!C$15,CalculationsAndCharts!$A508+$A$11,IF($C$5,8,0),1,1))","v":4221},{"$f":"IF(A508>$A$8,\"\",OFFSET(InputPriceData!D$15,CalculationsAndCharts!$A508+$A$11,IF($C$5,8,0),1,1))","v":4221.5},{"$f":"IF(A508>$A$8,\"\",OFFSET(InputPriceData!E$15,CalculationsAndCharts!$A508+$A$11,IF($C$5,8,0),1,1))","v":4131.5},{"$f":"IF(A508>$A$8,\"\",OFFSET(InputPriceData!F$15,CalculationsAndCharts!$A508+$A$11,IF($C$5,8,0),1,1))","v":4141.25},0,90.25,{"$f":"IF($A508>$J$30,NA(),AVERAGE(H508:H511))","v":2.4375},44.0625,null,null,{"$f":"IF($A508>$J$30,NA(),IF($A508>$N$30,0,(1-$M$35)*J508+(2*$M$35-$M$36)*J509-($M$35+$M$37)*J510+$M$36*N509+$M$37*N510))","v":22.919253741411225},5.0568530306775923,0.63848772297918799,0.79042752761569779,null,null,13.389159465315171,13.875704609244707,-1.7845133670903523E-2,0.77266834098371029,null,null,null,null,null,null,null,null,null,null,null,null,null,null,null,null,null,null,null,null,null,null,null,null,null,null,null,null,null,null,null,{"$error":"#N/A"},1724203]
[477,{"$f":"IF(A509>$A$8,\"\",OFFSET(InputPriceData!B$15,$A509+$A$11,0,1,1))","v":"2022-08-19T04:00:00"},{"$f":"IF(A509>$A$8,\"\",OFFSET(InputPriceData!G$15,CalculationsAndCharts!$A509+$A$11,IF($C$5,8,0),1,1))","v":1701251},{"$f":"IF(A509>$A$8,\"\",OFFSET(InputPriceData!C$15,CalculationsAndCharts!$A509+$A$11,IF($C$5,8,0),1,1))","v":4287},{"$f":"IF(A509>$A$8,\"\",OFFSET(InputPriceData!D$15,CalculationsAndCharts!$A509+$A$11,IF($C$5,8,0),1,1))","v":4288},{"$f":"IF(A509>$A$8,\"\",OFFSET(InputPriceData!E$15,CalculationsAndCharts!$A509+$A$11,IF($C$5,8,0),1,1))","v":4220.75},{"$f":"IF(A509>$A$8,\"\",OFFSET(InputPriceData!F$15,CalculationsAndCharts!$A509+$A$11,IF($C$5,8,0),1,1))","v":4231.5},0,55,{"$f":"IF($A509>$J$30,NA(),AVERAGE(H509:H512))","v":4.8125},21.5,null,null,{"$f":"IF($A509>$J$30,NA(),IF($A509>$N$30,0,(1-$M$35)*J509+(2*$M$35-$M$36)*J510-($M$35+$M$37)*J511+$M$36*N510+$M$37*N511))","v":24.566011764214625},3.3387893974407099,0.76070143785660649,0.77890890226091503,null,null,18.598822540077336,6.0148517784266815,0.51125933490516295,0.85861739085494193,null,null,null,null,null,null,null,null,null,null,null,null,null,null,null,null,null,null,null,null,null,null,null,null,null,null,null,null,null,null,null,{"$error":"#N/A"},1701251]
[478,{"$f":"IF(A510>$A$8,\"\",OFFSET(InputPriceData!B$15,$A510+$A$11,0,1,1))","v":"2022-08-18T04:00:00"},{"$f":"IF(A510>$A$8,\"\",OFFSET(InputPriceData!G$15,CalculationsAndCharts!$A510+$A$11,IF($C$5,8,0),1,1))","v":1366220},{"$f":"IF(A510>$A$8,\"\",OFFSET(InputPriceData!C$15,CalculationsAndCharts!$A510+$A$11,IF($C$5,8,0),1,1))","v":4279.5},{"$f":"IF(A510>$A$8,\"\",OFFSET(InputPriceData!D$15,CalculationsAndCharts!$A510+$A$11,IF($C$5,8,0),1,1))","v":4295.5},{"$f":"IF(A510>$A$8,\"\",OFFSET(InputPriceData!E$15,CalculationsAndCharts!$A510+$A$11,IF($C$5,8,0),1,1))","v":4258},{"$f":"IF(A510>$A$8,\"\",OFFSET(InputPriceData!F$15,CalculationsAndCharts!$A510+$A$11,IF($C$5,8,0),1,1))","v":4286.5},9.75,0,{"$f":"IF($A510>$J$30,NA(),AVERAGE(H510:H513))","v":9.125},7.75,null,null,{"$f":"IF($A510>$J$30,NA(),IF($A510>$N$30,0,(1-$M$35)*J510+(2*$M$35-$M$36)*J511-($M$35+$M$37)*J512+$M$36*N511+$M$37*N512))","v":26.009594054028426},3.0444655522436639,0.79042752761569779,0.74360605854740736,null,null,23.720500175711326,3.0419794458833844,0.77266834098371029,0.8455061244560832,null,null,null,null,null,null,null,null,null,null,null,null,null,null,null,null,null,null,null,null,null,null,null,null,null,null,null,null,null,null,null,1366220,{"$error":"#N/A"}]
[479,{"$f":"IF(A511>$A$8,\"\",OFFSET(InputPriceData!B$15,$A511+$A$11,0,1,1))","v":"2022-08-17T04:00:00"},{"$f":"IF(A511>$A$8,\"\",OFFSET(InputPriceData!G$15,CalculationsAndCharts!$A511+$A$11,IF($C$5,8,0),1,1))","v":1638797},{"$f":"IF(A511>$A$8,\"\",OFFSET(InputPriceData!C$15,CalculationsAndCharts!$A511+$A$11,IF($C$5,8,0),1,1))","v":4309.25},{"$f":"IF(A511>$A$8,\"\",OFFSET(InputPriceData!D$15,CalculationsAndCharts!$A511+$A$11,IF($C$5,8,0),1,1))","v":4315},{"$f":"IF(A511>$A$8,\"\",OFFSET(InputPriceData!E$15,CalculationsAndCharts!$A511+$A$11,IF($C$5,8,0),1,1))","v":4255},{"$f":"IF(A511>$A$8,\"\",OFFSET(InputPriceData!F$15,CalculationsAndCharts!$A511+$A$11,IF($C$5,8,0),1,1))","v":4276.75},0,31,{"$f":"IF($A511>$J$30,NA(),AVERAGE(H511:H514))","v":24.5},7.75,null,null,{"$f":"IF($A511>$J$30,NA(),IF($A511>$N$30,0,(1-$M$35)*J511+(2*$M$35-$M$36)*J512-($M$35+$M$37)*J513+$M$36*N512+$M$37*N513))","v":26.713470321975848},3.3200747213079316,0.77890890226091503,0.68285097924869198,null,null,26.380979814476845,2.0067668452505845,0.85861739085494193,0.71500821330694131,null,null,null,null,null,null,null,null,null,null,null,null,null,null,null,null,null,null,null,null,null,null,null,null,null,null,null,null,null,null,null,{"$error":"#N/A"},1638797]
[480,{"$f":"IF(A512>$A$8,\"\",OFFSET(InputPriceData!B$15,$A512+$A$11,0,1,1))","v":"2022-08-16T04:00:00"},{"$f":"IF(A512>$A$8,\"\",OFFSET(InputPriceData!G$15,CalculationsAndCharts!$A512+$A$11,IF($C$5,8,0),1,1))","v":1363248},{"$f":"IF(A512>$A$8,\"\",OFFSET(InputPriceData!C$15,CalculationsAndCharts!$A512+$A$11,IF($C$5,8,0),1,1))","v":4294.5},{"$f":"IF(A512>$A$8,\"\",OFFSET(InputPriceData!D$15,CalculationsAndCharts!$A512+$A$11,IF($C$5,8,0),1,1))","v":4327.5},{"$f":"IF(A512>$A$8,\"\",OFFSET(InputPriceData!E$15,CalculationsAndCharts!$A512+$A$11,IF($C$5,8,0),1,1))","v":4278.75},{"$f":"IF(A512>$A$8,\"\",OFFSET(InputPriceData!F$15,CalculationsAndCharts!$A512+$A$11,IF($C$5,8,0),1,1))","v":4307.75},9.5,0,{"$f":"IF($A512>$J$30,NA(),AVERAGE(H512:H515))","v":24.5},6.25E-2,null,null,{"$f":"IF($A512>$J$30,NA(),IF($A512>$N$30,0,(1-$M$35)*J512+(2*$M$35-$M$36)*J513-($M$35+$M$37)*J514+$M$36*N513+$M$37*N514))","v":26.82097570118335},3.9439732615746941,0.74360605854740736,0.62147631862862895,null,null,26.826561355372263,2.2457467772043445,0.8455061244560832,0.54216899995792078,null,null,null,null,null,null,null,null,null,null,null,null,null,null,null,null,null,null,null,null,null,null,null,null,null,null,null,null,null,null,null,1363248,{"$error":"#N/A"}]
[481,{"$f":"IF(A513>$A$8,\"\",OFFSET(InputPriceData!B$15,$A513+$A$11,0,1,1))","v":"2022-08-15T04:00:00"},{"$f":"IF(A513>$A$8,\"\",OFFSET(InputPriceData!G$15,CalculationsAndCharts!$A513+$A$11,IF($C$5,8,0),1,1))","v":1317241},{"$f":"IF(A513>$A$8,\"\",OFFSET(InputPriceData!C$15,CalculationsAndCharts!$A513+$A$11,IF($C$5,8,0),1,1))","v":4277},{"$f":"IF(A513>$A$8,\"\",OFFSET(InputPriceData!D$15,CalculationsAndCharts!$A513+$A$11,IF($C$5,8,0),1,1))","v":4304.75},{"$f":"IF(A513>$A$8,\"\",OFFSET(InputPriceData!E$15,CalculationsAndCharts!$A513+$A$11,IF($C$5,8,0),1,1))","v":4249},{"$f":"IF(A513>$A$8,\"\",OFFSET(InputPriceData!F$15,CalculationsAndCharts!$A513+$A$11,IF($C$5,8,0),1,1))","v":4298.25},17.25,0,{"$f":"IF($A513>$J$30,NA(),AVERAGE(H513:H516))","v":43.5},6.25E-2,null,null,{"$f":"IF($A513>$J$30,NA(),IF($A513>$N$30,0,(1-$M$35)*J513+(2*$M$35-$M$36)*J514-($M$35+$M$37)*J515+$M$36*N514+$M$37*N515))","v":26.161022725523946},4.9302896344136187,0.68285097924869198,0.57875704808989914,null,null,24.034051226540555,3.9938626225683329,0.71500821330694131,0.42615889955154285,null,null,null,null,null,null,null,null,null,null,null,null,null,null,null,null,null,null,null,null,null,null,null,null,null,null,null,null,null,null,null,1317241,{"$error":"#N/A"}]
[482,{"$f":"IF(A514>$A$8,\"\",OFFSET(InputPriceData!B$15,$A514+$A$11,0,1,1))","v":"2022-08-12T04:00:00"},{"$f":"IF(A514>$A$8,\"\",OFFSET(InputPriceData!G$15,CalculationsAndCharts!$A514+$A$11,IF($C$5,8,0),1,1))","v":1300170},{"$f":"IF(A514>$A$8,\"\",OFFSET(InputPriceData!C$15,CalculationsAndCharts!$A514+$A$11,IF($C$5,8,0),1,1))","v":4219.25},{"$f":"IF(A514>$A$8,\"\",OFFSET(InputPriceData!D$15,CalculationsAndCharts!$A514+$A$11,IF($C$5,8,0),1,1))","v":4282.75},{"$f":"IF(A514>$A$8,\"\",OFFSET(InputPriceData!E$15,CalculationsAndCharts!$A514+$A$11,IF($C$5,8,0),1,1))","v":4208.25},{"$f":"IF(A514>$A$8,\"\",OFFSET(InputPriceData!F$15,CalculationsAndCharts!$A514+$A$11,IF($C$5,8,0),1,1))","v":4281},71.25,0,{"$f":"IF($A514>$J$30,NA(),AVERAGE(H514:H517))","v":39.1875},4.375,null,null,{"$f":"IF($A514>$J$30,NA(),IF($A514>$N$30,0,(1-$M$35)*J514+(2*$M$35-$M$36)*J515-($M$35+$M$37)*J516+$M$36*N515+$M$37*N516))","v":24.877994668529642},5.8076149610581869,0.62147631862862895,0.54940501155830135,null,null,18.261063971335965,5.4212483716487929,0.54216899995792078,0.39134254430649668,null,null,null,null,null,null,null,null,null,null,null,null,null,null,null,null,null,null,null,null,null,null,null,null,null,null,null,null,null,null,null,1300170,{"$error":"#N/A"}]
[483,{"$f":"IF(A515>$A$8,\"\",OFFSET(InputPriceData!B$15,$A515+$A$11,0,1,1))","v":"2022-08-11T04:00:00"},{"$f":"IF(A515>$A$8,\"\",OFFSET(InputPriceData!G$15,CalculationsAndCharts!$A515+$A$11,IF($C$5,8,0),1,1))","v":1598130},{"$f":"IF(A515>$A$8,\"\",OFFSET(InputPriceData!C$15,CalculationsAndCharts!$A515+$A$11,IF($C$5,8,0),1,1))","v":4210.75},{"$f":"IF(A515>$A$8,\"\",OFFSET(InputPriceData!D$15,CalculationsAndCharts!$A515+$A$11,IF($C$5,8,0),1,1))","v":4260.5},{"$f":"IF(A515>$A$8,\"\",OFFSET(InputPriceData!E$15,CalculationsAndCharts!$A515+$A$11,IF($C$5,8,0),1,1))","v":4202.75},{"$f":"IF(A515>$A$8,\"\",OFFSET(InputPriceData!F$15,CalculationsAndCharts!$A515+$A$11,IF($C$5,8,0),1,1))","v":4209.75},0,0.25,{"$f":"IF($A515>$J$30,NA(),AVERAGE(H515:H518))","v":21.375},5.625,null,null,{"$f":"IF($A515>$J$30,NA(),IF($A515>$N$30,0,(1-$M$35)*J515+(2*$M$35-$M$36)*J516-($M$35+$M$37)*J517+$M$36*N516+$M$37*N517))","v":24.438118453662437},6.5205632297916933,0.57875704808989914,0.53604852298221262,null,null,15.498708620640596,6.2361886976234224,0.42615889955154285,0.4652830657786689,null,null,null,null,null,null,null,null,null,null,null,null,null,null,null,null,null,null,null,null,null,null,null,null,null,null,null,null,null,null,null,{"$error":"#N/A"},1598130]
[484,{"$f":"IF(A516>$A$8,\"\",OFFSET(InputPriceData!B$15,$A516+$A$11,0,1,1))","v":"2022-08-10T04:00:00"},{"$f":"IF(A516>$A$8,\"\",OFFSET(InputPriceData!G$15,CalculationsAndCharts!$A516+$A$11,IF($C$5,8,0),1,1))","v":1627940},{"$f":"IF(A516>$A$8,\"\",OFFSET(InputPriceData!C$15,CalculationsAndCharts!$A516+$A$11,IF($C$5,8,0),1,1))","v":4128.75},{"$f":"IF(A516>$A$8,\"\",OFFSET(InputPriceData!D$15,CalculationsAndCharts!$A516+$A$11,IF($C$5,8,0),1,1))","v":4213.5},{"$f":"IF(A516>$A$8,\"\",OFFSET(InputPriceData!E$15,CalculationsAndCharts!$A516+$A$11,IF($C$5,8,0),1,1))","v":4113.75},{"$f":"IF(A516>$A$8,\"\",OFFSET(InputPriceData!F$15,CalculationsAndCharts!$A516+$A$11,IF($C$5,8,0),1,1))","v":4210},85.5,0,{"$f":"IF($A516>$J$30,NA(),AVERAGE(H516:H519))","v":21.375},6.9375,null,null,{"$f":"IF($A516>$J$30,NA(),IF($A516>$N$30,0,(1-$M$35)*J516+(2*$M$35-$M$36)*J517-($M$35+$M$37)*J518+$M$36*N517+$M$37*N518))","v":24.701745211930525},7.1837140807136217,0.54940501155830135,0.51987444140358507,null,null,15.639962673458538,6.8418664597893777,0.39134254430649668,0.51379700130626982,null,null,null,null,null,null,null,null,null,null,null,null,null,null,null,null,null,null,null,null,null,null,null,null,null,null,null,null,null,null,null,1627940,{"$error":"#N/A"}]
[485,{"$f":"IF(A517>$A$8,\"\",OFFSET(InputPriceData!B$15,$A517+$A$11,0,1,1))","v":"2022-08-09T04:00:00"},{"$f":"IF(A517>$A$8,\"\",OFFSET(InputPriceData!G$15,CalculationsAndCharts!$A517+$A$11,IF($C$5,8,0),1,1))","v":1280085},{"$f":"IF(A517>$A$8,\"\",OFFSET(InputPriceData!C$15,CalculationsAndCharts!$A517+$A$11,IF($C$5,8,0),1,1))","v":4148.5},{"$f":"IF(A517>$A$8,\"\",OFFSET(InputPriceData!D$15,CalculationsAndCharts!$A517+$A$11,IF($C$5,8,0),1,1))","v":4155},{"$f":"IF(A517>$A$8,\"\",OFFSET(InputPriceData!E$15,CalculationsAndCharts!$A517+$A$11,IF($C$5,8,0),1,1))","v":4113},{"$f":"IF(A517>$A$8,\"\",OFFSET(InputPriceData!F$15,CalculationsAndCharts!$A517+$A$11,IF($C$5,8,0),1,1))","v":4124.5},0,17.25,{"$f":"IF($A517>$J$30,NA(),AVERAGE(H517:H520))","v":0},7.9375,null,null,{"$f":"IF($A517>$J$30,NA(),IF($A517>$N$30,0,(1-$M$35)*J517+(2*$M$35-$M$36)*J518-($M$35+$M$37)*J519+$M$36*N518+$M$37*N519))","v":25.841073560598957},7.8050947393827954,0.53604852298221262,0.49748927771316387,null,null,19.847927586652442,7.2429848113626356,0.4652830657786689,0.5261423565107195,null,null,null,null,null,null,null,null,null,null,null,null,null,null,null,null,null,null,null,null,null,null,null,null,null,null,null,null,null,null,null,{"$error":"#N/A"},1280085]
[486,{"$f":"IF(A518>$A$8,\"\",OFFSET(InputPriceData!B$15,$A518+$A$11,0,1,1))","v":"2022-08-08T04:00:00"},{"$f":"IF(A518>$A$8,\"\",OFFSET(InputPriceData!G$15,CalculationsAndCharts!$A518+$A$11,IF($C$5,8,0),1,1))","v":1536449},{"$f":"IF(A518>$A$8,\"\",OFFSET(InputPriceData!C$15,CalculationsAndCharts!$A518+$A$11,IF($C$5,8,0),1,1))","v":4149.75},{"$f":"IF(A518>$A$8,\"\",OFFSET(InputPriceData!D$15,CalculationsAndCharts!$A518+$A$11,IF($C$5,8,0),1,1))","v":4188},{"$f":"IF(A518>$A$8,\"\",OFFSET(InputPriceData!E$15,CalculationsAndCharts!$A518+$A$11,IF($C$5,8,0),1,1))","v":4129.25},{"$f":"IF(A518>$A$8,\"\",OFFSET(InputPriceData!F$15,CalculationsAndCharts!$A518+$A$11,IF($C$5,8,0),1,1))","v":4141.75},0,5,{"$f":"IF($A518>$J$30,NA(),AVERAGE(H518:H521))","v":15.625},3.625,null,null,{"$f":"IF($A518>$J$30,NA(),IF($A518>$N$30,0,(1-$M$35)*J518+(2*$M$35-$M$36)*J519-($M$35+$M$37)*J520+$M$36*N519+$M$37*N520))","v":27.257498558920783},8.6105939839721994,0.51987444140358507,0.48641481674615455,null,null,26.07555950477613,8.3749771025434541,0.51379700130626982,0.57726434256687298,null,null,null,null,null,null,null,null,null,null,null,null,null,null,null,null,null,null,null,null,null,null,null,null,null,null,null,null,null,null,null,{"$error":"#N/A"},1536449]
[487,{"$f":"IF(A519>$A$8,\"\",OFFSET(InputPriceData!B$15,$A519+$A$11,0,1,1))","v":"2022-08-05T04:00:00"},{"$f":"IF(A519>$A$8,\"\",OFFSET(InputPriceData!G$15,CalculationsAndCharts!$A519+$A$11,IF($C$5,8,0),1,1))","v":1722401},{"$f":"IF(A519>$A$8,\"\",OFFSET(InputPriceData!C$15,CalculationsAndCharts!$A519+$A$11,IF($C$5,8,0),1,1))","v":4152},{"$f":"IF(A519>$A$8,\"\",OFFSET(InputPriceData!D$15,CalculationsAndCharts!$A519+$A$11,IF($C$5,8,0),1,1))","v":4166.25},{"$f":"IF(A519>$A$8,\"\",OFFSET(InputPriceData!E$15,CalculationsAndCharts!$A519+$A$11,IF($C$5,8,0),1,1))","v":4103.75},{"$f":"IF(A519>$A$8,\"\",OFFSET(InputPriceData!F$15,CalculationsAndCharts!$A519+$A$11,IF($C$5,8,0),1,1))","v":4146.75},0,5.5,{"$f":"IF($A519>$J$30,NA(),AVERAGE(H519:H522))","v":15.625},9.0625,null,null,{"$f":"IF($A519>$J$30,NA(),IF($A519>$N$30,0,(1-$M$35)*J519+(2*$M$35-$M$36)*J520-($M$35+$M$37)*J521+$M$36*N520+$M$37*N521))","v":28.095020363801915},9.4278130640356483,0.49748927771316387,0.46806104804597282,null,null,30.864398630925326,9.5832024716242934,0.5261423565107195,0.60591336199533075,null,null,null,null,null,null,null,null,null,null,null,null,null,null,null,null,null,null,null,null,null,null,null,null,null,null,null,null,null,null,null,{"$error":"#N/A"},1722401]
[488,{"$f":"IF(A520>$A$8,\"\",OFFSET(InputPriceData!B$15,$A520+$A$11,0,1,1))","v":"2022-08-04T04:00:00"},{"$f":"IF(A520>$A$8,\"\",OFFSET(InputPriceData!G$15,CalculationsAndCharts!$A520+$A$11,IF($C$5,8,0),1,1))","v":1245063},{"$f":"IF(A520>$A$8,\"\",OFFSET(InputPriceData!C$15,CalculationsAndCharts!$A520+$A$11,IF($C$5,8,0),1,1))","v":4150.25},{"$f":"IF(A520>$A$8,\"\",OFFSET(InputPriceData!D$15,CalculationsAndCharts!$A520+$A$11,IF($C$5,8,0),1,1))","v":4173.25},{"$f":"IF(A520>$A$8,\"\",OFFSET(InputPriceData!E$15,CalculationsAndCharts!$A520+$A$11,IF($C$5,8,0),1,1))","v":4136},{"$f":"IF(A520>$A$8,\"\",OFFSET(InputPriceData!F$15,CalculationsAndCharts!$A520+$A$11,IF($C$5,8,0),1,1))","v":4152.25},0,4,{"$f":"IF($A520>$J$30,NA(),AVERAGE(H520:H523))","v":15.625},10.9375,null,null,{"$f":"IF($A520>$J$30,NA(),IF($A520>$N$30,0,(1-$M$35)*J520+(2*$M$35-$M$36)*J521-($M$35+$M$37)*J522+$M$36*N521+$M$37*N522))","v":28.960863771920042},10.006540812107179,0.48641481674615455,0.44095177760679261,null,null,36.542419152939473,9.7940358936122998,0.57726434256687298,0.61168963793886921,null,null,null,null,null,null,null,null,null,null,null,null,null,null,null,null,null,null,null,null,null,null,null,null,null,null,null,null,null,null,null,{"$error":"#N/A"},1245063]
[489,{"$f":"IF(A521>$A$8,\"\",OFFSET(InputPriceData!B$15,$A521+$A$11,0,1,1))","v":"2022-08-03T04:00:00"},{"$f":"IF(A521>$A$8,\"\",OFFSET(InputPriceData!G$15,CalculationsAndCharts!$A521+$A$11,IF($C$5,8,0),1,1))","v":1696602},{"$f":"IF(A521>$A$8,\"\",OFFSET(InputPriceData!C$15,CalculationsAndCharts!$A521+$A$11,IF($C$5,8,0),1,1))","v":4097},{"$f":"IF(A521>$A$8,\"\",OFFSET(InputPriceData!D$15,CalculationsAndCharts!$A521+$A$11,IF($C$5,8,0),1,1))","v":4170},{"$f":"IF(A521>$A$8,\"\",OFFSET(InputPriceData!E$15,CalculationsAndCharts!$A521+$A$11,IF($C$5,8,0),1,1))","v":4084.5},{"$f":"IF(A521>$A$8,\"\",OFFSET(InputPriceData!F$15,CalculationsAndCharts!$A521+$A$11,IF($C$5,8,0),1,1))","v":4156.25},62.5,0,{"$f":"IF($A521>$J$30,NA(),AVERAGE(H521:H524))","v":30.625},9.9375,null,null,{"$f":"IF($A521>$J$30,NA(),IF($A521>$N$30,0,(1-$M$35)*J521+(2*$M$35-$M$36)*J522-($M$35+$M$37)*J523+$M$36*N522+$M$37*N523))","v":29.247635856500956},10.597622479901762,0.46806104804597282,0.39005432877382673,null,null,40.527294203910365,9.9452844083699663,0.60591336199533075,0.5521870783984224,null,null,null,null,null,null,null,null,null,null,null,null,null,null,null,null,null,null,null,null,null,null,null,null,null,null,null,null,null,null,null,1696602,{"$error":"#N/A"}]
[490,{"$f":"IF(A522>$A$8,\"\",OFFSET(InputPriceData!B$15,$A522+$A$11,0,1,1))","v":"2022-08-02T04:00:00"},{"$f":"IF(A522>$A$8,\"\",OFFSET(InputPriceData!G$15,CalculationsAndCharts!$A522+$A$11,IF($C$5,8,0),1,1))","v":1892241},{"$f":"IF(A522>$A$8,\"\",OFFSET(InputPriceData!C$15,CalculationsAndCharts!$A522+$A$11,IF($C$5,8,0),1,1))","v":4119.75},{"$f":"IF(A522>$A$8,\"\",OFFSET(InputPriceData!D$15,CalculationsAndCharts!$A522+$A$11,IF($C$5,8,0),1,1))","v":4143},{"$f":"IF(A522>$A$8,\"\",OFFSET(InputPriceData!E$15,CalculationsAndCharts!$A522+$A$11,IF($C$5,8,0),1,1))","v":4080.5},{"$f":"IF(A522>$A$8,\"\",OFFSET(InputPriceData!F$15,CalculationsAndCharts!$A522+$A$11,IF($C$5,8,0),1,1))","v":4093.75},0,26.75,{"$f":"IF($A522>$J$30,NA(),AVERAGE(H522:H525))","v":27.25},9.9375,null,null,{"$f":"IF($A522>$J$30,NA(),IF($A522>$N$30,0,(1-$M$35)*J522+(2*$M$35-$M$36)*J523-($M$35+$M$37)*J524+$M$36*N523+$M$37*N524))","v":29.067695165109374},11.277437290865674,0.44095177760679261,0.32101639074553001,null,null,42.97451310096497,10.354008829502359,0.61168963793886921,0.44287819378303717,null,null,null,null,null,null,null,null,null,null,null,null,null,null,null,null,null,null,null,null,null,null,null,null,null,null,null,null,null,null,null,{"$error":"#N/A"},1892241]
[491,{"$f":"IF(A523>$A$8,\"\",OFFSET(InputPriceData!B$15,$A523+$A$11,0,1,1))","v":"2022-08-01T04:00:00"},{"$f":"IF(A523>$A$8,\"\",OFFSET(InputPriceData!G$15,CalculationsAndCharts!$A523+$A$11,IF($C$5,8,0),1,1))","v":1776936},{"$f":"IF(A523>$A$8,\"\",OFFSET(InputPriceData!C$15,CalculationsAndCharts!$A523+$A$11,IF($C$5,8,0),1,1))","v":4137.5},{"$f":"IF(A523>$A$8,\"\",OFFSET(InputPriceData!D$15,CalculationsAndCharts!$A523+$A$11,IF($C$5,8,0),1,1))","v":4147.25},{"$f":"IF(A523>$A$8,\"\",OFFSET(InputPriceData!E$15,CalculationsAndCharts!$A523+$A$11,IF($C$5,8,0),1,1))","v":4097},{"$f":"IF(A523>$A$8,\"\",OFFSET(InputPriceData!F$15,CalculationsAndCharts!$A523+$A$11,IF($C$5,8,0),1,1))","v":4120.5},0,13,{"$f":"IF($A523>$J$30,NA(),AVERAGE(H523:H526))","v":52.5625},3.25,null,null,{"$f":"IF($A523>$J$30,NA(),IF($A523>$N$30,0,(1-$M$35)*J523+(2*$M$35-$M$36)*J524-($M$35+$M$37)*J525+$M$36*N524+$M$37*N525))","v":27.984886636518034},12.279563546812039,0.39005432877382673,0.26604323271435754,null,null,41.735096591293058,12.040762223813379,0.5521870783984224,0.36302850666836245,null,null,null,null,null,null,null,null,null,null,null,null,null,null,null,null,null,null,null,null,null,null,null,null,null,null,null,null,null,null,null,{"$error":"#N/A"},1776936]
[492,{"$f":"IF(A524>$A$8,\"\",OFFSET(InputPriceData!B$15,$A524+$A$11,0,1,1))","v":"2022-07-29T04:00:00"},{"$f":"IF(A524>$A$8,\"\",OFFSET(InputPriceData!G$15,CalculationsAndCharts!$A524+$A$11,IF($C$5,8,0),1,1))","v":1919598},{"$f":"IF(A524>$A$8,\"\",OFFSET(InputPriceData!C$15,CalculationsAndCharts!$A524+$A$11,IF($C$5,8,0),1,1))","v":4105},{"$f":"IF(A524>$A$8,\"\",OFFSET(InputPriceData!D$15,CalculationsAndCharts!$A524+$A$11,IF($C$5,8,0),1,1))","v":4144},{"$f":"IF(A524>$A$8,\"\",OFFSET(InputPriceData!E$15,CalculationsAndCharts!$A524+$A$11,IF($C$5,8,0),1,1))","v":4081},{"$f":"IF(A524>$A$8,\"\",OFFSET(InputPriceData!F$15,CalculationsAndCharts!$A524+$A$11,IF($C$5,8,0),1,1))","v":4133.5},60,0,{"$f":"IF($A524>$J$30,NA(),AVERAGE(H524:H527))","v":52.5625},11.6875,null,null,{"$f":"IF($A524>$J$30,NA(),IF($A524>$N$30,0,(1-$M$35)*J524+(2*$M$35-$M$36)*J525-($M$35+$M$37)*J526+$M$36*N525+$M$37*N526))","v":25.82757233397513},13.275004310662956,0.32101639074553001,0.23882563086035946,null,null,35.572254222156602,13.735101555243876,0.44287819378303717,0.37114893337705046,null,null,null,null,null,null,null,null,null,null,null,null,null,null,null,null,null,null,null,null,null,null,null,null,null,null,null,null,null,null,null,1919598,{"$error":"#N/A"}]
[493,{"$f":"IF(A525>$A$8,\"\",OFFSET(InputPriceData!B$15,$A525+$A$11,0,1,1))","v":"2022-07-28T04:00:00"},{"$f":"IF(A525>$A$8,\"\",OFFSET(InputPriceData!G$15,CalculationsAndCharts!$A525+$A$11,IF($C$5,8,0),1,1))","v":2014467},{"$f":"IF(A525>$A$8,\"\",OFFSET(InputPriceData!C$15,CalculationsAndCharts!$A525+$A$11,IF($C$5,8,0),1,1))","v":4022},{"$f":"IF(A525>$A$8,\"\",OFFSET(InputPriceData!D$15,CalculationsAndCharts!$A525+$A$11,IF($C$5,8,0),1,1))","v":4111},{"$f":"IF(A525>$A$8,\"\",OFFSET(InputPriceData!E$15,CalculationsAndCharts!$A525+$A$11,IF($C$5,8,0),1,1))","v":3994.5},{"$f":"IF(A525>$A$8,\"\",OFFSET(InputPriceData!F$15,CalculationsAndCharts!$A525+$A$11,IF($C$5,8,0),1,1))","v":4073.5},49,0,{"$f":"IF($A525>$J$30,NA(),AVERAGE(H525:H528))","v":38.8125},11.6875,null,null,{"$f":"IF($A525>$J$30,NA(),IF($A525>$N$30,0,(1-$M$35)*J525+(2*$M$35-$M$36)*J526-($M$35+$M$37)*J527+$M$36*N526+$M$37*N527))","v":24.135997920469816},13.99223861490186,0.26604323271435754,0.24417841689367237,null,null,30.474885212664589,14.241545975049981,0.36302850666836245,0.50306894975299243,null,null,null,null,null,null,null,null,null,null,null,null,null,null,null,null,null,null,null,null,null,null,null,null,null,null,null,null,null,null,null,2014467,{"$error":"#N/A"}]
[494,{"$f":"IF(A526>$A$8,\"\",OFFSET(InputPriceData!B$15,$A526+$A$11,0,1,1))","v":"2022-07-27T04:00:00"},{"$f":"IF(A526>$A$8,\"\",OFFSET(InputPriceData!G$15,CalculationsAndCharts!$A526+$A$11,IF($C$5,8,0),1,1))","v":1740431},{"$f":"IF(A526>$A$8,\"\",OFFSET(InputPriceData!C$15,CalculationsAndCharts!$A526+$A$11,IF($C$5,8,0),1,1))","v":3939.25},{"$f":"IF(A526>$A$8,\"\",OFFSET(InputPriceData!D$15,CalculationsAndCharts!$A526+$A$11,IF($C$5,8,0),1,1))","v":4042.75},{"$f":"IF(A526>$A$8,\"\",OFFSET(InputPriceData!E$15,CalculationsAndCharts!$A526+$A$11,IF($C$5,8,0),1,1))","v":3938.75},{"$f":"IF(A526>$A$8,\"\",OFFSET(InputPriceData!F$15,CalculationsAndCharts!$A526+$A$11,IF($C$5,8,0),1,1))","v":4024.5},101.25,0,{"$f":"IF($A526>$J$30,NA(),AVERAGE(H526:H529))","v":26.5625},20.75,null,null,{"$f":"IF($A526>$J$30,NA(),IF($A526>$N$30,0,(1-$M$35)*J526+(2*$M$35-$M$36)*J527-($M$35+$M$37)*J528+$M$36*N527+$M$37*N528))","v":23.427277304513645},14.394473748931212,0.23882563086035946,0.24113653794768938,null,null,28.842482387429609,13.228049391189735,0.37114893337705046,0.59335004453067985,null,null,null,null,null,null,null,null,null,null,null,null,null,null,null,null,null,null,null,null,null,null,null,null,null,null,null,null,null,null,null,1740431,{"$error":"#N/A"}]
[495,{"$f":"IF(A527>$A$8,\"\",OFFSET(InputPriceData!B$15,$A527+$A$11,0,1,1))","v":"2022-07-26T04:00:00"},{"$f":"IF(A527>$A$8,\"\",OFFSET(InputPriceData!G$15,CalculationsAndCharts!$A527+$A$11,IF($C$5,8,0),1,1))","v":1589161},{"$f":"IF(A527>$A$8,\"\",OFFSET(InputPriceData!C$15,CalculationsAndCharts!$A527+$A$11,IF($C$5,8,0),1,1))","v":3959},{"$f":"IF(A527>$A$8,\"\",OFFSET(InputPriceData!D$15,CalculationsAndCharts!$A527+$A$11,IF($C$5,8,0),1,1))","v":3964.5},{"$f":"IF(A527>$A$8,\"\",OFFSET(InputPriceData!E$15,CalculationsAndCharts!$A527+$A$11,IF($C$5,8,0),1,1))","v":3913.25},{"$f":"IF(A527>$A$8,\"\",OFFSET(InputPriceData!F$15,CalculationsAndCharts!$A527+$A$11,IF($C$5,8,0),1,1))","v":3923.25},0,46.75,{"$f":"IF($A527>$J$30,NA(),AVERAGE(H527:H530))","v":10.9375},20.75,null,null,{"$f":"IF($A527>$J$30,NA(),IF($A527>$N$30,0,(1-$M$35)*J527+(2*$M$35-$M$36)*J528-($M$35+$M$37)*J529+$M$36*N528+$M$37*N529))","v":23.818177365949296},14.469221036951629,0.24417841689367237,0.19924493841778718,null,null,31.620712001802708,10.454153568401658,0.50306894975299243,0.56701316424585257,null,null,null,null,null,null,null,null,null,null,null,null,null,null,null,null,null,null,null,null,null,null,null,null,null,null,null,null,null,null,null,{"$error":"#N/A"},1589161]
[496,{"$f":"IF(A528>$A$8,\"\",OFFSET(InputPriceData!B$15,$A528+$A$11,0,1,1))","v":"2022-07-25T04:00:00"},{"$f":"IF(A528>$A$8,\"\",OFFSET(InputPriceData!G$15,CalculationsAndCharts!$A528+$A$11,IF($C$5,8,0),1,1))","v":1493471},{"$f":"IF(A528>$A$8,\"\",OFFSET(InputPriceData!C$15,CalculationsAndCharts!$A528+$A$11,IF($C$5,8,0),1,1))","v":3967.75},{"$f":"IF(A528>$A$8,\"\",OFFSET(InputPriceData!D$15,CalculationsAndCharts!$A528+$A$11,IF($C$5,8,0),1,1))","v":3988.75},{"$f":"IF(A528>$A$8,\"\",OFFSET(InputPriceData!E$15,CalculationsAndCharts!$A528+$A$11,IF($C$5,8,0),1,1))","v":3946},{"$f":"IF(A528>$A$8,\"\",OFFSET(InputPriceData!F$15,CalculationsAndCharts!$A528+$A$11,IF($C$5,8,0),1,1))","v":3970},5,0,{"$f":"IF($A528>$J$30,NA(),AVERAGE(H528:H531))","v":17.1875},9.0625,null,null,{"$f":"IF($A528>$J$30,NA(),IF($A528>$N$30,0,(1-$M$35)*J528+(2*$M$35-$M$36)*J529-($M$35+$M$37)*J530+$M$36*N529+$M$37*N530))","v":24.604068240544034},15.043573236885472,0.24113653794768938,0.13393519168266657,null,null,36.289187115302369,9.2616160366708371,0.59335004453067985,0.47452647372830964,null,null,null,null,null,null,null,null,null,null,null,null,null,null,null,null,null,null,null,null,null,null,null,null,null,null,null,null,null,null,null,1493471,{"$error":"#N/A"}]
[497,{"$f":"IF(A529>$A$8,\"\",OFFSET(InputPriceData!B$15,$A529+$A$11,0,1,1))","v":"2022-07-22T04:00:00"},{"$f":"IF(A529>$A$8,\"\",OFFSET(InputPriceData!G$15,CalculationsAndCharts!$A529+$A$11,IF($C$5,8,0),1,1))","v":1736592},{"$f":"IF(A529>$A$8,\"\",OFFSET(InputPriceData!C$15,CalculationsAndCharts!$A529+$A$11,IF($C$5,8,0),1,1))","v":3988},{"$f":"IF(A529>$A$8,\"\",OFFSET(InputPriceData!D$15,CalculationsAndCharts!$A529+$A$11,IF($C$5,8,0),1,1))","v":4016.25},{"$f":"IF(A529>$A$8,\"\",OFFSET(InputPriceData!E$15,CalculationsAndCharts!$A529+$A$11,IF($C$5,8,0),1,1))","v":3941.5},{"$f":"IF(A529>$A$8,\"\",OFFSET(InputPriceData!F$15,CalculationsAndCharts!$A529+$A$11,IF($C$5,8,0),1,1))","v":3965},0,36.25,{"$f":"IF($A529>$J$30,NA(),AVERAGE(H529:H532))","v":41.875},9.0625,null,null,{"$f":"IF($A529>$J$30,NA(),IF($A529>$N$30,0,(1-$M$35)*J529+(2*$M$35-$M$36)*J530-($M$35+$M$37)*J531+$M$36*N530+$M$37*N531))","v":24.168606721615568},16.137765975695455,0.19924493841778718,5.5342523219245911E-2,null,null,36.069697776012589,9.9665431427057261,0.56701316424585257,0.29963047209402222,null,null,null,null,null,null,null,null,null,null,null,null,null,null,null,null,null,null,null,null,null,null,null,null,null,null,null,null,null,null,null,{"$error":"#N/A"},1736592]
[498,{"$f":"IF(A530>$A$8,\"\",OFFSET(InputPriceData!B$15,$A530+$A$11,0,1,1))","v":"2022-07-21T04:00:00"},{"$f":"IF(A530>$A$8,\"\",OFFSET(InputPriceData!G$15,CalculationsAndCharts!$A530+$A$11,IF($C$5,8,0),1,1))","v":1821097},{"$f":"IF(A530>$A$8,\"\",OFFSET(InputPriceData!C$15,CalculationsAndCharts!$A530+$A$11,IF($C$5,8,0),1,1))","v":3954},{"$f":"IF(A530>$A$8,\"\",OFFSET(InputPriceData!D$15,CalculationsAndCharts!$A530+$A$11,IF($C$5,8,0),1,1))","v":4004.75},{"$f":"IF(A530>$A$8,\"\",OFFSET(InputPriceData!E$15,CalculationsAndCharts!$A530+$A$11,IF($C$5,8,0),1,1))","v":3930.25},{"$f":"IF(A530>$A$8,\"\",OFFSET(InputPriceData!F$15,CalculationsAndCharts!$A530+$A$11,IF($C$5,8,0),1,1))","v":4001.25},38.75,0,{"$f":"IF($A530>$J$30,NA(),AVERAGE(H530:H533))","v":41.875},7.8125,null,null,{"$f":"IF($A530>$J$30,NA(),IF($A530>$N$30,0,(1-$M$35)*J530+(2*$M$35-$M$36)*J531-($M$35+$M$37)*J532+$M$36*N531+$M$37*N532))","v":22.71589914405018},17.349704799931228,0.13393519168266657,-2.8299991246045417E-2,null,null,31.137271548350974,11.09631611945268,0.47452647372830964,1.0533028793161872E-3,null,null,null,null,null,null,null,null,null,null,null,null,null,null,null,null,null,null,null,null,null,null,null,null,null,null,null,null,null,null,null,1821097,{"$error":"#N/A"}]
[499,{"$f":"IF(A531>$A$8,\"\",OFFSET(InputPriceData!B$15,$A531+$A$11,0,1,1))","v":"2022-07-20T04:00:00"},{"$f":"IF(A531>$A$8,\"\",OFFSET(InputPriceData!G$15,CalculationsAndCharts!$A531+$A$11,IF($C$5,8,0),1,1))","v":1734355},{"$f":"IF(A531>$A$8,\"\",OFFSET(InputPriceData!C$15,CalculationsAndCharts!$A531+$A$11,IF($C$5,8,0),1,1))","v":3947},{"$f":"IF(A531>$A$8,\"\",OFFSET(InputPriceData!D$15,CalculationsAndCharts!$A531+$A$11,IF($C$5,8,0),1,1))","v":3977.25},{"$f":"IF(A531>$A$8,\"\",OFFSET(InputPriceData!E$15,CalculationsAndCharts!$A531+$A$11,IF($C$5,8,0),1,1))","v":3922.25},{"$f":"IF(A531>$A$8,\"\",OFFSET(InputPriceData!F$15,CalculationsAndCharts!$A531+$A$11,IF($C$5,8,0),1,1))","v":3962.5},25,0,{"$f":"IF($A531>$J$30,NA(),AVERAGE(H531:H534))","v":50.125},7.8125,null,null,{"$f":"IF($A531>$J$30,NA(),IF($A531>$N$30,0,(1-$M$35)*J531+(2*$M$35-$M$36)*J532-($M$35+$M$37)*J533+$M$36*N532+$M$37*N533))","v":20.872186289070228},18.683097099684232,5.5342523219245911E-2,-7.4633566886604816E-2,null,null,23.577807895337404,12.706056482431139,0.29963047209402222,-0.24892426823025657,null,null,null,null,null,null,null,null,null,null,null,null,null,null,null,null,null,null,null,null,null,null,null,null,null,null,null,null,null,null,null,1734355,{"$error":"#N/A"}]
[500,{"$f":"IF(A532>$A$8,\"\",OFFSET(InputPriceData!B$15,$A532+$A$11,0,1,1))","v":"2022-07-19T04:00:00"},{"$f":"IF(A532>$A$8,\"\",OFFSET(InputPriceData!G$15,CalculationsAndCharts!$A532+$A$11,IF($C$5,8,0),1,1))","v":1611604},{"$f":"IF(A532>$A$8,\"\",OFFSET(InputPriceData!C$15,CalculationsAndCharts!$A532+$A$11,IF($C$5,8,0),1,1))","v":3838.5},{"$f":"IF(A532>$A$8,\"\",OFFSET(InputPriceData!D$15,CalculationsAndCharts!$A532+$A$11,IF($C$5,8,0),1,1))","v":3948},{"$f":"IF(A532>$A$8,\"\",OFFSET(InputPriceData!E$15,CalculationsAndCharts!$A532+$A$11,IF($C$5,8,0),1,1))","v":3834},{"$f":"IF(A532>$A$8,\"\",OFFSET(InputPriceData!F$15,CalculationsAndCharts!$A532+$A$11,IF($C$5,8,0),1,1))","v":3937.5},103.75,0,{"$f":"IF($A532>$J$30,NA(),AVERAGE(H532:H535))","v":43.875},10.625,null,null,{"$f":"IF($A532>$J$30,NA(),IF($A532>$N$30,0,(1-$M$35)*J532+(2*$M$35-$M$36)*J533-($M$35+$M$37)*J534+$M$36*N533+$M$37*N534))","v":18.877600639242356},19.977190899660219,-2.8299991246045417E-2,-8.840837099927279E-2,null,null,14.17439782270986,14.144569373023334,1.0533028793161872E-3,-0.33315352269499704,null,null,null,null,null,null,null,null,null,null,null,null,null,null,null,null,null,null,null,null,null,null,null,null,null,null,null,null,null,null,null,1611604,{"$error":"#N/A"}]
[501,{"$f":"IF(A533>$A$8,\"\",OFFSET(InputPriceData!B$15,$A533+$A$11,0,1,1))","v":"2022-07-18T04:00:00"},{"$f":"IF(A533>$A$8,\"\",OFFSET(InputPriceData!G$15,CalculationsAndCharts!$A533+$A$11,IF($C$5,8,0),1,1))","v":1439590},{"$f":"IF(A533>$A$8,\"\",OFFSET(InputPriceData!C$15,CalculationsAndCharts!$A533+$A$11,IF($C$5,8,0),1,1))","v":3878.5},{"$f":"IF(A533>$A$8,\"\",OFFSET(InputPriceData!D$15,CalculationsAndCharts!$A533+$A$11,IF($C$5,8,0),1,1))","v":3909.5},{"$f":"IF(A533>$A$8,\"\",OFFSET(InputPriceData!E$15,CalculationsAndCharts!$A533+$A$11,IF($C$5,8,0),1,1))","v":3820.25},{"$f":"IF(A533>$A$8,\"\",OFFSET(InputPriceData!F$15,CalculationsAndCharts!$A533+$A$11,IF($C$5,8,0),1,1))","v":3833.75},0,31.25,{"$f":"IF($A533>$J$30,NA(),AVERAGE(H533:H536))","v":17.9375},15.4375,null,null,{"$f":"IF($A533>$J$30,NA(),IF($A533>$N$30,0,(1-$M$35)*J533+(2*$M$35-$M$36)*J534-($M$35+$M$37)*J535+$M$36*N534+$M$37*N535))","v":18.112708273604397},21.034396322926501,-7.4633566886604816E-2,-7.2869659417052007E-2,null,null,8.7310836560015375,14.51845906435417,-0.24892426823025657,-0.15509871618837498,null,null,null,null,null,null,null,null,null,null,null,null,null,null,null,null,null,null,null,null,null,null,null,null,null,null,null,null,null,null,null,{"$error":"#N/A"},1439590]
[502,{"$f":"IF(A534>$A$8,\"\",OFFSET(InputPriceData!B$15,$A534+$A$11,0,1,1))","v":"2022-07-15T04:00:00"},{"$f":"IF(A534>$A$8,\"\",OFFSET(InputPriceData!G$15,CalculationsAndCharts!$A534+$A$11,IF($C$5,8,0),1,1))","v":1523753},{"$f":"IF(A534>$A$8,\"\",OFFSET(InputPriceData!C$15,CalculationsAndCharts!$A534+$A$11,IF($C$5,8,0),1,1))","v":3797.75},{"$f":"IF(A534>$A$8,\"\",OFFSET(InputPriceData!D$15,CalculationsAndCharts!$A534+$A$11,IF($C$5,8,0),1,1))","v":3868.25},{"$f":"IF(A534>$A$8,\"\",OFFSET(InputPriceData!E$15,CalculationsAndCharts!$A534+$A$11,IF($C$5,8,0),1,1))","v":3780.25},{"$f":"IF(A534>$A$8,\"\",OFFSET(InputPriceData!F$15,CalculationsAndCharts!$A534+$A$11,IF($C$5,8,0),1,1))","v":3865},71.75,0,{"$f":"IF($A534>$J$30,NA(),AVERAGE(H534:H537))","v":17.9375},15.875,null,null,{"$f":"IF($A534>$J$30,NA(),IF($A534>$N$30,0,(1-$M$35)*J534+(2*$M$35-$M$36)*J535-($M$35+$M$37)*J536+$M$36*N535+$M$37*N536))","v":18.375974895037466},21.940268278851544,-8.840837099927279E-2,-3.2414192126232574E-2,null,null,7.0235617117919666,14.041441855976817,-0.33315352269499704,0.31520698318934876,null,null,null,null,null,null,null,null,null,null,null,null,null,null,null,null,null,null,null,null,null,null,null,null,null,null,null,null,null,null,null,1523753,{"$error":"#N/A"}]
[503,{"$f":"IF(A535>$A$8,\"\",OFFSET(InputPriceData!B$15,$A535+$A$11,0,1,1))","v":"2022-07-14T04:00:00"},{"$f":"IF(A535>$A$8,\"\",OFFSET(InputPriceData!G$15,CalculationsAndCharts!$A535+$A$11,IF($C$5,8,0),1,1))","v":1916260},{"$f":"IF(A535>$A$8,\"\",OFFSET(InputPriceData!C$15,CalculationsAndCharts!$A535+$A$11,IF($C$5,8,0),1,1))","v":3795.75},{"$f":"IF(A535>$A$8,\"\",OFFSET(InputPriceData!D$15,CalculationsAndCharts!$A535+$A$11,IF($C$5,8,0),1,1))","v":3806.25},{"$f":"IF(A535>$A$8,\"\",OFFSET(InputPriceData!E$15,CalculationsAndCharts!$A535+$A$11,IF($C$5,8,0),1,1))","v":3723.75},{"$f":"IF(A535>$A$8,\"\",OFFSET(InputPriceData!F$15,CalculationsAndCharts!$A535+$A$11,IF($C$5,8,0),1,1))","v":3793.25},0,11.25,{"$f":"IF($A535>$J$30,NA(),AVERAGE(H535:H538))","v":0},27,null,null,{"$f":"IF($A535>$J$30,NA(),IF($A535>$N$30,0,(1-$M$35)*J535+(2*$M$35-$M$36)*J536-($M$35+$M$37)*J537+$M$36*N536+$M$37*N537))","v":19.385287756967244},22.432538514964349,-7.2869659417052007E-2,-1.2754422425986957E-2,null,null,8.4068076854425264,11.493286790723204,-0.15509871618837498,0.69454572146983673,null,null,null,null,null,null,null,null,null,null,null,null,null,null,null,null,null,null,null,null,null,null,null,null,null,null,null,null,null,null,null,{"$error":"#N/A"},1916260]
[504,{"$f":"IF(A536>$A$8,\"\",OFFSET(InputPriceData!B$15,$A536+$A$11,0,1,1))","v":"2022-07-13T04:00:00"},{"$f":"IF(A536>$A$8,\"\",OFFSET(InputPriceData!G$15,CalculationsAndCharts!$A536+$A$11,IF($C$5,8,0),1,1))","v":2157968},{"$f":"IF(A536>$A$8,\"\",OFFSET(InputPriceData!C$15,CalculationsAndCharts!$A536+$A$11,IF($C$5,8,0),1,1))","v":3825},{"$f":"IF(A536>$A$8,\"\",OFFSET(InputPriceData!D$15,CalculationsAndCharts!$A536+$A$11,IF($C$5,8,0),1,1))","v":3873},{"$f":"IF(A536>$A$8,\"\",OFFSET(InputPriceData!E$15,CalculationsAndCharts!$A536+$A$11,IF($C$5,8,0),1,1))","v":3752},{"$f":"IF(A536>$A$8,\"\",OFFSET(InputPriceData!F$15,CalculationsAndCharts!$A536+$A$11,IF($C$5,8,0),1,1))","v":3804.5},0,19.25,{"$f":"IF($A536>$J$30,NA(),AVERAGE(H536:H539))","v":0},25.125,null,null,{"$f":"IF($A536>$J$30,NA(),IF($A536>$N$30,0,(1-$M$35)*J536+(2*$M$35-$M$36)*J537-($M$35+$M$37)*J538+$M$36*N537+$M$37*N538))","v":21.169574100707095},22.587938521819726,-3.2414192126232574E-2,-2.0555258858107207E-2,null,null,13.424248199021587,6.9896461470501965,0.31520698318934876,0.88622476329547406,null,null,null,null,null,null,null,null,null,null,null,null,null,null,null,null,null,null,null,null,null,null,null,null,null,null,null,null,null,null,null,{"$error":"#N/A"},2157968]
[505,{"$f":"IF(A537>$A$8,\"\",OFFSET(InputPriceData!B$15,$A537+$A$11,0,1,1))","v":"2022-07-12T04:00:00"},{"$f":"IF(A537>$A$8,\"\",OFFSET(InputPriceData!G$15,CalculationsAndCharts!$A537+$A$11,IF($C$5,8,0),1,1))","v":1640864},{"$f":"IF(A537>$A$8,\"\",OFFSET(InputPriceData!C$15,CalculationsAndCharts!$A537+$A$11,IF($C$5,8,0),1,1))","v":3862},{"$f":"IF(A537>$A$8,\"\",OFFSET(InputPriceData!D$15,CalculationsAndCharts!$A537+$A$11,IF($C$5,8,0),1,1))","v":3876.5},{"$f":"IF(A537>$A$8,\"\",OFFSET(InputPriceData!E$15,CalculationsAndCharts!$A537+$A$11,IF($C$5,8,0),1,1))","v":3804.75},{"$f":"IF(A537>$A$8,\"\",OFFSET(InputPriceData!F$15,CalculationsAndCharts!$A537+$A$11,IF($C$5,8,0),1,1))","v":3823.75},0,33,{"$f":"IF($A537>$J$30,NA(),AVERAGE(H537:H540))","v":14.1875},20.3125,null,null,{"$f":"IF($A537>$J$30,NA(),IF($A537>$N$30,0,(1-$M$35)*J537+(2*$M$35-$M$36)*J538-($M$35+$M$37)*J539+$M$36*N538+$M$37*N539))","v":22.457841996185142},23.038116671710728,-1.2754422425986957E-2,-4.8214015752692928E-2,null,null,17.083647752272768,3.0794526419196471,0.69454572146983673,0.75991029253123143,null,null,null,null,null,null,null,null,null,null,null,null,null,null,null,null,null,null,null,null,null,null,null,null,null,null,null,null,null,null,null,{"$error":"#N/A"},1640864]
[506,{"$f":"IF(A538>$A$8,\"\",OFFSET(InputPriceData!B$15,$A538+$A$11,0,1,1))","v":"2022-07-11T04:00:00"},{"$f":"IF(A538>$A$8,\"\",OFFSET(InputPriceData!G$15,CalculationsAndCharts!$A538+$A$11,IF($C$5,8,0),1,1))","v":1486103},{"$f":"IF(A538>$A$8,\"\",OFFSET(InputPriceData!C$15,CalculationsAndCharts!$A538+$A$11,IF($C$5,8,0),1,1))","v":3900},{"$f":"IF(A538>$A$8,\"\",OFFSET(InputPriceData!D$15,CalculationsAndCharts!$A538+$A$11,IF($C$5,8,0),1,1))","v":3900.75},{"$f":"IF(A538>$A$8,\"\",OFFSET(InputPriceData!E$15,CalculationsAndCharts!$A538+$A$11,IF($C$5,8,0),1,1))","v":3850},{"$f":"IF(A538>$A$8,\"\",OFFSET(InputPriceData!F$15,CalculationsAndCharts!$A538+$A$11,IF($C$5,8,0),1,1))","v":3856.75},0,44.5,{"$f":"IF($A538>$J$30,NA(),AVERAGE(H538:H541))","v":17.75},12.0625,null,null,{"$f":"IF($A538>$J$30,NA(),IF($A538>$N$30,0,(1-$M$35)*J538+(2*$M$35-$M$36)*J539-($M$35+$M$37)*J540+$M$36*N539+$M$37*N540))","v":23.084008503151274},24.052920275982533,-2.0555258858107207E-2,-9.2624992315267704E-2,null,null,18.467897148634087,1.1139655307300931,0.88622476329547406,0.45010247825153227,null,null,null,null,null,null,null,null,null,null,null,null,null,null,null,null,null,null,null,null,null,null,null,null,null,null,null,null,null,null,null,{"$error":"#N/A"},1486103]
[507,{"$f":"IF(A539>$A$8,\"\",OFFSET(InputPriceData!B$15,$A539+$A$11,0,1,1))","v":"2022-07-08T04:00:00"},{"$f":"IF(A539>$A$8,\"\",OFFSET(InputPriceData!G$15,CalculationsAndCharts!$A539+$A$11,IF($C$5,8,0),1,1))","v":1485497},{"$f":"IF(A539>$A$8,\"\",OFFSET(InputPriceData!C$15,CalculationsAndCharts!$A539+$A$11,IF($C$5,8,0),1,1))","v":3897},{"$f":"IF(A539>$A$8,\"\",OFFSET(InputPriceData!D$15,CalculationsAndCharts!$A539+$A$11,IF($C$5,8,0),1,1))","v":3922},{"$f":"IF(A539>$A$8,\"\",OFFSET(InputPriceData!E$15,CalculationsAndCharts!$A539+$A$11,IF($C$5,8,0),1,1))","v":3868},{"$f":"IF(A539>$A$8,\"\",OFFSET(InputPriceData!F$15,CalculationsAndCharts!$A539+$A$11,IF($C$5,8,0),1,1))","v":3901.25},0,3.75,{"$f":"IF($A539>$J$30,NA(),AVERAGE(H539:H542))","v":19.4375},0.9375,null,null,{"$f":"IF($A539>$J$30,NA(),IF($A539>$N$30,0,(1-$M$35)*J539+(2*$M$35-$M$36)*J540-($M$35+$M$37)*J541+$M$36*N540+$M$37*N541))","v":23.526163089764399},25.909662776844463,-4.8214015752692928E-2,-0.12619846168799484,null,null,19.318824676485242,2.6355041986524785,0.75991029253123143,0.23714418548296204,null,null,null,null,null,null,null,null,null,null,null,null,null,null,null,null,null,null,null,null,null,null,null,null,null,null,null,null,null,null,null,{"$error":"#N/A"},1485497]
[508,{"$f":"IF(A540>$A$8,\"\",OFFSET(InputPriceData!B$15,$A540+$A$11,0,1,1))","v":"2022-07-07T04:00:00"},{"$f":"IF(A540>$A$8,\"\",OFFSET(InputPriceData!G$15,CalculationsAndCharts!$A540+$A$11,IF($C$5,8,0),1,1))","v":1314443},{"$f":"IF(A540>$A$8,\"\",OFFSET(InputPriceData!C$15,CalculationsAndCharts!$A540+$A$11,IF($C$5,8,0),1,1))","v":3853.75},{"$f":"IF(A540>$A$8,\"\",OFFSET(InputPriceData!D$15,CalculationsAndCharts!$A540+$A$11,IF($C$5,8,0),1,1))","v":3914.25},{"$f":"IF(A540>$A$8,\"\",OFFSET(InputPriceData!E$15,CalculationsAndCharts!$A540+$A$11,IF($C$5,8,0),1,1))","v":3832.5},{"$f":"IF(A540>$A$8,\"\",OFFSET(InputPriceData!F$15,CalculationsAndCharts!$A540+$A$11,IF($C$5,8,0),1,1))","v":3905},56.75,0,{"$f":"IF($A540>$J$30,NA(),AVERAGE(H540:H543))","v":28.875},0,null,null,{"$f":"IF($A540>$J$30,NA(),IF($A540>$N$30,0,(1-$M$35)*J540+(2*$M$35-$M$36)*J541-($M$35+$M$37)*J542+$M$36*N541+$M$37*N542))","v":23.538558841421956},28.344198876322977,-9.2624992315267704E-2,-0.13823952101217324,null,null,18.531680811993908,7.027451856117338,0.45010247825153227,0.16938028655772991,null,null,null,null,null,null,null,null,null,null,null,null,null,null,null,null,null,null,null,null,null,null,null,null,null,null,null,null,null,null,null,1314443,{"$error":"#N/A"}]
[509,{"$f":"IF(A541>$A$8,\"\",OFFSET(InputPriceData!B$15,$A541+$A$11,0,1,1))","v":"2022-07-06T04:00:00"},{"$f":"IF(A541>$A$8,\"\",OFFSET(InputPriceData!G$15,CalculationsAndCharts!$A541+$A$11,IF($C$5,8,0),1,1))","v":1684324},{"$f":"IF(A541>$A$8,\"\",OFFSET(InputPriceData!C$15,CalculationsAndCharts!$A541+$A$11,IF($C$5,8,0),1,1))","v":3838},{"$f":"IF(A541>$A$8,\"\",OFFSET(InputPriceData!D$15,CalculationsAndCharts!$A541+$A$11,IF($C$5,8,0),1,1))","v":3875},{"$f":"IF(A541>$A$8,\"\",OFFSET(InputPriceData!E$15,CalculationsAndCharts!$A541+$A$11,IF($C$5,8,0),1,1))","v":3808.75},{"$f":"IF(A541>$A$8,\"\",OFFSET(InputPriceData!F$15,CalculationsAndCharts!$A541+$A$11,IF($C$5,8,0),1,1))","v":3848.25},14.25,0,{"$f":"IF($A541>$J$30,NA(),AVERAGE(H541:H544))","v":14.6875},7.9375,null,null,{"$f":"IF($A541>$J$30,NA(),IF($A541>$N$30,0,(1-$M$35)*J541+(2*$M$35-$M$36)*J542-($M$35+$M$37)*J543+$M$36*N542+$M$37*N543))","v":23.746183926915865},30.605251463752676,-0.12619846168799484,-0.13360748639330938,null,null,18.599231709677621,11.468778030701618,0.23714418548296204,0.21802713488655612,null,null,null,null,null,null,null,null,null,null,null,null,null,null,null,null,null,null,null,null,null,null,null,null,null,null,null,null,null,null,null,1684324,{"$error":"#N/A"}]
[510,{"$f":"IF(A542>$A$8,\"\",OFFSET(InputPriceData!B$15,$A542+$A$11,0,1,1))","v":"2022-07-05T04:00:00"},{"$f":"IF(A542>$A$8,\"\",OFFSET(InputPriceData!G$15,CalculationsAndCharts!$A542+$A$11,IF($C$5,8,0),1,1))","v":2031501},{"$f":"IF(A542>$A$8,\"\",OFFSET(InputPriceData!C$15,CalculationsAndCharts!$A542+$A$11,IF($C$5,8,0),1,1))","v":3828.5},{"$f":"IF(A542>$A$8,\"\",OFFSET(InputPriceData!D$15,CalculationsAndCharts!$A542+$A$11,IF($C$5,8,0),1,1))","v":3857.75},{"$f":"IF(A542>$A$8,\"\",OFFSET(InputPriceData!E$15,CalculationsAndCharts!$A542+$A$11,IF($C$5,8,0),1,1))","v":3744},{"$f":"IF(A542>$A$8,\"\",OFFSET(InputPriceData!F$15,CalculationsAndCharts!$A542+$A$11,IF($C$5,8,0),1,1))","v":3834},6.75,0,{"$f":"IF($A542>$J$30,NA(),AVERAGE(H542:H545))","v":11.125},9,null,null,{"$f":"IF($A542>$J$30,NA(),IF($A542>$N$30,0,(1-$M$35)*J542+(2*$M$35-$M$36)*J543-($M$35+$M$37)*J544+$M$36*N543+$M$37*N544))","v":24.682678557470616},32.601634565037486,-0.13823952101217324,-0.1080737585538868,null,null,21.932004642442433,15.578469742247298,0.16938028655772991,0.37447977643812991,null,null,null,null,null,null,null,null,null,null,null,null,null,null,null,null,null,null,null,null,null,null,null,null,null,null,null,null,null,null,null,2031501,{"$error":"#N/A"}]
[511,{"$f":"IF(A543>$A$8,\"\",OFFSET(InputPriceData!B$15,$A543+$A$11,0,1,1))","v":"2022-07-01T04:00:00"},{"$f":"IF(A543>$A$8,\"\",OFFSET(InputPriceData!G$15,CalculationsAndCharts!$A543+$A$11,IF($C$5,8,0),1,1))","v":1752977},{"$f":"IF(A543>$A$8,\"\",OFFSET(InputPriceData!C$15,CalculationsAndCharts!$A543+$A$11,IF($C$5,8,0),1,1))","v":3782},{"$f":"IF(A543>$A$8,\"\",OFFSET(InputPriceData!D$15,CalculationsAndCharts!$A543+$A$11,IF($C$5,8,0),1,1))","v":3833.5},{"$f":"IF(A543>$A$8,\"\",OFFSET(InputPriceData!E$15,CalculationsAndCharts!$A543+$A$11,IF($C$5,8,0),1,1))","v":3744.5},{"$f":"IF(A543>$A$8,\"\",OFFSET(InputPriceData!F$15,CalculationsAndCharts!$A543+$A$11,IF($C$5,8,0),1,1))","v":3827.25},37.75,0,{"$f":"IF($A543>$J$30,NA(),AVERAGE(H543:H546))","v":9.4375},28.5625,null,null,{"$f":"IF($A543>$J$30,NA(),IF($A543>$N$30,0,(1-$M$35)*J543+(2*$M$35-$M$36)*J544-($M$35+$M$37)*J545+$M$36*N544+$M$37*N545))","v":25.870349963630012},33.849348804160059,-0.13360748639330938,-9.9806781086911517E-2,null,null,26.879599586875639,17.256690676278694,0.21802713488655612,0.44591967610400485,null,null,null,null,null,null,null,null,null,null,null,null,null,null,null,null,null,null,null,null,null,null,null,null,null,null,null,null,null,null,null,1752977,{"$error":"#N/A"}]
[512,{"$f":"IF(A544>$A$8,\"\",OFFSET(InputPriceData!B$15,$A544+$A$11,0,1,1))","v":"2022-06-30T04:00:00"},{"$f":"IF(A544>$A$8,\"\",OFFSET(InputPriceData!G$15,CalculationsAndCharts!$A544+$A$11,IF($C$5,8,0),1,1))","v":2394361},{"$f":"IF(A544>$A$8,\"\",OFFSET(InputPriceData!C$15,CalculationsAndCharts!$A544+$A$11,IF($C$5,8,0),1,1))","v":3822.75},{"$f":"IF(A544>$A$8,\"\",OFFSET(InputPriceData!D$15,CalculationsAndCharts!$A544+$A$11,IF($C$5,8,0),1,1))","v":3825},{"$f":"IF(A544>$A$8,\"\",OFFSET(InputPriceData!E$15,CalculationsAndCharts!$A544+$A$11,IF($C$5,8,0),1,1))","v":3741.25},{"$f":"IF(A544>$A$8,\"\",OFFSET(InputPriceData!F$15,CalculationsAndCharts!$A544+$A$11,IF($C$5,8,0),1,1))","v":3789.5},0,31.75,{"$f":"IF($A544>$J$30,NA(),AVERAGE(H544:H547))","v":0},31.6875,null,null,{"$f":"IF($A544>$J$30,NA(),IF($A544>$N$30,0,(1-$M$35)*J544+(2*$M$35-$M$36)*J545-($M$35+$M$37)*J546+$M$36*N545+$M$37*N546))","v":27.555154641787979},34.232812482291209,-0.1080737585538868,-0.12351714938564473,null,null,34.608532119381294,15.750203909557497,0.37447977643812991,0.39569119790506202,null,null,null,null,null,null,null,null,null,null,null,null,null,null,null,null,null,null,null,null,null,null,null,null,null,null,null,null,null,null,null,{"$error":"#N/A"},2394361]
[513,{"$f":"IF(A545>$A$8,\"\",OFFSET(InputPriceData!B$15,$A545+$A$11,0,1,1))","v":"2022-06-29T04:00:00"},{"$f":"IF(A545>$A$8,\"\",OFFSET(InputPriceData!G$15,CalculationsAndCharts!$A545+$A$11,IF($C$5,8,0),1,1))","v":1717770},{"$f":"IF(A545>$A$8,\"\",OFFSET(InputPriceData!C$15,CalculationsAndCharts!$A545+$A$11,IF($C$5,8,0),1,1))","v":3828.25},{"$f":"IF(A545>$A$8,\"\",OFFSET(InputPriceData!D$15,CalculationsAndCharts!$A545+$A$11,IF($C$5,8,0),1,1))","v":3840},{"$f":"IF(A545>$A$8,\"\",OFFSET(InputPriceData!E$15,CalculationsAndCharts!$A545+$A$11,IF($C$5,8,0),1,1))","v":3801.25},{"$f":"IF(A545>$A$8,\"\",OFFSET(InputPriceData!F$15,CalculationsAndCharts!$A545+$A$11,IF($C$5,8,0),1,1))","v":3821.25},0,4.25,{"$f":"IF($A545>$J$30,NA(),AVERAGE(H545:H548))","v":29.125},23.75,null,null,{"$f":"IF($A545>$J$30,NA(),IF($A545>$N$30,0,(1-$M$35)*J545+(2*$M$35-$M$36)*J546-($M$35+$M$37)*J547+$M$36*N546+$M$37*N547))","v":28.507742809899941},34.829199106460564,-9.9806781086911517E-2,-0.16493916908778433,null,null,{"$f":"IF($A545>$J$30,NA(),IF($A545>$N$30,0,(1-S$35)*$J545+(2*S$35-S$36)*$J546-(S$35+S$37)*$J547+S$36*T546+S$37*T547))","v":40.07478008061608},{"$f":"IF($A545>$J$30,NA(),IF($A545>$N$30,0,(1-S$35)*$K545+(2*S$35-S$36)*$K546-(S$35+S$37)*$K547+S$36*U546+S$37*U547))","v":15.356763929624645},{"$f":"IF($A545>$N$30,NA(),(T545-U545)/(T545+U545))","v":0.44591967610400485},{"$f":"IF($A545>$N$30,NA(),OFFSET(V545,$C$18,0,1,1))","v":0.22635110303761963},null,null,null,null,null,null,null,null,null,null,null,null,null,null,null,null,null,null,null,null,null,null,null,null,null,null,null,null,null,null,null,{"$error":"#N/A"},1717770]
[514,{"$f":"IF(A546>$A$8,\"\",OFFSET(InputPriceData!B$15,$A546+$A$11,0,1,1))","v":"2022-06-28T04:00:00"},{"$f":"IF(A546>$A$8,\"\",OFFSET(InputPriceData!G$15,CalculationsAndCharts!$A546+$A$11,IF($C$5,8,0),1,1))","v":1791690},{"$f":"IF(A546>$A$8,\"\",OFFSET(InputPriceData!C$15,CalculationsAndCharts!$A546+$A$11,IF($C$5,8,0),1,1))","v":3911.25},{"$f":"IF(A546>$A$8,\"\",OFFSET(InputPriceData!D$15,CalculationsAndCharts!$A546+$A$11,IF($C$5,8,0),1,1))","v":3950},{"$f":"IF(A546>$A$8,\"\",OFFSET(InputPriceData!E$15,CalculationsAndCharts!$A546+$A$11,IF($C$5,8,0),1,1))","v":3821.75},{"$f":"IF(A546>$A$8,\"\",OFFSET(InputPriceData!F$15,CalculationsAndCharts!$A546+$A$11,IF($C$5,8,0),1,1))","v":3825.5},{"$f":"IF($A546>$H$30,NA(),IF($G546>$G547,$G546-$G547,0))","v":0},{"$f":"IF($A546>$H$30,NA(),IF(G546<G547,G547-G546,0))","v":78.25},{"$f":"IF($A546>$J$30,NA(),AVERAGE(H546:H549))","v":38.375},22.6875,null,null,{"$f":"IF($A546>$J$30,NA(),IF($A546>$N$30,0,(1-$M$35)*J546+(2*$M$35-$M$36)*J547-($M$35+$M$37)*J548+$M$36*N547+$M$37*N548))","v":27.940678828948176},35.815682882781033,{"$f":"IF($A546>$N$30,NA(),(N546-O546)/(N546+O546))","v":-0.12351714938564473},{"$f":"IF($A546>$N$30,NA(),OFFSET(P546,$C$17,0,1,1))","v":-0.23692187386672622},null,null,39.478185276266615,17.093333316848433,0.39569119790506202,-9.5763504569396335E-2,null,null,null,null,null,null,null,null,null,null,null,null,null,null,null,null,null,null,null,null,null,null,null,null,null,null,null,null,null,null,null,{"$error":"#N/A"},1791690]
[515,{"$f":"IF(A547>$A$8,\"\",OFFSET(InputPriceData!B$15,$A547+$A$11,0,1,1))","v":"2022-06-27T04:00:00"},{"$f":"IF(A547>$A$8,\"\",OFFSET(InputPriceData!G$15,CalculationsAndCharts!$A547+$A$11,IF($C$5,8,0),1,1))","v":1497368},{"$f":"IF(A547>$A$8,\"\",OFFSET(InputPriceData!C$15,CalculationsAndCharts!$A547+$A$11,IF($C$5,8,0),1,1))","v":3915},{"$f":"IF(A547>$A$8,\"\",OFFSET(InputPriceData!D$15,CalculationsAndCharts!$A547+$A$11,IF($C$5,8,0),1,1))","v":3948},{"$f":"IF(A547>$A$8,\"\",OFFSET(InputPriceData!E$15,CalculationsAndCharts!$A547+$A$11,IF($C$5,8,0),1,1))","v":3892.5},{"$f":"IF(A547>$A$8,\"\",OFFSET(InputPriceData!F$15,CalculationsAndCharts!$A547+$A$11,IF($C$5,8,0),1,1))","v":3903.75},0,12.5,{"$f":"IF($A547>$J$30,NA(),AVERAGE(H547:H550))","v":38.375},4.375,null,null,{"$f":"IF($A547>$J$30,NA(),IF($A547>$N$30,0,(1-$M$35)*J547+(2*$M$35-$M$36)*J548-($M$35+$M$37)*J549+$M$36*N548+$M$37*N549))","v":26.971564225426579},37.626278774736647,-0.16493916908778433,-0.30849966822767594,null,null,36.730257007964425,23.171441481130806,0.22635110303761963,-0.4341296473976915,null,null,null,null,null,null,null,null,null,null,null,null,null,null,null,null,null,null,null,null,null,null,null,null,null,null,null,null,null,null,null,{"$error":"#N/A"},1497368]
[516,{"$f":"IF(A548>$A$8,\"\",OFFSET(InputPriceData!B$15,$A548+$A$11,0,1,1))","v":"2022-06-24T04:00:00"},{"$f":"IF(A548>$A$8,\"\",OFFSET(InputPriceData!G$15,CalculationsAndCharts!$A548+$A$11,IF($C$5,8,0),1,1))","v":1563128},{"$f":"IF(A548>$A$8,\"\",OFFSET(InputPriceData!C$15,CalculationsAndCharts!$A548+$A$11,IF($C$5,8,0),1,1))","v":3785.25},{"$f":"IF(A548>$A$8,\"\",OFFSET(InputPriceData!D$15,CalculationsAndCharts!$A548+$A$11,IF($C$5,8,0),1,1))","v":3919.75},{"$f":"IF(A548>$A$8,\"\",OFFSET(InputPriceData!E$15,CalculationsAndCharts!$A548+$A$11,IF($C$5,8,0),1,1))","v":3781.25},{"$f":"IF(A548>$A$8,\"\",OFFSET(InputPriceData!F$15,CalculationsAndCharts!$A548+$A$11,IF($C$5,8,0),1,1))","v":3916.25},116.5,0,{"$f":"IF($A548>$J$30,NA(),AVERAGE(H548:H551))","v":64.372499999999945},1.25,null,null,{"$f":"IF($A548>$J$30,NA(),IF($A548>$N$30,0,(1-$M$35)*J548+(2*$M$35-$M$36)*J549-($M$35+$M$37)*J550+$M$36*N549+$M$37*N550))","v":24.907919595357821},40.374831258930413,-0.23692187386672622,-0.3372739302403952,null,null,28.582732851549451,34.636862897985424,-9.5763504569396335E-2,-0.60337028913593904,null,null,null,null,null,null,null,null,null,null,null,null,null,null,null,null,null,null,null,null,null,null,null,null,null,null,null,null,null,null,null,1563128,{"$error":"#N/A"}]
[517,{"$f":"IF(A549>$A$8,\"\",OFFSET(InputPriceData!B$15,$A549+$A$11,0,1,1))","v":"2022-06-23T04:00:00"},{"$f":"IF(A549>$A$8,\"\",OFFSET(InputPriceData!G$15,CalculationsAndCharts!$A549+$A$11,IF($C$5,8,0),1,1))","v":1607695},{"$f":"IF(A549>$A$8,\"\",OFFSET(InputPriceData!C$15,CalculationsAndCharts!$A549+$A$11,IF($C$5,8,0),1,1))","v":3761.25},{"$f":"IF(A549>$A$8,\"\",OFFSET(InputPriceData!D$15,CalculationsAndCharts!$A549+$A$11,IF($C$5,8,0),1,1))","v":3805.75},{"$f":"IF(A549>$A$8,\"\",OFFSET(InputPriceData!E$15,CalculationsAndCharts!$A549+$A$11,IF($C$5,8,0),1,1))","v":3735},{"$f":"IF(A549>$A$8,\"\",OFFSET(InputPriceData!F$15,CalculationsAndCharts!$A549+$A$11,IF($C$5,8,0),1,1))","v":3799.75},37,0,{"$f":"IF($A549>$J$30,NA(),AVERAGE(H549:H552))","v":35.247499999999945},2.3724999999999454,null,null,{"$f":"IF($A549>$J$30,NA(),IF($A549>$N$30,0,(1-$M$35)*J549+(2*$M$35-$M$36)*J550-($M$35+$M$37)*J551+$M$36*N550+$M$37*N551))","v":22.88708297835981},43.308353022950349,-0.30849966822767594,-0.35803013280050922,null,null,19.27515051153113,48.850526767333605,-0.4341296473976915,-0.76402907983698765,null,null,null,null,null,null,null,null,null,null,null,null,null,null,null,null,null,null,null,null,null,null,null,null,null,null,null,null,null,null,null,1607695,{"$error":"#N/A"}]
[518,{"$f":"IF(A550>$A$8,\"\",OFFSET(InputPriceData!B$15,$A550+$A$11,0,1,1))","v":"2022-06-22T04:00:00"},{"$f":"IF(A550>$A$8,\"\",OFFSET(InputPriceData!G$15,CalculationsAndCharts!$A550+$A$11,IF($C$5,8,0),1,1))","v":1660579},{"$f":"IF(A550>$A$8,\"\",OFFSET(InputPriceData!C$15,CalculationsAndCharts!$A550+$A$11,IF($C$5,8,0),1,1))","v":3766.25},{"$f":"IF(A550>$A$8,\"\",OFFSET(InputPriceData!D$15,CalculationsAndCharts!$A550+$A$11,IF($C$5,8,0),1,1))","v":3805.5},{"$f":"IF(A550>$A$8,\"\",OFFSET(InputPriceData!E$15,CalculationsAndCharts!$A550+$A$11,IF($C$5,8,0),1,1))","v":3693.25},{"$f":"IF(A550>$A$8,\"\",OFFSET(InputPriceData!F$15,CalculationsAndCharts!$A550+$A$11,IF($C$5,8,0),1,1))","v":3762.75},0,5,{"$f":"IF($A550>$J$30,NA(),AVERAGE(H550:H553))","v":25.997499999999945},32.622499999999945,null,null,{"$f":"IF($A550>$J$30,NA(),IF($A550>$N$30,0,(1-$M$35)*J550+(2*$M$35-$M$36)*J551-($M$35+$M$37)*J552+$M$36*N551+$M$37*N552))","v":22.340190788348412},45.078888700865051,-0.3372739302403952,-0.36797529410357377,null,null,14.892302163793897,60.201931857913166,-0.60337028913593904,-0.88194594795031334,null,null,null,null,null,null,null,null,null,null,null,null,null,null,null,null,null,null,null,null,null,null,null,null,null,null,null,null,null,null,null,{"$error":"#N/A"},1660579]
[519,{"$f":"IF(A551>$A$8,\"\",OFFSET(InputPriceData!B$15,$A551+$A$11,0,1,1))","v":"2022-06-21T04:00:00"},{"$f":"IF(A551>$A$8,\"\",OFFSET(InputPriceData!G$15,CalculationsAndCharts!$A551+$A$11,IF($C$5,8,0),1,1))","v":1566039},{"$f":"IF(A551>$A$8,\"\",OFFSET(InputPriceData!C$15,CalculationsAndCharts!$A551+$A$11,IF($C$5,8,0),1,1))","v":3684},{"$f":"IF(A551>$A$8,\"\",OFFSET(InputPriceData!D$15,CalculationsAndCharts!$A551+$A$11,IF($C$5,8,0),1,1))","v":3783.75},{"$f":"IF(A551>$A$8,\"\",OFFSET(InputPriceData!E$15,CalculationsAndCharts!$A551+$A$11,IF($C$5,8,0),1,1))","v":3661.5},{"$f":"IF(A551>$A$8,\"\",OFFSET(InputPriceData!F$15,CalculationsAndCharts!$A551+$A$11,IF($C$5,8,0),1,1))","v":3767.75},103.98999999999978,0,{"$f":"IF($A551>$J$30,NA(),AVERAGE(H551:H554))","v":39.122499999999945},31.372499999999945,null,null,{"$f":"IF($A551>$J$30,NA(),IF($A551>$N$30,0,(1-$M$35)*J551+(2*$M$35-$M$36)*J552-($M$35+$M$37)*J553+$M$36*N552+$M$37*N553))","v":21.6184800227335},45.73197091678265,-0.35803013280050922,-0.34174233840952711,null,null,9.1344887317901797,68.28597244605271,-0.76402907983698765,-0.88974246828131176,null,null,null,null,null,null,null,null,null,null,null,null,null,null,null,null,null,null,null,null,null,null,null,null,null,null,null,null,null,null,null,1566039,{"$error":"#N/A"}]
[520,{"$f":"IF(A552>$A$8,\"\",OFFSET(InputPriceData!B$15,$A552+$A$11,0,1,1))","v":"2022-06-17T04:00:00"},{"$f":"IF(A552>$A$8,\"\",OFFSET(InputPriceData!G$15,CalculationsAndCharts!$A552+$A$11,IF($C$5,8,0),1,1))","v":2207570},{"$f":"IF(A552>$A$8,\"\",OFFSET(InputPriceData!C$15,CalculationsAndCharts!$A552+$A$11,IF($C$5,8,0),1,1))","v":3677.5},{"$f":"IF(A552>$A$8,\"\",OFFSET(InputPriceData!D$15,CalculationsAndCharts!$A552+$A$11,IF($C$5,8,0),1,1))","v":3710.75},{"$f":"IF(A552>$A$8,\"\",OFFSET(InputPriceData!E$15,CalculationsAndCharts!$A552+$A$11,IF($C$5,8,0),1,1))","v":3663.76},{"$f":"IF(A552>$A$8,\"\",OFFSET(InputPriceData!F$15,CalculationsAndCharts!$A552+$A$11,IF($C$5,8,0),1,1))","v":3663.76},0,4.4899999999997817,{"$f":"IF($A552>$J$30,NA(),AVERAGE(H552:H555))","v":13.125},34.809999999999945,null,null,{"$f":"IF($A552>$J$30,NA(),IF($A552>$N$30,0,(1-$M$35)*J552+(2*$M$35-$M$36)*J553-($M$35+$M$37)*J554+$M$36*N553+$M$37*N554))","v":21.393823480855133},46.305503084271486,-0.36797529410357377,-0.29923073392364274,null,null,4.8221463524702299,76.871726390511611,-0.88194594795031334,-0.87835581825353615,null,null,null,null,null,null,null,null,null,null,null,null,null,null,null,null,null,null,null,null,null,null,null,null,null,null,null,null,null,null,null,{"$error":"#N/A"},2207570]
[521,{"$f":"IF(A553>$A$8,\"\",OFFSET(InputPriceData!B$15,$A553+$A$11,0,1,1))","v":"2022-06-16T04:00:00"},{"$f":"IF(A553>$A$8,\"\",OFFSET(InputPriceData!G$15,CalculationsAndCharts!$A553+$A$11,IF($C$5,8,0),1,1))","v":544027},{"$f":"IF(A553>$A$8,\"\",OFFSET(InputPriceData!C$15,CalculationsAndCharts!$A553+$A$11,IF($C$5,8,0),1,1))","v":3794.25},{"$f":"IF(A553>$A$8,\"\",OFFSET(InputPriceData!D$15,CalculationsAndCharts!$A553+$A$11,IF($C$5,8,0),1,1))","v":3828.75},{"$f":"IF(A553>$A$8,\"\",OFFSET(InputPriceData!E$15,CalculationsAndCharts!$A553+$A$11,IF($C$5,8,0),1,1))","v":3639},{"$f":"IF(A553>$A$8,\"\",OFFSET(InputPriceData!F$15,CalculationsAndCharts!$A553+$A$11,IF($C$5,8,0),1,1))","v":3668.25},0,121,{"$f":"IF($A553>$J$30,NA(),AVERAGE(H553:H556))","v":13.125},70.8125,null,null,{"$f":"IF($A553>$J$30,NA(),IF($A553>$N$30,0,(1-$M$35)*J553+(2*$M$35-$M$36)*J554-($M$35+$M$37)*J555+$M$36*N554+$M$37*N555))","v":22.217956824509741},45.287392891669867,-0.34174233840952711,-0.23086987439503076,null,null,4.6267006602344001,79.29864372420181,-0.88974246828131176,-0.78229213249768026,null,null,null,null,null,null,null,null,null,null,null,null,null,null,null,null,null,null,null,null,null,null,null,null,null,null,null,null,null,null,null,{"$error":"#N/A"},544027]
[522,{"$f":"IF(A554>$A$8,\"\",OFFSET(InputPriceData!B$15,$A554+$A$11,0,1,1))","v":"2022-06-15T04:00:00"},{"$f":"IF(A554>$A$8,\"\",OFFSET(InputPriceData!G$15,CalculationsAndCharts!$A554+$A$11,IF($C$5,8,0),1,1))","v":777545},{"$f":"IF(A554>$A$8,\"\",OFFSET(InputPriceData!C$15,CalculationsAndCharts!$A554+$A$11,IF($C$5,8,0),1,1))","v":3740},{"$f":"IF(A554>$A$8,\"\",OFFSET(InputPriceData!D$15,CalculationsAndCharts!$A554+$A$11,IF($C$5,8,0),1,1))","v":3839},{"$f":"IF(A554>$A$8,\"\",OFFSET(InputPriceData!E$15,CalculationsAndCharts!$A554+$A$11,IF($C$5,8,0),1,1))","v":3720.25},{"$f":"IF(A554>$A$8,\"\",OFFSET(InputPriceData!F$15,CalculationsAndCharts!$A554+$A$11,IF($C$5,8,0),1,1))","v":3789.25},52.5,0,{"$f":"IF($A554>$J$30,NA(),AVERAGE(H554:H557))","v":13.125},69.875,null,null,{"$f":"IF($A554>$J$30,NA(),IF($A554>$N$30,0,(1-$M$35)*J554+(2*$M$35-$M$36)*J555-($M$35+$M$37)*J556+$M$36*N555+$M$37*N556))","v":23.080361424765396},42.791138773847798,-0.29923073392364274,-0.12633612448017784,null,null,4.8596285621637101,75.039442521932301,-0.87835581825353615,-0.52849869813060413,null,null,null,null,null,null,null,null,null,null,null,null,null,null,null,null,null,null,null,null,null,null,null,null,null,null,null,null,null,null,null,777545,{"$error":"#N/A"}]
[523,{"$f":"IF(A555>$A$8,\"\",OFFSET(InputPriceData!B$15,$A555+$A$11,0,1,1))","v":"2022-06-14T04:00:00"},{"$f":"IF(A555>$A$8,\"\",OFFSET(InputPriceData!G$15,CalculationsAndCharts!$A555+$A$11,IF($C$5,8,0),1,1))","v":1341257},{"$f":"IF(A555>$A$8,\"\",OFFSET(InputPriceData!C$15,CalculationsAndCharts!$A555+$A$11,IF($C$5,8,0),1,1))","v":3758.25},{"$f":"IF(A555>$A$8,\"\",OFFSET(InputPriceData!D$15,CalculationsAndCharts!$A555+$A$11,IF($C$5,8,0),1,1))","v":3805},{"$f":"IF(A555>$A$8,\"\",OFFSET(InputPriceData!E$15,CalculationsAndCharts!$A555+$A$11,IF($C$5,8,0),1,1))","v":3705.25},{"$f":"IF(A555>$A$8,\"\",OFFSET(InputPriceData!F$15,CalculationsAndCharts!$A555+$A$11,IF($C$5,8,0),1,1))","v":3736.75},0,13.75,{"$f":"IF($A555>$J$30,NA(),AVERAGE(H555:H558))","v":0},94.3125,null,null,{"$f":"IF($A555>$J$30,NA(),IF($A555>$N$30,0,(1-$M$35)*J555+(2*$M$35-$M$36)*J556-($M$35+$M$37)*J557+$M$36*N556+$M$37*N557))","v":24.512408294787221},39.228192882436645,-0.23086987439503076,-3.2913170436508807E-2,null,null,7.9241136276531687,64.871727134222255,-0.78229213249768026,-0.17140880551181317,null,null,null,null,null,null,null,null,null,null,null,null,null,null,null,null,null,null,null,null,null,null,null,null,null,null,null,null,null,null,null,{"$error":"#N/A"},1341257]
[524,{"$f":"IF(A556>$A$8,\"\",OFFSET(InputPriceData!B$15,$A556+$A$11,0,1,1))","v":"2022-06-13T04:00:00"},{"$f":"IF(A556>$A$8,\"\",OFFSET(InputPriceData!G$15,CalculationsAndCharts!$A556+$A$11,IF($C$5,8,0),1,1))","v":2155159},{"$f":"IF(A556>$A$8,\"\",OFFSET(InputPriceData!C$15,CalculationsAndCharts!$A556+$A$11,IF($C$5,8,0),1,1))","v":3870.75},{"$f":"IF(A556>$A$8,\"\",OFFSET(InputPriceData!D$15,CalculationsAndCharts!$A556+$A$11,IF($C$5,8,0),1,1))","v":3876.5},{"$f":"IF(A556>$A$8,\"\",OFFSET(InputPriceData!E$15,CalculationsAndCharts!$A556+$A$11,IF($C$5,8,0),1,1))","v":3732.5},{"$f":"IF(A556>$A$8,\"\",OFFSET(InputPriceData!F$15,CalculationsAndCharts!$A556+$A$11,IF($C$5,8,0),1,1))","v":3750.5},0,148.5,{"$f":"IF($A556>$J$30,NA(),AVERAGE(H556:H559))","v":0},102.0625,null,null,{"$f":"IF($A556>$J$30,NA(),IF($A556>$N$30,0,(1-$M$35)*J556+(2*$M$35-$M$36)*J557-($M$35+$M$37)*J558+$M$36*N557+$M$37*N558))","v":26.534954532537924},34.209126288589914,-0.12633612448017784,1.4442891921415403E-2,null,null,14.309561036307279,46.388303336805201,-0.52849869813060413,0.1312516873747932,null,null,null,null,null,null,null,null,null,null,null,null,null,null,null,null,null,null,null,null,null,null,null,null,null,null,null,null,null,null,null,{"$error":"#N/A"},2155159]
[525,{"$f":"IF(A557>$A$8,\"\",OFFSET(InputPriceData!B$15,$A557+$A$11,0,1,1))","v":"2022-06-10T04:00:00"},{"$f":"IF(A557>$A$8,\"\",OFFSET(InputPriceData!G$15,CalculationsAndCharts!$A557+$A$11,IF($C$5,8,0),1,1))","v":2117225},{"$f":"IF(A557>$A$8,\"\",OFFSET(InputPriceData!C$15,CalculationsAndCharts!$A557+$A$11,IF($C$5,8,0),1,1))","v":4025.25},{"$f":"IF(A557>$A$8,\"\",OFFSET(InputPriceData!D$15,CalculationsAndCharts!$A557+$A$11,IF($C$5,8,0),1,1))","v":4029.5},{"$f":"IF(A557>$A$8,\"\",OFFSET(InputPriceData!E$15,CalculationsAndCharts!$A557+$A$11,IF($C$5,8,0),1,1))","v":3895.25},{"$f":"IF(A557>$A$8,\"\",OFFSET(InputPriceData!F$15,CalculationsAndCharts!$A557+$A$11,IF($C$5,8,0),1,1))","v":3899},0,117.25,{"$f":"IF($A557>$J$30,NA(),AVERAGE(H557:H560))","v":9.5625},64.9375,null,null,{"$f":"IF($A557>$J$30,NA(),IF($A557>$N$30,0,(1-$M$35)*J557+(2*$M$35-$M$36)*J558-($M$35+$M$37)*J559+$M$36*N558+$M$37*N559))","v":28.25071486825658},30.173645808866805,-3.2913170436508807E-2,3.509754271883099E-2,null,null,20.590884851233803,29.110065359690424,-0.17140880551181317,0.34577474364049243,null,null,null,null,null,null,null,null,null,null,null,null,null,null,null,null,null,null,null,null,null,null,null,null,null,null,null,null,null,null,null,{"$f":"IF(G557>=G558,C557,NA())","v":{"$error":"#N/A"}},{"$f":"IF(G557<G558,C557,NA())","v":2117225}]
[526,{"$f":"IF(A558>$A$8,\"\",OFFSET(InputPriceData!B$15,$A558+$A$11,0,1,1))","v":"2022-06-09T04:00:00"},{"$f":"IF(A558>$A$8,\"\",OFFSET(InputPriceData!G$15,CalculationsAndCharts!$A558+$A$11,IF($C$5,8,0),1,1))","v":2024783},{"$f":"IF(A558>$A$8,\"\",OFFSET(InputPriceData!C$15,CalculationsAndCharts!$A558+$A$11,IF($C$5,8,0),1,1))","v":4116},{"$f":"IF(A558>$A$8,\"\",OFFSET(InputPriceData!D$15,CalculationsAndCharts!$A558+$A$11,IF($C$5,8,0),1,1))","v":4144.25},{"$f":"IF(A558>$A$8,\"\",OFFSET(InputPriceData!E$15,CalculationsAndCharts!$A558+$A$11,IF($C$5,8,0),1,1))","v":4014.75},{"$f":"IF(A558>$A$8,\"\",OFFSET(InputPriceData!F$15,CalculationsAndCharts!$A558+$A$11,IF($C$5,8,0),1,1))","v":4016.25},0,97.75,{"$f":"IF($A558>$J$30,NA(),AVERAGE(H558:H561))","v":12.9375},35.625,null,null,{"$f":"IF($A558>$J$30,NA(),IF($A558>$N$30,0,(1-$M$35)*J558+(2*$M$35-$M$36)*J559-($M$35+$M$37)*J560+$M$36*N559+$M$37*N560))","v":29.507845437055003},28.667623427762774,1.4442891921415403E-2,3.0325028715084485E-2,null,null,26.060344931109757,20.013124345362129,0.1312516873747932,0.44823849978900582,null,null,null,null,null,null,null,null,null,null,null,null,null,null,null,null,null,null,null,null,null,null,null,null,null,null,null,null,null,null,null,{"$error":"#N/A"},2024783]
[527,{"$f":"IF(A559>$A$8,\"\",OFFSET(InputPriceData!B$15,$A559+$A$11,0,1,1))","v":"2022-06-08T04:00:00"},{"$f":"IF(A559>$A$8,\"\",OFFSET(InputPriceData!G$15,CalculationsAndCharts!$A559+$A$11,IF($C$5,8,0),1,1))","v":1706628},{"$f":"IF(A559>$A$8,\"\",OFFSET(InputPriceData!C$15,CalculationsAndCharts!$A559+$A$11,IF($C$5,8,0),1,1))","v":4150.75},{"$f":"IF(A559>$A$8,\"\",OFFSET(InputPriceData!D$15,CalculationsAndCharts!$A559+$A$11,IF($C$5,8,0),1,1))","v":4160},{"$f":"IF(A559>$A$8,\"\",OFFSET(InputPriceData!E$15,CalculationsAndCharts!$A559+$A$11,IF($C$5,8,0),1,1))","v":4105.25},{"$f":"IF(A559>$A$8,\"\",OFFSET(InputPriceData!F$15,CalculationsAndCharts!$A559+$A$11,IF($C$5,8,0),1,1))","v":4114},0,44.75,{"$f":"IF($A559>$J$30,NA(),AVERAGE(H559:H562))","v":12.9375},28.25,null,null,{"$f":"IF($A559>$J$30,NA(),IF($A559>$N$30,0,(1-$M$35)*J559+(2*$M$35-$M$36)*J560-($M$35+$M$37)*J561+$M$36*N560+$M$37*N561))","v":30.672440532652207},28.592390590580251,3.509754271883099E-2,1.7035765410614148E-2,null,null,32.118090842071851,15.613657719635164,0.34577474364049243,0.52315715884240632,null,null,null,null,null,null,null,null,null,null,null,null,null,null,null,null,null,null,null,null,null,null,null,null,null,null,null,null,null,null,null,{"$error":"#N/A"},1706628]
[528,{"$f":"IF(A560>$A$8,\"\",OFFSET(InputPriceData!B$15,$A560+$A$11,0,1,1))","v":"2022-06-07T04:00:00"},{"$f":"IF(A560>$A$8,\"\",OFFSET(InputPriceData!G$15,CalculationsAndCharts!$A560+$A$11,IF($C$5,8,0),1,1))","v":1677883},{"$f":"IF(A560>$A$8,\"\",OFFSET(InputPriceData!C$15,CalculationsAndCharts!$A560+$A$11,IF($C$5,8,0),1,1))","v":4122},{"$f":"IF(A560>$A$8,\"\",OFFSET(InputPriceData!D$15,CalculationsAndCharts!$A560+$A$11,IF($C$5,8,0),1,1))","v":4164},{"$f":"IF(A560>$A$8,\"\",OFFSET(InputPriceData!E$15,CalculationsAndCharts!$A560+$A$11,IF($C$5,8,0),1,1))","v":4076},{"$f":"IF(A560>$A$8,\"\",OFFSET(InputPriceData!F$15,CalculationsAndCharts!$A560+$A$11,IF($C$5,8,0),1,1))","v":4158.75},38.25,0,{"$f":"IF($A560>$J$30,NA(),AVERAGE(H560:H563))","v":32},17.0625,null,null,{"$f":"IF($A560>$J$30,NA(),IF($A560>$N$30,0,(1-$M$35)*J560+(2*$M$35-$M$36)*J561-($M$35+$M$37)*J562+$M$36*N561+$M$37*N562))","v":31.103859738367209},29.272931801205011,3.0325028715084485E-2,2.1011433841794158E-2,null,null,36.028366674336326,13.726375627550148,0.44823849978900582,0.68945595296037199,null,null,null,null,null,null,null,null,null,null,null,null,null,null,null,null,null,null,null,null,null,null,null,null,null,null,null,null,null,null,null,1677883,{"$error":"#N/A"}]
[529,{"$f":"IF(A561>$A$8,\"\",OFFSET(InputPriceData!B$15,$A561+$A$11,0,1,1))","v":"2022-06-06T04:00:00"},{"$f":"IF(A561>$A$8,\"\",OFFSET(InputPriceData!G$15,CalculationsAndCharts!$A561+$A$11,IF($C$5,8,0),1,1))","v":1457918},{"$f":"IF(A561>$A$8,\"\",OFFSET(InputPriceData!C$15,CalculationsAndCharts!$A561+$A$11,IF($C$5,8,0),1,1))","v":4110.5},{"$f":"IF(A561>$A$8,\"\",OFFSET(InputPriceData!D$15,CalculationsAndCharts!$A561+$A$11,IF($C$5,8,0),1,1))","v":4168.25},{"$f":"IF(A561>$A$8,\"\",OFFSET(InputPriceData!E$15,CalculationsAndCharts!$A561+$A$11,IF($C$5,8,0),1,1))","v":4104.5},{"$f":"IF(A561>$A$8,\"\",OFFSET(InputPriceData!F$15,CalculationsAndCharts!$A561+$A$11,IF($C$5,8,0),1,1))","v":4120.5},13.5,0,{"$f":"IF($A561>$J$30,NA(),AVERAGE(H561:H564))","v":22.4375},25.125,null,null,{"$f":"IF($A561>$J$30,NA(),IF($A561>$N$30,0,(1-$M$35)*J561+(2*$M$35-$M$36)*J562-($M$35+$M$37)*J563+$M$36*N562+$M$37*N563))","v":31.158260047039274},30.114432825191344,1.7035765410614148E-2,3.8869627127442641E-3,null,null,38.965241272354028,12.198541855537336,0.52315715884240632,0.78273834104304907,null,null,null,null,null,null,null,null,null,null,null,null,null,null,null,null,null,null,null,null,null,null,null,null,null,null,null,null,null,null,null,1457918,{"$error":"#N/A"}]
[530,{"$f":"IF(A562>$A$8,\"\",OFFSET(InputPriceData!B$15,$A562+$A$11,0,1,1))","v":"2022-06-03T04:00:00"},{"$f":"IF(A562>$A$8,\"\",OFFSET(InputPriceData!G$15,CalculationsAndCharts!$A562+$A$11,IF($C$5,8,0),1,1))","v":1532766},{"$f":"IF(A562>$A$8,\"\",OFFSET(InputPriceData!C$15,CalculationsAndCharts!$A562+$A$11,IF($C$5,8,0),1,1))","v":4177.75},{"$f":"IF(A562>$A$8,\"\",OFFSET(InputPriceData!D$15,CalculationsAndCharts!$A562+$A$11,IF($C$5,8,0),1,1))","v":4189},{"$f":"IF(A562>$A$8,\"\",OFFSET(InputPriceData!E$15,CalculationsAndCharts!$A562+$A$11,IF($C$5,8,0),1,1))","v":4096.75},{"$f":"IF(A562>$A$8,\"\",OFFSET(InputPriceData!F$15,CalculationsAndCharts!$A562+$A$11,IF($C$5,8,0),1,1))","v":4107},0,68.25,{"$f":"IF($A562>$J$30,NA(),AVERAGE(H562:H565))","v":19.0625},31.25,null,null,{"$f":"IF($A562>$J$30,NA(),IF($A562>$N$30,0,(1-$M$35)*J562+(2*$M$35-$M$36)*J563-($M$35+$M$37)*J564+$M$36*N563+$M$37*N564))","v":31.727703685200733},30.421852399235721,2.1011433841794158E-2,-4.1559190865261025E-2,null,null,44.530529588052033,8.1852923426976982,0.68945595296037199,0.75513127698398952,null,null,null,null,null,null,null,null,null,null,null,null,null,null,null,null,null,null,null,null,null,null,null,null,null,null,null,null,null,null,null,{"$error":"#N/A"},1532766]
[531,{"$f":"IF(A563>$A$8,\"\",OFFSET(InputPriceData!B$15,$A563+$A$11,0,1,1))","v":"2022-06-02T04:00:00"},{"$f":"IF(A563>$A$8,\"\",OFFSET(InputPriceData!G$15,CalculationsAndCharts!$A563+$A$11,IF($C$5,8,0),1,1))","v":1513748},{"$f":"IF(A563>$A$8,\"\",OFFSET(InputPriceData!C$15,CalculationsAndCharts!$A563+$A$11,IF($C$5,8,0),1,1))","v":4097.75},{"$f":"IF(A563>$A$8,\"\",OFFSET(InputPriceData!D$15,CalculationsAndCharts!$A563+$A$11,IF($C$5,8,0),1,1))","v":4179},{"$f":"IF(A563>$A$8,\"\",OFFSET(InputPriceData!E$15,CalculationsAndCharts!$A563+$A$11,IF($C$5,8,0),1,1))","v":4072.25},{"$f":"IF(A563>$A$8,\"\",OFFSET(InputPriceData!F$15,CalculationsAndCharts!$A563+$A$11,IF($C$5,8,0),1,1))","v":4175.25},76.25,0,{"$f":"IF($A563>$J$30,NA(),AVERAGE(H563:H566))","v":44.0625},14.1875,null,null,{"$f":"IF($A563>$J$30,NA(),IF($A563>$N$30,0,(1-$M$35)*J563+(2*$M$35-$M$36)*J564-($M$35+$M$37)*J565+$M$36*N564+$M$37*N565))","v":31.433279822787888},31.189865990058607,3.8869627127442641E-3,-0.10041393587350314,null,null,47.052438328964982,5.7342631691757067,0.78273834104304907,0.64129973907365012,null,null,null,null,null,null,null,null,null,null,null,null,null,null,null,null,null,null,null,null,null,null,null,null,null,null,null,null,null,null,null,1513748,{"$error":"#N/A"}]
[532,{"$f":"IF(A564>$A$8,\"\",OFFSET(InputPriceData!B$15,$A564+$A$11,0,1,1))","v":"2022-06-01T04:00:00"},{"$f":"IF(A564>$A$8,\"\",OFFSET(InputPriceData!G$15,CalculationsAndCharts!$A564+$A$11,IF($C$5,8,0),1,1))","v":1912031},{"$f":"IF(A564>$A$8,\"\",OFFSET(InputPriceData!C$15,CalculationsAndCharts!$A564+$A$11,IF($C$5,8,0),1,1))","v":4138.5},{"$f":"IF(A564>$A$8,\"\",OFFSET(InputPriceData!D$15,CalculationsAndCharts!$A564+$A$11,IF($C$5,8,0),1,1))","v":4165},{"$f":"IF(A564>$A$8,\"\",OFFSET(InputPriceData!E$15,CalculationsAndCharts!$A564+$A$11,IF($C$5,8,0),1,1))","v":4071.5},{"$f":"IF(A564>$A$8,\"\",OFFSET(InputPriceData!F$15,CalculationsAndCharts!$A564+$A$11,IF($C$5,8,0),1,1))","v":4099},0,32.25,{"$f":"IF($A564>$J$30,NA(),AVERAGE(H564:H567))","v":44.75},14.1875,null,null,{"$f":"IF($A564>$J$30,NA(),IF($A564>$N$30,0,(1-$M$35)*J564+(2*$M$35-$M$36)*J565-($M$35+$M$37)*J566+$M$36*N565+$M$37*N566))","v":30.075661849568647},32.68389839227946,-4.1559190865261025E-2,-0.17188214301718102,null,null,45.18504011711385,6.3040316231603502,0.75513127698398952,0.42421170768829392,null,null,null,null,null,null,null,null,null,null,null,null,null,null,null,null,null,null,null,null,null,null,null,null,null,null,null,null,null,null,null,{"$error":"#N/A"},1912031]
[533,{"$f":"IF(A565>$A$8,\"\",OFFSET(InputPriceData!B$15,$A565+$A$11,0,1,1))","v":"2022-05-31T04:00:00"},{"$f":"IF(A565>$A$8,\"\",OFFSET(InputPriceData!G$15,CalculationsAndCharts!$A565+$A$11,IF($C$5,8,0),1,1))","v":2222573},{"$f":"IF(A565>$A$8,\"\",OFFSET(InputPriceData!C$15,CalculationsAndCharts!$A565+$A$11,IF($C$5,8,0),1,1))","v":4164.5},{"$f":"IF(A565>$A$8,\"\",OFFSET(InputPriceData!D$15,CalculationsAndCharts!$A565+$A$11,IF($C$5,8,0),1,1))","v":4202.25},{"$f":"IF(A565>$A$8,\"\",OFFSET(InputPriceData!E$15,CalculationsAndCharts!$A565+$A$11,IF($C$5,8,0),1,1))","v":4102.75},{"$f":"IF(A565>$A$8,\"\",OFFSET(InputPriceData!F$15,CalculationsAndCharts!$A565+$A$11,IF($C$5,8,0),1,1))","v":4131.25},0,24.5,{"$f":"IF($A565>$J$30,NA(),AVERAGE(H565:H568))","v":53.8125},6.125,null,null,{"$f":"IF($A565>$J$30,NA(),IF($A565>$N$30,0,(1-$M$35)*J565+(2*$M$35-$M$36)*J566-($M$35+$M$37)*J567+$M$36*N566+$M$37*N567))","v":28.258392845689027},34.566930872788284,-0.10041393587350314,-0.24001621874455062,null,null,40.897779848538889,8.9380653354999584,0.64129973907365012,0.15429833695815484,null,null,null,null,null,null,null,null,null,null,null,null,null,null,null,null,null,null,null,null,null,null,null,null,null,null,null,null,null,null,null,{"$error":"#N/A"},2222573]
[534,{"$f":"IF(A566>$A$8,\"\",OFFSET(InputPriceData!B$15,$A566+$A$11,0,1,1))","v":"2022-05-27T04:00:00"},{"$f":"IF(A566>$A$8,\"\",OFFSET(InputPriceData!G$15,CalculationsAndCharts!$A566+$A$11,IF($C$5,8,0),1,1))","v":1547507},{"$f":"IF(A566>$A$8,\"\",OFFSET(InputPriceData!C$15,CalculationsAndCharts!$A566+$A$11,IF($C$5,8,0),1,1))","v":4047.5},{"$f":"IF(A566>$A$8,\"\",OFFSET(InputPriceData!D$15,CalculationsAndCharts!$A566+$A$11,IF($C$5,8,0),1,1))","v":4168.25},{"$f":"IF(A566>$A$8,\"\",OFFSET(InputPriceData!E$15,CalculationsAndCharts!$A566+$A$11,IF($C$5,8,0),1,1))","v":4041.25},{"$f":"IF(A566>$A$8,\"\",OFFSET(InputPriceData!F$15,CalculationsAndCharts!$A566+$A$11,IF($C$5,8,0),1,1))","v":4155.75},100,0,{"$f":"IF($A566>$J$30,NA(),AVERAGE(H566:H569))","v":53.8125},7.8125,null,null,{"$f":"IF($A566>$J$30,NA(),IF($A566>$N$30,0,(1-$M$35)*J566+(2*$M$35-$M$36)*J567-($M$35+$M$37)*J568+$M$36*N567+$M$37*N568))","v":25.993249224005293},36.783441327529516,-0.17188214301718102,-0.28878968671141286,null,null,33.945791292857514,13.723794780067767,0.42421170768829392,-8.4156237388517199E-2,null,null,null,null,null,null,null,null,null,null,null,null,null,null,null,null,null,null,null,null,null,null,null,null,null,null,null,null,null,null,null,1547507,{"$error":"#N/A"}]
[535,{"$f":"IF(A567>$A$8,\"\",OFFSET(InputPriceData!B$15,$A567+$A$11,0,1,1))","v":"2022-05-26T04:00:00"},{"$f":"IF(A567>$A$8,\"\",OFFSET(InputPriceData!G$15,CalculationsAndCharts!$A567+$A$11,IF($C$5,8,0),1,1))","v":1493132},{"$f":"IF(A567>$A$8,\"\",OFFSET(InputPriceData!C$15,CalculationsAndCharts!$A567+$A$11,IF($C$5,8,0),1,1))","v":3972.25},{"$f":"IF(A567>$A$8,\"\",OFFSET(InputPriceData!D$15,CalculationsAndCharts!$A567+$A$11,IF($C$5,8,0),1,1))","v":4073.5},{"$f":"IF(A567>$A$8,\"\",OFFSET(InputPriceData!E$15,CalculationsAndCharts!$A567+$A$11,IF($C$5,8,0),1,1))","v":3960.5},{"$f":"IF(A567>$A$8,\"\",OFFSET(InputPriceData!F$15,CalculationsAndCharts!$A567+$A$11,IF($C$5,8,0),1,1))","v":4055.75},79,0,{"$f":"IF($A567>$J$30,NA(),AVERAGE(H567:H570))","v":46.875},7.8125,null,null,{"$f":"IF($A567>$J$30,NA(),IF($A567>$N$30,0,(1-$M$35)*J567+(2*$M$35-$M$36)*J568-($M$35+$M$37)*J569+$M$36*N568+$M$37*N569))","v":23.912860832354117},39.017063258529639,-0.24001621874455062,-0.31178703728847096,null,null,26.762821445282164,19.607896744970862,0.15429833695815484,-0.20399692173864875,null,null,null,null,null,null,null,null,null,null,null,null,null,null,null,null,null,null,null,null,null,null,null,null,null,null,null,null,null,null,null,1493132,{"$error":"#N/A"}]
[536,{"$f":"IF(A568>$A$8,\"\",OFFSET(InputPriceData!B$15,$A568+$A$11,0,1,1))","v":"2022-05-25T04:00:00"},{"$f":"IF(A568>$A$8,\"\",OFFSET(InputPriceData!G$15,CalculationsAndCharts!$A568+$A$11,IF($C$5,8,0),1,1))","v":1744116},{"$f":"IF(A568>$A$8,\"\",OFFSET(InputPriceData!C$15,CalculationsAndCharts!$A568+$A$11,IF($C$5,8,0),1,1))","v":3950},{"$f":"IF(A568>$A$8,\"\",OFFSET(InputPriceData!D$15,CalculationsAndCharts!$A568+$A$11,IF($C$5,8,0),1,1))","v":3997.75},{"$f":"IF(A568>$A$8,\"\",OFFSET(InputPriceData!E$15,CalculationsAndCharts!$A568+$A$11,IF($C$5,8,0),1,1))","v":3913.5},{"$f":"IF(A568>$A$8,\"\",OFFSET(InputPriceData!F$15,CalculationsAndCharts!$A568+$A$11,IF($C$5,8,0),1,1))","v":3976.75},36.25,0,{"$f":"IF($A568>$J$30,NA(),AVERAGE(H568:H571))","v":27.5625},7.8125,null,null,{"$f":"IF($A568>$J$30,NA(),IF($A568>$N$30,0,(1-$M$35)*J568+(2*$M$35-$M$36)*J569-($M$35+$M$37)*J570+$M$36*N569+$M$37*N570))","v":22.809315001790694},41.3329354004061,-0.28878968671141286,-0.31115430097046365,null,null,22.80269904715519,26.993346911894488,-8.4156237388517199E-2,-0.20188851809324621,null,null,null,null,null,null,null,null,null,null,null,null,null,null,null,null,null,null,null,null,null,null,null,null,null,null,null,null,null,null,null,1744116,{"$error":"#N/A"}]
[537,{"$f":"IF(A569>$A$8,\"\",OFFSET(InputPriceData!B$15,$A569+$A$11,0,1,1))","v":"2022-05-24T04:00:00"},{"$f":"IF(A569>$A$8,\"\",OFFSET(InputPriceData!G$15,CalculationsAndCharts!$A569+$A$11,IF($C$5,8,0),1,1))","v":2017453},{"$f":"IF(A569>$A$8,\"\",OFFSET(InputPriceData!C$15,CalculationsAndCharts!$A569+$A$11,IF($C$5,8,0),1,1))","v":3951.75},{"$f":"IF(A569>$A$8,\"\",OFFSET(InputPriceData!D$15,CalculationsAndCharts!$A569+$A$11,IF($C$5,8,0),1,1))","v":3954.5},{"$f":"IF(A569>$A$8,\"\",OFFSET(InputPriceData!E$15,CalculationsAndCharts!$A569+$A$11,IF($C$5,8,0),1,1))","v":3872},{"$f":"IF(A569>$A$8,\"\",OFFSET(InputPriceData!F$15,CalculationsAndCharts!$A569+$A$11,IF($C$5,8,0),1,1))","v":3940.5},0,31.25,{"$f":"IF($A569>$J$30,NA(),AVERAGE(H569:H572))","v":18.5},14.0625,null,null,{"$f":"IF($A569>$J$30,NA(),IF($A569>$N$30,0,(1-$M$35)*J569+(2*$M$35-$M$36)*J570-($M$35+$M$37)*J571+$M$36*N570+$M$37*N571))","v":22.809880575096447},43.477393309506112,-0.31178703728847096,-0.29823705588610155,null,null,23.093618358963454,34.930323984086478,-0.20399692173864875,-0.13575994131377736,null,null,null,null,null,null,null,null,null,null,null,null,null,null,null,null,null,null,null,null,null,null,null,null,null,null,null,null,null,null,null,{"$error":"#N/A"},2017453]
[538,{"$f":"IF(A570>$A$8,\"\",OFFSET(InputPriceData!B$15,$A570+$A$11,0,1,1))","v":"2022-05-23T04:00:00"},{"$f":"IF(A570>$A$8,\"\",OFFSET(InputPriceData!G$15,CalculationsAndCharts!$A570+$A$11,IF($C$5,8,0),1,1))","v":1736162},{"$f":"IF(A570>$A$8,\"\",OFFSET(InputPriceData!C$15,CalculationsAndCharts!$A570+$A$11,IF($C$5,8,0),1,1))","v":3910.5},{"$f":"IF(A570>$A$8,\"\",OFFSET(InputPriceData!D$15,CalculationsAndCharts!$A570+$A$11,IF($C$5,8,0),1,1))","v":3982.25},{"$f":"IF(A570>$A$8,\"\",OFFSET(InputPriceData!E$15,CalculationsAndCharts!$A570+$A$11,IF($C$5,8,0),1,1))","v":3906.5},{"$f":"IF(A570>$A$8,\"\",OFFSET(InputPriceData!F$15,CalculationsAndCharts!$A570+$A$11,IF($C$5,8,0),1,1))","v":3971.75},72.25,0,{"$f":"IF($A570>$J$30,NA(),AVERAGE(H570:H573))","v":18.5},46.75,null,null,{"$f":"IF($A570>$J$30,NA(),IF($A570>$N$30,0,(1-$M$35)*J570+(2*$M$35-$M$36)*J571-($M$35+$M$37)*J572+$M$36*N571+$M$37*N572))","v":23.177884246414074},44.116966484504843,-0.31115430097046365,-0.28399981862088003,null,null,25.047871790474431,37.719980466538615,-0.20188851809324621,-5.6281316206388342E-2,null,null,null,null,null,null,null,null,null,null,null,null,null,null,null,null,null,null,null,null,null,null,null,null,null,null,null,null,null,null,null,1736162,{"$error":"#N/A"}]
[539,{"$f":"IF(A571>$A$8,\"\",OFFSET(InputPriceData!B$15,$A571+$A$11,0,1,1))","v":"2022-05-20T04:00:00"},{"$f":"IF(A571>$A$8,\"\",OFFSET(InputPriceData!G$15,CalculationsAndCharts!$A571+$A$11,IF($C$5,8,0),1,1))","v":2408399},{"$f":"IF(A571>$A$8,\"\",OFFSET(InputPriceData!C$15,CalculationsAndCharts!$A571+$A$11,IF($C$5,8,0),1,1))","v":3900.5},{"$f":"IF(A571>$A$8,\"\",OFFSET(InputPriceData!D$15,CalculationsAndCharts!$A571+$A$11,IF($C$5,8,0),1,1))","v":3949.5},{"$f":"IF(A571>$A$8,\"\",OFFSET(InputPriceData!E$15,CalculationsAndCharts!$A571+$A$11,IF($C$5,8,0),1,1))","v":3807.5},{"$f":"IF(A571>$A$8,\"\",OFFSET(InputPriceData!F$15,CalculationsAndCharts!$A571+$A$11,IF($C$5,8,0),1,1))","v":3899.5},1.75,0,{"$f":"IF($A571>$J$30,NA(),AVERAGE(H571:H574))","v":20.4375},46.75,null,null,{"$f":"IF($A571>$J$30,NA(),IF($A571>$N$30,0,(1-$M$35)*J571+(2*$M$35-$M$36)*J572-($M$35+$M$37)*J573+$M$36*N572+$M$37*N573))","v":23.482564882909255},43.441928864933772,-0.29823705588610155,-0.28783348396107239,null,null,27.012412467904134,35.498951582883194,-0.13575994131377736,-4.1377743698100815E-2,null,null,null,null,null,null,null,null,null,null,null,null,null,null,null,null,null,null,null,null,null,null,null,null,null,null,null,null,null,null,null,2408399,{"$error":"#N/A"}]
[540,{"$f":"IF(A572>$A$8,\"\",OFFSET(InputPriceData!B$15,$A572+$A$11,0,1,1))","v":"2022-05-19T04:00:00"},{"$f":"IF(A572>$A$8,\"\",OFFSET(InputPriceData!G$15,CalculationsAndCharts!$A572+$A$11,IF($C$5,8,0),1,1))","v":2317604},{"$f":"IF(A572>$A$8,\"\",OFFSET(InputPriceData!C$15,CalculationsAndCharts!$A572+$A$11,IF($C$5,8,0),1,1))","v":3916.5},{"$f":"IF(A572>$A$8,\"\",OFFSET(InputPriceData!D$15,CalculationsAndCharts!$A572+$A$11,IF($C$5,8,0),1,1))","v":3943.5},{"$f":"IF(A572>$A$8,\"\",OFFSET(InputPriceData!E$15,CalculationsAndCharts!$A572+$A$11,IF($C$5,8,0),1,1))","v":3856},{"$f":"IF(A572>$A$8,\"\",OFFSET(InputPriceData!F$15,CalculationsAndCharts!$A572+$A$11,IF($C$5,8,0),1,1))","v":3897.75},0,25,{"$f":"IF($A572>$J$30,NA(),AVERAGE(H572:H575))","v":20},50.5,null,null,{"$f":"IF($A572>$J$30,NA(),IF($A572>$N$30,0,(1-$M$35)*J572+(2*$M$35-$M$36)*J573-($M$35+$M$37)*J574+$M$36*N573+$M$37*N574))","v":23.738569778751614},42.570267554299598,-0.28399981862088003,-0.33117588733234948,null,null,29.007567389401437,32.467463014352447,-5.6281316206388342E-2,-0.24106542996333383,null,null,null,null,null,null,null,null,null,null,null,null,null,null,null,null,null,null,null,null,null,null,null,null,null,null,null,null,null,null,null,{"$error":"#N/A"},2317604]
[541,{"$f":"IF(A573>$A$8,\"\",OFFSET(InputPriceData!B$15,$A573+$A$11,0,1,1))","v":"2022-05-18T04:00:00"},{"$f":"IF(A573>$A$8,\"\",OFFSET(InputPriceData!G$15,CalculationsAndCharts!$A573+$A$11,IF($C$5,8,0),1,1))","v":2202394},{"$f":"IF(A573>$A$8,\"\",OFFSET(InputPriceData!C$15,CalculationsAndCharts!$A573+$A$11,IF($C$5,8,0),1,1))","v":4091.25},{"$f":"IF(A573>$A$8,\"\",OFFSET(InputPriceData!D$15,CalculationsAndCharts!$A573+$A$11,IF($C$5,8,0),1,1))","v":4095},{"$f":"IF(A573>$A$8,\"\",OFFSET(InputPriceData!E$15,CalculationsAndCharts!$A573+$A$11,IF($C$5,8,0),1,1))","v":3905.5},{"$f":"IF(A573>$A$8,\"\",OFFSET(InputPriceData!F$15,CalculationsAndCharts!$A573+$A$11,IF($C$5,8,0),1,1))","v":3922.75},0,162,{"$f":"IF($A573>$J$30,NA(),AVERAGE(H573:H576))","v":43.125},44.25,null,null,{"$f":"IF($A573>$J$30,NA(),IF($A573>$N$30,0,(1-$M$35)*J573+(2*$M$35-$M$36)*J574-($M$35+$M$37)*J575+$M$36*N574+$M$37*N575))","v":23.086255995441331},41.747614947683488,-0.28783348396107239,-0.36879516118070421,null,null,27.327926395995707,29.687078662241362,-4.1377743698100815E-2,-0.43671837108145811,null,null,null,null,null,null,null,null,null,null,null,null,null,null,null,null,null,null,null,null,null,null,null,null,null,null,null,null,null,null,null,{"$error":"#N/A"},2202394]
[542,{"$f":"IF(A574>$A$8,\"\",OFFSET(InputPriceData!B$15,$A574+$A$11,0,1,1))","v":"2022-05-17T04:00:00"},{"$f":"IF(A574>$A$8,\"\",OFFSET(InputPriceData!G$15,CalculationsAndCharts!$A574+$A$11,IF($C$5,8,0),1,1))","v":1716498},{"$f":"IF(A574>$A$8,\"\",OFFSET(InputPriceData!C$15,CalculationsAndCharts!$A574+$A$11,IF($C$5,8,0),1,1))","v":4002},{"$f":"IF(A574>$A$8,\"\",OFFSET(InputPriceData!D$15,CalculationsAndCharts!$A574+$A$11,IF($C$5,8,0),1,1))","v":4091.5},{"$f":"IF(A574>$A$8,\"\",OFFSET(InputPriceData!E$15,CalculationsAndCharts!$A574+$A$11,IF($C$5,8,0),1,1))","v":4000.5},{"$f":"IF(A574>$A$8,\"\",OFFSET(InputPriceData!F$15,CalculationsAndCharts!$A574+$A$11,IF($C$5,8,0),1,1))","v":4084.75},80,0,{"$f":"IF($A574>$J$30,NA(),AVERAGE(H574:H577))","v":43.125},4.5,null,null,{"$f":"IF($A574>$J$30,NA(),IF($A574>$N$30,0,(1-$M$35)*J574+(2*$M$35-$M$36)*J575-($M$35+$M$37)*J576+$M$36*N575+$M$37*N576))","v":21.472204530353316},42.73661845813006,-0.33117588733234948,-0.38658521818067448,null,null,21.294344120534905,34.822072132597739,-0.24106542996333383,-0.53477885937586589,null,null,null,null,null,null,null,null,null,null,null,null,null,null,null,null,null,null,null,null,null,null,null,null,null,null,null,null,null,null,null,1716498,{"$error":"#N/A"}]
[543,{"$f":"IF(A575>$A$8,\"\",OFFSET(InputPriceData!B$15,$A575+$A$11,0,1,1))","v":"2022-05-16T04:00:00"},{"$f":"IF(A575>$A$8,\"\",OFFSET(InputPriceData!G$15,CalculationsAndCharts!$A575+$A$11,IF($C$5,8,0),1,1))","v":1695198},{"$f":"IF(A575>$A$8,\"\",OFFSET(InputPriceData!C$15,CalculationsAndCharts!$A575+$A$11,IF($C$5,8,0),1,1))","v":4025},{"$f":"IF(A575>$A$8,\"\",OFFSET(InputPriceData!D$15,CalculationsAndCharts!$A575+$A$11,IF($C$5,8,0),1,1))","v":4043.5},{"$f":"IF(A575>$A$8,\"\",OFFSET(InputPriceData!E$15,CalculationsAndCharts!$A575+$A$11,IF($C$5,8,0),1,1))","v":3979.5},{"$f":"IF(A575>$A$8,\"\",OFFSET(InputPriceData!F$15,CalculationsAndCharts!$A575+$A$11,IF($C$5,8,0),1,1))","v":4004.75},0,15,{"$f":"IF($A575>$J$30,NA(),AVERAGE(H575:H578))","v":23.125},21.125,null,null,{"$f":"IF($A575>$J$30,NA(),IF($A575>$N$30,0,(1-$M$35)*J575+(2*$M$35-$M$36)*J576-($M$35+$M$37)*J577+$M$36*N576+$M$37*N577))","v":20.60497978859653},44.682795340438616,-0.36879516118070421,-0.37611206448350698,null,null,17.734806946308069,45.234784234421745,-0.43671837108145811,-0.52227202951318608,null,null,null,null,null,null,null,null,null,null,null,null,null,null,null,null,null,null,null,null,null,null,null,null,null,null,null,null,null,null,null,{"$error":"#N/A"},1695198]
[544,{"$f":"IF(A576>$A$8,\"\",OFFSET(InputPriceData!B$15,$A576+$A$11,0,1,1))","v":"2022-05-13T04:00:00"},{"$f":"IF(A576>$A$8,\"\",OFFSET(InputPriceData!G$15,CalculationsAndCharts!$A576+$A$11,IF($C$5,8,0),1,1))","v":1859074},{"$f":"IF(A576>$A$8,\"\",OFFSET(InputPriceData!C$15,CalculationsAndCharts!$A576+$A$11,IF($C$5,8,0),1,1))","v":3916.25},{"$f":"IF(A576>$A$8,\"\",OFFSET(InputPriceData!D$15,CalculationsAndCharts!$A576+$A$11,IF($C$5,8,0),1,1))","v":4036},{"$f":"IF(A576>$A$8,\"\",OFFSET(InputPriceData!E$15,CalculationsAndCharts!$A576+$A$11,IF($C$5,8,0),1,1))","v":3915.5},{"$f":"IF(A576>$A$8,\"\",OFFSET(InputPriceData!F$15,CalculationsAndCharts!$A576+$A$11,IF($C$5,8,0),1,1))","v":4019.75},92.5,0,{"$f":"IF($A576>$J$30,NA(),AVERAGE(H576:H579))","v":25.4375},17.375,null,null,{"$f":"IF($A576>$J$30,NA(),IF($A576>$N$30,0,(1-$M$35)*J576+(2*$M$35-$M$36)*J577-($M$35+$M$37)*J578+$M$36*N577+$M$37*N578))","v":20.422777290558962},46.16439307396044,-0.38658521818067448,-0.33198136428617647,null,null,16.795552397462966,55.40904421622615,-0.53477885937586589,-0.40347246552867583,null,null,null,null,null,null,null,null,null,null,null,null,null,null,null,null,null,null,null,null,null,null,null,null,null,null,null,null,null,null,null,1859074,{"$error":"#N/A"}]
[545,{"$f":"IF(A577>$A$8,\"\",OFFSET(InputPriceData!B$15,$A577+$A$11,0,1,1))","v":"2022-05-12T04:00:00"},{"$f":"IF(A577>$A$8,\"\",OFFSET(InputPriceData!G$15,CalculationsAndCharts!$A577+$A$11,IF($C$5,8,0),1,1))","v":2380563},{"$f":"IF(A577>$A$8,\"\",OFFSET(InputPriceData!C$15,CalculationsAndCharts!$A577+$A$11,IF($C$5,8,0),1,1))","v":3939.75},{"$f":"IF(A577>$A$8,\"\",OFFSET(InputPriceData!D$15,CalculationsAndCharts!$A577+$A$11,IF($C$5,8,0),1,1))","v":3961.75},{"$f":"IF(A577>$A$8,\"\",OFFSET(InputPriceData!E$15,CalculationsAndCharts!$A577+$A$11,IF($C$5,8,0),1,1))","v":3855},{"$f":"IF(A577>$A$8,\"\",OFFSET(InputPriceData!F$15,CalculationsAndCharts!$A577+$A$11,IF($C$5,8,0),1,1))","v":3927.25},0,3,{"$f":"IF($A577>$J$30,NA(),AVERAGE(H577:H580))","v":2.3125},50.375,null,null,{"$f":"IF($A577>$J$30,NA(),IF($A577>$N$30,0,(1-$M$35)*J577+(2*$M$35-$M$36)*J578-($M$35+$M$37)*J579+$M$36*N578+$M$37*N579))","v":21.080232835768911},46.496752182597859,-0.37611206448350698,-0.27490423617264548,null,null,19.526082783824453,62.219529740922624,-0.52227202951318608,-0.25248992092990813,null,null,null,null,null,null,null,null,null,null,null,null,null,null,null,null,null,null,null,null,null,null,null,null,null,null,null,null,null,null,null,{"$error":"#N/A"},2380563]
[546,{"$f":"IF(A578>$A$8,\"\",OFFSET(InputPriceData!B$15,$A578+$A$11,0,1,1))","v":"2022-05-11T04:00:00"},{"$f":"IF(A578>$A$8,\"\",OFFSET(InputPriceData!G$15,CalculationsAndCharts!$A578+$A$11,IF($C$5,8,0),1,1))","v":2157244},{"$f":"IF(A578>$A$8,\"\",OFFSET(InputPriceData!C$15,CalculationsAndCharts!$A578+$A$11,IF($C$5,8,0),1,1))","v":3990.5},{"$f":"IF(A578>$A$8,\"\",OFFSET(InputPriceData!D$15,CalculationsAndCharts!$A578+$A$11,IF($C$5,8,0),1,1))","v":4050.5},{"$f":"IF(A578>$A$8,\"\",OFFSET(InputPriceData!E$15,CalculationsAndCharts!$A578+$A$11,IF($C$5,8,0),1,1))","v":3923.75},{"$f":"IF(A578>$A$8,\"\",OFFSET(InputPriceData!F$15,CalculationsAndCharts!$A578+$A$11,IF($C$5,8,0),1,1))","v":3930.25},0,66.5,{"$f":"IF($A578>$J$30,NA(),AVERAGE(H578:H581))","v":2.3125},55.5625,null,null,{"$f":"IF($A578>$J$30,NA(),IF($A578>$N$30,0,(1-$M$35)*J578+(2*$M$35-$M$36)*J579-($M$35+$M$37)*J580+$M$36*N579+$M$37*N580))","v":22.704011254760744},45.270174017780214,-0.33198136428617647,-0.22569765404744516,null,null,26.919406285519699,63.334286058714412,-0.40347246552867583,-0.1173941238692814,null,null,null,null,null,null,null,null,null,null,null,null,null,null,null,null,null,null,null,null,null,null,null,null,null,null,null,null,null,null,null,{"$error":"#N/A"},2157244]
[547,{"$f":"IF(A579>$A$8,\"\",OFFSET(InputPriceData!B$15,$A579+$A$11,0,1,1))","v":"2022-05-10T04:00:00"},{"$f":"IF(A579>$A$8,\"\",OFFSET(InputPriceData!G$15,CalculationsAndCharts!$A579+$A$11,IF($C$5,8,0),1,1))","v":2247750},{"$f":"IF(A579>$A$8,\"\",OFFSET(InputPriceData!C$15,CalculationsAndCharts!$A579+$A$11,IF($C$5,8,0),1,1))","v":3993.25},{"$f":"IF(A579>$A$8,\"\",OFFSET(InputPriceData!D$15,CalculationsAndCharts!$A579+$A$11,IF($C$5,8,0),1,1))","v":4065.5},{"$f":"IF(A579>$A$8,\"\",OFFSET(InputPriceData!E$15,CalculationsAndCharts!$A579+$A$11,IF($C$5,8,0),1,1))","v":3953},{"$f":"IF(A579>$A$8,\"\",OFFSET(InputPriceData!F$15,CalculationsAndCharts!$A579+$A$11,IF($C$5,8,0),1,1))","v":3996.75},9.25,0,{"$f":"IF($A579>$J$30,NA(),AVERAGE(H579:H582))","v":2.3125},76.9375,null,null,{"$f":"IF($A579>$J$30,NA(),IF($A579>$N$30,0,(1-$M$35)*J579+(2*$M$35-$M$36)*J580-($M$35+$M$37)*J581+$M$36*N580+$M$37*N581))","v":24.395090411514484},42.892822795279429,-0.27490423617264548,-0.21351932440530885,null,null,35.62183165246104,59.686131811456036,-0.25248992092990813,-7.9644694480881434E-2,null,null,null,null,null,null,null,null,null,null,null,null,null,null,null,null,null,null,null,null,null,null,null,null,null,null,null,null,null,null,null,2247750,{"$error":"#N/A"}]
[548,{"$f":"IF(A580>$A$8,\"\",OFFSET(InputPriceData!B$15,$A580+$A$11,0,1,1))","v":"2022-05-09T04:00:00"},{"$f":"IF(A580>$A$8,\"\",OFFSET(InputPriceData!G$15,CalculationsAndCharts!$A580+$A$11,IF($C$5,8,0),1,1))","v":2139992},{"$f":"IF(A580>$A$8,\"\",OFFSET(InputPriceData!C$15,CalculationsAndCharts!$A580+$A$11,IF($C$5,8,0),1,1))","v":4087.25},{"$f":"IF(A580>$A$8,\"\",OFFSET(InputPriceData!D$15,CalculationsAndCharts!$A580+$A$11,IF($C$5,8,0),1,1))","v":4099},{"$f":"IF(A580>$A$8,\"\",OFFSET(InputPriceData!E$15,CalculationsAndCharts!$A580+$A$11,IF($C$5,8,0),1,1))","v":3970},{"$f":"IF(A580>$A$8,\"\",OFFSET(InputPriceData!F$15,CalculationsAndCharts!$A580+$A$11,IF($C$5,8,0),1,1))","v":3987.5},0,132,{"$f":"IF($A580>$J$30,NA(),AVERAGE(H580:H583))","v":31.5},76.9375,null,null,{"$f":"IF($A580>$J$30,NA(),IF($A580>$N$30,0,(1-$M$35)*J580+(2*$M$35-$M$36)*J581-($M$35+$M$37)*J582+$M$36*N581+$M$37*N582))","v":24.972570800158238},39.530839090552398,-0.22569765404744516,-0.22899165003585739,null,null,40.589742266042762,51.387307431349477,-0.1173941238692814,-0.13129435652661467,null,null,null,null,null,null,null,null,null,null,null,null,null,null,null,null,null,null,null,null,null,null,null,null,null,null,null,null,null,null,null,{"$error":"#N/A"},2139992]
[549,{"$f":"IF(A581>$A$8,\"\",OFFSET(InputPriceData!B$15,$A581+$A$11,0,1,1))","v":"2022-05-06T04:00:00"},{"$f":"IF(A581>$A$8,\"\",OFFSET(InputPriceData!G$15,CalculationsAndCharts!$A581+$A$11,IF($C$5,8,0),1,1))","v":2310919},{"$f":"IF(A581>$A$8,\"\",OFFSET(InputPriceData!C$15,CalculationsAndCharts!$A581+$A$11,IF($C$5,8,0),1,1))","v":4146.5},{"$f":"IF(A581>$A$8,\"\",OFFSET(InputPriceData!D$15,CalculationsAndCharts!$A581+$A$11,IF($C$5,8,0),1,1))","v":4153.25},{"$f":"IF(A581>$A$8,\"\",OFFSET(InputPriceData!E$15,CalculationsAndCharts!$A581+$A$11,IF($C$5,8,0),1,1))","v":4062},{"$f":"IF(A581>$A$8,\"\",OFFSET(InputPriceData!F$15,CalculationsAndCharts!$A581+$A$11,IF($C$5,8,0),1,1))","v":4119.5},0,23.75,{"$f":"IF($A581>$J$30,NA(),AVERAGE(H581:H584))","v":36.0625},43.9375,null,null,{"$f":"IF($A581>$J$30,NA(),IF($A581>$N$30,0,(1-$M$35)*J581+(2*$M$35-$M$36)*J582-($M$35+$M$37)*J583+$M$36*N582+$M$37*N583))","v":24.20580288696253},37.348927287836752,-0.21351932440530885,-0.25372556211212149,null,null,40.211923236848691,47.171553548059933,-7.9644694480881434E-2,-0.22099296573336413,null,null,null,null,null,null,null,null,null,null,null,null,null,null,null,null,null,null,null,null,null,null,null,null,null,null,null,null,null,null,null,{"$error":"#N/A"},2310919]
[550,{"$f":"IF(A582>$A$8,\"\",OFFSET(InputPriceData!B$15,$A582+$A$11,0,1,1))","v":"2022-05-05T04:00:00"},{"$f":"IF(A582>$A$8,\"\",OFFSET(InputPriceData!G$15,CalculationsAndCharts!$A582+$A$11,IF($C$5,8,0),1,1))","v":2389422},{"$f":"IF(A582>$A$8,\"\",OFFSET(InputPriceData!C$15,CalculationsAndCharts!$A582+$A$11,IF($C$5,8,0),1,1))","v":4289.75},{"$f":"IF(A582>$A$8,\"\",OFFSET(InputPriceData!D$15,CalculationsAndCharts!$A582+$A$11,IF($C$5,8,0),1,1))","v":4300.75},{"$f":"IF(A582>$A$8,\"\",OFFSET(InputPriceData!E$15,CalculationsAndCharts!$A582+$A$11,IF($C$5,8,0),1,1))","v":4099.25},{"$f":"IF(A582>$A$8,\"\",OFFSET(InputPriceData!F$15,CalculationsAndCharts!$A582+$A$11,IF($C$5,8,0),1,1))","v":4143.25},0,152,{"$f":"IF($A582>$J$30,NA(),AVERAGE(H582:H585))","v":41.9375},38,null,null,{"$f":"IF($A582>$J$30,NA(),IF($A582>$N$30,0,(1-$M$35)*J582+(2*$M$35-$M$36)*J583-($M$35+$M$37)*J584+$M$36*N583+$M$37*N584))","v":22.984780107924259},36.637868878933574,-0.22899165003585739,-0.27530618072546947,null,null,37.518820391289211,48.859852691289149,-0.13129435652661467,-0.31883845793688353,null,null,null,null,null,null,null,null,null,null,null,null,null,null,null,null,null,null,null,null,null,null,null,null,null,null,null,null,null,null,null,{"$error":"#N/A"},2389422]
[551,{"$f":"IF(A583>$A$8,\"\",OFFSET(InputPriceData!B$15,$A583+$A$11,0,1,1))","v":"2022-05-04T04:00:00"},{"$f":"IF(A583>$A$8,\"\",OFFSET(InputPriceData!G$15,CalculationsAndCharts!$A583+$A$11,IF($C$5,8,0),1,1))","v":1783477},{"$f":"IF(A583>$A$8,\"\",OFFSET(InputPriceData!C$15,CalculationsAndCharts!$A583+$A$11,IF($C$5,8,0),1,1))","v":4171.25},{"$f":"IF(A583>$A$8,\"\",OFFSET(InputPriceData!D$15,CalculationsAndCharts!$A583+$A$11,IF($C$5,8,0),1,1))","v":4303},{"$f":"IF(A583>$A$8,\"\",OFFSET(InputPriceData!E$15,CalculationsAndCharts!$A583+$A$11,IF($C$5,8,0),1,1))","v":4142.75},{"$f":"IF(A583>$A$8,\"\",OFFSET(InputPriceData!F$15,CalculationsAndCharts!$A583+$A$11,IF($C$5,8,0),1,1))","v":4295.25},126,0,{"$f":"IF($A583>$J$30,NA(),AVERAGE(H583:H586))","v":41.9375},39,null,null,{"$f":"IF($A583>$J$30,NA(),IF($A583>$N$30,0,(1-$M$35)*J583+(2*$M$35-$M$36)*J584-($M$35+$M$37)*J585+$M$36*N584+$M$37*N585))","v":21.47767944921015},36.082055572658554,-0.25372556211212149,-0.29147942414926281,null,null,32.897192691496812,51.562102910285581,-0.22099296573336413,-0.41932664070315795,null,null,null,null,null,null,null,null,null,null,null,null,null,null,null,null,null,null,null,null,null,null,null,null,null,null,null,null,null,null,null,1783477,{"$error":"#N/A"}]
[552,{"$f":"IF(A584>$A$8,\"\",OFFSET(InputPriceData!B$15,$A584+$A$11,0,1,1))","v":"2022-05-03T04:00:00"},{"$f":"IF(A584>$A$8,\"\",OFFSET(InputPriceData!G$15,CalculationsAndCharts!$A584+$A$11,IF($C$5,8,0),1,1))","v":1678497},{"$f":"IF(A584>$A$8,\"\",OFFSET(InputPriceData!C$15,CalculationsAndCharts!$A584+$A$11,IF($C$5,8,0),1,1))","v":4145.5},{"$f":"IF(A584>$A$8,\"\",OFFSET(InputPriceData!D$15,CalculationsAndCharts!$A584+$A$11,IF($C$5,8,0),1,1))","v":4195.75},{"$f":"IF(A584>$A$8,\"\",OFFSET(InputPriceData!E$15,CalculationsAndCharts!$A584+$A$11,IF($C$5,8,0),1,1))","v":4129},{"$f":"IF(A584>$A$8,\"\",OFFSET(InputPriceData!F$15,CalculationsAndCharts!$A584+$A$11,IF($C$5,8,0),1,1))","v":4169.25},18.25,0,{"$f":"IF($A584>$J$30,NA(),AVERAGE(H584:H587))","v":36.25},39,null,null,{"$f":"IF($A584>$J$30,NA(),IF($A584>$N$30,0,(1-$M$35)*J584+(2*$M$35-$M$36)*J585-($M$35+$M$37)*J586+$M$36*N585+$M$37*N586))","v":20.143249144809406},35.447811822080624,-0.27530618072546947,-0.28406247784605027,null,null,28.061125966265408,54.330859586158105,-0.31883845793688353,-0.48362151762274375,null,null,null,null,null,null,null,null,null,null,null,null,null,null,null,null,null,null,null,null,null,null,null,null,null,null,null,null,null,null,null,1678497,{"$error":"#N/A"}]
[553,{"$f":"IF(A585>$A$8,\"\",OFFSET(InputPriceData!B$15,$A585+$A$11,0,1,1))","v":"2022-05-02T04:00:00"},{"$f":"IF(A585>$A$8,\"\",OFFSET(InputPriceData!G$15,CalculationsAndCharts!$A585+$A$11,IF($C$5,8,0),1,1))","v":2351404},{"$f":"IF(A585>$A$8,\"\",OFFSET(InputPriceData!C$15,CalculationsAndCharts!$A585+$A$11,IF($C$5,8,0),1,1))","v":4144},{"$f":"IF(A585>$A$8,\"\",OFFSET(InputPriceData!D$15,CalculationsAndCharts!$A585+$A$11,IF($C$5,8,0),1,1))","v":4165.75},{"$f":"IF(A585>$A$8,\"\",OFFSET(InputPriceData!E$15,CalculationsAndCharts!$A585+$A$11,IF($C$5,8,0),1,1))","v":4056},{"$f":"IF(A585>$A$8,\"\",OFFSET(InputPriceData!F$15,CalculationsAndCharts!$A585+$A$11,IF($C$5,8,0),1,1))","v":4151},23.5,0,{"$f":"IF($A585>$J$30,NA(),AVERAGE(H585:H588))","v":34.125},39,null,null,{"$f":"IF($A585>$J$30,NA(),IF($A585>$N$30,0,(1-$M$35)*J585+(2*$M$35-$M$36)*J586-($M$35+$M$37)*J587+$M$36*N586+$M$37*N587))","v":19.076780435117389},34.772835469717705,-0.29147942414926281,-0.28064918025652419,null,null,23.413494954270114,57.22907140221762,-0.41932664070315795,-0.5871304780266543,null,null,null,null,null,null,null,null,null,null,null,null,null,null,null,null,null,null,null,null,null,null,null,null,null,null,null,null,null,null,null,2351404,{"$error":"#N/A"}]
[554,{"$f":"IF(A586>$A$8,\"\",OFFSET(InputPriceData!B$15,$A586+$A$11,0,1,1))","v":"2022-04-29T04:00:00"},{"$f":"IF(A586>$A$8,\"\",OFFSET(InputPriceData!G$15,CalculationsAndCharts!$A586+$A$11,IF($C$5,8,0),1,1))","v":2117160},{"$f":"IF(A586>$A$8,\"\",OFFSET(InputPriceData!C$15,CalculationsAndCharts!$A586+$A$11,IF($C$5,8,0),1,1))","v":4244},{"$f":"IF(A586>$A$8,\"\",OFFSET(InputPriceData!D$15,CalculationsAndCharts!$A586+$A$11,IF($C$5,8,0),1,1))","v":4279.75},{"$f":"IF(A586>$A$8,\"\",OFFSET(InputPriceData!E$15,CalculationsAndCharts!$A586+$A$11,IF($C$5,8,0),1,1))","v":4118.75},{"$f":"IF(A586>$A$8,\"\",OFFSET(InputPriceData!F$15,CalculationsAndCharts!$A586+$A$11,IF($C$5,8,0),1,1))","v":4127.5},0,156,{"$f":"IF($A586>$J$30,NA(),AVERAGE(H586:H589))","v":28.25},69.5625,null,null,{"$f":"IF($A586>$J$30,NA(),IF($A586>$N$30,0,(1-$M$35)*J586+(2*$M$35-$M$36)*J587-($M$35+$M$37)*J588+$M$36*N587+$M$37*N588))","v":18.298685313753015},32.819421357622723,-0.28406247784605027,-0.26001465820866593,null,null,19.100644528469058,54.878598140726808,-0.48362151762274375,-0.65200755336977734,null,null,null,null,null,null,null,null,null,null,null,null,null,null,null,null,null,null,null,null,null,null,null,null,null,null,null,null,null,null,null,{"$error":"#N/A"},2117160]
[555,{"$f":"IF(A587>$A$8,\"\",OFFSET(InputPriceData!B$15,$A587+$A$11,0,1,1))","v":"2022-04-28T04:00:00"},{"$f":"IF(A587>$A$8,\"\",OFFSET(InputPriceData!G$15,CalculationsAndCharts!$A587+$A$11,IF($C$5,8,0),1,1))","v":1798644},{"$f":"IF(A587>$A$8,\"\",OFFSET(InputPriceData!C$15,CalculationsAndCharts!$A587+$A$11,IF($C$5,8,0),1,1))","v":4213},{"$f":"IF(A587>$A$8,\"\",OFFSET(InputPriceData!D$15,CalculationsAndCharts!$A587+$A$11,IF($C$5,8,0),1,1))","v":4303.5},{"$f":"IF(A587>$A$8,\"\",OFFSET(InputPriceData!E$15,CalculationsAndCharts!$A587+$A$11,IF($C$5,8,0),1,1))","v":4182.5},{"$f":"IF(A587>$A$8,\"\",OFFSET(InputPriceData!F$15,CalculationsAndCharts!$A587+$A$11,IF($C$5,8,0),1,1))","v":4283.5},103.25,0,{"$f":"IF($A587>$J$30,NA(),AVERAGE(H587:H590))","v":34.625},30.5625,null,null,{"$f":"IF($A587>$J$30,NA(),IF($A587>$N$30,0,(1-$M$35)*J587+(2*$M$35-$M$36)*J588-($M$35+$M$37)*J589+$M$36*N588+$M$37*N589))","v":17.478315688903358},31.116376105946379,-0.28064918025652419,-0.17260158184473251,null,null,13.804390915542546,53.066085982646797,-0.5871304780266543,-0.5400227371288262,null,null,null,null,null,null,null,null,null,null,null,null,null,null,null,null,null,null,null,null,null,null,null,null,null,null,null,null,null,null,null,1798644,{"$error":"#N/A"}]
[556,{"$f":"IF(A588>$A$8,\"\",OFFSET(InputPriceData!B$15,$A588+$A$11,0,1,1))","v":"2022-04-27T04:00:00"},{"$f":"IF(A588>$A$8,\"\",OFFSET(InputPriceData!G$15,CalculationsAndCharts!$A588+$A$11,IF($C$5,8,0),1,1))","v":2035627},{"$f":"IF(A588>$A$8,\"\",OFFSET(InputPriceData!C$15,CalculationsAndCharts!$A588+$A$11,IF($C$5,8,0),1,1))","v":4149.5},{"$f":"IF(A588>$A$8,\"\",OFFSET(InputPriceData!D$15,CalculationsAndCharts!$A588+$A$11,IF($C$5,8,0),1,1))","v":4236.25},{"$f":"IF(A588>$A$8,\"\",OFFSET(InputPriceData!E$15,CalculationsAndCharts!$A588+$A$11,IF($C$5,8,0),1,1))","v":4149},{"$f":"IF(A588>$A$8,\"\",OFFSET(InputPriceData!F$15,CalculationsAndCharts!$A588+$A$11,IF($C$5,8,0),1,1))","v":4180.25},9.75,0,{"$f":"IF($A588>$J$30,NA(),AVERAGE(H588:H591))","v":8.8125},61.375,null,null,{"$f":"IF($A588>$J$30,NA(),IF($A588>$N$30,0,(1-$M$35)*J588+(2*$M$35-$M$36)*J589-($M$35+$M$37)*J590+$M$36*N589+$M$37*N590))","v":17.422352269412357},29.66601904139457,-0.26001465820866593,-8.0383568313866352E-2,null,null,10.913151758408747,51.807472577469881,-0.65200755336977734,-0.36636861462587783,null,null,null,null,null,null,null,null,null,null,null,null,null,null,null,null,null,null,null,null,null,null,null,null,null,null,null,null,null,null,null,2035627,{"$error":"#N/A"}]
[557,{"$f":"IF(A589>$A$8,\"\",OFFSET(InputPriceData!B$15,$A589+$A$11,0,1,1))","v":"2022-04-26T04:00:00"},{"$f":"IF(A589>$A$8,\"\",OFFSET(InputPriceData!G$15,CalculationsAndCharts!$A589+$A$11,IF($C$5,8,0),1,1))","v":2018166},{"$f":"IF(A589>$A$8,\"\",OFFSET(InputPriceData!C$15,CalculationsAndCharts!$A589+$A$11,IF($C$5,8,0),1,1))","v":4294},{"$f":"IF(A589>$A$8,\"\",OFFSET(InputPriceData!D$15,CalculationsAndCharts!$A589+$A$11,IF($C$5,8,0),1,1))","v":4303.5},{"$f":"IF(A589>$A$8,\"\",OFFSET(InputPriceData!E$15,CalculationsAndCharts!$A589+$A$11,IF($C$5,8,0),1,1))","v":4136.75},{"$f":"IF(A589>$A$8,\"\",OFFSET(InputPriceData!F$15,CalculationsAndCharts!$A589+$A$11,IF($C$5,8,0),1,1))","v":4170.5},0,122.25,{"$f":"IF($A589>$J$30,NA(),AVERAGE(H589:H592))","v":6.375},77.625,null,null,{"$f":"IF($A589>$J$30,NA(),IF($A589>$N$30,0,(1-$M$35)*J589+(2*$M$35-$M$36)*J590-($M$35+$M$37)*J591+$M$36*N590+$M$37*N591))","v":18.518821897486646},26.245155144614614,-0.17260158184473251,-1.6246452795308616E-2,null,null,12.43759901871725,41.641591509448745,-0.5400227371288262,-0.23952895842737415,null,null,null,null,null,null,null,null,null,null,null,null,null,null,null,null,null,null,null,null,null,null,null,null,null,null,null,null,null,null,null,{"$error":"#N/A"},2018166]
[558,{"$f":"IF(A590>$A$8,\"\",OFFSET(InputPriceData!B$15,$A590+$A$11,0,1,1))","v":"2022-04-25T04:00:00"},{"$f":"IF(A590>$A$8,\"\",OFFSET(InputPriceData!G$15,CalculationsAndCharts!$A590+$A$11,IF($C$5,8,0),1,1))","v":2280374},{"$f":"IF(A590>$A$8,\"\",OFFSET(InputPriceData!C$15,CalculationsAndCharts!$A590+$A$11,IF($C$5,8,0),1,1))","v":4259},{"$f":"IF(A590>$A$8,\"\",OFFSET(InputPriceData!D$15,CalculationsAndCharts!$A590+$A$11,IF($C$5,8,0),1,1))","v":4296.5},{"$f":"IF(A590>$A$8,\"\",OFFSET(InputPriceData!E$15,CalculationsAndCharts!$A590+$A$11,IF($C$5,8,0),1,1))","v":4195.25},{"$f":"IF(A590>$A$8,\"\",OFFSET(InputPriceData!F$15,CalculationsAndCharts!$A590+$A$11,IF($C$5,8,0),1,1))","v":4292.75},25.5,0,{"$f":"IF($A590>$J$30,NA(),AVERAGE(H590:H593))","v":6.375},48,null,null,{"$f":"IF($A590>$J$30,NA(),IF($A590>$N$30,0,(1-$M$35)*J590+(2*$M$35-$M$36)*J591-($M$35+$M$37)*J592+$M$36*N591+$M$37*N592))","v":19.768669072738479},23.224623329599876,-8.0383568313866352E-2,1.1920641818461223E-2,null,null,14.664686983483932,31.623067449088229,-0.36636861462587783,-0.23125427240969429,null,null,null,null,null,null,null,null,null,null,null,null,null,null,null,null,null,null,null,null,null,null,null,null,null,null,null,null,null,null,null,2280374,{"$error":"#N/A"}]
[559,{"$f":"IF(A591>$A$8,\"\",OFFSET(InputPriceData!B$15,$A591+$A$11,0,1,1))","v":"2022-04-22T04:00:00"},{"$f":"IF(A591>$A$8,\"\",OFFSET(InputPriceData!G$15,CalculationsAndCharts!$A591+$A$11,IF($C$5,8,0),1,1))","v":2039961},{"$f":"IF(A591>$A$8,\"\",OFFSET(InputPriceData!C$15,CalculationsAndCharts!$A591+$A$11,IF($C$5,8,0),1,1))","v":4385.75},{"$f":"IF(A591>$A$8,\"\",OFFSET(InputPriceData!D$15,CalculationsAndCharts!$A591+$A$11,IF($C$5,8,0),1,1))","v":4393.25},{"$f":"IF(A591>$A$8,\"\",OFFSET(InputPriceData!E$15,CalculationsAndCharts!$A591+$A$11,IF($C$5,8,0),1,1))","v":4247.5},{"$f":"IF(A591>$A$8,\"\",OFFSET(InputPriceData!F$15,CalculationsAndCharts!$A591+$A$11,IF($C$5,8,0),1,1))","v":4267.25},0,123.25,{"$f":"IF($A591>$J$30,NA(),AVERAGE(H591:H594))","v":18.125},48,null,null,{"$f":"IF($A591>$J$30,NA(),IF($A591>$N$30,0,(1-$M$35)*J591+(2*$M$35-$M$36)*J592-($M$35+$M$37)*J593+$M$36*N592+$M$37*N593))","v":20.602451918115641},21.282940976592471,-1.6246452795308616E-2,8.8311592004762622E-3,null,null,15.21383568593833,24.797775155880664,-0.23952895842737415,-0.34298218675640513,null,null,null,null,null,null,null,null,null,null,null,null,null,null,null,null,null,null,null,null,null,null,null,null,null,null,null,null,null,null,null,{"$error":"#N/A"},2039961]
[560,{"$f":"IF(A592>$A$8,\"\",OFFSET(InputPriceData!B$15,$A592+$A$11,0,1,1))","v":"2022-04-21T04:00:00"},{"$f":"IF(A592>$A$8,\"\",OFFSET(InputPriceData!G$15,CalculationsAndCharts!$A592+$A$11,IF($C$5,8,0),1,1))","v":1704137},{"$f":"IF(A592>$A$8,\"\",OFFSET(InputPriceData!C$15,CalculationsAndCharts!$A592+$A$11,IF($C$5,8,0),1,1))","v":4468},{"$f":"IF(A592>$A$8,\"\",OFFSET(InputPriceData!D$15,CalculationsAndCharts!$A592+$A$11,IF($C$5,8,0),1,1))","v":4509},{"$f":"IF(A592>$A$8,\"\",OFFSET(InputPriceData!E$15,CalculationsAndCharts!$A592+$A$11,IF($C$5,8,0),1,1))","v":4380},{"$f":"IF(A592>$A$8,\"\",OFFSET(InputPriceData!F$15,CalculationsAndCharts!$A592+$A$11,IF($C$5,8,0),1,1))","v":4390.5},0,65,{"$f":"IF($A592>$J$30,NA(),AVERAGE(H592:H595))","v":18.125},17.375,null,null,{"$f":"IF($A592>$J$30,NA(),IF($A592>$N$30,0,(1-$M$35)*J592+(2*$M$35-$M$36)*J593-($M$35+$M$37)*J594+$M$36*N593+$M$37*N594))","v":21.002324320848487},20.507500566420308,1.1920641818461223E-2,-9.0131781330358325E-3,null,null,13.772674158906735,22.058872384000949,-0.23125427240969429,-0.5619780860018071,null,null,null,null,null,null,null,null,null,null,null,null,null,null,null,null,null,null,null,null,null,null,null,null,null,null,null,null,null,null,null,{"$error":"#N/A"},1704137]
[561,{"$f":"IF(A593>$A$8,\"\",OFFSET(InputPriceData!B$15,$A593+$A$11,0,1,1))","v":"2022-04-20T04:00:00"},{"$f":"IF(A593>$A$8,\"\",OFFSET(InputPriceData!G$15,CalculationsAndCharts!$A593+$A$11,IF($C$5,8,0),1,1))","v":1423396},{"$f":"IF(A593>$A$8,\"\",OFFSET(InputPriceData!C$15,CalculationsAndCharts!$A593+$A$11,IF($C$5,8,0),1,1))","v":4441},{"$f":"IF(A593>$A$8,\"\",OFFSET(InputPriceData!D$15,CalculationsAndCharts!$A593+$A$11,IF($C$5,8,0),1,1))","v":4484.25},{"$f":"IF(A593>$A$8,\"\",OFFSET(InputPriceData!E$15,CalculationsAndCharts!$A593+$A$11,IF($C$5,8,0),1,1))","v":4432.75},{"$f":"IF(A593>$A$8,\"\",OFFSET(InputPriceData!F$15,CalculationsAndCharts!$A593+$A$11,IF($C$5,8,0),1,1))","v":4455.5},0,3.75,{"$f":"IF($A593>$J$30,NA(),AVERAGE(H593:H596))","v":18.125},14.8125,null,null,{"$f":"IF($A593>$J$30,NA(),IF($A593>$N$30,0,(1-$M$35)*J593+(2*$M$35-$M$36)*J594-($M$35+$M$37)*J595+$M$36*N594+$M$37*N595))","v":21.425789681961934},21.050673275313105,8.8311592004762622E-3,-1.8723130106344105E-2,null,null,12.050125181266038,24.631148715331808,-0.34298218675640513,-0.76609496579073089,null,null,null,null,null,null,null,null,null,null,null,null,null,null,null,null,null,null,null,null,null,null,null,null,null,null,null,null,null,null,null,{"$error":"#N/A"},1423396]
[562,{"$f":"IF(A594>$A$8,\"\",OFFSET(InputPriceData!B$15,$A594+$A$11,0,1,1))","v":"2022-04-19T04:00:00"},{"$f":"IF(A594>$A$8,\"\",OFFSET(InputPriceData!G$15,CalculationsAndCharts!$A594+$A$11,IF($C$5,8,0),1,1))","v":1465764},{"$f":"IF(A594>$A$8,\"\",OFFSET(InputPriceData!C$15,CalculationsAndCharts!$A594+$A$11,IF($C$5,8,0),1,1))","v":4399},{"$f":"IF(A594>$A$8,\"\",OFFSET(InputPriceData!D$15,CalculationsAndCharts!$A594+$A$11,IF($C$5,8,0),1,1))","v":4467},{"$f":"IF(A594>$A$8,\"\",OFFSET(InputPriceData!E$15,CalculationsAndCharts!$A594+$A$11,IF($C$5,8,0),1,1))","v":4371.75},{"$f":"IF(A594>$A$8,\"\",OFFSET(InputPriceData!F$15,CalculationsAndCharts!$A594+$A$11,IF($C$5,8,0),1,1))","v":4459.25},72.5,0,{"$f":"IF($A594>$J$30,NA(),AVERAGE(H594:H597))","v":30.4375},13.875,null,null,{"$f":"IF($A594>$J$30,NA(),IF($A594>$N$30,0,(1-$M$35)*J594+(2*$M$35-$M$36)*J595-($M$35+$M$37)*J596+$M$36*N595+$M$37*N596))","v":21.375248493012862},21.764070862905676,-9.0131781330358325E-3,8.265136939662996E-3,null,null,7.9254889246232771,28.262147681411804,-0.5619780860018071,-0.8150039393254217,null,null,null,null,null,null,null,null,null,null,null,null,null,null,null,null,null,null,null,null,null,null,null,null,null,null,null,null,null,null,null,1465764,{"$error":"#N/A"}]
[563,{"$f":"IF(A595>$A$8,\"\",OFFSET(InputPriceData!B$15,$A595+$A$11,0,1,1))","v":"2022-04-18T04:00:00"},{"$f":"IF(A595>$A$8,\"\",OFFSET(InputPriceData!G$15,CalculationsAndCharts!$A595+$A$11,IF($C$5,8,0),1,1))","v":1149765},{"$f":"IF(A595>$A$8,\"\",OFFSET(InputPriceData!C$15,CalculationsAndCharts!$A595+$A$11,IF($C$5,8,0),1,1))","v":4390},{"$f":"IF(A595>$A$8,\"\",OFFSET(InputPriceData!D$15,CalculationsAndCharts!$A595+$A$11,IF($C$5,8,0),1,1))","v":4406.25},{"$f":"IF(A595>$A$8,\"\",OFFSET(InputPriceData!E$15,CalculationsAndCharts!$A595+$A$11,IF($C$5,8,0),1,1))","v":4355.5},{"$f":"IF(A595>$A$8,\"\",OFFSET(InputPriceData!F$15,CalculationsAndCharts!$A595+$A$11,IF($C$5,8,0),1,1))","v":4386.75},0,0.75,{"$f":"IF($A595>$J$30,NA(),AVERAGE(H595:H598))","v":12.3125},17.875,null,null,{"$f":"IF($A595>$J$30,NA(),IF($A595>$N$30,0,(1-$M$35)*J595+(2*$M$35-$M$36)*J596-($M$35+$M$37)*J597+$M$36*N596+$M$37*N597))","v":21.565220187546664},22.388165139641892,-1.8723130106344105E-2,4.2866834395554623E-2,null,null,4.2250672116900327,31.901279756199241,-0.76609496579073089,-0.84969088602423348,null,null,null,null,null,null,null,null,null,null,null,null,null,null,null,null,null,null,null,null,null,null,null,null,null,null,null,null,null,null,null,{"$error":"#N/A"},1149765]
[564,{"$f":"IF(A596>$A$8,\"\",OFFSET(InputPriceData!B$15,$A596+$A$11,0,1,1))","v":"2022-04-14T04:00:00"},{"$f":"IF(A596>$A$8,\"\",OFFSET(InputPriceData!G$15,CalculationsAndCharts!$A596+$A$11,IF($C$5,8,0),1,1))","v":1396074},{"$f":"IF(A596>$A$8,\"\",OFFSET(InputPriceData!C$15,CalculationsAndCharts!$A596+$A$11,IF($C$5,8,0),1,1))","v":4438.5},{"$f":"IF(A596>$A$8,\"\",OFFSET(InputPriceData!D$15,CalculationsAndCharts!$A596+$A$11,IF($C$5,8,0),1,1))","v":4455.75},{"$f":"IF(A596>$A$8,\"\",OFFSET(InputPriceData!E$15,CalculationsAndCharts!$A596+$A$11,IF($C$5,8,0),1,1))","v":4385},{"$f":"IF(A596>$A$8,\"\",OFFSET(InputPriceData!F$15,CalculationsAndCharts!$A596+$A$11,IF($C$5,8,0),1,1))","v":4387.5},0,54.75,{"$f":"IF($A596>$J$30,NA(),AVERAGE(H596:H599))","v":12.3125},36.3125,null,null,{"$f":"IF($A596>$J$30,NA(),IF($A596>$N$30,0,(1-$M$35)*J596+(2*$M$35-$M$36)*J597-($M$35+$M$37)*J598+$M$36*N597+$M$37*N598))","v":22.50358604300358},22.134644951093062,8.265136939662996E-3,7.4041798318269708E-2,null,null,3.2713673681004547,32.095519431235587,-0.8150039393254217,-0.80840233792533878,null,null,null,null,null,null,null,null,null,null,null,null,null,null,null,null,null,null,null,null,null,null,null,null,null,null,null,null,null,null,null,{"$error":"#N/A"},1396074]
[565,{"$f":"IF(A597>$A$8,\"\",OFFSET(InputPriceData!B$15,$A597+$A$11,0,1,1))","v":"2022-04-13T04:00:00"},{"$f":"IF(A597>$A$8,\"\",OFFSET(InputPriceData!G$15,CalculationsAndCharts!$A597+$A$11,IF($C$5,8,0),1,1))","v":1254348},{"$f":"IF(A597>$A$8,\"\",OFFSET(InputPriceData!C$15,CalculationsAndCharts!$A597+$A$11,IF($C$5,8,0),1,1))","v":4396.75},{"$f":"IF(A597>$A$8,\"\",OFFSET(InputPriceData!D$15,CalculationsAndCharts!$A597+$A$11,IF($C$5,8,0),1,1))","v":4449.5},{"$f":"IF(A597>$A$8,\"\",OFFSET(InputPriceData!E$15,CalculationsAndCharts!$A597+$A$11,IF($C$5,8,0),1,1))","v":4384},{"$f":"IF(A597>$A$8,\"\",OFFSET(InputPriceData!F$15,CalculationsAndCharts!$A597+$A$11,IF($C$5,8,0),1,1))","v":4442.25},49.25,0,{"$f":"IF($A597>$J$30,NA(),AVERAGE(H597:H600))","v":12.3125},25.8125,null,null,{"$f":"IF($A597>$J$30,NA(),IF($A597>$N$30,0,(1-$M$35)*J597+(2*$M$35-$M$36)*J598-($M$35+$M$37)*J599+$M$36*N598+$M$37*N599))","v":23.486059000865723},21.555279406407028,4.2866834395554623E-2,0.11697282252773988,null,null,2.4949214850916359,30.702286842460339,-0.84969088602423348,-0.66506826259098017,null,null,null,null,null,null,null,null,null,null,null,null,null,null,null,null,null,null,null,null,null,null,null,null,null,null,null,null,null,null,null,1254348,{"$error":"#N/A"}]
[566,{"$f":"IF(A598>$A$8,\"\",OFFSET(InputPriceData!B$15,$A598+$A$11,0,1,1))","v":"2022-04-12T04:00:00"},{"$f":"IF(A598>$A$8,\"\",OFFSET(InputPriceData!G$15,CalculationsAndCharts!$A598+$A$11,IF($C$5,8,0),1,1))","v":1739771},{"$f":"IF(A598>$A$8,\"\",OFFSET(InputPriceData!C$15,CalculationsAndCharts!$A598+$A$11,IF($C$5,8,0),1,1))","v":4411},{"$f":"IF(A598>$A$8,\"\",OFFSET(InputPriceData!D$15,CalculationsAndCharts!$A598+$A$11,IF($C$5,8,0),1,1))","v":4466.75},{"$f":"IF(A598>$A$8,\"\",OFFSET(InputPriceData!E$15,CalculationsAndCharts!$A598+$A$11,IF($C$5,8,0),1,1))","v":4375.5},{"$f":"IF(A598>$A$8,\"\",OFFSET(InputPriceData!F$15,CalculationsAndCharts!$A598+$A$11,IF($C$5,8,0),1,1))","v":4393},0,16,{"$f":"IF($A598>$J$30,NA(),AVERAGE(H598:H601))","v":5.125},25.8125,null,null,{"$f":"IF($A598>$J$30,NA(),IF($A598>$N$30,0,(1-$M$35)*J598+(2*$M$35-$M$36)*J599-($M$35+$M$37)*J600+$M$36*N599+$M$37*N600))","v":24.80386887557254},21.384033521541497,7.4041798318269708E-2,0.16196509870980558,null,null,3.2436816092066829,30.615620994837574,-0.80840233792533878,-0.47547546107533001,null,null,null,null,null,null,null,null,null,null,null,null,null,null,null,null,null,null,null,null,null,null,null,null,null,null,null,null,null,null,null,{"$error":"#N/A"},1739771]
[567,{"$f":"IF(A599>$A$8,\"\",OFFSET(InputPriceData!B$15,$A599+$A$11,0,1,1))","v":"2022-04-11T04:00:00"},{"$f":"IF(A599>$A$8,\"\",OFFSET(InputPriceData!G$15,CalculationsAndCharts!$A599+$A$11,IF($C$5,8,0),1,1))","v":1431371},{"$f":"IF(A599>$A$8,\"\",OFFSET(InputPriceData!C$15,CalculationsAndCharts!$A599+$A$11,IF($C$5,8,0),1,1))","v":4488.75},{"$f":"IF(A599>$A$8,\"\",OFFSET(InputPriceData!D$15,CalculationsAndCharts!$A599+$A$11,IF($C$5,8,0),1,1))","v":4491.25},{"$f":"IF(A599>$A$8,\"\",OFFSET(InputPriceData!E$15,CalculationsAndCharts!$A599+$A$11,IF($C$5,8,0),1,1))","v":4403.5},{"$f":"IF(A599>$A$8,\"\",OFFSET(InputPriceData!F$15,CalculationsAndCharts!$A599+$A$11,IF($C$5,8,0),1,1))","v":4409},0,74.5,{"$f":"IF($A599>$J$30,NA(),AVERAGE(H599:H602))","v":5.125},32.9375,null,null,{"$f":"IF($A599>$J$30,NA(),IF($A599>$N$30,0,(1-$M$35)*J599+(2*$M$35-$M$36)*J600-($M$35+$M$37)*J601+$M$36*N600+$M$37*N601))","v":26.468621659523851},20.924871048068873,0.11697282252773988,0.19276424764292305,null,null,5.8309977974756837,28.988024386467725,-0.66506826259098017,-0.325736905976723,null,null,null,null,null,null,null,null,null,null,null,null,null,null,null,null,null,null,null,null,null,null,null,null,null,null,null,null,null,null,null,{"$error":"#N/A"},1431371]
[568,{"$f":"IF(A600>$A$8,\"\",OFFSET(InputPriceData!B$15,$A600+$A$11,0,1,1))","v":"2022-04-08T04:00:00"},{"$f":"IF(A600>$A$8,\"\",OFFSET(InputPriceData!G$15,CalculationsAndCharts!$A600+$A$11,IF($C$5,8,0),1,1))","v":1358450},{"$f":"IF(A600>$A$8,\"\",OFFSET(InputPriceData!C$15,CalculationsAndCharts!$A600+$A$11,IF($C$5,8,0),1,1))","v":4494.75},{"$f":"IF(A600>$A$8,\"\",OFFSET(InputPriceData!D$15,CalculationsAndCharts!$A600+$A$11,IF($C$5,8,0),1,1))","v":4519.75},{"$f":"IF(A600>$A$8,\"\",OFFSET(InputPriceData!E$15,CalculationsAndCharts!$A600+$A$11,IF($C$5,8,0),1,1))","v":4468.75},{"$f":"IF(A600>$A$8,\"\",OFFSET(InputPriceData!F$15,CalculationsAndCharts!$A600+$A$11,IF($C$5,8,0),1,1))","v":4483.5},0,12.75,{"$f":"IF($A600>$J$30,NA(),AVERAGE(H600:H603))","v":5.125},28.6875,null,null,{"$f":"IF($A600>$J$30,NA(),IF($A600>$N$30,0,(1-$M$35)*J600+(2*$M$35-$M$36)*J601-($M$35+$M$37)*J602+$M$36*N601+$M$37*N602))","v":28.200941102009395},20.339141785716695,0.16196509870980558,0.21582683511889397,null,null,9.3428082545727715,26.281104684663603,-0.47547546107533001,-0.18608274009890341,null,null,null,null,null,null,null,null,null,null,null,null,null,null,null,null,null,null,null,null,null,null,null,null,null,null,null,null,null,null,null,{"$error":"#N/A"},1358450]
[569,{"$f":"IF(A601>$A$8,\"\",OFFSET(InputPriceData!B$15,$A601+$A$11,0,1,1))","v":"2022-04-07T04:00:00"},{"$f":"IF(A601>$A$8,\"\",OFFSET(InputPriceData!G$15,CalculationsAndCharts!$A601+$A$11,IF($C$5,8,0),1,1))","v":1446250},{"$f":"IF(A601>$A$8,\"\",OFFSET(InputPriceData!C$15,CalculationsAndCharts!$A601+$A$11,IF($C$5,8,0),1,1))","v":4471.25},{"$f":"IF(A601>$A$8,\"\",OFFSET(InputPriceData!D$15,CalculationsAndCharts!$A601+$A$11,IF($C$5,8,0),1,1))","v":4517.25},{"$f":"IF(A601>$A$8,\"\",OFFSET(InputPriceData!E$15,CalculationsAndCharts!$A601+$A$11,IF($C$5,8,0),1,1))","v":4444.5},{"$f":"IF(A601>$A$8,\"\",OFFSET(InputPriceData!F$15,CalculationsAndCharts!$A601+$A$11,IF($C$5,8,0),1,1))","v":4496.25},20.5,0,{"$f":"IF($A601>$J$30,NA(),AVERAGE(H601:H604))","v":14.75},25.5,null,null,{"$f":"IF($A601>$J$30,NA(),IF($A601>$N$30,0,(1-$M$35)*J601+(2*$M$35-$M$36)*J602-($M$35+$M$37)*J603+$M$36*N602+$M$37*N603))","v":29.611309069711837},20.040261436745116,0.19276424764292305,0.24530201577188926,null,null,12.262048150357828,24.109653813014102,-0.325736905976723,2.9222210781364097E-2,null,null,null,null,null,null,null,null,null,null,null,null,null,null,null,null,null,null,null,null,null,null,null,null,null,null,null,null,null,null,null,1446250,{"$error":"#N/A"}]
[570,{"$f":"IF(A602>$A$8,\"\",OFFSET(InputPriceData!B$15,$A602+$A$11,0,1,1))","v":"2022-04-06T04:00:00"},{"$f":"IF(A602>$A$8,\"\",OFFSET(InputPriceData!G$15,CalculationsAndCharts!$A602+$A$11,IF($C$5,8,0),1,1))","v":1803684},{"$f":"IF(A602>$A$8,\"\",OFFSET(InputPriceData!C$15,CalculationsAndCharts!$A602+$A$11,IF($C$5,8,0),1,1))","v":4526.25},{"$f":"IF(A602>$A$8,\"\",OFFSET(InputPriceData!D$15,CalculationsAndCharts!$A602+$A$11,IF($C$5,8,0),1,1))","v":4528.75},{"$f":"IF(A602>$A$8,\"\",OFFSET(InputPriceData!E$15,CalculationsAndCharts!$A602+$A$11,IF($C$5,8,0),1,1))","v":4444.5},{"$f":"IF(A602>$A$8,\"\",OFFSET(InputPriceData!F$15,CalculationsAndCharts!$A602+$A$11,IF($C$5,8,0),1,1))","v":4475.75},0,44.5,{"$f":"IF($A602>$J$30,NA(),AVERAGE(H602:H605))","v":11.75},25.5,null,null,{"$f":"IF($A602>$J$30,NA(),IF($A602>$N$30,0,(1-$M$35)*J602+(2*$M$35-$M$36)*J603-($M$35+$M$37)*J604+$M$36*N603+$M$37*N604))","v":30.805662785531748},19.86876205148759,0.21582683511889397,0.27260328597208844,null,null,14.99501237975073,21.851515193759269,-0.18608274009890341,0.27879212534562725,null,null,null,null,null,null,null,null,null,null,null,null,null,null,null,null,null,null,null,null,null,null,null,null,null,null,null,null,null,null,null,{"$error":"#N/A"},1803684]
[571,{"$f":"IF(A603>$A$8,\"\",OFFSET(InputPriceData!B$15,$A603+$A$11,0,1,1))","v":"2022-04-05T04:00:00"},{"$f":"IF(A603>$A$8,\"\",OFFSET(InputPriceData!G$15,CalculationsAndCharts!$A603+$A$11,IF($C$5,8,0),1,1))","v":1303877},{"$f":"IF(A603>$A$8,\"\",OFFSET(InputPriceData!C$15,CalculationsAndCharts!$A603+$A$11,IF($C$5,8,0),1,1))","v":4576.25},{"$f":"IF(A603>$A$8,\"\",OFFSET(InputPriceData!D$15,CalculationsAndCharts!$A603+$A$11,IF($C$5,8,0),1,1))","v":4588.75},{"$f":"IF(A603>$A$8,\"\",OFFSET(InputPriceData!E$15,CalculationsAndCharts!$A603+$A$11,IF($C$5,8,0),1,1))","v":4507.75},{"$f":"IF(A603>$A$8,\"\",OFFSET(InputPriceData!F$15,CalculationsAndCharts!$A603+$A$11,IF($C$5,8,0),1,1))","v":4520.25},0,57.5,{"$f":"IF($A603>$J$30,NA(),AVERAGE(H603:H606))","v":11.75},30.6875,null,null,{"$f":"IF($A603>$J$30,NA(),IF($A603>$N$30,0,(1-$M$35)*J603+(2*$M$35-$M$36)*J604-($M$35+$M$37)*J605+$M$36*N604+$M$37*N605))","v":32.162528114541765},19.491653292377602,0.24530201577188926,0.29003804741746242,null,null,19.161439027105263,18.0733559984671,2.9222210781364097E-2,0.50567939719041621,null,null,null,null,null,null,null,null,null,null,null,null,null,null,null,null,null,null,null,null,null,null,null,null,null,null,null,null,null,null,null,{"$error":"#N/A"},1303877]
[572,{"$f":"IF(A604>$A$8,\"\",OFFSET(InputPriceData!B$15,$A604+$A$11,0,1,1))","v":"2022-04-04T04:00:00"},{"$f":"IF(A604>$A$8,\"\",OFFSET(InputPriceData!G$15,CalculationsAndCharts!$A604+$A$11,IF($C$5,8,0),1,1))","v":1025558},{"$f":"IF(A604>$A$8,\"\",OFFSET(InputPriceData!C$15,CalculationsAndCharts!$A604+$A$11,IF($C$5,8,0),1,1))","v":4538.25},{"$f":"IF(A604>$A$8,\"\",OFFSET(InputPriceData!D$15,CalculationsAndCharts!$A604+$A$11,IF($C$5,8,0),1,1))","v":4580},{"$f":"IF(A604>$A$8,\"\",OFFSET(InputPriceData!E$15,CalculationsAndCharts!$A604+$A$11,IF($C$5,8,0),1,1))","v":4527.75},{"$f":"IF(A604>$A$8,\"\",OFFSET(InputPriceData!F$15,CalculationsAndCharts!$A604+$A$11,IF($C$5,8,0),1,1))","v":4577.75},38.5,0,{"$f":"IF($A604>$J$30,NA(),AVERAGE(H604:H607))","v":11.75},23.6875,null,null,{"$f":"IF($A604>$J$30,NA(),IF($A604>$N$30,0,(1-$M$35)*J604+(2*$M$35-$M$36)*J605-($M$35+$M$37)*J606+$M$36*N605+$M$37*N606))","v":33.564590017200828},19.18490448306245,0.27260328597208844,0.30146809228065891,null,null,24.44643795019935,13.787200599290555,0.27879212534562725,0.73563613318262921,null,null,null,null,null,null,null,null,null,null,null,null,null,null,null,null,null,null,null,null,null,null,null,null,null,null,null,null,null,null,null,1025558,{"$error":"#N/A"}]
[573,{"$f":"IF(A605>$A$8,\"\",OFFSET(InputPriceData!B$15,$A605+$A$11,0,1,1))","v":"2022-04-01T04:00:00"},{"$f":"IF(A605>$A$8,\"\",OFFSET(InputPriceData!G$15,CalculationsAndCharts!$A605+$A$11,IF($C$5,8,0),1,1))","v":1441126},{"$f":"IF(A605>$A$8,\"\",OFFSET(InputPriceData!C$15,CalculationsAndCharts!$A605+$A$11,IF($C$5,8,0),1,1))","v":4541},{"$f":"IF(A605>$A$8,\"\",OFFSET(InputPriceData!D$15,CalculationsAndCharts!$A605+$A$11,IF($C$5,8,0),1,1))","v":4555.5},{"$f":"IF(A605>$A$8,\"\",OFFSET(InputPriceData!E$15,CalculationsAndCharts!$A605+$A$11,IF($C$5,8,0),1,1))","v":4501.25},{"$f":"IF(A605>$A$8,\"\",OFFSET(InputPriceData!F$15,CalculationsAndCharts!$A605+$A$11,IF($C$5,8,0),1,1))","v":4539.25},8.5,0,{"$f":"IF($A605>$J$30,NA(),AVERAGE(H605:H608))","v":16.5},23.6875,null,null,{"$f":"IF($A605>$J$30,NA(),IF($A605>$N$30,0,(1-$M$35)*J605+(2*$M$35-$M$36)*J606-($M$35+$M$37)*J607+$M$36*N606+$M$37*N607))","v":34.818806100864343},19.162246892988655,0.29003804741746242,0.29109897983053246,null,null,30.139107867827249,9.8947903499029586,0.50567939719041621,0.85680181931767352,null,null,null,null,null,null,null,null,null,null,null,null,null,null,null,null,null,null,null,null,null,null,null,null,null,null,null,null,null,null,null,1441126,{"$error":"#N/A"}]
[574,{"$f":"IF(A606>$A$8,\"\",OFFSET(InputPriceData!B$15,$A606+$A$11,0,1,1))","v":"2022-03-31T04:00:00"},{"$f":"IF(A606>$A$8,\"\",OFFSET(InputPriceData!G$15,CalculationsAndCharts!$A606+$A$11,IF($C$5,8,0),1,1))","v":1650667},{"$f":"IF(A606>$A$8,\"\",OFFSET(InputPriceData!C$15,CalculationsAndCharts!$A606+$A$11,IF($C$5,8,0),1,1))","v":4599},{"$f":"IF(A606>$A$8,\"\",OFFSET(InputPriceData!D$15,CalculationsAndCharts!$A606+$A$11,IF($C$5,8,0),1,1))","v":4614.25},{"$f":"IF(A606>$A$8,\"\",OFFSET(InputPriceData!E$15,CalculationsAndCharts!$A606+$A$11,IF($C$5,8,0),1,1))","v":4526.25},{"$f":"IF(A606>$A$8,\"\",OFFSET(InputPriceData!F$15,CalculationsAndCharts!$A606+$A$11,IF($C$5,8,0),1,1))","v":4530.75},0,65.25,{"$f":"IF($A606>$J$30,NA(),AVERAGE(H606:H609))","v":22.25},23.6875,null,null,{"$f":"IF($A606>$J$30,NA(),IF($A606>$N$30,0,(1-$M$35)*J606+(2*$M$35-$M$36)*J607-($M$35+$M$37)*J608+$M$36*N607+$M$37*N608))","v":35.683995962057935},19.152532376529646,0.30146809228065891,0.24733173360896332,null,null,35.207188975752359,5.3625921006453474,0.73563613318262921,0.79307417724286144,null,null,null,null,null,null,null,null,null,null,null,null,null,null,null,null,null,null,null,null,null,null,null,null,null,null,null,null,null,null,null,{"$error":"#N/A"},1650667]
[575,{"$f":"IF(A607>$A$8,\"\",OFFSET(InputPriceData!B$15,$A607+$A$11,0,1,1))","v":"2022-03-30T04:00:00"},{"$f":"IF(A607>$A$8,\"\",OFFSET(InputPriceData!G$15,CalculationsAndCharts!$A607+$A$11,IF($C$5,8,0),1,1))","v":1206203},{"$f":"IF(A607>$A$8,\"\",OFFSET(InputPriceData!C$15,CalculationsAndCharts!$A607+$A$11,IF($C$5,8,0),1,1))","v":4621.25},{"$f":"IF(A607>$A$8,\"\",OFFSET(InputPriceData!D$15,CalculationsAndCharts!$A607+$A$11,IF($C$5,8,0),1,1))","v":4627.5},{"$f":"IF(A607>$A$8,\"\",OFFSET(InputPriceData!E$15,CalculationsAndCharts!$A607+$A$11,IF($C$5,8,0),1,1))","v":4574.75},{"$f":"IF(A607>$A$8,\"\",OFFSET(InputPriceData!F$15,CalculationsAndCharts!$A607+$A$11,IF($C$5,8,0),1,1))","v":4596},0,29.5,{"$f":"IF($A607>$J$30,NA(),AVERAGE(H607:H610))","v":28.25},7.375,null,null,{"$f":"IF($A607>$J$30,NA(),IF($A607>$N$30,0,(1-$M$35)*J607+(2*$M$35-$M$36)*J608-($M$35+$M$37)*J609+$M$36*N608+$M$37*N609))","v":36.091822156290952},19.816861407270235,0.29109897983053246,0.20800351881636692,null,null,39.213233357310145,3.0241588612304344,0.85680181931767352,0.75953980611843075,null,null,null,null,null,null,null,null,null,null,null,null,null,null,null,null,null,null,null,null,null,null,null,null,null,null,null,null,null,null,null,{"$error":"#N/A"},1206203]
[576,{"$f":"IF(A608>$A$8,\"\",OFFSET(InputPriceData!B$15,$A608+$A$11,0,1,1))","v":"2022-03-29T04:00:00"},{"$f":"IF(A608>$A$8,\"\",OFFSET(InputPriceData!G$15,CalculationsAndCharts!$A608+$A$11,IF($C$5,8,0),1,1))","v":1353683},{"$f":"IF(A608>$A$8,\"\",OFFSET(InputPriceData!C$15,CalculationsAndCharts!$A608+$A$11,IF($C$5,8,0),1,1))","v":4570.25},{"$f":"IF(A608>$A$8,\"\",OFFSET(InputPriceData!D$15,CalculationsAndCharts!$A608+$A$11,IF($C$5,8,0),1,1))","v":4631},{"$f":"IF(A608>$A$8,\"\",OFFSET(InputPriceData!E$15,CalculationsAndCharts!$A608+$A$11,IF($C$5,8,0),1,1))","v":4565.25},{"$f":"IF(A608>$A$8,\"\",OFFSET(InputPriceData!F$15,CalculationsAndCharts!$A608+$A$11,IF($C$5,8,0),1,1))","v":4625.5},57.5,0,{"$f":"IF($A608>$J$30,NA(),AVERAGE(H608:H611))","v":44.5},0,null,null,{"$f":"IF($A608>$J$30,NA(),IF($A608>$N$30,0,(1-$M$35)*J608+(2*$M$35-$M$36)*J609-($M$35+$M$37)*J610+$M$36*N609+$M$37*N610))","v":35.597595759313748},21.480396887145357,0.24733173360896332,0.18464182429971468,null,null,40.065347657572929,4.62365424326289,0.79307417724286144,0.81121698937160136,null,null,null,null,null,null,null,null,null,null,null,null,null,null,null,null,null,null,null,null,null,null,null,null,null,null,null,null,null,null,null,1353683,{"$error":"#N/A"}]
[577,{"$f":"IF(A609>$A$8,\"\",OFFSET(InputPriceData!B$15,$A609+$A$11,0,1,1))","v":"2022-03-28T04:00:00"},{"$f":"IF(A609>$A$8,\"\",OFFSET(InputPriceData!G$15,CalculationsAndCharts!$A609+$A$11,IF($C$5,8,0),1,1))","v":1182527},{"$f":"IF(A609>$A$8,\"\",OFFSET(InputPriceData!C$15,CalculationsAndCharts!$A609+$A$11,IF($C$5,8,0),1,1))","v":4535.25},{"$f":"IF(A609>$A$8,\"\",OFFSET(InputPriceData!D$15,CalculationsAndCharts!$A609+$A$11,IF($C$5,8,0),1,1))","v":4572.25},{"$f":"IF(A609>$A$8,\"\",OFFSET(InputPriceData!E$15,CalculationsAndCharts!$A609+$A$11,IF($C$5,8,0),1,1))","v":4509.75},{"$f":"IF(A609>$A$8,\"\",OFFSET(InputPriceData!F$15,CalculationsAndCharts!$A609+$A$11,IF($C$5,8,0),1,1))","v":4568},31.5,0,{"$f":"IF($A609>$J$30,NA(),AVERAGE(H609:H612))","v":30.125},14.375,null,null,{"$f":"IF($A609>$J$30,NA(),IF($A609>$N$30,0,(1-$M$35)*J609+(2*$M$35-$M$36)*J610-($M$35+$M$37)*J611+$M$36*N610+$M$37*N611))","v":34.989250625373458},22.939803521185372,0.20800351881636692,0.15466775590261703,null,null,{"$f":"IF($A609>$J$30,NA(),IF($A609>$N$30,0,(1-S$35)*$J609+(2*S$35-S$36)*$J610-(S$35+S$37)*$J611+S$36*T610+S$37*T611))","v":40.695519852596973},{"$f":"IF($A609>$J$30,NA(),IF($A609>$N$30,0,(1-S$35)*$K609+(2*S$35-S$36)*$K610-(S$35+S$37)*$K611+S$36*U610+S$37*U611))","v":5.5614840652306707},{"$f":"IF($A609>$N$30,NA(),(T609-U609)/(T609+U609))","v":0.75953980611843075},{"$f":"IF($A609>$N$30,NA(),OFFSET(V609,$C$18,0,1,1))","v":0.84905106757463489},null,null,null,null,null,null,null,null,null,null,null,null,null,null,null,null,null,null,null,null,null,null,null,null,null,null,null,null,null,null,null,1182527,{"$error":"#N/A"}]
[578,{"$f":"IF(A610>$A$8,\"\",OFFSET(InputPriceData!B$15,$A610+$A$11,0,1,1))","v":"2022-03-25T04:00:00"},{"$f":"IF(A610>$A$8,\"\",OFFSET(InputPriceData!G$15,CalculationsAndCharts!$A610+$A$11,IF($C$5,8,0),1,1))","v":1251078},{"$f":"IF(A610>$A$8,\"\",OFFSET(InputPriceData!C$15,CalculationsAndCharts!$A610+$A$11,IF($C$5,8,0),1,1))","v":4516.25},{"$f":"IF(A610>$A$8,\"\",OFFSET(InputPriceData!D$15,CalculationsAndCharts!$A610+$A$11,IF($C$5,8,0),1,1))","v":4539},{"$f":"IF(A610>$A$8,\"\",OFFSET(InputPriceData!E$15,CalculationsAndCharts!$A610+$A$11,IF($C$5,8,0),1,1))","v":4493.25},{"$f":"IF(A610>$A$8,\"\",OFFSET(InputPriceData!F$15,CalculationsAndCharts!$A610+$A$11,IF($C$5,8,0),1,1))","v":4536.5},{"$f":"IF($A610>$H$30,NA(),IF($G610>$G611,$G610-$G611,0))","v":24},{"$f":"IF($A610>$H$30,NA(),IF(G610<G611,G611-G610,0))","v":0},{"$f":"IF($A610>$J$30,NA(),AVERAGE(H610:H613))","v":35.4375},14.375,null,null,{"$f":"IF($A610>$J$30,NA(),IF($A610>$N$30,0,(1-$M$35)*J610+(2*$M$35-$M$36)*J611-($M$35+$M$37)*J612+$M$36*N611+$M$37*N612))","v":34.704954747413581},23.886518279345296,{"$f":"IF($A610>$N$30,NA(),(N610-O610)/(N610+O610))","v":0.18464182429971468},{"$f":"IF($A610>$N$30,NA(),OFFSET(P610,$C$17,0,1,1))","v":0.13040025357993484},null,null,42.919807112824856,4.4735282685043707,0.81121698937160136,0.88160716873551914,null,null,null,null,null,null,null,null,null,null,null,null,null,null,null,null,null,null,null,null,null,null,null,null,null,null,null,null,null,null,null,1251078,{"$error":"#N/A"}]
[579,{"$f":"IF(A611>$A$8,\"\",OFFSET(InputPriceData!B$15,$A611+$A$11,0,1,1))","v":"2022-03-24T04:00:00"},{"$f":"IF(A611>$A$8,\"\",OFFSET(InputPriceData!G$15,CalculationsAndCharts!$A611+$A$11,IF($C$5,8,0),1,1))","v":1221569},{"$f":"IF(A611>$A$8,\"\",OFFSET(InputPriceData!C$15,CalculationsAndCharts!$A611+$A$11,IF($C$5,8,0),1,1))","v":4449.25},{"$f":"IF(A611>$A$8,\"\",OFFSET(InputPriceData!D$15,CalculationsAndCharts!$A611+$A$11,IF($C$5,8,0),1,1))","v":4517.5},{"$f":"IF(A611>$A$8,\"\",OFFSET(InputPriceData!E$15,CalculationsAndCharts!$A611+$A$11,IF($C$5,8,0),1,1))","v":4445.75},{"$f":"IF(A611>$A$8,\"\",OFFSET(InputPriceData!F$15,CalculationsAndCharts!$A611+$A$11,IF($C$5,8,0),1,1))","v":4512.5},65,0,{"$f":"IF($A611>$J$30,NA(),AVERAGE(H611:H614))","v":40.162499999999909},14.375,null,null,{"$f":"IF($A611>$J$30,NA(),IF($A611>$N$30,0,(1-$M$35)*J611+(2*$M$35-$M$36)*J612-($M$35+$M$37)*J613+$M$36*N612+$M$37*N613))","v":33.984776090881681},24.880253987515879,0.15466775590261703,9.6920107230284991E-2,null,null,43.650515450313414,3.5634487454607631,0.84905106757463489,0.81245315401926899,null,null,null,null,null,null,null,null,null,null,null,null,null,null,null,null,null,null,null,null,null,null,null,null,null,null,null,null,null,null,null,1221569,{"$error":"#N/A"}]
[580,{"$f":"IF(A612>$A$8,\"\",OFFSET(InputPriceData!B$15,$A612+$A$11,0,1,1))","v":"2022-03-23T04:00:00"},{"$f":"IF(A612>$A$8,\"\",OFFSET(InputPriceData!G$15,CalculationsAndCharts!$A612+$A$11,IF($C$5,8,0),1,1))","v":1336967},{"$f":"IF(A612>$A$8,\"\",OFFSET(InputPriceData!C$15,CalculationsAndCharts!$A612+$A$11,IF($C$5,8,0),1,1))","v":4504},{"$f":"IF(A612>$A$8,\"\",OFFSET(InputPriceData!D$15,CalculationsAndCharts!$A612+$A$11,IF($C$5,8,0),1,1))","v":4514},{"$f":"IF(A612>$A$8,\"\",OFFSET(InputPriceData!E$15,CalculationsAndCharts!$A612+$A$11,IF($C$5,8,0),1,1))","v":4444.75},{"$f":"IF(A612>$A$8,\"\",OFFSET(InputPriceData!F$15,CalculationsAndCharts!$A612+$A$11,IF($C$5,8,0),1,1))","v":4447.5},0,57.5,{"$f":"IF($A612>$J$30,NA(),AVERAGE(H612:H615))","v":23.912499999999909},14.599999999999909,null,null,{"$f":"IF($A612>$J$30,NA(),IF($A612>$N$30,0,(1-$M$35)*J612+(2*$M$35-$M$36)*J613-($M$35+$M$37)*J614+$M$36*N613+$M$37*N614))","v":33.683930370064687},25.912536037986715,0.13040025357993484,3.8890002873502673E-2,null,null,46.290760418019602,2.9126665110221239,0.88160716873551914,0.63876842665216749,null,null,null,null,null,null,null,null,null,null,null,null,null,null,null,null,null,null,null,null,null,null,null,null,null,null,null,null,null,null,null,{"$error":"#N/A"},1336967]
[581,{"$f":"IF(A613>$A$8,\"\",OFFSET(InputPriceData!B$15,$A613+$A$11,0,1,1))","v":"2022-03-22T04:00:00"},{"$f":"IF(A613>$A$8,\"\",OFFSET(InputPriceData!G$15,CalculationsAndCharts!$A613+$A$11,IF($C$5,8,0),1,1))","v":1205860},{"$f":"IF(A613>$A$8,\"\",OFFSET(InputPriceData!C$15,CalculationsAndCharts!$A613+$A$11,IF($C$5,8,0),1,1))","v":4456.75},{"$f":"IF(A613>$A$8,\"\",OFFSET(InputPriceData!D$15,CalculationsAndCharts!$A613+$A$11,IF($C$5,8,0),1,1))","v":4514.75},{"$f":"IF(A613>$A$8,\"\",OFFSET(InputPriceData!E$15,CalculationsAndCharts!$A613+$A$11,IF($C$5,8,0),1,1))","v":4433},{"$f":"IF(A613>$A$8,\"\",OFFSET(InputPriceData!F$15,CalculationsAndCharts!$A613+$A$11,IF($C$5,8,0),1,1))","v":4505},52.75,0,{"$f":"IF($A613>$J$30,NA(),AVERAGE(H613:H616))","v":36.974999999999909},0.22499999999990905,null,null,{"$f":"IF($A613>$J$30,NA(),IF($A613>$N$30,0,(1-$M$35)*J613+(2*$M$35-$M$36)*J614-($M$35+$M$37)*J615+$M$36*N614+$M$37*N615))","v":33.481823818777301},27.565145049937584,9.6920107230284991E-2,-3.4542878475598608E-2,null,null,49.624164813748429,5.1349495983428568,0.81245315401926899,0.41871021333153219,null,null,null,null,null,null,null,null,null,null,null,null,null,null,null,null,null,null,null,null,null,null,null,null,null,null,null,null,null,null,null,1205860,{"$error":"#N/A"}]
[582,{"$f":"IF(A614>$A$8,\"\",OFFSET(InputPriceData!B$15,$A614+$A$11,0,1,1))","v":"2022-03-21T04:00:00"},{"$f":"IF(A614>$A$8,\"\",OFFSET(InputPriceData!G$15,CalculationsAndCharts!$A614+$A$11,IF($C$5,8,0),1,1))","v":1375090},{"$f":"IF(A614>$A$8,\"\",OFFSET(InputPriceData!C$15,CalculationsAndCharts!$A614+$A$11,IF($C$5,8,0),1,1))","v":4460},{"$f":"IF(A614>$A$8,\"\",OFFSET(InputPriceData!D$15,CalculationsAndCharts!$A614+$A$11,IF($C$5,8,0),1,1))","v":4473},{"$f":"IF(A614>$A$8,\"\",OFFSET(InputPriceData!E$15,CalculationsAndCharts!$A614+$A$11,IF($C$5,8,0),1,1))","v":4415},{"$f":"IF(A614>$A$8,\"\",OFFSET(InputPriceData!F$15,CalculationsAndCharts!$A614+$A$11,IF($C$5,8,0),1,1))","v":4452.25},42.899999999999636,0,{"$f":"IF($A614>$J$30,NA(),AVERAGE(H614:H617))","v":47.787499999999909},0.22499999999990905,null,null,{"$f":"IF($A614>$J$30,NA(),IF($A614>$N$30,0,(1-$M$35)*J614+(2*$M$35-$M$36)*J615-($M$35+$M$37)*J616+$M$36*N615+$M$37*N616))","v":32.287109617403004},29.869826204674297,3.8890002873502673E-2,-0.11498506790751933,null,null,48.965244233378556,10.793344517820945,0.63876842665216749,0.1606062906149027,null,null,null,null,null,null,null,null,null,null,null,null,null,null,null,null,null,null,null,null,null,null,null,null,null,null,null,null,null,null,null,1375090,{"$error":"#N/A"}]
[583,{"$f":"IF(A615>$A$8,\"\",OFFSET(InputPriceData!B$15,$A615+$A$11,0,1,1))","v":"2022-03-18T04:00:00"},{"$f":"IF(A615>$A$8,\"\",OFFSET(InputPriceData!G$15,CalculationsAndCharts!$A615+$A$11,IF($C$5,8,0),1,1))","v":1405299},{"$f":"IF(A615>$A$8,\"\",OFFSET(InputPriceData!C$15,CalculationsAndCharts!$A615+$A$11,IF($C$5,8,0),1,1))","v":4393},{"$f":"IF(A615>$A$8,\"\",OFFSET(InputPriceData!D$15,CalculationsAndCharts!$A615+$A$11,IF($C$5,8,0),1,1))","v":4409.3500000000004},{"$f":"IF(A615>$A$8,\"\",OFFSET(InputPriceData!E$15,CalculationsAndCharts!$A615+$A$11,IF($C$5,8,0),1,1))","v":4373.75},{"$f":"IF(A615>$A$8,\"\",OFFSET(InputPriceData!F$15,CalculationsAndCharts!$A615+$A$11,IF($C$5,8,0),1,1))","v":4409.3500000000004},0,0.8999999999996362,{"$f":"IF($A615>$J$30,NA(),AVERAGE(H615:H618))","v":59.5625},0.22499999999990905,null,null,{"$f":"IF($A615>$J$30,NA(),IF($A615>$N$30,0,(1-$M$35)*J615+(2*$M$35-$M$36)*J616-($M$35+$M$37)*J617+$M$36*N616+$M$37*N617))","v":30.112922528502821},32.267729821870326,-3.4542878475598608E-2,-0.1787079896078537,null,null,43.787723417469678,17.941194871831616,0.41871021333153219,-6.4812658169594931E-2,null,null,null,null,null,null,null,null,null,null,null,null,null,null,null,null,null,null,null,null,null,null,null,null,null,null,null,null,null,null,null,{"$error":"#N/A"},1405299]
[584,{"$f":"IF(A616>$A$8,\"\",OFFSET(InputPriceData!B$15,$A616+$A$11,0,1,1))","v":"2022-03-17T04:00:00"},{"$f":"IF(A616>$A$8,\"\",OFFSET(InputPriceData!G$15,CalculationsAndCharts!$A616+$A$11,IF($C$5,8,0),1,1))","v":434642},{"$f":"IF(A616>$A$8,\"\",OFFSET(InputPriceData!C$15,CalculationsAndCharts!$A616+$A$11,IF($C$5,8,0),1,1))","v":4370.5},{"$f":"IF(A616>$A$8,\"\",OFFSET(InputPriceData!D$15,CalculationsAndCharts!$A616+$A$11,IF($C$5,8,0),1,1))","v":4415.25},{"$f":"IF(A616>$A$8,\"\",OFFSET(InputPriceData!E$15,CalculationsAndCharts!$A616+$A$11,IF($C$5,8,0),1,1))","v":4329},{"$f":"IF(A616>$A$8,\"\",OFFSET(InputPriceData!F$15,CalculationsAndCharts!$A616+$A$11,IF($C$5,8,0),1,1))","v":4410.25},52.25,0,{"$f":"IF($A616>$J$30,NA(),AVERAGE(H616:H619))","v":59.5625},7.375,null,null,{"$f":"IF($A616>$J$30,NA(),IF($A616>$N$30,0,(1-$M$35)*J616+(2*$M$35-$M$36)*J617-($M$35+$M$37)*J618+$M$36*N617+$M$37*N618))","v":27.359960067143568},34.469414952451146,-0.11498506790751933,-0.20702920264567948,null,null,35.235314743639719,25.48349236358635,0.1606062906149027,-0.17647940627201561,null,null,null,null,null,null,null,null,null,null,null,null,null,null,null,null,null,null,null,null,null,null,null,null,null,null,null,null,null,null,null,434642,{"$error":"#N/A"}]
[585,{"$f":"IF(A617>$A$8,\"\",OFFSET(InputPriceData!B$15,$A617+$A$11,0,1,1))","v":"2022-03-16T04:00:00"},{"$f":"IF(A617>$A$8,\"\",OFFSET(InputPriceData!G$15,CalculationsAndCharts!$A617+$A$11,IF($C$5,8,0),1,1))","v":722600},{"$f":"IF(A617>$A$8,\"\",OFFSET(InputPriceData!C$15,CalculationsAndCharts!$A617+$A$11,IF($C$5,8,0),1,1))","v":4257.5},{"$f":"IF(A617>$A$8,\"\",OFFSET(InputPriceData!D$15,CalculationsAndCharts!$A617+$A$11,IF($C$5,8,0),1,1))","v":4376},{"$f":"IF(A617>$A$8,\"\",OFFSET(InputPriceData!E$15,CalculationsAndCharts!$A617+$A$11,IF($C$5,8,0),1,1))","v":4246.25},{"$f":"IF(A617>$A$8,\"\",OFFSET(InputPriceData!F$15,CalculationsAndCharts!$A617+$A$11,IF($C$5,8,0),1,1))","v":4358},96,0,{"$f":"IF($A617>$J$30,NA(),AVERAGE(H617:H620))","v":46.5},21.3125,null,null,{"$f":"IF($A617>$J$30,NA(),IF($A617>$N$30,0,(1-$M$35)*J617+(2*$M$35-$M$36)*J618-($M$35+$M$37)*J619+$M$36*N618+$M$37*N619))","v":25.013645324567886},35.89926995540543,-0.1787079896078537,-0.2181207339446421,null,null,27.170697726325795,30.936799052117905,-6.4812658169594931E-2,-0.22562025258703744,null,null,null,null,null,null,null,null,null,null,null,null,null,null,null,null,null,null,null,null,null,null,null,null,null,null,null,null,null,null,null,722600,{"$error":"#N/A"}]
[586,{"$f":"IF(A618>$A$8,\"\",OFFSET(InputPriceData!B$15,$A618+$A$11,0,1,1))","v":"2022-03-15T04:00:00"},{"$f":"IF(A618>$A$8,\"\",OFFSET(InputPriceData!G$15,CalculationsAndCharts!$A618+$A$11,IF($C$5,8,0),1,1))","v":1085846},{"$f":"IF(A618>$A$8,\"\",OFFSET(InputPriceData!C$15,CalculationsAndCharts!$A618+$A$11,IF($C$5,8,0),1,1))","v":4180.25},{"$f":"IF(A618>$A$8,\"\",OFFSET(InputPriceData!D$15,CalculationsAndCharts!$A618+$A$11,IF($C$5,8,0),1,1))","v":4271.5},{"$f":"IF(A618>$A$8,\"\",OFFSET(InputPriceData!E$15,CalculationsAndCharts!$A618+$A$11,IF($C$5,8,0),1,1))","v":4138},{"$f":"IF(A618>$A$8,\"\",OFFSET(InputPriceData!F$15,CalculationsAndCharts!$A618+$A$11,IF($C$5,8,0),1,1))","v":4262},90,0,{"$f":"IF($A618>$J$30,NA(),AVERAGE(H618:H621))","v":22.5},25.8125,null,null,{"$f":"IF($A618>$J$30,NA(),IF($A618>$N$30,0,(1-$M$35)*J618+(2*$M$35-$M$36)*J619-($M$35+$M$37)*J620+$M$36*N619+$M$37*N620))","v":24.064884775377418},36.630628491108197,-0.20702920264567948,-0.23277888885480355,null,null,23.993501545781516,34.277054718429568,-0.17647940627201561,-0.29151391737869836,null,null,null,null,null,null,null,null,null,null,null,null,null,null,null,null,null,null,null,null,null,null,null,null,null,null,null,null,null,null,null,1085846,{"$error":"#N/A"}]
[587,{"$f":"IF(A619>$A$8,\"\",OFFSET(InputPriceData!B$15,$A619+$A$11,0,1,1))","v":"2022-03-14T04:00:00"},{"$f":"IF(A619>$A$8,\"\",OFFSET(InputPriceData!G$15,CalculationsAndCharts!$A619+$A$11,IF($C$5,8,0),1,1))","v":1438651},{"$f":"IF(A619>$A$8,\"\",OFFSET(InputPriceData!C$15,CalculationsAndCharts!$A619+$A$11,IF($C$5,8,0),1,1))","v":4216},{"$f":"IF(A619>$A$8,\"\",OFFSET(InputPriceData!D$15,CalculationsAndCharts!$A619+$A$11,IF($C$5,8,0),1,1))","v":4254.5},{"$f":"IF(A619>$A$8,\"\",OFFSET(InputPriceData!E$15,CalculationsAndCharts!$A619+$A$11,IF($C$5,8,0),1,1))","v":4160.75},{"$f":"IF(A619>$A$8,\"\",OFFSET(InputPriceData!F$15,CalculationsAndCharts!$A619+$A$11,IF($C$5,8,0),1,1))","v":4172},0,29.5,{"$f":"IF($A619>$J$30,NA(),AVERAGE(H619:H622))","v":26.625},25.8125,null,null,{"$f":"IF($A619>$J$30,NA(),IF($A619>$N$30,0,(1-$M$35)*J619+(2*$M$35-$M$36)*J620-($M$35+$M$37)*J621+$M$36*N620+$M$37*N621))","v":23.876095917258578},37.197517244822954,-0.2181207339446421,-0.23867616657450735,null,null,23.667407799786901,37.458694422939502,-0.22562025258703744,-0.32861315452926237,null,null,null,null,null,null,null,null,null,null,null,null,null,null,null,null,null,null,null,null,null,null,null,null,null,null,null,null,null,null,null,{"$error":"#N/A"},1438651]
[588,{"$f":"IF(A620>$A$8,\"\",OFFSET(InputPriceData!B$15,$A620+$A$11,0,1,1))","v":"2022-03-11T05:00:00"},{"$f":"IF(A620>$A$8,\"\",OFFSET(InputPriceData!G$15,CalculationsAndCharts!$A620+$A$11,IF($C$5,8,0),1,1))","v":1645055},{"$f":"IF(A620>$A$8,\"\",OFFSET(InputPriceData!C$15,CalculationsAndCharts!$A620+$A$11,IF($C$5,8,0),1,1))","v":4258.5},{"$f":"IF(A620>$A$8,\"\",OFFSET(InputPriceData!D$15,CalculationsAndCharts!$A620+$A$11,IF($C$5,8,0),1,1))","v":4335.5},{"$f":"IF(A620>$A$8,\"\",OFFSET(InputPriceData!E$15,CalculationsAndCharts!$A620+$A$11,IF($C$5,8,0),1,1))","v":4198},{"$f":"IF(A620>$A$8,\"\",OFFSET(InputPriceData!F$15,CalculationsAndCharts!$A620+$A$11,IF($C$5,8,0),1,1))","v":4201.5},0,55.75,{"$f":"IF($A620>$J$30,NA(),AVERAGE(H620:H623))","v":26.625},25.875,null,null,{"$f":"IF($A620>$J$30,NA(),IF($A620>$N$30,0,(1-$M$35)*J620+(2*$M$35-$M$36)*J621-($M$35+$M$37)*J622+$M$36*N621+$M$37*N622))","v":23.507071728952749},37.771408196775049,-0.23277888885480355,-0.23362239257950512,null,null,22.563019929953036,41.13059518376366,-0.29151391737869836,-0.32918248021645169,null,null,null,null,null,null,null,null,null,null,null,null,null,null,null,null,null,null,null,null,null,null,null,null,null,null,null,null,null,null,null,{"$error":"#N/A"},1645055]
[589,{"$f":"IF(A621>$A$8,\"\",OFFSET(InputPriceData!B$15,$A621+$A$11,0,1,1))","v":"2022-03-10T05:00:00"},{"$f":"IF(A621>$A$8,\"\",OFFSET(InputPriceData!G$15,CalculationsAndCharts!$A621+$A$11,IF($C$5,8,0),1,1))","v":1745090},{"$f":"IF(A621>$A$8,\"\",OFFSET(InputPriceData!C$15,CalculationsAndCharts!$A621+$A$11,IF($C$5,8,0),1,1))","v":4279},{"$f":"IF(A621>$A$8,\"\",OFFSET(InputPriceData!D$15,CalculationsAndCharts!$A621+$A$11,IF($C$5,8,0),1,1))","v":4282.25},{"$f":"IF(A621>$A$8,\"\",OFFSET(InputPriceData!E$15,CalculationsAndCharts!$A621+$A$11,IF($C$5,8,0),1,1))","v":4207},{"$f":"IF(A621>$A$8,\"\",OFFSET(InputPriceData!F$15,CalculationsAndCharts!$A621+$A$11,IF($C$5,8,0),1,1))","v":4257.25},0,18,{"$f":"IF($A621>$J$30,NA(),AVERAGE(H621:H624))","v":26.625},44.125,null,null,{"$f":"IF($A621>$J$30,NA(),IF($A621>$N$30,0,(1-$M$35)*J621+(2*$M$35-$M$36)*J622-($M$35+$M$37)*J623+$M$36*N622+$M$37*N623))","v":23.117788924437498},37.612712104071107,-0.23867616657450735,-0.20047378644964006,null,null,21.285872273031156,42.122794180976399,-0.32861315452926237,-0.20038071961301393,null,null,null,null,null,null,null,null,null,null,null,null,null,null,null,null,null,null,null,null,null,null,null,null,null,null,null,null,null,null,null,{"$f":"IF(G621>=G622,C621,NA())","v":{"$error":"#N/A"}},{"$f":"IF(G621<G622,C621,NA())","v":1745090}]
[590,{"$f":"IF(A622>$A$8,\"\",OFFSET(InputPriceData!B$15,$A622+$A$11,0,1,1))","v":"2022-03-09T05:00:00"},{"$f":"IF(A622>$A$8,\"\",OFFSET(InputPriceData!G$15,CalculationsAndCharts!$A622+$A$11,IF($C$5,8,0),1,1))","v":1659520},{"$f":"IF(A622>$A$8,\"\",OFFSET(InputPriceData!C$15,CalculationsAndCharts!$A622+$A$11,IF($C$5,8,0),1,1))","v":4153},{"$f":"IF(A622>$A$8,\"\",OFFSET(InputPriceData!D$15,CalculationsAndCharts!$A622+$A$11,IF($C$5,8,0),1,1))","v":4298.25},{"$f":"IF(A622>$A$8,\"\",OFFSET(InputPriceData!E$15,CalculationsAndCharts!$A622+$A$11,IF($C$5,8,0),1,1))","v":4152},{"$f":"IF(A622>$A$8,\"\",OFFSET(InputPriceData!F$15,CalculationsAndCharts!$A622+$A$11,IF($C$5,8,0),1,1))","v":4275.25},106.5,0,{"$f":"IF($A622>$J$30,NA(),AVERAGE(H622:H625))","v":26.625},47.625,null,null,{"$f":"IF($A622>$J$30,NA(),IF($A622>$N$30,0,(1-$M$35)*J622+(2*$M$35-$M$36)*J623-($M$35+$M$37)*J624+$M$36*N623+$M$37*N624))","v":22.707849359926723},36.552361638037404,-0.23362239257950512,-0.16015014418177762,null,null,19.846798773247166,39.325176280866216,-0.32918248021645169,-1.8267150047502016E-2,null,null,null,null,null,null,null,null,null,null,null,null,null,null,null,null,null,null,null,null,null,null,null,null,null,null,null,null,null,null,null,1659520,{"$error":"#N/A"}]
[591,{"$f":"IF(A623>$A$8,\"\",OFFSET(InputPriceData!B$15,$A623+$A$11,0,1,1))","v":"2022-03-08T05:00:00"},{"$f":"IF(A623>$A$8,\"\",OFFSET(InputPriceData!G$15,CalculationsAndCharts!$A623+$A$11,IF($C$5,8,0),1,1))","v":2333021},{"$f":"IF(A623>$A$8,\"\",OFFSET(InputPriceData!C$15,CalculationsAndCharts!$A623+$A$11,IF($C$5,8,0),1,1))","v":4186.5},{"$f":"IF(A623>$A$8,\"\",OFFSET(InputPriceData!D$15,CalculationsAndCharts!$A623+$A$11,IF($C$5,8,0),1,1))","v":4275},{"$f":"IF(A623>$A$8,\"\",OFFSET(InputPriceData!E$15,CalculationsAndCharts!$A623+$A$11,IF($C$5,8,0),1,1))","v":4138.75},{"$f":"IF(A623>$A$8,\"\",OFFSET(InputPriceData!F$15,CalculationsAndCharts!$A623+$A$11,IF($C$5,8,0),1,1))","v":4168.75},0,29.75,{"$f":"IF($A623>$J$30,NA(),AVERAGE(H623:H626))","v":0},53.25,null,null,{"$f":"IF($A623>$J$30,NA(),IF($A623>$N$30,0,(1-$M$35)*J623+(2*$M$35-$M$36)*J624-($M$35+$M$37)*J625+$M$36*N624+$M$37*N625))","v":23.354131251055659},35.065795088444268,-0.20047378644964006,-0.14736290163754895,null,null,22.848643791639663,34.300162776860702,-0.20038071961301393,6.4208674605846103E-2,null,null,null,null,null,null,null,null,null,null,null,null,null,null,null,null,null,null,null,null,null,null,null,null,null,null,null,null,null,null,null,{"$error":"#N/A"},2333021]
[592,{"$f":"IF(A624>$A$8,\"\",OFFSET(InputPriceData!B$15,$A624+$A$11,0,1,1))","v":"2022-03-07T05:00:00"},{"$f":"IF(A624>$A$8,\"\",OFFSET(InputPriceData!G$15,CalculationsAndCharts!$A624+$A$11,IF($C$5,8,0),1,1))","v":1902001},{"$f":"IF(A624>$A$8,\"\",OFFSET(InputPriceData!C$15,CalculationsAndCharts!$A624+$A$11,IF($C$5,8,0),1,1))","v":4308.75},{"$f":"IF(A624>$A$8,\"\",OFFSET(InputPriceData!D$15,CalculationsAndCharts!$A624+$A$11,IF($C$5,8,0),1,1))","v":4325.25},{"$f":"IF(A624>$A$8,\"\",OFFSET(InputPriceData!E$15,CalculationsAndCharts!$A624+$A$11,IF($C$5,8,0),1,1))","v":4185.25},{"$f":"IF(A624>$A$8,\"\",OFFSET(InputPriceData!F$15,CalculationsAndCharts!$A624+$A$11,IF($C$5,8,0),1,1))","v":4198.5},0,128.75,{"$f":"IF($A624>$J$30,NA(),AVERAGE(H624:H627))","v":19.5},45.8125,null,null,{"$f":"IF($A624>$J$30,NA(),IF($A624>$N$30,0,(1-$M$35)*J624+(2*$M$35-$M$36)*J625-($M$35+$M$37)*J626+$M$36*N625+$M$37*N626))","v":24.309172034700907},33.58015631677624,-0.16015014418177762,-0.14666388751502529,null,null,27.634050180136647,28.662426364319913,-1.8267150047502016E-2,8.4739752026565224E-2,null,null,null,null,null,null,null,null,null,null,null,null,null,null,null,null,null,null,null,null,null,null,null,null,null,null,null,null,null,null,null,{"$error":"#N/A"},1902001]
[593,{"$f":"IF(A625>$A$8,\"\",OFFSET(InputPriceData!B$15,$A625+$A$11,0,1,1))","v":"2022-03-04T05:00:00"},{"$f":"IF(A625>$A$8,\"\",OFFSET(InputPriceData!G$15,CalculationsAndCharts!$A625+$A$11,IF($C$5,8,0),1,1))","v":1842722},{"$f":"IF(A625>$A$8,\"\",OFFSET(InputPriceData!C$15,CalculationsAndCharts!$A625+$A$11,IF($C$5,8,0),1,1))","v":4366.5},{"$f":"IF(A625>$A$8,\"\",OFFSET(InputPriceData!D$15,CalculationsAndCharts!$A625+$A$11,IF($C$5,8,0),1,1))","v":4374.5},{"$f":"IF(A625>$A$8,\"\",OFFSET(InputPriceData!E$15,CalculationsAndCharts!$A625+$A$11,IF($C$5,8,0),1,1))","v":4281.25},{"$f":"IF(A625>$A$8,\"\",OFFSET(InputPriceData!F$15,CalculationsAndCharts!$A625+$A$11,IF($C$5,8,0),1,1))","v":4327.25},0,32,{"$f":"IF($A625>$J$30,NA(),AVERAGE(H625:H628))","v":19.5},29.6875,null,null,{"$f":"IF($A625>$J$30,NA(),IF($A625>$N$30,0,(1-$M$35)*J625+(2*$M$35-$M$36)*J626-($M$35+$M$37)*J627+$M$36*N626+$M$37*N627))","v":24.506431748813434},32.977418756588555,-0.14736290163754895,-0.17158221188245798,null,null,29.798132048242024,26.202411377657864,6.4208674605846103E-2,4.6749220103213598E-3,null,null,null,null,null,null,null,null,null,null,null,null,null,null,null,null,null,null,null,null,null,null,null,null,null,null,null,null,null,null,null,{"$error":"#N/A"},1842722]
[594,{"$f":"IF(A626>$A$8,\"\",OFFSET(InputPriceData!B$15,$A626+$A$11,0,1,1))","v":"2022-03-03T05:00:00"},{"$f":"IF(A626>$A$8,\"\",OFFSET(InputPriceData!G$15,CalculationsAndCharts!$A626+$A$11,IF($C$5,8,0),1,1))","v":1547676},{"$f":"IF(A626>$A$8,\"\",OFFSET(InputPriceData!C$15,CalculationsAndCharts!$A626+$A$11,IF($C$5,8,0),1,1))","v":4373.75},{"$f":"IF(A626>$A$8,\"\",OFFSET(InputPriceData!D$15,CalculationsAndCharts!$A626+$A$11,IF($C$5,8,0),1,1))","v":4418.75},{"$f":"IF(A626>$A$8,\"\",OFFSET(InputPriceData!E$15,CalculationsAndCharts!$A626+$A$11,IF($C$5,8,0),1,1))","v":4341},{"$f":"IF(A626>$A$8,\"\",OFFSET(InputPriceData!F$15,CalculationsAndCharts!$A626+$A$11,IF($C$5,8,0),1,1))","v":4359.25},0,22.5,{"$f":"IF($A626>$J$30,NA(),AVERAGE(H626:H629))","v":19.5},24.6875,null,null,{"$f":"IF($A626>$J$30,NA(),IF($A626>$N$30,0,(1-$M$35)*J626+(2*$M$35-$M$36)*J627-($M$35+$M$37)*J628+$M$36*N627+$M$37*N628))","v":24.703587741550379},33.195257461687994,-0.14666388751502529,-0.21781585562865005,null,null,32.16277910193196,27.13767345702302,8.4739752026565224E-2,-0.16825697562668335,null,null,null,null,null,null,null,null,null,null,null,null,null,null,null,null,null,null,null,null,null,null,null,null,null,null,null,null,null,null,null,{"$error":"#N/A"},1547676]
[595,{"$f":"IF(A627>$A$8,\"\",OFFSET(InputPriceData!B$15,$A627+$A$11,0,1,1))","v":"2022-03-02T05:00:00"},{"$f":"IF(A627>$A$8,\"\",OFFSET(InputPriceData!G$15,CalculationsAndCharts!$A627+$A$11,IF($C$5,8,0),1,1))","v":1712970},{"$f":"IF(A627>$A$8,\"\",OFFSET(InputPriceData!C$15,CalculationsAndCharts!$A627+$A$11,IF($C$5,8,0),1,1))","v":4308.75},{"$f":"IF(A627>$A$8,\"\",OFFSET(InputPriceData!D$15,CalculationsAndCharts!$A627+$A$11,IF($C$5,8,0),1,1))","v":4399.25},{"$f":"IF(A627>$A$8,\"\",OFFSET(InputPriceData!E$15,CalculationsAndCharts!$A627+$A$11,IF($C$5,8,0),1,1))","v":4278.25},{"$f":"IF(A627>$A$8,\"\",OFFSET(InputPriceData!F$15,CalculationsAndCharts!$A627+$A$11,IF($C$5,8,0),1,1))","v":4381.75},78,0,{"$f":"IF($A627>$J$30,NA(),AVERAGE(H627:H630))","v":43.5},19.0625,null,null,{"$f":"IF($A627>$J$30,NA(),IF($A627>$N$30,0,(1-$M$35)*J627+(2*$M$35-$M$36)*J628-($M$35+$M$37)*J629+$M$36*N628+$M$37*N629))","v":23.928951362986318},33.841298639397991,-0.17158221188245798,-0.26168951044983457,null,null,30.536364162051385,30.252182447530803,4.6749220103213598E-3,-0.35881034837866815,null,null,null,null,null,null,null,null,null,null,null,null,null,null,null,null,null,null,null,null,null,null,null,null,null,null,null,null,null,null,null,1712970,{"$error":"#N/A"}]
[596,{"$f":"IF(A628>$A$8,\"\",OFFSET(InputPriceData!B$15,$A628+$A$11,0,1,1))","v":"2022-03-01T05:00:00"},{"$f":"IF(A628>$A$8,\"\",OFFSET(InputPriceData!G$15,CalculationsAndCharts!$A628+$A$11,IF($C$5,8,0),1,1))","v":1869277},{"$f":"IF(A628>$A$8,\"\",OFFSET(InputPriceData!C$15,CalculationsAndCharts!$A628+$A$11,IF($C$5,8,0),1,1))","v":4367.5},{"$f":"IF(A628>$A$8,\"\",OFFSET(InputPriceData!D$15,CalculationsAndCharts!$A628+$A$11,IF($C$5,8,0),1,1))","v":4399},{"$f":"IF(A628>$A$8,\"\",OFFSET(InputPriceData!E$15,CalculationsAndCharts!$A628+$A$11,IF($C$5,8,0),1,1))","v":4275},{"$f":"IF(A628>$A$8,\"\",OFFSET(InputPriceData!F$15,CalculationsAndCharts!$A628+$A$11,IF($C$5,8,0),1,1))","v":4303.75},0,64.25,{"$f":"IF($A628>$J$30,NA(),AVERAGE(H628:H631))","v":39.5},19.0625,null,null,{"$f":"IF($A628>$J$30,NA(),IF($A628>$N$30,0,(1-$M$35)*J628+(2*$M$35-$M$36)*J629-($M$35+$M$37)*J630+$M$36*N629+$M$37*N630))","v":22.305952412771667},34.72908869177337,-0.21781585562865005,-0.30274218390095242,null,null,24.920287135323868,35.002757374968851,-0.16825697562668335,-0.57578284707492178,null,null,null,null,null,null,null,null,null,null,null,null,null,null,null,null,null,null,null,null,null,null,null,null,null,null,null,null,null,null,null,{"$error":"#N/A"},1869277]
[597,{"$f":"IF(A629>$A$8,\"\",OFFSET(InputPriceData!B$15,$A629+$A$11,0,1,1))","v":"2022-02-28T05:00:00"},{"$f":"IF(A629>$A$8,\"\",OFFSET(InputPriceData!G$15,CalculationsAndCharts!$A629+$A$11,IF($C$5,8,0),1,1))","v":2189820},{"$f":"IF(A629>$A$8,\"\",OFFSET(InputPriceData!C$15,CalculationsAndCharts!$A629+$A$11,IF($C$5,8,0),1,1))","v":4299.5},{"$f":"IF(A629>$A$8,\"\",OFFSET(InputPriceData!D$15,CalculationsAndCharts!$A629+$A$11,IF($C$5,8,0),1,1))","v":4385.5},{"$f":"IF(A629>$A$8,\"\",OFFSET(InputPriceData!E$15,CalculationsAndCharts!$A629+$A$11,IF($C$5,8,0),1,1))","v":4251.5},{"$f":"IF(A629>$A$8,\"\",OFFSET(InputPriceData!F$15,CalculationsAndCharts!$A629+$A$11,IF($C$5,8,0),1,1))","v":4368},0,12,{"$f":"IF($A629>$J$30,NA(),AVERAGE(H629:H632))","v":39.5},22.5,null,null,{"$f":"IF($A629>$J$30,NA(),IF($A629>$N$30,0,(1-$M$35)*J629+(2*$M$35-$M$36)*J630-($M$35+$M$37)*J631+$M$36*N630+$M$37*N631))","v":20.773636243415318},35.499805722910224,-0.26168951044983457,-0.31546289246388881,null,null,18.873033303000071,39.995768635013555,-0.35881034837866815,-0.70560376742819453,null,null,null,null,null,null,null,null,null,null,null,null,null,null,null,null,null,null,null,null,null,null,null,null,null,null,null,null,null,null,null,{"$error":"#N/A"},2189820]
[598,{"$f":"IF(A630>$A$8,\"\",OFFSET(InputPriceData!B$15,$A630+$A$11,0,1,1))","v":"2022-02-25T05:00:00"},{"$f":"IF(A630>$A$8,\"\",OFFSET(InputPriceData!G$15,CalculationsAndCharts!$A630+$A$11,IF($C$5,8,0),1,1))","v":1950397},{"$f":"IF(A630>$A$8,\"\",OFFSET(InputPriceData!C$15,CalculationsAndCharts!$A630+$A$11,IF($C$5,8,0),1,1))","v":4266.75},{"$f":"IF(A630>$A$8,\"\",OFFSET(InputPriceData!D$15,CalculationsAndCharts!$A630+$A$11,IF($C$5,8,0),1,1))","v":4384.25},{"$f":"IF(A630>$A$8,\"\",OFFSET(InputPriceData!E$15,CalculationsAndCharts!$A630+$A$11,IF($C$5,8,0),1,1))","v":4227.5},{"$f":"IF(A630>$A$8,\"\",OFFSET(InputPriceData!F$15,CalculationsAndCharts!$A630+$A$11,IF($C$5,8,0),1,1))","v":4380},96,0,{"$f":"IF($A630>$J$30,NA(),AVERAGE(H630:H633))","v":39.5},30.375,null,null,{"$f":"IF($A630>$J$30,NA(),IF($A630>$N$30,0,(1-$M$35)*J630+(2*$M$35-$M$36)*J631-($M$35+$M$37)*J632+$M$36*N631+$M$37*N632))","v":19.176119195353028},35.828267281482113,-0.30274218390095242,-0.27298995439742746,null,null,11.784525141740234,43.77440292367686,-0.57578284707492178,-0.59974930186963027,null,null,null,null,null,null,null,null,null,null,null,null,null,null,null,null,null,null,null,null,null,null,null,null,null,null,null,null,null,null,null,1950397,{"$error":"#N/A"}]
[599,{"$f":"IF(A631>$A$8,\"\",OFFSET(InputPriceData!B$15,$A631+$A$11,0,1,1))","v":"2022-02-24T05:00:00"},{"$f":"IF(A631>$A$8,\"\",OFFSET(InputPriceData!G$15,CalculationsAndCharts!$A631+$A$11,IF($C$5,8,0),1,1))","v":2945330},{"$f":"IF(A631>$A$8,\"\",OFFSET(InputPriceData!C$15,CalculationsAndCharts!$A631+$A$11,IF($C$5,8,0),1,1))","v":4215.5},{"$f":"IF(A631>$A$8,\"\",OFFSET(InputPriceData!D$15,CalculationsAndCharts!$A631+$A$11,IF($C$5,8,0),1,1))","v":4290},{"$f":"IF(A631>$A$8,\"\",OFFSET(InputPriceData!E$15,CalculationsAndCharts!$A631+$A$11,IF($C$5,8,0),1,1))","v":4101.75},{"$f":"IF(A631>$A$8,\"\",OFFSET(InputPriceData!F$15,CalculationsAndCharts!$A631+$A$11,IF($C$5,8,0),1,1))","v":4284},62,0,{"$f":"IF($A631>$J$30,NA(),AVERAGE(H631:H634))","v":15.5},38.125,null,null,{"$f":"IF($A631>$J$30,NA(),IF($A631>$N$30,0,(1-$M$35)*J631+(2*$M$35-$M$36)*J632-($M$35+$M$37)*J633+$M$36*N632+$M$37*N633))","v":18.484282749700743},35.52092031732407,-0.31546289246388881,-0.21148128251579407,null,null,7.8111468790197982,45.254388714168229,-0.70560376742819453,-0.3770408106977674,null,null,null,null,null,null,null,null,null,null,null,null,null,null,null,null,null,null,null,null,null,null,null,null,null,null,null,null,null,null,null,2945330,{"$error":"#N/A"}]
[600,{"$f":"IF(A632>$A$8,\"\",OFFSET(InputPriceData!B$15,$A632+$A$11,0,1,1))","v":"2022-02-23T05:00:00"},{"$f":"IF(A632>$A$8,\"\",OFFSET(InputPriceData!G$15,CalculationsAndCharts!$A632+$A$11,IF($C$5,8,0),1,1))","v":1914227},{"$f":"IF(A632>$A$8,\"\",OFFSET(InputPriceData!C$15,CalculationsAndCharts!$A632+$A$11,IF($C$5,8,0),1,1))","v":4310.75},{"$f":"IF(A632>$A$8,\"\",OFFSET(InputPriceData!D$15,CalculationsAndCharts!$A632+$A$11,IF($C$5,8,0),1,1))","v":4345.5},{"$f":"IF(A632>$A$8,\"\",OFFSET(InputPriceData!E$15,CalculationsAndCharts!$A632+$A$11,IF($C$5,8,0),1,1))","v":4212.5},{"$f":"IF(A632>$A$8,\"\",OFFSET(InputPriceData!F$15,CalculationsAndCharts!$A632+$A$11,IF($C$5,8,0),1,1))","v":4222},0,78,{"$f":"IF($A632>$J$30,NA(),AVERAGE(H632:H635))","v":0},62,null,null,{"$f":"IF($A632>$J$30,NA(),IF($A632>$N$30,0,(1-$M$35)*J632+(2*$M$35-$M$36)*J633-($M$35+$M$37)*J634+$M$36*N633+$M$37*N634))","v":19.363005405388499},33.9044990053373,-0.27298995439742746,-0.18286329916365807,null,null,10.307974083766181,41.199614194861468,-0.59974930186963027,-0.26197423089816524,null,null,null,null,null,null,null,null,null,null,null,null,null,null,null,null,null,null,null,null,null,null,null,null,null,null,null,null,null,null,null,{"$error":"#N/A"},1914227]
[601,{"$f":"IF(A633>$A$8,\"\",OFFSET(InputPriceData!B$15,$A633+$A$11,0,1,1))","v":"2022-02-22T05:00:00"},{"$f":"IF(A633>$A$8,\"\",OFFSET(InputPriceData!G$15,CalculationsAndCharts!$A633+$A$11,IF($C$5,8,0),1,1))","v":2589159},{"$f":"IF(A633>$A$8,\"\",OFFSET(InputPriceData!C$15,CalculationsAndCharts!$A633+$A$11,IF($C$5,8,0),1,1))","v":4324.25},{"$f":"IF(A633>$A$8,\"\",OFFSET(InputPriceData!D$15,CalculationsAndCharts!$A633+$A$11,IF($C$5,8,0),1,1))","v":4391.25},{"$f":"IF(A633>$A$8,\"\",OFFSET(InputPriceData!E$15,CalculationsAndCharts!$A633+$A$11,IF($C$5,8,0),1,1))","v":4250},{"$f":"IF(A633>$A$8,\"\",OFFSET(InputPriceData!F$15,CalculationsAndCharts!$A633+$A$11,IF($C$5,8,0),1,1))","v":4300},0,43.5,{"$f":"IF($A633>$J$30,NA(),AVERAGE(H633:H636))","v":1.375},42.5,null,null,{"$f":"IF($A633>$J$30,NA(),IF($A633>$N$30,0,(1-$M$35)*J633+(2*$M$35-$M$36)*J634-($M$35+$M$37)*J635+$M$36*N634+$M$37*N635))","v":20.847750902940213},32.030514230589212,-0.21148128251579407,-0.1781808155251251,null,null,16.015171272567208,35.401266746448343,-0.3770408106977674,-0.23342567099692191,null,null,null,null,null,null,null,null,null,null,null,null,null,null,null,null,null,null,null,null,null,null,null,null,null,null,null,null,null,null,null,{"$error":"#N/A"},2589159]
[602,{"$f":"IF(A634>$A$8,\"\",OFFSET(InputPriceData!B$15,$A634+$A$11,0,1,1))","v":"2022-02-18T05:00:00"},{"$f":"IF(A634>$A$8,\"\",OFFSET(InputPriceData!G$15,CalculationsAndCharts!$A634+$A$11,IF($C$5,8,0),1,1))","v":1824590},{"$f":"IF(A634>$A$8,\"\",OFFSET(InputPriceData!C$15,CalculationsAndCharts!$A634+$A$11,IF($C$5,8,0),1,1))","v":4374.75},{"$f":"IF(A634>$A$8,\"\",OFFSET(InputPriceData!D$15,CalculationsAndCharts!$A634+$A$11,IF($C$5,8,0),1,1))","v":4411.5},{"$f":"IF(A634>$A$8,\"\",OFFSET(InputPriceData!E$15,CalculationsAndCharts!$A634+$A$11,IF($C$5,8,0),1,1))","v":4321},{"$f":"IF(A634>$A$8,\"\",OFFSET(InputPriceData!F$15,CalculationsAndCharts!$A634+$A$11,IF($C$5,8,0),1,1))","v":4343.5},0,31,{"$f":"IF($A634>$J$30,NA(),AVERAGE(H634:H637))","v":19},31.625,null,null,{"$f":"IF($A634>$J$30,NA(),IF($A634>$N$30,0,(1-$M$35)*J634+(2*$M$35-$M$36)*J635-($M$35+$M$37)*J636+$M$36*N635+$M$37*N636))","v":21.620340335672974},31.296975245782342,-0.18286329916365807,-0.17684992412078457,null,null,19.682047926873366,33.654972949311201,-0.26197423089816524,-0.20982184377877688,null,null,null,null,null,null,null,null,null,null,null,null,null,null,null,null,null,null,null,null,null,null,null,null,null,null,null,null,null,null,null,{"$error":"#N/A"},1824590]
[603,{"$f":"IF(A635>$A$8,\"\",OFFSET(InputPriceData!B$15,$A635+$A$11,0,1,1))","v":"2022-02-17T05:00:00"},{"$f":"IF(A635>$A$8,\"\",OFFSET(InputPriceData!G$15,CalculationsAndCharts!$A635+$A$11,IF($C$5,8,0),1,1))","v":1629730},{"$f":"IF(A635>$A$8,\"\",OFFSET(InputPriceData!C$15,CalculationsAndCharts!$A635+$A$11,IF($C$5,8,0),1,1))","v":4464.25},{"$f":"IF(A635>$A$8,\"\",OFFSET(InputPriceData!D$15,CalculationsAndCharts!$A635+$A$11,IF($C$5,8,0),1,1))","v":4474.75},{"$f":"IF(A635>$A$8,\"\",OFFSET(InputPriceData!E$15,CalculationsAndCharts!$A635+$A$11,IF($C$5,8,0),1,1))","v":4367.25},{"$f":"IF(A635>$A$8,\"\",OFFSET(InputPriceData!F$15,CalculationsAndCharts!$A635+$A$11,IF($C$5,8,0),1,1))","v":4374.5},0,95.5,{"$f":"IF($A635>$J$30,NA(),AVERAGE(H635:H638))","v":19},27.75,null,null,{"$f":"IF($A635>$J$30,NA(),IF($A635>$N$30,0,(1-$M$35)*J635+(2*$M$35-$M$36)*J636-($M$35+$M$37)*J637+$M$36*N636+$M$37*N637))","v":21.706182445027533},31.118533392915154,-0.1781808155251251,-0.16256177572709149,null,null,21.127284483428564,33.994009523127531,-0.23342567099692191,-0.13068231275440942,null,null,null,null,null,null,null,null,null,null,null,null,null,null,null,null,null,null,null,null,null,null,null,null,null,null,null,null,null,null,null,{"$error":"#N/A"},1629730]
[604,{"$f":"IF(A636>$A$8,\"\",OFFSET(InputPriceData!B$15,$A636+$A$11,0,1,1))","v":"2022-02-16T05:00:00"},{"$f":"IF(A636>$A$8,\"\",OFFSET(InputPriceData!G$15,CalculationsAndCharts!$A636+$A$11,IF($C$5,8,0),1,1))","v":1426847},{"$f":"IF(A636>$A$8,\"\",OFFSET(InputPriceData!C$15,CalculationsAndCharts!$A636+$A$11,IF($C$5,8,0),1,1))","v":4458.75},{"$f":"IF(A636>$A$8,\"\",OFFSET(InputPriceData!D$15,CalculationsAndCharts!$A636+$A$11,IF($C$5,8,0),1,1))","v":4484.5},{"$f":"IF(A636>$A$8,\"\",OFFSET(InputPriceData!E$15,CalculationsAndCharts!$A636+$A$11,IF($C$5,8,0),1,1))","v":4422.75},{"$f":"IF(A636>$A$8,\"\",OFFSET(InputPriceData!F$15,CalculationsAndCharts!$A636+$A$11,IF($C$5,8,0),1,1))","v":4470},5.5,0,{"$f":"IF($A636>$J$30,NA(),AVERAGE(H636:H639))","v":19},25.875,null,null,{"$f":"IF($A636>$J$30,NA(),IF($A636>$N$30,0,(1-$M$35)*J636+(2*$M$35-$M$36)*J637-($M$35+$M$37)*J638+$M$36*N637+$M$37*N638))","v":21.790252564835917},31.153319217166324,-0.17684992412078457,-0.1312909407200544,null,null,22.986696202019676,35.194350745535225,-0.20982184377877688,3.3164319004346875E-2,null,null,null,null,null,null,null,null,null,null,null,null,null,null,null,null,null,null,null,null,null,null,null,null,null,null,null,null,null,null,null,1426847,{"$error":"#N/A"}]
[605,{"$f":"IF(A637>$A$8,\"\",OFFSET(InputPriceData!B$15,$A637+$A$11,0,1,1))","v":"2022-02-15T05:00:00"},{"$f":"IF(A637>$A$8,\"\",OFFSET(InputPriceData!G$15,CalculationsAndCharts!$A637+$A$11,IF($C$5,8,0),1,1))","v":1523305},{"$f":"IF(A637>$A$8,\"\",OFFSET(InputPriceData!C$15,CalculationsAndCharts!$A637+$A$11,IF($C$5,8,0),1,1))","v":4393.5},{"$f":"IF(A637>$A$8,\"\",OFFSET(InputPriceData!D$15,CalculationsAndCharts!$A637+$A$11,IF($C$5,8,0),1,1))","v":4468},{"$f":"IF(A637>$A$8,\"\",OFFSET(InputPriceData!E$15,CalculationsAndCharts!$A637+$A$11,IF($C$5,8,0),1,1))","v":4381.75},{"$f":"IF(A637>$A$8,\"\",OFFSET(InputPriceData!F$15,CalculationsAndCharts!$A637+$A$11,IF($C$5,8,0),1,1))","v":4464.5},70.5,0,{"$f":"IF($A637>$J$30,NA(),AVERAGE(H637:H640))","v":17.625},45.9375,null,null,{"$f":"IF($A637>$J$30,NA(),IF($A637>$N$30,0,(1-$M$35)*J637+(2*$M$35-$M$36)*J638-($M$35+$M$37)*J639+$M$36*N638+$M$37*N639))","v":21.927761394890378},30.440904757001086,-0.16256177572709149,-0.10687865022701068,null,null,25.541690653804881,33.220925196639925,-0.13068231275440942,0.21163853339416636,null,null,null,null,null,null,null,null,null,null,null,null,null,null,null,null,null,null,null,null,null,null,null,null,null,null,null,null,null,null,null,1523305,{"$error":"#N/A"}]
[606,{"$f":"IF(A638>$A$8,\"\",OFFSET(InputPriceData!B$15,$A638+$A$11,0,1,1))","v":"2022-02-14T05:00:00"},{"$f":"IF(A638>$A$8,\"\",OFFSET(InputPriceData!G$15,CalculationsAndCharts!$A638+$A$11,IF($C$5,8,0),1,1))","v":2098618},{"$f":"IF(A638>$A$8,\"\",OFFSET(InputPriceData!C$15,CalculationsAndCharts!$A638+$A$11,IF($C$5,8,0),1,1))","v":4411.75},{"$f":"IF(A638>$A$8,\"\",OFFSET(InputPriceData!D$15,CalculationsAndCharts!$A638+$A$11,IF($C$5,8,0),1,1))","v":4428},{"$f":"IF(A638>$A$8,\"\",OFFSET(InputPriceData!E$15,CalculationsAndCharts!$A638+$A$11,IF($C$5,8,0),1,1))","v":4354},{"$f":"IF(A638>$A$8,\"\",OFFSET(InputPriceData!F$15,CalculationsAndCharts!$A638+$A$11,IF($C$5,8,0),1,1))","v":4394},0,15.5,{"$f":"IF($A638>$J$30,NA(),AVERAGE(H638:H641))","v":16.3125},45.9375,null,null,{"$f":"IF($A638>$J$30,NA(),IF($A638>$N$30,0,(1-$M$35)*J638+(2*$M$35-$M$36)*J639-($M$35+$M$37)*J640+$M$36*N639+$M$37*N640))","v":22.173523398287568},28.875842695964351,-0.1312909407200544,-0.10478904371979411,null,null,29.086415182989562,27.219081721936334,3.3164319004346875E-2,0.32785826265119555,null,null,null,null,null,null,null,null,null,null,null,null,null,null,null,null,null,null,null,null,null,null,null,null,null,null,null,null,null,null,null,{"$error":"#N/A"},2098618]
[607,{"$f":"IF(A639>$A$8,\"\",OFFSET(InputPriceData!B$15,$A639+$A$11,0,1,1))","v":"2022-02-11T05:00:00"},{"$f":"IF(A639>$A$8,\"\",OFFSET(InputPriceData!G$15,CalculationsAndCharts!$A639+$A$11,IF($C$5,8,0),1,1))","v":2479025},{"$f":"IF(A639>$A$8,\"\",OFFSET(InputPriceData!C$15,CalculationsAndCharts!$A639+$A$11,IF($C$5,8,0),1,1))","v":4494.5},{"$f":"IF(A639>$A$8,\"\",OFFSET(InputPriceData!D$15,CalculationsAndCharts!$A639+$A$11,IF($C$5,8,0),1,1))","v":4520.5},{"$f":"IF(A639>$A$8,\"\",OFFSET(InputPriceData!E$15,CalculationsAndCharts!$A639+$A$11,IF($C$5,8,0),1,1))","v":4393.25},{"$f":"IF(A639>$A$8,\"\",OFFSET(InputPriceData!F$15,CalculationsAndCharts!$A639+$A$11,IF($C$5,8,0),1,1))","v":4409.5},0,88,{"$f":"IF($A639>$J$30,NA(),AVERAGE(H639:H642))","v":25.5},42.0625,null,null,{"$f":"IF($A639>$J$30,NA(),IF($A639>$N$30,0,(1-$M$35)*J639+(2*$M$35-$M$36)*J640-($M$35+$M$37)*J641+$M$36*N640+$M$37*N641))","v":22.103915814421924},27.39420853349614,-0.10687865022701068,-0.1362902380483729,null,null,31.885737221724742,20.746687949507042,0.21163853339416636,0.2808666728472673,null,null,null,null,null,null,null,null,null,null,null,null,null,null,null,null,null,null,null,null,null,null,null,null,null,null,null,null,null,null,null,{"$error":"#N/A"},2479025]
[608,{"$f":"IF(A640>$A$8,\"\",OFFSET(InputPriceData!B$15,$A640+$A$11,0,1,1))","v":"2022-02-10T05:00:00"},{"$f":"IF(A640>$A$8,\"\",OFFSET(InputPriceData!G$15,CalculationsAndCharts!$A640+$A$11,IF($C$5,8,0),1,1))","v":2403026},{"$f":"IF(A640>$A$8,\"\",OFFSET(InputPriceData!C$15,CalculationsAndCharts!$A640+$A$11,IF($C$5,8,0),1,1))","v":4582.25},{"$f":"IF(A640>$A$8,\"\",OFFSET(InputPriceData!D$15,CalculationsAndCharts!$A640+$A$11,IF($C$5,8,0),1,1))","v":4583.75},{"$f":"IF(A640>$A$8,\"\",OFFSET(InputPriceData!E$15,CalculationsAndCharts!$A640+$A$11,IF($C$5,8,0),1,1))","v":4476},{"$f":"IF(A640>$A$8,\"\",OFFSET(InputPriceData!F$15,CalculationsAndCharts!$A640+$A$11,IF($C$5,8,0),1,1))","v":4497.5},0,80.25,{"$f":"IF($A640>$J$30,NA(),AVERAGE(H640:H643))","v":25.5},24.25,null,null,{"$f":"IF($A640>$J$30,NA(),IF($A640>$N$30,0,(1-$M$35)*J640+(2*$M$35-$M$36)*J641-($M$35+$M$37)*J642+$M$36*N641+$M$37*N642))","v":21.652916859203113},26.72208728322973,-0.10478904371979411,-0.15393106795260852,null,null,33.502762062415002,16.958590635761603,0.32785826265119555,0.27578932611076912,null,null,null,null,null,null,null,null,null,null,null,null,null,null,null,null,null,null,null,null,null,null,null,null,null,null,null,null,null,null,null,{"$error":"#N/A"},2403026]
[609,{"$f":"IF(A641>$A$8,\"\",OFFSET(InputPriceData!B$15,$A641+$A$11,0,1,1))","v":"2022-02-09T05:00:00"},{"$f":"IF(A641>$A$8,\"\",OFFSET(InputPriceData!G$15,CalculationsAndCharts!$A641+$A$11,IF($C$5,8,0),1,1))","v":1383317},{"$f":"IF(A641>$A$8,\"\",OFFSET(InputPriceData!C$15,CalculationsAndCharts!$A641+$A$11,IF($C$5,8,0),1,1))","v":4519},{"$f":"IF(A641>$A$8,\"\",OFFSET(InputPriceData!D$15,CalculationsAndCharts!$A641+$A$11,IF($C$5,8,0),1,1))","v":4585},{"$f":"IF(A641>$A$8,\"\",OFFSET(InputPriceData!E$15,CalculationsAndCharts!$A641+$A$11,IF($C$5,8,0),1,1))","v":4517.25},{"$f":"IF(A641>$A$8,\"\",OFFSET(InputPriceData!F$15,CalculationsAndCharts!$A641+$A$11,IF($C$5,8,0),1,1))","v":4577.75},65.25,0,{"$f":"IF($A641>$J$30,NA(),AVERAGE(H641:H644))","v":31.375},4.1875,null,null,{"$f":"IF($A641>$J$30,NA(),IF($A641>$N$30,0,(1-$M$35)*J641+(2*$M$35-$M$36)*J642-($M$35+$M$37)*J643+$M$36*N642+$M$37*N643))","v":20.939577470439264},27.547954783739439,-0.1362902380483729,-0.1387386459474039,null,null,34.241227521097002,19.224489476568973,0.2808666728472673,0.39367309603238498,null,null,null,null,null,null,null,null,null,null,null,null,null,null,null,null,null,null,null,null,null,null,null,null,null,null,null,null,null,null,null,1383317,{"$error":"#N/A"}]
[610,{"$f":"IF(A642>$A$8,\"\",OFFSET(InputPriceData!B$15,$A642+$A$11,0,1,1))","v":"2022-02-08T05:00:00"},{"$f":"IF(A642>$A$8,\"\",OFFSET(InputPriceData!G$15,CalculationsAndCharts!$A642+$A$11,IF($C$5,8,0),1,1))","v":1459766},{"$f":"IF(A642>$A$8,\"\",OFFSET(InputPriceData!C$15,CalculationsAndCharts!$A642+$A$11,IF($C$5,8,0),1,1))","v":4484},{"$f":"IF(A642>$A$8,\"\",OFFSET(InputPriceData!D$15,CalculationsAndCharts!$A642+$A$11,IF($C$5,8,0),1,1))","v":4523.75},{"$f":"IF(A642>$A$8,\"\",OFFSET(InputPriceData!E$15,CalculationsAndCharts!$A642+$A$11,IF($C$5,8,0),1,1))","v":4456.25},{"$f":"IF(A642>$A$8,\"\",OFFSET(InputPriceData!F$15,CalculationsAndCharts!$A642+$A$11,IF($C$5,8,0),1,1))","v":4512.5},36.75,0,{"$f":"IF($A642>$J$30,NA(),AVERAGE(H642:H645))","v":15.0625},31.25,null,null,{"$f":"IF($A642>$J$30,NA(),IF($A642>$N$30,0,(1-$M$35)*J642+(2*$M$35-$M$36)*J643-($M$35+$M$37)*J644+$M$36*N643+$M$37*N644))","v":20.61419109737481},28.115150724669856,-0.15393106795260852,-0.13439294588081846,null,null,36.707880925953901,20.837483617669466,0.27578932611076912,0.48021935139111455,null,null,null,null,null,null,null,null,null,null,null,null,null,null,null,null,null,null,null,null,null,null,null,null,null,null,null,null,null,null,null,1459766,{"$error":"#N/A"}]
[611,{"$f":"IF(A643>$A$8,\"\",OFFSET(InputPriceData!B$15,$A643+$A$11,0,1,1))","v":"2022-02-07T05:00:00"},{"$f":"IF(A643>$A$8,\"\",OFFSET(InputPriceData!G$15,CalculationsAndCharts!$A643+$A$11,IF($C$5,8,0),1,1))","v":1495143},{"$f":"IF(A643>$A$8,\"\",OFFSET(InputPriceData!C$15,CalculationsAndCharts!$A643+$A$11,IF($C$5,8,0),1,1))","v":4497},{"$f":"IF(A643>$A$8,\"\",OFFSET(InputPriceData!D$15,CalculationsAndCharts!$A643+$A$11,IF($C$5,8,0),1,1))","v":4514.5},{"$f":"IF(A643>$A$8,\"\",OFFSET(InputPriceData!E$15,CalculationsAndCharts!$A643+$A$11,IF($C$5,8,0),1,1))","v":4462.75},{"$f":"IF(A643>$A$8,\"\",OFFSET(InputPriceData!F$15,CalculationsAndCharts!$A643+$A$11,IF($C$5,8,0),1,1))","v":4475.75},0,16.75,{"$f":"IF($A643>$J$30,NA(),AVERAGE(H643:H646))","v":16.4375},31.25,null,null,{"$f":"IF($A643>$J$30,NA(),IF($A643>$N$30,0,(1-$M$35)*J643+(2*$M$35-$M$36)*J644-($M$35+$M$37)*J645+$M$36*N644+$M$37*N645))","v":20.874836094640202},27.60019647570639,-0.1387386459474039,-0.15446290137906693,null,null,41.868471538725593,18.215161643144612,0.39367309603238498,0.51611598654869739,null,null,null,null,null,null,null,null,null,null,null,null,null,null,null,null,null,null,null,null,null,null,null,null,null,null,null,null,null,null,null,{"$error":"#N/A"},1495143]
[612,{"$f":"IF(A644>$A$8,\"\",OFFSET(InputPriceData!B$15,$A644+$A$11,0,1,1))","v":"2022-02-04T05:00:00"},{"$f":"IF(A644>$A$8,\"\",OFFSET(InputPriceData!G$15,CalculationsAndCharts!$A644+$A$11,IF($C$5,8,0),1,1))","v":1957881},{"$f":"IF(A644>$A$8,\"\",OFFSET(InputPriceData!C$15,CalculationsAndCharts!$A644+$A$11,IF($C$5,8,0),1,1))","v":4518},{"$f":"IF(A644>$A$8,\"\",OFFSET(InputPriceData!D$15,CalculationsAndCharts!$A644+$A$11,IF($C$5,8,0),1,1))","v":4532.5},{"$f":"IF(A644>$A$8,\"\",OFFSET(InputPriceData!E$15,CalculationsAndCharts!$A644+$A$11,IF($C$5,8,0),1,1))","v":4438.5},{"$f":"IF(A644>$A$8,\"\",OFFSET(InputPriceData!F$15,CalculationsAndCharts!$A644+$A$11,IF($C$5,8,0),1,1))","v":4492.5},23.5,0,{"$f":"IF($A644>$J$30,NA(),AVERAGE(H644:H647))","v":24.125},27.0625,null,null,{"$f":"IF($A644>$J$30,NA(),IF($A644>$N$30,0,(1-$M$35)*J644+(2*$M$35-$M$36)*J645-($M$35+$M$37)*J646+$M$36*N645+$M$37*N646))","v":20.773555880785835},27.224102599306953,-0.13439294588081846,-0.23971532189814687,null,null,45.856872182938162,16.102690958621547,0.48021935139111455,0.35836523467336701,null,null,null,null,null,null,null,null,null,null,null,null,null,null,null,null,null,null,null,null,null,null,null,null,null,null,null,null,null,null,null,1957881,{"$error":"#N/A"}]
[613,{"$f":"IF(A645>$A$8,\"\",OFFSET(InputPriceData!B$15,$A645+$A$11,0,1,1))","v":"2022-02-03T05:00:00"},{"$f":"IF(A645>$A$8,\"\",OFFSET(InputPriceData!G$15,CalculationsAndCharts!$A645+$A$11,IF($C$5,8,0),1,1))","v":1800714},{"$f":"IF(A645>$A$8,\"\",OFFSET(InputPriceData!C$15,CalculationsAndCharts!$A645+$A$11,IF($C$5,8,0),1,1))","v":4545.75},{"$f":"IF(A645>$A$8,\"\",OFFSET(InputPriceData!D$15,CalculationsAndCharts!$A645+$A$11,IF($C$5,8,0),1,1))","v":4548.25},{"$f":"IF(A645>$A$8,\"\",OFFSET(InputPriceData!E$15,CalculationsAndCharts!$A645+$A$11,IF($C$5,8,0),1,1))","v":4462},{"$f":"IF(A645>$A$8,\"\",OFFSET(InputPriceData!F$15,CalculationsAndCharts!$A645+$A$11,IF($C$5,8,0),1,1))","v":4469},0,108.25,{"$f":"IF($A645>$J$30,NA(),AVERAGE(H645:H648))","v":38.5},27.0625,null,null,{"$f":"IF($A645>$J$30,NA(),IF($A645>$N$30,0,(1-$M$35)*J645+(2*$M$35-$M$36)*J646-($M$35+$M$37)*J647+$M$36*N646+$M$37*N647))","v":19.769658893334281},26.992710080371307,-0.15446290137906693,-0.36898787128021382,null,null,46.031925236455692,14.691562471425097,0.51611598654869739,-4.8777568950121039E-3,null,null,null,null,null,null,null,null,null,null,null,null,null,null,null,null,null,null,null,null,null,null,null,null,null,null,null,null,null,null,null,{"$error":"#N/A"},1800714]
[614,{"$f":"IF(A646>$A$8,\"\",OFFSET(InputPriceData!B$15,$A646+$A$11,0,1,1))","v":"2022-02-02T05:00:00"},{"$f":"IF(A646>$A$8,\"\",OFFSET(InputPriceData!G$15,CalculationsAndCharts!$A646+$A$11,IF($C$5,8,0),1,1))","v":1624220},{"$f":"IF(A646>$A$8,\"\",OFFSET(InputPriceData!C$15,CalculationsAndCharts!$A646+$A$11,IF($C$5,8,0),1,1))","v":4552},{"$f":"IF(A646>$A$8,\"\",OFFSET(InputPriceData!D$15,CalculationsAndCharts!$A646+$A$11,IF($C$5,8,0),1,1))","v":4586},{"$f":"IF(A646>$A$8,\"\",OFFSET(InputPriceData!E$15,CalculationsAndCharts!$A646+$A$11,IF($C$5,8,0),1,1))","v":4535.25},{"$f":"IF(A646>$A$8,\"\",OFFSET(InputPriceData!F$15,CalculationsAndCharts!$A646+$A$11,IF($C$5,8,0),1,1))","v":4577.25},42.25,0,{"$f":"IF($A646>$J$30,NA(),AVERAGE(H646:H649))","v":64.875},0,null,null,{"$f":"IF($A646>$J$30,NA(),IF($A646>$N$30,0,(1-$M$35)*J646+(2*$M$35-$M$36)*J647-($M$35+$M$37)*J648+$M$36*N647+$M$37*N648))","v":17.071933837185398},27.837385866080595,-0.23971532189814687,-0.48413590260222822,null,null,38.39664034864623,18.13696249768854,0.35836523467336701,-0.42312966976347038,null,null,null,null,null,null,null,null,null,null,null,null,null,null,null,null,null,null,null,null,null,null,null,null,null,null,null,null,null,null,null,1624220,{"$error":"#N/A"}]
[615,{"$f":"IF(A647>$A$8,\"\",OFFSET(InputPriceData!B$15,$A647+$A$11,0,1,1))","v":"2022-02-01T05:00:00"},{"$f":"IF(A647>$A$8,\"\",OFFSET(InputPriceData!G$15,CalculationsAndCharts!$A647+$A$11,IF($C$5,8,0),1,1))","v":1618163},{"$f":"IF(A647>$A$8,\"\",OFFSET(InputPriceData!C$15,CalculationsAndCharts!$A647+$A$11,IF($C$5,8,0),1,1))","v":4493.25},{"$f":"IF(A647>$A$8,\"\",OFFSET(InputPriceData!D$15,CalculationsAndCharts!$A647+$A$11,IF($C$5,8,0),1,1))","v":4554.75},{"$f":"IF(A647>$A$8,\"\",OFFSET(InputPriceData!E$15,CalculationsAndCharts!$A647+$A$11,IF($C$5,8,0),1,1))","v":4474},{"$f":"IF(A647>$A$8,\"\",OFFSET(InputPriceData!F$15,CalculationsAndCharts!$A647+$A$11,IF($C$5,8,0),1,1))","v":4535},30.75,0,{"$f":"IF($A647>$J$30,NA(),AVERAGE(H647:H650))","v":54.3125},5.9375,null,null,{"$f":"IF($A647>$J$30,NA(),IF($A647>$N$30,0,(1-$M$35)*J647+(2*$M$35-$M$36)*J648-($M$35+$M$37)*J649+$M$36*N648+$M$37*N649))","v":13.625039727124964},29.559676087348517,-0.36898787128021382,-0.56115959130712278,null,null,25.975208808423318,26.229852405715111,-4.8777568950121039E-3,-0.80216514763005908,null,null,null,null,null,null,null,null,null,null,null,null,null,null,null,null,null,null,null,null,null,null,null,null,null,null,null,null,null,null,null,1618163,{"$error":"#N/A"}]
[616,{"$f":"IF(A648>$A$8,\"\",OFFSET(InputPriceData!B$15,$A648+$A$11,0,1,1))","v":"2022-01-31T05:00:00"},{"$f":"IF(A648>$A$8,\"\",OFFSET(InputPriceData!G$15,CalculationsAndCharts!$A648+$A$11,IF($C$5,8,0),1,1))","v":1846145},{"$f":"IF(A648>$A$8,\"\",OFFSET(InputPriceData!C$15,CalculationsAndCharts!$A648+$A$11,IF($C$5,8,0),1,1))","v":4423.5},{"$f":"IF(A648>$A$8,\"\",OFFSET(InputPriceData!D$15,CalculationsAndCharts!$A648+$A$11,IF($C$5,8,0),1,1))","v":4507.75},{"$f":"IF(A648>$A$8,\"\",OFFSET(InputPriceData!E$15,CalculationsAndCharts!$A648+$A$11,IF($C$5,8,0),1,1))","v":4395.5},{"$f":"IF(A648>$A$8,\"\",OFFSET(InputPriceData!F$15,CalculationsAndCharts!$A648+$A$11,IF($C$5,8,0),1,1))","v":4504.25},81,0,{"$f":"IF($A648>$J$30,NA(),AVERAGE(H648:H651))","v":46.625},7.8125,null,null,{"$f":"IF($A648>$J$30,NA(),IF($A648>$N$30,0,(1-$M$35)*J648+(2*$M$35-$M$36)*J649-($M$35+$M$37)*J650+$M$36*N649+$M$37*N650))","v":10.782454110577927},31.021013760006628,-0.48413590260222822,-0.56966475834659169,null,null,14.036995382261564,34.629038027728811,-0.42312966976347038,-0.96167007850540331,null,null,null,null,null,null,null,null,null,null,null,null,null,null,null,null,null,null,null,null,null,null,null,null,null,null,null,null,null,null,null,1846145,{"$error":"#N/A"}]
[617,{"$f":"IF(A649>$A$8,\"\",OFFSET(InputPriceData!B$15,$A649+$A$11,0,1,1))","v":"2022-01-28T05:00:00"},{"$f":"IF(A649>$A$8,\"\",OFFSET(InputPriceData!G$15,CalculationsAndCharts!$A649+$A$11,IF($C$5,8,0),1,1))","v":2251268},{"$f":"IF(A649>$A$8,\"\",OFFSET(InputPriceData!C$15,CalculationsAndCharts!$A649+$A$11,IF($C$5,8,0),1,1))","v":4348},{"$f":"IF(A649>$A$8,\"\",OFFSET(InputPriceData!D$15,CalculationsAndCharts!$A649+$A$11,IF($C$5,8,0),1,1))","v":4426},{"$f":"IF(A649>$A$8,\"\",OFFSET(InputPriceData!E$15,CalculationsAndCharts!$A649+$A$11,IF($C$5,8,0),1,1))","v":4266.25},{"$f":"IF(A649>$A$8,\"\",OFFSET(InputPriceData!F$15,CalculationsAndCharts!$A649+$A$11,IF($C$5,8,0),1,1))","v":4423.25},105.5,0,{"$f":"IF($A649>$J$30,NA(),AVERAGE(H649:H652))","v":26.375},21.5,null,null,{"$f":"IF($A649>$J$30,NA(),IF($A649>$N$30,0,(1-$M$35)*J649+(2*$M$35-$M$36)*J650-($M$35+$M$37)*J651+$M$36*N650+$M$37*N651))","v":8.965454843514129},31.894295835410279,-0.56115959130712278,-0.53618199094254937,null,null,4.5942606266317245,41.851151509756598,-0.80216514763005908,-0.97424565787240491,null,null,null,null,null,null,null,null,null,null,null,null,null,null,null,null,null,null,null,null,null,null,null,null,null,null,null,null,null,null,null,2251268,{"$error":"#N/A"}]
[618,{"$f":"IF(A650>$A$8,\"\",OFFSET(InputPriceData!B$15,$A650+$A$11,0,1,1))","v":"2022-01-27T05:00:00"},{"$f":"IF(A650>$A$8,\"\",OFFSET(InputPriceData!G$15,CalculationsAndCharts!$A650+$A$11,IF($C$5,8,0),1,1))","v":2295458},{"$f":"IF(A650>$A$8,\"\",OFFSET(InputPriceData!C$15,CalculationsAndCharts!$A650+$A$11,IF($C$5,8,0),1,1))","v":4345.25},{"$f":"IF(A650>$A$8,\"\",OFFSET(InputPriceData!D$15,CalculationsAndCharts!$A650+$A$11,IF($C$5,8,0),1,1))","v":4422},{"$f":"IF(A650>$A$8,\"\",OFFSET(InputPriceData!E$15,CalculationsAndCharts!$A650+$A$11,IF($C$5,8,0),1,1))","v":4263.25},{"$f":"IF(A650>$A$8,\"\",OFFSET(InputPriceData!F$15,CalculationsAndCharts!$A650+$A$11,IF($C$5,8,0),1,1))","v":4317.75},0,23.75,{"$f":"IF($A650>$J$30,NA(),AVERAGE(H650:H653))","v":3.4375},21.5,null,null,{"$f":"IF($A650>$J$30,NA(),IF($A650>$N$30,0,(1-$M$35)*J650+(2*$M$35-$M$36)*J651-($M$35+$M$37)*J652+$M$36*N651+$M$37*N652))","v":8.8359429412370005},32.229450203363797,-0.56966475834659169,-0.48883322409261826,null,null,0.93422065482067174,47.812065191466047,-0.96167007850540331,-0.98138790241358387,null,null,null,null,null,null,null,null,null,null,null,null,null,null,null,null,null,null,null,null,null,null,null,null,null,null,null,null,null,null,null,{"$error":"#N/A"},2295458]
[619,{"$f":"IF(A651>$A$8,\"\",OFFSET(InputPriceData!B$15,$A651+$A$11,0,1,1))","v":"2022-01-26T05:00:00"},{"$f":"IF(A651>$A$8,\"\",OFFSET(InputPriceData!G$15,CalculationsAndCharts!$A651+$A$11,IF($C$5,8,0),1,1))","v":2423103},{"$f":"IF(A651>$A$8,\"\",OFFSET(InputPriceData!C$15,CalculationsAndCharts!$A651+$A$11,IF($C$5,8,0),1,1))","v":4308.75},{"$f":"IF(A651>$A$8,\"\",OFFSET(InputPriceData!D$15,CalculationsAndCharts!$A651+$A$11,IF($C$5,8,0),1,1))","v":4446.25},{"$f":"IF(A651>$A$8,\"\",OFFSET(InputPriceData!E$15,CalculationsAndCharts!$A651+$A$11,IF($C$5,8,0),1,1))","v":4294.25},{"$f":"IF(A651>$A$8,\"\",OFFSET(InputPriceData!F$15,CalculationsAndCharts!$A651+$A$11,IF($C$5,8,0),1,1))","v":4341.5},0,7.5,{"$f":"IF($A651>$J$30,NA(),AVERAGE(H651:H654))","v":3.4375},36.75,null,null,{"$f":"IF($A651>$J$30,NA(),IF($A651>$N$30,0,(1-$M$35)*J651+(2*$M$35-$M$36)*J652-($M$35+$M$37)*J653+$M$36*N652+$M$37*N653))","v":9.6436565842165365},31.940138766093064,-0.53618199094254937,-0.43272233305514451,null,null,0.67605507340269266,51.824223912820727,-0.97424565787240491,-0.98404832677482001,null,null,null,null,null,null,null,null,null,null,null,null,null,null,null,null,null,null,null,null,null,null,null,null,null,null,null,null,null,null,null,{"$error":"#N/A"},2423103]
[620,{"$f":"IF(A652>$A$8,\"\",OFFSET(InputPriceData!B$15,$A652+$A$11,0,1,1))","v":"2022-01-25T05:00:00"},{"$f":"IF(A652>$A$8,\"\",OFFSET(InputPriceData!G$15,CalculationsAndCharts!$A652+$A$11,IF($C$5,8,0),1,1))","v":2483392},{"$f":"IF(A652>$A$8,\"\",OFFSET(InputPriceData!C$15,CalculationsAndCharts!$A652+$A$11,IF($C$5,8,0),1,1))","v":4402.75},{"$f":"IF(A652>$A$8,\"\",OFFSET(InputPriceData!D$15,CalculationsAndCharts!$A652+$A$11,IF($C$5,8,0),1,1))","v":4406.75},{"$f":"IF(A652>$A$8,\"\",OFFSET(InputPriceData!E$15,CalculationsAndCharts!$A652+$A$11,IF($C$5,8,0),1,1))","v":4276.5},{"$f":"IF(A652>$A$8,\"\",OFFSET(InputPriceData!F$15,CalculationsAndCharts!$A652+$A$11,IF($C$5,8,0),1,1))","v":4349},0,54.75,{"$f":"IF($A652>$J$30,NA(),AVERAGE(H652:H655))","v":3.4375},47.25,null,null,{"$f":"IF($A652>$J$30,NA(),IF($A652>$N$30,0,(1-$M$35)*J652+(2*$M$35-$M$36)*J653-($M$35+$M$37)*J654+$M$36*N653+$M$37*N654))","v":10.497735992211044},30.575888065519685,-0.48883322409261826,-0.35354609869035181,null,null,0.48439749892514217,51.567500109721976,-0.98138790241358387,-0.95202676611863613,null,null,null,null,null,null,null,null,null,null,null,null,null,null,null,null,null,null,null,null,null,null,null,null,null,null,null,null,null,null,null,{"$error":"#N/A"},2483392]
[621,{"$f":"IF(A653>$A$8,\"\",OFFSET(InputPriceData!B$15,$A653+$A$11,0,1,1))","v":"2022-01-24T05:00:00"},{"$f":"IF(A653>$A$8,\"\",OFFSET(InputPriceData!G$15,CalculationsAndCharts!$A653+$A$11,IF($C$5,8,0),1,1))","v":3846785},{"$f":"IF(A653>$A$8,\"\",OFFSET(InputPriceData!C$15,CalculationsAndCharts!$A653+$A$11,IF($C$5,8,0),1,1))","v":4389},{"$f":"IF(A653>$A$8,\"\",OFFSET(InputPriceData!D$15,CalculationsAndCharts!$A653+$A$11,IF($C$5,8,0),1,1))","v":4427.5},{"$f":"IF(A653>$A$8,\"\",OFFSET(InputPriceData!E$15,CalculationsAndCharts!$A653+$A$11,IF($C$5,8,0),1,1))","v":4212.75},{"$f":"IF(A653>$A$8,\"\",OFFSET(InputPriceData!F$15,CalculationsAndCharts!$A653+$A$11,IF($C$5,8,0),1,1))","v":4403.75},13.75,0,{"$f":"IF($A653>$J$30,NA(),AVERAGE(H653:H656))","v":3.4375},45.3125,null,null,{"$f":"IF($A653>$J$30,NA(),IF($A653>$N$30,0,(1-$M$35)*J653+(2*$M$35-$M$36)*J654-($M$35+$M$37)*J655+$M$36*N654+$M$37*N655))","v":11.399213088659057},28.789970279164809,-0.43272233305514451,-0.2599323034294157,null,null,0.39538988039752199,49.17807803309946,-0.98404832677482001,-0.866067635789047,null,null,null,null,null,null,null,null,null,null,null,null,null,null,null,null,null,null,null,null,null,null,null,null,null,null,null,null,null,null,null,3846785,{"$error":"#N/A"}]
[622,{"$f":"IF(A654>$A$8,\"\",OFFSET(InputPriceData!B$15,$A654+$A$11,0,1,1))","v":"2022-01-21T05:00:00"},{"$f":"IF(A654>$A$8,\"\",OFFSET(InputPriceData!G$15,CalculationsAndCharts!$A654+$A$11,IF($C$5,8,0),1,1))","v":3012106},{"$f":"IF(A654>$A$8,\"\",OFFSET(InputPriceData!C$15,CalculationsAndCharts!$A654+$A$11,IF($C$5,8,0),1,1))","v":4454.25},{"$f":"IF(A654>$A$8,\"\",OFFSET(InputPriceData!D$15,CalculationsAndCharts!$A654+$A$11,IF($C$5,8,0),1,1))","v":4487},{"$f":"IF(A654>$A$8,\"\",OFFSET(InputPriceData!E$15,CalculationsAndCharts!$A654+$A$11,IF($C$5,8,0),1,1))","v":4381.25},{"$f":"IF(A654>$A$8,\"\",OFFSET(InputPriceData!F$15,CalculationsAndCharts!$A654+$A$11,IF($C$5,8,0),1,1))","v":4390},0,84.75,{"$f":"IF($A654>$J$30,NA(),AVERAGE(H654:H657))","v":0},66.1875,null,null,{"$f":"IF($A654>$J$30,NA(),IF($A654>$N$30,0,(1-$M$35)*J654+(2*$M$35-$M$36)*J655-($M$35+$M$37)*J656+$M$36*N655+$M$37*N656))","v":12.488130319828787},26.147665038600135,-0.35354609869035181,-0.17104778151573768,null,null,1.0437238553323831,42.46903402600929,-0.95202676611863613,-0.73340828492723631,null,null,null,null,null,null,null,null,null,null,null,null,null,null,null,null,null,null,null,null,null,null,null,null,null,null,null,null,null,null,null,{"$error":"#N/A"},3012106]
[623,{"$f":"IF(A655>$A$8,\"\",OFFSET(InputPriceData!B$15,$A655+$A$11,0,1,1))","v":"2022-01-20T05:00:00"},{"$f":"IF(A655>$A$8,\"\",OFFSET(InputPriceData!G$15,CalculationsAndCharts!$A655+$A$11,IF($C$5,8,0),1,1))","v":2040704},{"$f":"IF(A655>$A$8,\"\",OFFSET(InputPriceData!C$15,CalculationsAndCharts!$A655+$A$11,IF($C$5,8,0),1,1))","v":4526},{"$f":"IF(A655>$A$8,\"\",OFFSET(InputPriceData!D$15,CalculationsAndCharts!$A655+$A$11,IF($C$5,8,0),1,1))","v":4594.25},{"$f":"IF(A655>$A$8,\"\",OFFSET(InputPriceData!E$15,CalculationsAndCharts!$A655+$A$11,IF($C$5,8,0),1,1))","v":4437.75},{"$f":"IF(A655>$A$8,\"\",OFFSET(InputPriceData!F$15,CalculationsAndCharts!$A655+$A$11,IF($C$5,8,0),1,1))","v":4474.75},0,49.5,{"$f":"IF($A655>$J$30,NA(),AVERAGE(H655:H658))","v":0.6875},45,null,null,{"$f":"IF($A655>$J$30,NA(),IF($A655>$N$30,0,(1-$M$35)*J655+(2*$M$35-$M$36)*J656-($M$35+$M$37)*J657+$M$36*N656+$M$37*N657))","v":13.742954943610311},23.39676891488017,-0.2599323034294157,-8.5405190987277363E-2,null,null,2.4468666354379094,34.091973694206693,-0.866067635789047,-0.54407922908923478,null,null,null,null,null,null,null,null,null,null,null,null,null,null,null,null,null,null,null,null,null,null,null,null,null,null,null,null,null,null,null,{"$error":"#N/A"},2040704]
[624,{"$f":"IF(A656>$A$8,\"\",OFFSET(InputPriceData!B$15,$A656+$A$11,0,1,1))","v":"2022-01-19T05:00:00"},{"$f":"IF(A656>$A$8,\"\",OFFSET(InputPriceData!G$15,CalculationsAndCharts!$A656+$A$11,IF($C$5,8,0),1,1))","v":2001348},{"$f":"IF(A656>$A$8,\"\",OFFSET(InputPriceData!C$15,CalculationsAndCharts!$A656+$A$11,IF($C$5,8,0),1,1))","v":4577.75},{"$f":"IF(A656>$A$8,\"\",OFFSET(InputPriceData!D$15,CalculationsAndCharts!$A656+$A$11,IF($C$5,8,0),1,1))","v":4603},{"$f":"IF(A656>$A$8,\"\",OFFSET(InputPriceData!E$15,CalculationsAndCharts!$A656+$A$11,IF($C$5,8,0),1,1))","v":4517.25},{"$f":"IF(A656>$A$8,\"\",OFFSET(InputPriceData!F$15,CalculationsAndCharts!$A656+$A$11,IF($C$5,8,0),1,1))","v":4524.25},0,47,{"$f":"IF($A656>$J$30,NA(),AVERAGE(H656:H659))","v":0.6875},48.6875,null,null,{"$f":"IF($A656>$J$30,NA(),IF($A656>$N$30,0,(1-$M$35)*J656+(2*$M$35-$M$36)*J657-($M$35+$M$37)*J658+$M$36*N657+$M$37*N658))","v":15.02969433738987},21.232213170069702,-0.17104778151573768,-4.4932575463183175E-2,null,null,4.13166997156668,26.864566880272321,-0.73340828492723631,-0.50025979337945947,null,null,null,null,null,null,null,null,null,null,null,null,null,null,null,null,null,null,null,null,null,null,null,null,null,null,null,null,null,null,null,{"$error":"#N/A"},2001348]
[625,{"$f":"IF(A657>$A$8,\"\",OFFSET(InputPriceData!B$15,$A657+$A$11,0,1,1))","v":"2022-01-18T05:00:00"},{"$f":"IF(A657>$A$8,\"\",OFFSET(InputPriceData!G$15,CalculationsAndCharts!$A657+$A$11,IF($C$5,8,0),1,1))","v":2268240},{"$f":"IF(A657>$A$8,\"\",OFFSET(InputPriceData!C$15,CalculationsAndCharts!$A657+$A$11,IF($C$5,8,0),1,1))","v":4666},{"$f":"IF(A657>$A$8,\"\",OFFSET(InputPriceData!D$15,CalculationsAndCharts!$A657+$A$11,IF($C$5,8,0),1,1))","v":4671.75},{"$f":"IF(A657>$A$8,\"\",OFFSET(InputPriceData!E$15,CalculationsAndCharts!$A657+$A$11,IF($C$5,8,0),1,1))","v":4560},{"$f":"IF(A657>$A$8,\"\",OFFSET(InputPriceData!F$15,CalculationsAndCharts!$A657+$A$11,IF($C$5,8,0),1,1))","v":4571.25},0,83.5,{"$f":"IF($A657>$J$30,NA(),AVERAGE(H657:H660))","v":3.5},36.9375,null,null,{"$f":"IF($A657>$J$30,NA(),IF($A657>$N$30,0,(1-$M$35)*J657+(2*$M$35-$M$36)*J658-($M$35+$M$37)*J659+$M$36*N658+$M$37*N659))","v":16.261919323306905},19.299007030213851,-8.5405190987277363E-2,-3.5798932385749396E-2,null,null,5.7587819014622879,19.503422713424285,-0.54407922908923478,-0.64003930064800907,null,null,null,null,null,null,null,null,null,null,null,null,null,null,null,null,null,null,null,null,null,null,null,null,null,null,null,null,null,null,null,{"$error":"#N/A"},2268240]
[626,{"$f":"IF(A658>$A$8,\"\",OFFSET(InputPriceData!B$15,$A658+$A$11,0,1,1))","v":"2022-01-14T05:00:00"},{"$f":"IF(A658>$A$8,\"\",OFFSET(InputPriceData!G$15,CalculationsAndCharts!$A658+$A$11,IF($C$5,8,0),1,1))","v":2010610},{"$f":"IF(A658>$A$8,\"\",OFFSET(InputPriceData!C$15,CalculationsAndCharts!$A658+$A$11,IF($C$5,8,0),1,1))","v":4655},{"$f":"IF(A658>$A$8,\"\",OFFSET(InputPriceData!D$15,CalculationsAndCharts!$A658+$A$11,IF($C$5,8,0),1,1))","v":4667},{"$f":"IF(A658>$A$8,\"\",OFFSET(InputPriceData!E$15,CalculationsAndCharts!$A658+$A$11,IF($C$5,8,0),1,1))","v":4606},{"$f":"IF(A658>$A$8,\"\",OFFSET(InputPriceData!F$15,CalculationsAndCharts!$A658+$A$11,IF($C$5,8,0),1,1))","v":4654.75},2.75,0,{"$f":"IF($A658>$J$30,NA(),AVERAGE(H658:H661))","v":14.1875},16.0625,null,null,{"$f":"IF($A658>$J$30,NA(),IF($A658>$N$30,0,(1-$M$35)*J658+(2*$M$35-$M$36)*J659-($M$35+$M$37)*J660+$M$36*N659+$M$37*N660))","v":17.003285185145586},18.60317515118458,-4.4932575463183175E-2,-3.5945549390310638E-2,null,null,5.455816535504832,16.378794581336948,-0.50025979337945947,-0.83168557209471172,null,null,null,null,null,null,null,null,null,null,null,null,null,null,null,null,null,null,null,null,null,null,null,null,null,null,null,null,null,null,null,2010610,{"$error":"#N/A"}]
[627,{"$f":"IF(A659>$A$8,\"\",OFFSET(InputPriceData!B$15,$A659+$A$11,0,1,1))","v":"2022-01-13T05:00:00"},{"$f":"IF(A659>$A$8,\"\",OFFSET(InputPriceData!G$15,CalculationsAndCharts!$A659+$A$11,IF($C$5,8,0),1,1))","v":1824612},{"$f":"IF(A659>$A$8,\"\",OFFSET(InputPriceData!C$15,CalculationsAndCharts!$A659+$A$11,IF($C$5,8,0),1,1))","v":4719.25},{"$f":"IF(A659>$A$8,\"\",OFFSET(InputPriceData!D$15,CalculationsAndCharts!$A659+$A$11,IF($C$5,8,0),1,1))","v":4736.25},{"$f":"IF(A659>$A$8,\"\",OFFSET(InputPriceData!E$15,CalculationsAndCharts!$A659+$A$11,IF($C$5,8,0),1,1))","v":4642.5},{"$f":"IF(A659>$A$8,\"\",OFFSET(InputPriceData!F$15,CalculationsAndCharts!$A659+$A$11,IF($C$5,8,0),1,1))","v":4652},0,64.25,{"$f":"IF($A659>$J$30,NA(),AVERAGE(H659:H662))","v":13.5},17.4375,null,null,{"$f":"IF($A659>$J$30,NA(),IF($A659>$N$30,0,(1-$M$35)*J659+(2*$M$35-$M$36)*J660-($M$35+$M$37)*J661+$M$36*N660+$M$37*N661))","v":17.374547131090516},18.66471421111239,-3.5798932385749396E-2,-4.28511034780754E-2,null,null,3.519998461431773,16.037683628688342,-0.64003930064800907,-0.98807161968490453,null,null,null,null,null,null,null,null,null,null,null,null,null,null,null,null,null,null,null,null,null,null,null,null,null,null,null,null,null,null,null,{"$error":"#N/A"},1824612]
[628,{"$f":"IF(A660>$A$8,\"\",OFFSET(InputPriceData!B$15,$A660+$A$11,0,1,1))","v":"2022-01-12T05:00:00"},{"$f":"IF(A660>$A$8,\"\",OFFSET(InputPriceData!G$15,CalculationsAndCharts!$A660+$A$11,IF($C$5,8,0),1,1))","v":1583216},{"$f":"IF(A660>$A$8,\"\",OFFSET(InputPriceData!C$15,CalculationsAndCharts!$A660+$A$11,IF($C$5,8,0),1,1))","v":4704},{"$f":"IF(A660>$A$8,\"\",OFFSET(InputPriceData!D$15,CalculationsAndCharts!$A660+$A$11,IF($C$5,8,0),1,1))","v":4739.5},{"$f":"IF(A660>$A$8,\"\",OFFSET(InputPriceData!E$15,CalculationsAndCharts!$A660+$A$11,IF($C$5,8,0),1,1))","v":4695},{"$f":"IF(A660>$A$8,\"\",OFFSET(InputPriceData!F$15,CalculationsAndCharts!$A660+$A$11,IF($C$5,8,0),1,1))","v":4716.25},11.25,0,{"$f":"IF($A660>$J$30,NA(),AVERAGE(H660:H663))","v":13.5},6.3125,null,null,{"$f":"IF($A660>$J$30,NA(),IF($A660>$N$30,0,(1-$M$35)*J660+(2*$M$35-$M$36)*J661-($M$35+$M$37)*J662+$M$36*N661+$M$37*N662))","v":17.792716989063905},19.119548656951,-3.5945549390310638E-2,-1.1107696721973367E-2,null,null,1.5885858153021708,17.287821098501784,-0.83168557209471172,-0.89085089951864671,null,null,null,null,null,null,null,null,null,null,null,null,null,null,null,null,null,null,null,null,null,null,null,null,null,null,null,null,null,null,null,1583216,{"$error":"#N/A"}]
[629,{"$f":"IF(A661>$A$8,\"\",OFFSET(InputPriceData!B$15,$A661+$A$11,0,1,1))","v":"2022-01-11T05:00:00"},{"$f":"IF(A661>$A$8,\"\",OFFSET(InputPriceData!G$15,CalculationsAndCharts!$A661+$A$11,IF($C$5,8,0),1,1))","v":1729004},{"$f":"IF(A661>$A$8,\"\",OFFSET(InputPriceData!C$15,CalculationsAndCharts!$A661+$A$11,IF($C$5,8,0),1,1))","v":4663.5},{"$f":"IF(A661>$A$8,\"\",OFFSET(InputPriceData!D$15,CalculationsAndCharts!$A661+$A$11,IF($C$5,8,0),1,1))","v":4707.5},{"$f":"IF(A661>$A$8,\"\",OFFSET(InputPriceData!E$15,CalculationsAndCharts!$A661+$A$11,IF($C$5,8,0),1,1))","v":4627.25},{"$f":"IF(A661>$A$8,\"\",OFFSET(InputPriceData!F$15,CalculationsAndCharts!$A661+$A$11,IF($C$5,8,0),1,1))","v":4705},42.75,0,{"$f":"IF($A661>$J$30,NA(),AVERAGE(H661:H664))","v":10.6875},7.5625,null,null,{"$f":"IF($A661>$J$30,NA(),IF($A661>$N$30,0,(1-$M$35)*J661+(2*$M$35-$M$36)*J662-($M$35+$M$37)*J663+$M$36*N662+$M$37*N663))","v":18.345150157969016},19.987757552903112,-4.28511034780754E-2,5.3667419558443452E-2,null,null,0.12230077753018964,20.3835473425899,-0.98807161968490453,-0.52702303934906825,null,null,null,null,null,null,null,null,null,null,null,null,null,null,null,null,null,null,null,null,null,null,null,null,null,null,null,null,null,null,null,1729004,{"$error":"#N/A"}]
[630,{"$f":"IF(A662>$A$8,\"\",OFFSET(InputPriceData!B$15,$A662+$A$11,0,1,1))","v":"2022-01-10T05:00:00"},{"$f":"IF(A662>$A$8,\"\",OFFSET(InputPriceData!G$15,CalculationsAndCharts!$A662+$A$11,IF($C$5,8,0),1,1))","v":2231980},{"$f":"IF(A662>$A$8,\"\",OFFSET(InputPriceData!C$15,CalculationsAndCharts!$A662+$A$11,IF($C$5,8,0),1,1))","v":4671.25},{"$f":"IF(A662>$A$8,\"\",OFFSET(InputPriceData!D$15,CalculationsAndCharts!$A662+$A$11,IF($C$5,8,0),1,1))","v":4681.75},{"$f":"IF(A662>$A$8,\"\",OFFSET(InputPriceData!E$15,CalculationsAndCharts!$A662+$A$11,IF($C$5,8,0),1,1))","v":4572.75},{"$f":"IF(A662>$A$8,\"\",OFFSET(InputPriceData!F$15,CalculationsAndCharts!$A662+$A$11,IF($C$5,8,0),1,1))","v":4662.25},0,5.5,{"$f":"IF($A662>$J$30,NA(),AVERAGE(H662:H665))","v":0},30.5,null,null,{"$f":"IF($A662>$J$30,NA(),IF($A662>$N$30,0,(1-$M$35)*J662+(2*$M$35-$M$36)*J663-($M$35+$M$37)*J664+$M$36*N663+$M$37*N664))","v":19.468932979177922},19.906301138109448,-1.1107696721973367E-2,0.10647534847047808,null,null,1.1361843556039224,19.682756901690745,-0.89085089951864671,-0.1262372739349758,null,null,null,null,null,null,null,null,null,null,null,null,null,null,null,null,null,null,null,null,null,null,null,null,null,null,null,null,null,null,null,{"$error":"#N/A"},2231980]
[631,{"$f":"IF(A663>$A$8,\"\",OFFSET(InputPriceData!B$15,$A663+$A$11,0,1,1))","v":"2022-01-07T05:00:00"},{"$f":"IF(A663>$A$8,\"\",OFFSET(InputPriceData!G$15,CalculationsAndCharts!$A663+$A$11,IF($C$5,8,0),1,1))","v":1618440},{"$f":"IF(A663>$A$8,\"\",OFFSET(InputPriceData!C$15,CalculationsAndCharts!$A663+$A$11,IF($C$5,8,0),1,1))","v":4695},{"$f":"IF(A663>$A$8,\"\",OFFSET(InputPriceData!D$15,CalculationsAndCharts!$A663+$A$11,IF($C$5,8,0),1,1))","v":4705.75},{"$f":"IF(A663>$A$8,\"\",OFFSET(InputPriceData!E$15,CalculationsAndCharts!$A663+$A$11,IF($C$5,8,0),1,1))","v":4653.75},{"$f":"IF(A663>$A$8,\"\",OFFSET(InputPriceData!F$15,CalculationsAndCharts!$A663+$A$11,IF($C$5,8,0),1,1))","v":4667.75},0,19.75,{"$f":"IF($A663>$J$30,NA(),AVERAGE(H663:H666))","v":0},29.5625,null,null,{"$f":"IF($A663>$J$30,NA(),IF($A663>$N$30,0,(1-$M$35)*J663+(2*$M$35-$M$36)*J664-($M$35+$M$37)*J665+$M$36*N664+$M$37*N665))","v":21.071665704335164},18.925140333694539,5.3667419558443452E-2,0.15098101218566737,null,null,4.6147060824467356,14.898743689380517,-0.52702303934906825,0.35277260123978849,null,null,null,null,null,null,null,null,null,null,null,null,null,null,null,null,null,null,null,null,null,null,null,null,null,null,null,null,null,null,null,{"$error":"#N/A"},1618440]
[632,{"$f":"IF(A664>$A$8,\"\",OFFSET(InputPriceData!B$15,$A664+$A$11,0,1,1))","v":"2022-01-06T05:00:00"},{"$f":"IF(A664>$A$8,\"\",OFFSET(InputPriceData!G$15,CalculationsAndCharts!$A664+$A$11,IF($C$5,8,0),1,1))","v":1862918},{"$f":"IF(A664>$A$8,\"\",OFFSET(InputPriceData!C$15,CalculationsAndCharts!$A664+$A$11,IF($C$5,8,0),1,1))","v":4692},{"$f":"IF(A664>$A$8,\"\",OFFSET(InputPriceData!D$15,CalculationsAndCharts!$A664+$A$11,IF($C$5,8,0),1,1))","v":4715.75},{"$f":"IF(A664>$A$8,\"\",OFFSET(InputPriceData!E$15,CalculationsAndCharts!$A664+$A$11,IF($C$5,8,0),1,1))","v":4662},{"$f":"IF(A664>$A$8,\"\",OFFSET(InputPriceData!F$15,CalculationsAndCharts!$A664+$A$11,IF($C$5,8,0),1,1))","v":4687.5},0,5,{"$f":"IF($A664>$J$30,NA(),AVERAGE(H664:H667))","v":6.875},24.625,null,null,{"$f":"IF($A664>$J$30,NA(),IF($A664>$N$30,0,(1-$M$35)*J664+(2*$M$35-$M$36)*J665-($M$35+$M$37)*J666+$M$36*N665+$M$37*N666))","v":22.45957422007557},18.137036000156218,0.10647534847047808,0.17595614492419739,null,null,7.9376994065925857,10.231304991981114,-0.1262372739349758,0.69192434529121072,null,null,null,null,null,null,null,null,null,null,null,null,null,null,null,null,null,null,null,null,null,null,null,null,null,null,null,null,null,null,null,{"$error":"#N/A"},1862918]
[633,{"$f":"IF(A665>$A$8,\"\",OFFSET(InputPriceData!B$15,$A665+$A$11,0,1,1))","v":"2022-01-05T05:00:00"},{"$f":"IF(A665>$A$8,\"\",OFFSET(InputPriceData!G$15,CalculationsAndCharts!$A665+$A$11,IF($C$5,8,0),1,1))","v":1856376},{"$f":"IF(A665>$A$8,\"\",OFFSET(InputPriceData!C$15,CalculationsAndCharts!$A665+$A$11,IF($C$5,8,0),1,1))","v":4783.5},{"$f":"IF(A665>$A$8,\"\",OFFSET(InputPriceData!D$15,CalculationsAndCharts!$A665+$A$11,IF($C$5,8,0),1,1))","v":4788.25},{"$f":"IF(A665>$A$8,\"\",OFFSET(InputPriceData!E$15,CalculationsAndCharts!$A665+$A$11,IF($C$5,8,0),1,1))","v":4689.5},{"$f":"IF(A665>$A$8,\"\",OFFSET(InputPriceData!F$15,CalculationsAndCharts!$A665+$A$11,IF($C$5,8,0),1,1))","v":4692.5},0,91.75,{"$f":"IF($A665>$J$30,NA(),AVERAGE(H665:H668))","v":6.875},26.8125,null,null,{"$f":"IF($A665>$J$30,NA(),IF($A665>$N$30,0,(1-$M$35)*J665+(2*$M$35-$M$36)*J666-($M$35+$M$37)*J667+$M$36*N666+$M$37*N667))","v":23.621632850053093},17.424453227764207,0.15098101218566737,0.17701716016358329,null,null,11.053842885423986,5.2886567709016443,0.35277260123978849,0.6946359022519909,null,null,null,null,null,null,null,null,null,null,null,null,null,null,null,null,null,null,null,null,null,null,null,null,null,null,null,null,null,null,null,{"$error":"#N/A"},1856376]
[634,{"$f":"IF(A666>$A$8,\"\",OFFSET(InputPriceData!B$15,$A666+$A$11,0,1,1))","v":"2022-01-04T05:00:00"},{"$f":"IF(A666>$A$8,\"\",OFFSET(InputPriceData!G$15,CalculationsAndCharts!$A666+$A$11,IF($C$5,8,0),1,1))","v":1392809},{"$f":"IF(A666>$A$8,\"\",OFFSET(InputPriceData!C$15,CalculationsAndCharts!$A666+$A$11,IF($C$5,8,0),1,1))","v":4785.25},{"$f":"IF(A666>$A$8,\"\",OFFSET(InputPriceData!D$15,CalculationsAndCharts!$A666+$A$11,IF($C$5,8,0),1,1))","v":4808.25},{"$f":"IF(A666>$A$8,\"\",OFFSET(InputPriceData!E$15,CalculationsAndCharts!$A666+$A$11,IF($C$5,8,0),1,1))","v":4764.5},{"$f":"IF(A666>$A$8,\"\",OFFSET(InputPriceData!F$15,CalculationsAndCharts!$A666+$A$11,IF($C$5,8,0),1,1))","v":4784.25},0,1.75,{"$f":"IF($A666>$J$30,NA(),AVERAGE(H666:H669))","v":6.875},6.9375,null,null,{"$f":"IF($A666>$J$30,NA(),IF($A666>$N$30,0,(1-$M$35)*J666+(2*$M$35-$M$36)*J667-($M$35+$M$37)*J668+$M$36*N667+$M$37*N668))","v":24.824805985986586},17.395826293777219,0.17595614492419739,0.18231437776244194,null,null,15.087072999347214,2.7471440462742396,0.69192434529121072,0.69336682977202202,null,null,null,null,null,null,null,null,null,null,null,null,null,null,null,null,null,null,null,null,null,null,null,null,null,null,null,null,null,null,null,{"$error":"#N/A"},1392809]
[635,{"$f":"IF(A667>$A$8,\"\",OFFSET(InputPriceData!B$15,$A667+$A$11,0,1,1))","v":"2022-01-03T05:00:00"},{"$f":"IF(A667>$A$8,\"\",OFFSET(InputPriceData!G$15,CalculationsAndCharts!$A667+$A$11,IF($C$5,8,0),1,1))","v":1322362},{"$f":"IF(A667>$A$8,\"\",OFFSET(InputPriceData!C$15,CalculationsAndCharts!$A667+$A$11,IF($C$5,8,0),1,1))","v":4771},{"$f":"IF(A667>$A$8,\"\",OFFSET(InputPriceData!D$15,CalculationsAndCharts!$A667+$A$11,IF($C$5,8,0),1,1))","v":4791.25},{"$f":"IF(A667>$A$8,\"\",OFFSET(InputPriceData!E$15,CalculationsAndCharts!$A667+$A$11,IF($C$5,8,0),1,1))","v":4747.5},{"$f":"IF(A667>$A$8,\"\",OFFSET(InputPriceData!F$15,CalculationsAndCharts!$A667+$A$11,IF($C$5,8,0),1,1))","v":4786},27.5,0,{"$f":"IF($A667>$J$30,NA(),AVERAGE(H667:H670))","v":8.375},6.5,null,null,{"$f":"IF($A667>$J$30,NA(),IF($A667>$N$30,0,(1-$M$35)*J667+(2*$M$35-$M$36)*J668-($M$35+$M$37)*J669+$M$36*N668+$M$37*N669))","v":26.007859586005701},18.184970333977958,0.17701716016358329,0.17813430005884509,null,null,19.883965703895161,3.5829815943079364,0.6946359022519909,0.64628246857679694,null,null,null,null,null,null,null,null,null,null,null,null,null,null,null,null,null,null,null,null,null,null,null,null,null,null,null,null,null,null,null,1322362,{"$error":"#N/A"}]
[636,{"$f":"IF(A668>$A$8,\"\",OFFSET(InputPriceData!B$15,$A668+$A$11,0,1,1))","v":"2021-12-31T05:00:00"},{"$f":"IF(A668>$A$8,\"\",OFFSET(InputPriceData!G$15,CalculationsAndCharts!$A668+$A$11,IF($C$5,8,0),1,1))","v":954083},{"$f":"IF(A668>$A$8,\"\",OFFSET(InputPriceData!C$15,CalculationsAndCharts!$A668+$A$11,IF($C$5,8,0),1,1))","v":4773.75},{"$f":"IF(A668>$A$8,\"\",OFFSET(InputPriceData!D$15,CalculationsAndCharts!$A668+$A$11,IF($C$5,8,0),1,1))","v":4778.5},{"$f":"IF(A668>$A$8,\"\",OFFSET(InputPriceData!E$15,CalculationsAndCharts!$A668+$A$11,IF($C$5,8,0),1,1))","v":4750.5},{"$f":"IF(A668>$A$8,\"\",OFFSET(InputPriceData!F$15,CalculationsAndCharts!$A668+$A$11,IF($C$5,8,0),1,1))","v":4758.5},0,13.75,{"$f":"IF($A668>$J$30,NA(),AVERAGE(H668:H671))","v":1.5},7.4375,null,null,{"$f":"IF($A668>$J$30,NA(),IF($A668>$N$30,0,(1-$M$35)*J668+(2*$M$35-$M$36)*J669-($M$35+$M$37)*J670+$M$36*N669+$M$37*N670))","v":27.445876015025135},18.981498177898253,0.18231437776244194,0.15171450023715288,null,null,26.673157766162348,4.8299487045760152,0.69336682977202202,0.52652056535226421,null,null,null,null,null,null,null,null,null,null,null,null,null,null,null,null,null,null,null,null,null,null,null,null,null,null,null,null,null,null,null,{"$error":"#N/A"},954083]
[637,{"$f":"IF(A669>$A$8,\"\",OFFSET(InputPriceData!B$15,$A669+$A$11,0,1,1))","v":"2021-12-30T05:00:00"},{"$f":"IF(A669>$A$8,\"\",OFFSET(InputPriceData!G$15,CalculationsAndCharts!$A669+$A$11,IF($C$5,8,0),1,1))","v":753935},{"$f":"IF(A669>$A$8,\"\",OFFSET(InputPriceData!C$15,CalculationsAndCharts!$A669+$A$11,IF($C$5,8,0),1,1))","v":4784.75},{"$f":"IF(A669>$A$8,\"\",OFFSET(InputPriceData!D$15,CalculationsAndCharts!$A669+$A$11,IF($C$5,8,0),1,1))","v":4799.75},{"$f":"IF(A669>$A$8,\"\",OFFSET(InputPriceData!E$15,CalculationsAndCharts!$A669+$A$11,IF($C$5,8,0),1,1))","v":4767.25},{"$f":"IF(A669>$A$8,\"\",OFFSET(InputPriceData!F$15,CalculationsAndCharts!$A669+$A$11,IF($C$5,8,0),1,1))","v":4772.25},0,12.25,{"$f":"IF($A669>$J$30,NA(),AVERAGE(H669:H672))","v":18.125},4,null,null,{"$f":"IF($A669>$J$30,NA(),IF($A669>$N$30,0,(1-$M$35)*J669+(2*$M$35-$M$36)*J670-($M$35+$M$37)*J671+$M$36*N670+$M$37*N671))","v":28.534444868373289},19.905609660126661,0.17813430005884509,0.11084141561512724,null,null,33.038646863610509,7.0986290829313461,0.64628246857679694,0.3701433792251746,null,null,null,null,null,null,null,null,null,null,null,null,null,null,null,null,null,null,null,null,null,null,null,null,null,null,null,null,null,null,null,{"$error":"#N/A"},753935]
[638,{"$f":"IF(A670>$A$8,\"\",OFFSET(InputPriceData!B$15,$A670+$A$11,0,1,1))","v":"2021-12-29T05:00:00"},{"$f":"IF(A670>$A$8,\"\",OFFSET(InputPriceData!G$15,CalculationsAndCharts!$A670+$A$11,IF($C$5,8,0),1,1))","v":876030},{"$f":"IF(A670>$A$8,\"\",OFFSET(InputPriceData!C$15,CalculationsAndCharts!$A670+$A$11,IF($C$5,8,0),1,1))","v":4781},{"$f":"IF(A670>$A$8,\"\",OFFSET(InputPriceData!D$15,CalculationsAndCharts!$A670+$A$11,IF($C$5,8,0),1,1))","v":4796},{"$f":"IF(A670>$A$8,\"\",OFFSET(InputPriceData!E$15,CalculationsAndCharts!$A670+$A$11,IF($C$5,8,0),1,1))","v":4770},{"$f":"IF(A670>$A$8,\"\",OFFSET(InputPriceData!F$15,CalculationsAndCharts!$A670+$A$11,IF($C$5,8,0),1,1))","v":4784.5},6,0,{"$f":"IF($A670>$J$30,NA(),AVERAGE(H670:H673))","v":25.5625},0.9375,null,null,{"$f":"IF($A670>$J$30,NA(),IF($A670>$N$30,0,(1-$M$35)*J670+(2*$M$35-$M$36)*J671-($M$35+$M$37)*J672+$M$36*N671+$M$37*N672))","v":28.67803149190107},21.122559689326383,0.15171450023715288,4.6095350083281805E-2,null,null,36.273119270221869,11.250798970409736,0.52652056535226421,0.14475554354979789,null,null,null,null,null,null,null,null,null,null,null,null,null,null,null,null,null,null,null,null,null,null,null,null,null,null,null,null,null,null,null,876030,{"$error":"#N/A"}]
[639,{"$f":"IF(A671>$A$8,\"\",OFFSET(InputPriceData!B$15,$A671+$A$11,0,1,1))","v":"2021-12-28T05:00:00"},{"$f":"IF(A671>$A$8,\"\",OFFSET(InputPriceData!G$15,CalculationsAndCharts!$A671+$A$11,IF($C$5,8,0),1,1))","v":954520},{"$f":"IF(A671>$A$8,\"\",OFFSET(InputPriceData!C$15,CalculationsAndCharts!$A671+$A$11,IF($C$5,8,0),1,1))","v":4780.5},{"$f":"IF(A671>$A$8,\"\",OFFSET(InputPriceData!D$15,CalculationsAndCharts!$A671+$A$11,IF($C$5,8,0),1,1))","v":4798},{"$f":"IF(A671>$A$8,\"\",OFFSET(InputPriceData!E$15,CalculationsAndCharts!$A671+$A$11,IF($C$5,8,0),1,1))","v":4770.5},{"$f":"IF(A671>$A$8,\"\",OFFSET(InputPriceData!F$15,CalculationsAndCharts!$A671+$A$11,IF($C$5,8,0),1,1))","v":4778.5},0,3.75,{"$f":"IF($A671>$J$30,NA(),AVERAGE(H671:H674))","v":35.375},0.9375,null,null,{"$f":"IF($A671>$J$30,NA(),IF($A671>$N$30,0,(1-$M$35)*J671+(2*$M$35-$M$36)*J672-($M$35+$M$37)*J673+$M$36*N672+$M$37*N673))","v":28.113168617306247},22.502820707756161,0.11084141561512724,-1.060006427259382E-2,null,null,36.897840559196986,16.961983337573535,0.3701433792251746,-6.1594219725059962E-2,null,null,null,null,null,null,null,null,null,null,null,null,null,null,null,null,null,null,null,null,null,null,null,null,null,null,null,null,null,null,null,{"$error":"#N/A"},954520]
[640,{"$f":"IF(A672>$A$8,\"\",OFFSET(InputPriceData!B$15,$A672+$A$11,0,1,1))","v":"2021-12-27T05:00:00"},{"$f":"IF(A672>$A$8,\"\",OFFSET(InputPriceData!G$15,CalculationsAndCharts!$A672+$A$11,IF($C$5,8,0),1,1))","v":898698},{"$f":"IF(A672>$A$8,\"\",OFFSET(InputPriceData!C$15,CalculationsAndCharts!$A672+$A$11,IF($C$5,8,0),1,1))","v":4717},{"$f":"IF(A672>$A$8,\"\",OFFSET(InputPriceData!D$15,CalculationsAndCharts!$A672+$A$11,IF($C$5,8,0),1,1))","v":4784.25},{"$f":"IF(A672>$A$8,\"\",OFFSET(InputPriceData!E$15,CalculationsAndCharts!$A672+$A$11,IF($C$5,8,0),1,1))","v":4713.25},{"$f":"IF(A672>$A$8,\"\",OFFSET(InputPriceData!F$15,CalculationsAndCharts!$A672+$A$11,IF($C$5,8,0),1,1))","v":4782.25},66.5,0,{"$f":"IF($A672>$J$30,NA(),AVERAGE(H672:H675))","v":55.9375},0,null,null,{"$f":"IF($A672>$J$30,NA(),IF($A672>$N$30,0,(1-$M$35)*J672+(2*$M$35-$M$36)*J673-($M$35+$M$37)*J674+$M$36*N673+$M$37*N674))","v":26.280418051908612},23.964367090891944,4.6095350083281805E-2,-2.8978348676539312E-2,null,null,32.153300389356247,24.021663026241399,0.14475554354979789,-0.14961091160214746,null,null,null,null,null,null,null,null,null,null,null,null,null,null,null,null,null,null,null,null,null,null,null,null,null,null,null,null,null,null,null,898698,{"$error":"#N/A"}]
[641,{"$f":"IF(A673>$A$8,\"\",OFFSET(InputPriceData!B$15,$A673+$A$11,0,1,1))","v":"2021-12-23T05:00:00"},{"$f":"IF(A673>$A$8,\"\",OFFSET(InputPriceData!G$15,CalculationsAndCharts!$A673+$A$11,IF($C$5,8,0),1,1))","v":978022},{"$f":"IF(A673>$A$8,\"\",OFFSET(InputPriceData!C$15,CalculationsAndCharts!$A673+$A$11,IF($C$5,8,0),1,1))","v":4689},{"$f":"IF(A673>$A$8,\"\",OFFSET(InputPriceData!D$15,CalculationsAndCharts!$A673+$A$11,IF($C$5,8,0),1,1))","v":4731.25},{"$f":"IF(A673>$A$8,\"\",OFFSET(InputPriceData!E$15,CalculationsAndCharts!$A673+$A$11,IF($C$5,8,0),1,1))","v":4684.25},{"$f":"IF(A673>$A$8,\"\",OFFSET(InputPriceData!F$15,CalculationsAndCharts!$A673+$A$11,IF($C$5,8,0),1,1))","v":4715.75},29.75,0,{"$f":"IF($A673>$J$30,NA(),AVERAGE(H673:H676))","v":39.3125},19.490000000000009,null,null,{"$f":"IF($A673>$J$30,NA(),IF($A673>$N$30,0,(1-$M$35)*J673+(2*$M$35-$M$36)*J674-($M$35+$M$37)*J675+$M$36*N674+$M$37*N675))","v":24.200479529343468},24.719029468908673,-1.060006427259382E-2,-1.6523928208163334E-2,null,null,{"$f":"IF($A673>$J$30,NA(),IF($A673>$N$30,0,(1-S$35)*$J673+(2*S$35-S$36)*$J674-(S$35+S$37)*$J675+S$36*T674+S$37*T675))","v":25.756590054243091},{"$f":"IF($A673>$J$30,NA(),IF($A673>$N$30,0,(1-S$35)*$K673+(2*S$35-S$36)*$K674-(S$35+S$37)*$K675+S$36*U674+S$37*U675))","v":29.137765022505825},{"$f":"IF($A673>$N$30,NA(),(T673-U673)/(T673+U673))","v":-6.1594219725059962E-2},{"$f":"IF($A673>$N$30,NA(),OFFSET(V673,$C$18,0,1,1))","v":-0.13015630131075648},null,null,null,null,null,null,null,null,null,null,null,null,null,null,null,null,null,null,null,null,null,null,null,null,null,null,null,null,null,null,null,978022,{"$error":"#N/A"}]
[642,{"$f":"IF(A674>$A$8,\"\",OFFSET(InputPriceData!B$15,$A674+$A$11,0,1,1))","v":"2021-12-22T05:00:00"},{"$f":"IF(A674>$A$8,\"\",OFFSET(InputPriceData!G$15,CalculationsAndCharts!$A674+$A$11,IF($C$5,8,0),1,1))","v":1104688},{"$f":"IF(A674>$A$8,\"\",OFFSET(InputPriceData!C$15,CalculationsAndCharts!$A674+$A$11,IF($C$5,8,0),1,1))","v":4641.75},{"$f":"IF(A674>$A$8,\"\",OFFSET(InputPriceData!D$15,CalculationsAndCharts!$A674+$A$11,IF($C$5,8,0),1,1))","v":4690.5},{"$f":"IF(A674>$A$8,\"\",OFFSET(InputPriceData!E$15,CalculationsAndCharts!$A674+$A$11,IF($C$5,8,0),1,1))","v":4622.25},{"$f":"IF(A674>$A$8,\"\",OFFSET(InputPriceData!F$15,CalculationsAndCharts!$A674+$A$11,IF($C$5,8,0),1,1))","v":4686},{"$f":"IF($A674>$H$30,NA(),IF($G674>$G675,$G674-$G675,0))","v":45.25},{"$f":"IF($A674>$H$30,NA(),IF(G674<G675,G675-G674,0))","v":0},{"$f":"IF($A674>$J$30,NA(),AVERAGE(H674:H677))","v":31.875},27.5625,null,null,{"$f":"IF($A674>$J$30,NA(),IF($A674>$N$30,0,(1-$M$35)*J674+(2*$M$35-$M$36)*J675-($M$35+$M$37)*J676+$M$36*N675+$M$37*N676))","v":22.999073470656217},24.371803253481644,{"$f":"IF($A674>$N$30,NA(),(N674-O674)/(N674+O674))","v":-2.8978348676539312E-2},{"$f":"IF($A674>$N$30,NA(),OFFSET(P674,$C$17,0,1,1))","v":1.9496766492125353E-2},null,null,22.399138392785815,30.280602442050558,-0.14961091160214746,-1.1147151221564918E-2,null,null,null,null,null,null,null,null,null,null,null,null,null,null,null,null,null,null,null,null,null,null,null,null,null,null,null,null,null,null,null,1104688,{"$error":"#N/A"}]
[643,{"$f":"IF(A675>$A$8,\"\",OFFSET(InputPriceData!B$15,$A675+$A$11,0,1,1))","v":"2021-12-21T05:00:00"},{"$f":"IF(A675>$A$8,\"\",OFFSET(InputPriceData!G$15,CalculationsAndCharts!$A675+$A$11,IF($C$5,8,0),1,1))","v":1493880},{"$f":"IF(A675>$A$8,\"\",OFFSET(InputPriceData!C$15,CalculationsAndCharts!$A675+$A$11,IF($C$5,8,0),1,1))","v":4567.75},{"$f":"IF(A675>$A$8,\"\",OFFSET(InputPriceData!D$15,CalculationsAndCharts!$A675+$A$11,IF($C$5,8,0),1,1))","v":4643},{"$f":"IF(A675>$A$8,\"\",OFFSET(InputPriceData!E$15,CalculationsAndCharts!$A675+$A$11,IF($C$5,8,0),1,1))","v":4565.75},{"$f":"IF(A675>$A$8,\"\",OFFSET(InputPriceData!F$15,CalculationsAndCharts!$A675+$A$11,IF($C$5,8,0),1,1))","v":4640.75},82.25,0,{"$f":"IF($A675>$J$30,NA(),AVERAGE(H675:H678))","v":20.5625},37.75,null,null,{"$f":"IF($A675>$J$30,NA(),IF($A675>$N$30,0,(1-$M$35)*J675+(2*$M$35-$M$36)*J676-($M$35+$M$37)*J677+$M$36*N676+$M$37*N677))","v":22.498333778708016},23.254347804520236,-1.6523928208163334E-2,5.059423587248104E-2,null,null,21.790609799309259,28.311747284257027,-0.13015630131075648,0.10714280461821964,null,null,null,null,null,null,null,null,null,null,null,null,null,null,null,null,null,null,null,null,null,null,null,null,null,null,null,null,null,null,null,1493880,{"$error":"#N/A"}]
[644,{"$f":"IF(A676>$A$8,\"\",OFFSET(InputPriceData!B$15,$A676+$A$11,0,1,1))","v":"2021-12-20T05:00:00"},{"$f":"IF(A676>$A$8,\"\",OFFSET(InputPriceData!G$15,CalculationsAndCharts!$A676+$A$11,IF($C$5,8,0),1,1))","v":2097624},{"$f":"IF(A676>$A$8,\"\",OFFSET(InputPriceData!C$15,CalculationsAndCharts!$A676+$A$11,IF($C$5,8,0),1,1))","v":4612},{"$f":"IF(A676>$A$8,\"\",OFFSET(InputPriceData!D$15,CalculationsAndCharts!$A676+$A$11,IF($C$5,8,0),1,1))","v":4621.5},{"$f":"IF(A676>$A$8,\"\",OFFSET(InputPriceData!E$15,CalculationsAndCharts!$A676+$A$11,IF($C$5,8,0),1,1))","v":4520.25},{"$f":"IF(A676>$A$8,\"\",OFFSET(InputPriceData!F$15,CalculationsAndCharts!$A676+$A$11,IF($C$5,8,0),1,1))","v":4558.5},0,77.960000000000036,{"$f":"IF($A676>$J$30,NA(),AVERAGE(H676:H679))","v":18.125},37.75,null,null,{"$f":"IF($A676>$J$30,NA(),IF($A676>$N$30,0,(1-$M$35)*J676+(2*$M$35-$M$36)*J677-($M$35+$M$37)*J678+$M$36*N677+$M$37*N678))","v":22.524755748348916},21.663232852834938,1.9496766492125353E-2,7.5377046883183682E-2,null,null,23.580522785849219,24.112160336779336,-1.1147151221564918E-2,0.20777473239286764,null,null,null,null,null,null,null,null,null,null,null,null,null,null,null,null,null,null,null,null,null,null,null,null,null,null,null,null,null,null,null,{"$error":"#N/A"},2097624]
[645,{"$f":"IF(A677>$A$8,\"\",OFFSET(InputPriceData!B$15,$A677+$A$11,0,1,1))","v":"2021-12-17T05:00:00"},{"$f":"IF(A677>$A$8,\"\",OFFSET(InputPriceData!G$15,CalculationsAndCharts!$A677+$A$11,IF($C$5,8,0),1,1))","v":2472118},{"$f":"IF(A677>$A$8,\"\",OFFSET(InputPriceData!C$15,CalculationsAndCharts!$A677+$A$11,IF($C$5,8,0),1,1))","v":4674.25},{"$f":"IF(A677>$A$8,\"\",OFFSET(InputPriceData!D$15,CalculationsAndCharts!$A677+$A$11,IF($C$5,8,0),1,1))","v":4677.75},{"$f":"IF(A677>$A$8,\"\",OFFSET(InputPriceData!E$15,CalculationsAndCharts!$A677+$A$11,IF($C$5,8,0),1,1))","v":4629.5},{"$f":"IF(A677>$A$8,\"\",OFFSET(InputPriceData!F$15,CalculationsAndCharts!$A677+$A$11,IF($C$5,8,0),1,1))","v":4636.46},0,32.289999999999964,{"$f":"IF($A677>$J$30,NA(),AVERAGE(H677:H680))","v":18.125},26.197499999999991,null,null,{"$f":"IF($A677>$J$30,NA(),IF($A677>$N$30,0,(1-$M$35)*J677+(2*$M$35-$M$36)*J678-($M$35+$M$37)*J679+$M$36*N678+$M$37*N679))","v":22.641566577001456},20.46083357694274,5.059423587248104E-2,8.4283336861670277E-2,null,null,26.208019935259564,21.135502193842793,0.10714280461821964,0.25496268364689439,null,null,null,null,null,null,null,null,null,null,null,null,null,null,null,null,null,null,null,null,null,null,null,null,null,null,null,null,null,null,null,{"$error":"#N/A"},2472118]
[646,{"$f":"IF(A678>$A$8,\"\",OFFSET(InputPriceData!B$15,$A678+$A$11,0,1,1))","v":"2021-12-16T05:00:00"},{"$f":"IF(A678>$A$8,\"\",OFFSET(InputPriceData!G$15,CalculationsAndCharts!$A678+$A$11,IF($C$5,8,0),1,1))","v":435986},{"$f":"IF(A678>$A$8,\"\",OFFSET(InputPriceData!C$15,CalculationsAndCharts!$A678+$A$11,IF($C$5,8,0),1,1))","v":4711.5},{"$f":"IF(A678>$A$8,\"\",OFFSET(InputPriceData!D$15,CalculationsAndCharts!$A678+$A$11,IF($C$5,8,0),1,1))","v":4752.5},{"$f":"IF(A678>$A$8,\"\",OFFSET(InputPriceData!E$15,CalculationsAndCharts!$A678+$A$11,IF($C$5,8,0),1,1))","v":4651.25},{"$f":"IF(A678>$A$8,\"\",OFFSET(InputPriceData!F$15,CalculationsAndCharts!$A678+$A$11,IF($C$5,8,0),1,1))","v":4668.75},0,40.75,{"$f":"IF($A678>$J$30,NA(),AVERAGE(H678:H681))","v":18.125},28.6875,null,null,{"$f":"IF($A678>$J$30,NA(),IF($A678>$N$30,0,(1-$M$35)*J678+(2*$M$35-$M$36)*J679-($M$35+$M$37)*J680+$M$36*N679+$M$37*N680))","v":22.753235713382274},19.563523379308158,7.5377046883183682E-2,9.8123363593940111E-2,null,null,29.339809074737136,19.245093867566542,0.20777473239286764,0.31002375378148245,null,null,null,null,null,null,null,null,null,null,null,null,null,null,null,null,null,null,null,null,null,null,null,null,null,null,null,null,null,null,null,{"$error":"#N/A"},435986]
[647,{"$f":"IF(A679>$A$8,\"\",OFFSET(InputPriceData!B$15,$A679+$A$11,0,1,1))","v":"2021-12-15T05:00:00"},{"$f":"IF(A679>$A$8,\"\",OFFSET(InputPriceData!G$15,CalculationsAndCharts!$A679+$A$11,IF($C$5,8,0),1,1))","v":673190},{"$f":"IF(A679>$A$8,\"\",OFFSET(InputPriceData!C$15,CalculationsAndCharts!$A679+$A$11,IF($C$5,8,0),1,1))","v":4637.75},{"$f":"IF(A679>$A$8,\"\",OFFSET(InputPriceData!D$15,CalculationsAndCharts!$A679+$A$11,IF($C$5,8,0),1,1))","v":4715},{"$f":"IF(A679>$A$8,\"\",OFFSET(InputPriceData!E$15,CalculationsAndCharts!$A679+$A$11,IF($C$5,8,0),1,1))","v":4611.25},{"$f":"IF(A679>$A$8,\"\",OFFSET(InputPriceData!F$15,CalculationsAndCharts!$A679+$A$11,IF($C$5,8,0),1,1))","v":4709.5},72.5,0,{"$f":"IF($A679>$J$30,NA(),AVERAGE(H679:H682))","v":29.125},18.5,null,null,{"$f":"IF($A679>$J$30,NA(),IF($A679>$N$30,0,(1-$M$35)*J679+(2*$M$35-$M$36)*J680-($M$35+$M$37)*J681+$M$36*N680+$M$37*N681))","v":22.413915559044497},18.929365845461675,8.4283336861670277E-2,0.12608136598126315,null,null,31.087890734699322,18.456037765801721,0.25496268364689439,0.38877995462843523,null,null,null,null,null,null,null,null,null,null,null,null,null,null,null,null,null,null,null,null,null,null,null,null,null,null,null,null,null,null,null,673190,{"$error":"#N/A"}]
[648,{"$f":"IF(A680>$A$8,\"\",OFFSET(InputPriceData!B$15,$A680+$A$11,0,1,1))","v":"2021-12-14T05:00:00"},{"$f":"IF(A680>$A$8,\"\",OFFSET(InputPriceData!G$15,CalculationsAndCharts!$A680+$A$11,IF($C$5,8,0),1,1))","v":1211592},{"$f":"IF(A680>$A$8,\"\",OFFSET(InputPriceData!C$15,CalculationsAndCharts!$A680+$A$11,IF($C$5,8,0),1,1))","v":4672},{"$f":"IF(A680>$A$8,\"\",OFFSET(InputPriceData!D$15,CalculationsAndCharts!$A680+$A$11,IF($C$5,8,0),1,1))","v":4686},{"$f":"IF(A680>$A$8,\"\",OFFSET(InputPriceData!E$15,CalculationsAndCharts!$A680+$A$11,IF($C$5,8,0),1,1))","v":4606},{"$f":"IF(A680>$A$8,\"\",OFFSET(InputPriceData!F$15,CalculationsAndCharts!$A680+$A$11,IF($C$5,8,0),1,1))","v":4637},0,31.75,{"$f":"IF($A680>$J$30,NA(),AVERAGE(H680:H683))","v":11},26.5,null,null,{"$f":"IF($A680>$J$30,NA(),IF($A680>$N$30,0,(1-$M$35)*J680+(2*$M$35-$M$36)*J681-($M$35+$M$37)*J682+$M$36*N681+$M$37*N682))","v":22.338822836487136},18.346629412478038,9.8123363593940111E-2,0.11056911202479165,null,null,34.273670126387536,18.05159501091093,0.31002375378148245,0.34111344951642436,null,null,null,null,null,null,null,null,null,null,null,null,null,null,null,null,null,null,null,null,null,null,null,null,null,null,null,null,null,null,null,{"$error":"#N/A"},1211592]
[649,{"$f":"IF(A681>$A$8,\"\",OFFSET(InputPriceData!B$15,$A681+$A$11,0,1,1))","v":"2021-12-13T05:00:00"},{"$f":"IF(A681>$A$8,\"\",OFFSET(InputPriceData!G$15,CalculationsAndCharts!$A681+$A$11,IF($C$5,8,0),1,1))","v":1605196},{"$f":"IF(A681>$A$8,\"\",OFFSET(InputPriceData!C$15,CalculationsAndCharts!$A681+$A$11,IF($C$5,8,0),1,1))","v":4711.25},{"$f":"IF(A681>$A$8,\"\",OFFSET(InputPriceData!D$15,CalculationsAndCharts!$A681+$A$11,IF($C$5,8,0),1,1))","v":4731},{"$f":"IF(A681>$A$8,\"\",OFFSET(InputPriceData!E$15,CalculationsAndCharts!$A681+$A$11,IF($C$5,8,0),1,1))","v":4664.75},{"$f":"IF(A681>$A$8,\"\",OFFSET(InputPriceData!F$15,CalculationsAndCharts!$A681+$A$11,IF($C$5,8,0),1,1))","v":4668.75},0,42.25,{"$f":"IF($A681>$J$30,NA(),AVERAGE(H681:H684))","v":14.5},18.5625,null,null,{"$f":"IF($A681>$J$30,NA(),IF($A681>$N$30,0,(1-$M$35)*J681+(2*$M$35-$M$36)*J682-($M$35+$M$37)*J683+$M$36*N682+$M$37*N683))","v":22.841803362168953},17.726851891733929,0.12608136598126315,5.7666323817331618E-2,null,null,40.325585827680491,17.747812615731672,0.38877995462843523,0.20186054550635568,null,null,null,null,null,null,null,null,null,null,null,null,null,null,null,null,null,null,null,null,null,null,null,null,null,null,null,null,null,null,null,{"$error":"#N/A"},1605196]
[650,{"$f":"IF(A682>$A$8,\"\",OFFSET(InputPriceData!B$15,$A682+$A$11,0,1,1))","v":"2021-12-10T05:00:00"},{"$f":"IF(A682>$A$8,\"\",OFFSET(InputPriceData!G$15,CalculationsAndCharts!$A682+$A$11,IF($C$5,8,0),1,1))","v":1585049},{"$f":"IF(A682>$A$8,\"\",OFFSET(InputPriceData!C$15,CalculationsAndCharts!$A682+$A$11,IF($C$5,8,0),1,1))","v":4669.25},{"$f":"IF(A682>$A$8,\"\",OFFSET(InputPriceData!D$15,CalculationsAndCharts!$A682+$A$11,IF($C$5,8,0),1,1))","v":4712.75},{"$f":"IF(A682>$A$8,\"\",OFFSET(InputPriceData!E$15,CalculationsAndCharts!$A682+$A$11,IF($C$5,8,0),1,1))","v":4664.25},{"$f":"IF(A682>$A$8,\"\",OFFSET(InputPriceData!F$15,CalculationsAndCharts!$A682+$A$11,IF($C$5,8,0),1,1))","v":4711},44,0,{"$f":"IF($A682>$J$30,NA(),AVERAGE(H682:H685))","v":38.25},8,null,null,{"$f":"IF($A682>$J$30,NA(),IF($A682>$N$30,0,(1-$M$35)*J682+(2*$M$35-$M$36)*J683-($M$35+$M$37)*J684+$M$36*N683+$M$37*N684))","v":22.250743212494861},17.820141114419769,0.11056911202479165,-1.3590363076369384E-3,null,null,42.32467725405948,20.794035438473454,0.34111344951642436,4.4352996831454682E-2,null,null,null,null,null,null,null,null,null,null,null,null,null,null,null,null,null,null,null,null,null,null,null,null,null,null,null,null,null,null,null,1585049,{"$error":"#N/A"}]
[651,{"$f":"IF(A683>$A$8,\"\",OFFSET(InputPriceData!B$15,$A683+$A$11,0,1,1))","v":"2021-12-09T05:00:00"},{"$f":"IF(A683>$A$8,\"\",OFFSET(InputPriceData!G$15,CalculationsAndCharts!$A683+$A$11,IF($C$5,8,0),1,1))","v":1593325},{"$f":"IF(A683>$A$8,\"\",OFFSET(InputPriceData!C$15,CalculationsAndCharts!$A683+$A$11,IF($C$5,8,0),1,1))","v":4697.25},{"$f":"IF(A683>$A$8,\"\",OFFSET(InputPriceData!D$15,CalculationsAndCharts!$A683+$A$11,IF($C$5,8,0),1,1))","v":4706},{"$f":"IF(A683>$A$8,\"\",OFFSET(InputPriceData!E$15,CalculationsAndCharts!$A683+$A$11,IF($C$5,8,0),1,1))","v":4662.25},{"$f":"IF(A683>$A$8,\"\",OFFSET(InputPriceData!F$15,CalculationsAndCharts!$A683+$A$11,IF($C$5,8,0),1,1))","v":4667},0,32,{"$f":"IF($A683>$J$30,NA(),AVERAGE(H683:H686))","v":40.375},8,null,null,{"$f":"IF($A683>$J$30,NA(),IF($A683>$N$30,0,(1-$M$35)*J683+(2*$M$35-$M$36)*J684-($M$35+$M$37)*J685+$M$36*N684+$M$37*N685))","v":20.577491456595794},18.333630119682567,5.7666323817331618E-2,-8.1939475975803033E-2,null,null,39.679868949717232,26.350868306908016,0.20186054550635568,-0.16914191450540023,null,null,null,null,null,null,null,null,null,null,null,null,null,null,null,null,null,null,null,null,null,null,null,null,null,null,null,null,null,null,null,{"$error":"#N/A"},1593325]
[652,{"$f":"IF(A684>$A$8,\"\",OFFSET(InputPriceData!B$15,$A684+$A$11,0,1,1))","v":"2021-12-08T05:00:00"},{"$f":"IF(A684>$A$8,\"\",OFFSET(InputPriceData!G$15,CalculationsAndCharts!$A684+$A$11,IF($C$5,8,0),1,1))","v":1418355},{"$f":"IF(A684>$A$8,\"\",OFFSET(InputPriceData!C$15,CalculationsAndCharts!$A684+$A$11,IF($C$5,8,0),1,1))","v":4695.25},{"$f":"IF(A684>$A$8,\"\",OFFSET(InputPriceData!D$15,CalculationsAndCharts!$A684+$A$11,IF($C$5,8,0),1,1))","v":4712},{"$f":"IF(A684>$A$8,\"\",OFFSET(InputPriceData!E$15,CalculationsAndCharts!$A684+$A$11,IF($C$5,8,0),1,1))","v":4671.75},{"$f":"IF(A684>$A$8,\"\",OFFSET(InputPriceData!F$15,CalculationsAndCharts!$A684+$A$11,IF($C$5,8,0),1,1))","v":4699},14,0,{"$f":"IF($A684>$J$30,NA(),AVERAGE(H684:H687))","v":40.375},9.5625,null,null,{"$f":"IF($A684>$J$30,NA(),IF($A684>$N$30,0,(1-$M$35)*J684+(2*$M$35-$M$36)*J685-($M$35+$M$37)*J686+$M$36*N685+$M$37*N686))","v":18.741454966822516},18.792464926725785,-1.3590363076369384E-3,-0.14656668142401513,null,null,35.660361613663696,32.631416591323493,4.4352996831454682E-2,-0.36875114521744429,null,null,null,null,null,null,null,null,null,null,null,null,null,null,null,null,null,null,null,null,null,null,null,null,null,null,null,null,null,null,null,1418355,{"$error":"#N/A"}]
[653,{"$f":"IF(A685>$A$8,\"\",OFFSET(InputPriceData!B$15,$A685+$A$11,0,1,1))","v":"2021-12-07T05:00:00"},{"$f":"IF(A685>$A$8,\"\",OFFSET(InputPriceData!G$15,CalculationsAndCharts!$A685+$A$11,IF($C$5,8,0),1,1))","v":1771947},{"$f":"IF(A685>$A$8,\"\",OFFSET(InputPriceData!C$15,CalculationsAndCharts!$A685+$A$11,IF($C$5,8,0),1,1))","v":4594.25},{"$f":"IF(A685>$A$8,\"\",OFFSET(InputPriceData!D$15,CalculationsAndCharts!$A685+$A$11,IF($C$5,8,0),1,1))","v":4697.25},{"$f":"IF(A685>$A$8,\"\",OFFSET(InputPriceData!E$15,CalculationsAndCharts!$A685+$A$11,IF($C$5,8,0),1,1))","v":4587.25},{"$f":"IF(A685>$A$8,\"\",OFFSET(InputPriceData!F$15,CalculationsAndCharts!$A685+$A$11,IF($C$5,8,0),1,1))","v":4685},95,0,{"$f":"IF($A685>$J$30,NA(),AVERAGE(H685:H688))","v":53.6875},9.5625,null,null,{"$f":"IF($A685>$J$30,NA(),IF($A685>$N$30,0,(1-$M$35)*J685+(2*$M$35-$M$36)*J686-($M$35+$M$37)*J687+$M$36*N686+$M$37*N687))","v":16.28603953677781},19.19318892495826,-8.1939475975803033E-2,-0.12809886403527343,null,null,28.128840542402838,39.581496598164506,-0.16914191450540023,-0.42104792673036801,null,null,null,null,null,null,null,null,null,null,null,null,null,null,null,null,null,null,null,null,null,null,null,null,null,null,null,null,null,null,null,{"$f":"IF(G685>=G686,C685,NA())","v":1771947},{"$f":"IF(G685<G686,C685,NA())","v":{"$error":"#N/A"}}]
[654,{"$f":"IF(A686>$A$8,\"\",OFFSET(InputPriceData!B$15,$A686+$A$11,0,1,1))","v":"2021-12-06T05:00:00"},{"$f":"IF(A686>$A$8,\"\",OFFSET(InputPriceData!G$15,CalculationsAndCharts!$A686+$A$11,IF($C$5,8,0),1,1))","v":2031995},{"$f":"IF(A686>$A$8,\"\",OFFSET(InputPriceData!C$15,CalculationsAndCharts!$A686+$A$11,IF($C$5,8,0),1,1))","v":4542.25},{"$f":"IF(A686>$A$8,\"\",OFFSET(InputPriceData!D$15,CalculationsAndCharts!$A686+$A$11,IF($C$5,8,0),1,1))","v":4611.75},{"$f":"IF(A686>$A$8,\"\",OFFSET(InputPriceData!E$15,CalculationsAndCharts!$A686+$A$11,IF($C$5,8,0),1,1))","v":4531.5},{"$f":"IF(A686>$A$8,\"\",OFFSET(InputPriceData!F$15,CalculationsAndCharts!$A686+$A$11,IF($C$5,8,0),1,1))","v":4590},52.5,0,{"$f":"IF($A686>$J$30,NA(),AVERAGE(H686:H689))","v":29.9375},24,null,null,{"$f":"IF($A686>$J$30,NA(),IF($A686>$N$30,0,(1-$M$35)*J686+(2*$M$35-$M$36)*J687-($M$35+$M$37)*J688+$M$36*N687+$M$37*N688))","v":14.150858669090873},19.011330716021494,-0.14656668142401513,-9.1084599201987429E-2,null,null,20.69489990450781,44.873218747007257,-0.36875114521744429,-0.47383074442523448,null,null,null,null,null,null,null,null,null,null,null,null,null,null,null,null,null,null,null,null,null,null,null,null,null,null,null,null,null,null,null,2031995,{"$error":"#N/A"}]
[655,{"$f":"IF(A687>$A$8,\"\",OFFSET(InputPriceData!B$15,$A687+$A$11,0,1,1))","v":"2021-12-03T05:00:00"},{"$f":"IF(A687>$A$8,\"\",OFFSET(InputPriceData!G$15,CalculationsAndCharts!$A687+$A$11,IF($C$5,8,0),1,1))","v":2747667},{"$f":"IF(A687>$A$8,\"\",OFFSET(InputPriceData!C$15,CalculationsAndCharts!$A687+$A$11,IF($C$5,8,0),1,1))","v":4587.25},{"$f":"IF(A687>$A$8,\"\",OFFSET(InputPriceData!D$15,CalculationsAndCharts!$A687+$A$11,IF($C$5,8,0),1,1))","v":4606.5},{"$f":"IF(A687>$A$8,\"\",OFFSET(InputPriceData!E$15,CalculationsAndCharts!$A687+$A$11,IF($C$5,8,0),1,1))","v":4492},{"$f":"IF(A687>$A$8,\"\",OFFSET(InputPriceData!F$15,CalculationsAndCharts!$A687+$A$11,IF($C$5,8,0),1,1))","v":4537.5},0,38.25,{"$f":"IF($A687>$J$30,NA(),AVERAGE(H687:H690))","v":16.8125},45.1875,null,null,{"$f":"IF($A687>$J$30,NA(),IF($A687>$N$30,0,(1-$M$35)*J687+(2*$M$35-$M$36)*J688-($M$35+$M$37)*J689+$M$36*N688+$M$37*N689))","v":13.421910963116321},17.365779084484018,-0.12809886403527343,-1.1292658247998326E-2,null,null,18.071832375390876,44.357626675788261,-0.42104792673036801,-0.50704923875563923,null,null,null,null,null,null,null,null,null,null,null,null,null,null,null,null,null,null,null,null,null,null,null,null,null,null,null,null,null,null,null,{"$error":"#N/A"},2747667]
[656,{"$f":"IF(A688>$A$8,\"\",OFFSET(InputPriceData!B$15,$A688+$A$11,0,1,1))","v":"2021-12-02T05:00:00"},{"$f":"IF(A688>$A$8,\"\",OFFSET(InputPriceData!G$15,CalculationsAndCharts!$A688+$A$11,IF($C$5,8,0),1,1))","v":2587324},{"$f":"IF(A688>$A$8,\"\",OFFSET(InputPriceData!C$15,CalculationsAndCharts!$A688+$A$11,IF($C$5,8,0),1,1))","v":4514.75},{"$f":"IF(A688>$A$8,\"\",OFFSET(InputPriceData!D$15,CalculationsAndCharts!$A688+$A$11,IF($C$5,8,0),1,1))","v":4593.75},{"$f":"IF(A688>$A$8,\"\",OFFSET(InputPriceData!E$15,CalculationsAndCharts!$A688+$A$11,IF($C$5,8,0),1,1))","v":4505.5},{"$f":"IF(A688>$A$8,\"\",OFFSET(InputPriceData!F$15,CalculationsAndCharts!$A688+$A$11,IF($C$5,8,0),1,1))","v":4575.75},67.25,0,{"$f":"IF($A688>$J$30,NA(),AVERAGE(H688:H691))","v":30.625},35.625,null,null,{"$f":"IF($A688>$J$30,NA(),IF($A688>$N$30,0,(1-$M$35)*J688+(2*$M$35-$M$36)*J689-($M$35+$M$37)*J690+$M$36*N689+$M$37*N690))","v":12.637549757354675},15.170428292657718,-9.1084599201987429E-2,0.1524178483827493,null,null,14.663908005595097,41.07446078061173,-0.47383074442523448,-0.42310103244036251,null,null,null,null,null,null,null,null,null,null,null,null,null,null,null,null,null,null,null,null,null,null,null,null,null,null,null,null,null,null,null,2587324,{"$error":"#N/A"}]
[657,{"$f":"IF(A689>$A$8,\"\",OFFSET(InputPriceData!B$15,$A689+$A$11,0,1,1))","v":"2021-12-01T05:00:00"},{"$f":"IF(A689>$A$8,\"\",OFFSET(InputPriceData!G$15,CalculationsAndCharts!$A689+$A$11,IF($C$5,8,0),1,1))","v":2670344},{"$f":"IF(A689>$A$8,\"\",OFFSET(InputPriceData!C$15,CalculationsAndCharts!$A689+$A$11,IF($C$5,8,0),1,1))","v":4587.5},{"$f":"IF(A689>$A$8,\"\",OFFSET(InputPriceData!D$15,CalculationsAndCharts!$A689+$A$11,IF($C$5,8,0),1,1))","v":4650.75},{"$f":"IF(A689>$A$8,\"\",OFFSET(InputPriceData!E$15,CalculationsAndCharts!$A689+$A$11,IF($C$5,8,0),1,1))","v":4497.75},{"$f":"IF(A689>$A$8,\"\",OFFSET(InputPriceData!F$15,CalculationsAndCharts!$A689+$A$11,IF($C$5,8,0),1,1))","v":4508.5},0,57.75,{"$f":"IF($A689>$J$30,NA(),AVERAGE(H689:H692))","v":13.8125},61.4375,null,null,{"$f":"IF($A689>$J$30,NA(),IF($A689>$N$30,0,(1-$M$35)*J689+(2*$M$35-$M$36)*J690-($M$35+$M$37)*J691+$M$36*N690+$M$37*N691))","v":11.946088668868915},12.218976491262895,-1.1292658247998326E-2,0.28047849003088193,null,null,11.033477792326121,33.731552144839192,-0.50704923875563923,-0.429018192286305,null,null,null,null,null,null,null,null,null,null,null,null,null,null,null,null,null,null,null,null,null,null,null,null,null,null,null,null,null,null,null,{"$error":"#N/A"},2670344]
[658,{"$f":"IF(A690>$A$8,\"\",OFFSET(InputPriceData!B$15,$A690+$A$11,0,1,1))","v":"2021-11-30T05:00:00"},{"$f":"IF(A690>$A$8,\"\",OFFSET(InputPriceData!G$15,CalculationsAndCharts!$A690+$A$11,IF($C$5,8,0),1,1))","v":2845560},{"$f":"IF(A690>$A$8,\"\",OFFSET(InputPriceData!C$15,CalculationsAndCharts!$A690+$A$11,IF($C$5,8,0),1,1))","v":4657.25},{"$f":"IF(A690>$A$8,\"\",OFFSET(InputPriceData!D$15,CalculationsAndCharts!$A690+$A$11,IF($C$5,8,0),1,1))","v":4667.5},{"$f":"IF(A690>$A$8,\"\",OFFSET(InputPriceData!E$15,CalculationsAndCharts!$A690+$A$11,IF($C$5,8,0),1,1))","v":4557},{"$f":"IF(A690>$A$8,\"\",OFFSET(InputPriceData!F$15,CalculationsAndCharts!$A690+$A$11,IF($C$5,8,0),1,1))","v":4566.25},0,84.75,{"$f":"IF($A690>$J$30,NA(),AVERAGE(H690:H693))","v":16.4375},47,null,null,{"$f":"IF($A690>$J$30,NA(),IF($A690>$N$30,0,(1-$M$35)*J690+(2*$M$35-$M$36)*J691-($M$35+$M$37)*J692+$M$36*N691+$M$37*N692))","v":11.805194179253524},8.6825033964485456,0.1524178483827493,0.41204840428749068,null,null,9.14693187615838,22.563757137036315,-0.42310103244036251,-0.34776853389392898,null,null,null,null,null,null,null,null,null,null,null,null,null,null,null,null,null,null,null,null,null,null,null,null,null,null,null,null,null,null,null,{"$error":"#N/A"},2845560]
[659,{"$f":"IF(A691>$A$8,\"\",OFFSET(InputPriceData!B$15,$A691+$A$11,0,1,1))","v":"2021-11-29T05:00:00"},{"$f":"IF(A691>$A$8,\"\",OFFSET(InputPriceData!G$15,CalculationsAndCharts!$A691+$A$11,IF($C$5,8,0),1,1))","v":2014967},{"$f":"IF(A691>$A$8,\"\",OFFSET(InputPriceData!C$15,CalculationsAndCharts!$A691+$A$11,IF($C$5,8,0),1,1))","v":4589},{"$f":"IF(A691>$A$8,\"\",OFFSET(InputPriceData!D$15,CalculationsAndCharts!$A691+$A$11,IF($C$5,8,0),1,1))","v":4669.75},{"$f":"IF(A691>$A$8,\"\",OFFSET(InputPriceData!E$15,CalculationsAndCharts!$A691+$A$11,IF($C$5,8,0),1,1))","v":4588.75},{"$f":"IF(A691>$A$8,\"\",OFFSET(InputPriceData!F$15,CalculationsAndCharts!$A691+$A$11,IF($C$5,8,0),1,1))","v":4651},55.25,0,{"$f":"IF($A691>$J$30,NA(),AVERAGE(H691:H694))","v":18.625},25.8125,null,null,{"$f":"IF($A691>$J$30,NA(),IF($A691>$N$30,0,(1-$M$35)*J691+(2*$M$35-$M$36)*J692-($M$35+$M$37)*J693+$M$36*N692+$M$37*N693))","v":11.468822793030373},6.4445164505734365,0.28047849003088193,0.51106033718965826,null,null,6.0810420859248575,15.219258567345861,-0.429018192286305,-6.5630297054057304E-2,null,null,null,null,null,null,null,null,null,null,null,null,null,null,null,null,null,null,null,null,null,null,null,null,null,null,null,null,null,null,null,2014967,{"$error":"#N/A"}]
[660,{"$f":"IF(A692>$A$8,\"\",OFFSET(InputPriceData!B$15,$A692+$A$11,0,1,1))","v":"2021-11-26T14:30:00"},{"$f":"IF(A692>$A$8,\"\",OFFSET(InputPriceData!G$15,CalculationsAndCharts!$A692+$A$11,IF($C$5,8,0),1,1))","v":2068167},{"$f":"IF(A692>$A$8,\"\",OFFSET(InputPriceData!C$15,CalculationsAndCharts!$A692+$A$11,IF($C$5,8,0),1,1))","v":4700.5},{"$f":"IF(A692>$A$8,\"\",OFFSET(InputPriceData!D$15,CalculationsAndCharts!$A692+$A$11,IF($C$5,8,0),1,1))","v":4717},{"$f":"IF(A692>$A$8,\"\",OFFSET(InputPriceData!E$15,CalculationsAndCharts!$A692+$A$11,IF($C$5,8,0),1,1))","v":4577.25},{"$f":"IF(A692>$A$8,\"\",OFFSET(InputPriceData!F$15,CalculationsAndCharts!$A692+$A$11,IF($C$5,8,0),1,1))","v":4595.75},0,103.25,{"$f":"IF($A692>$J$30,NA(),AVERAGE(H692:H695))","v":4.8125},29.5,null,null,{"$f":"IF($A692>$J$30,NA(),IF($A692>$N$30,0,(1-$M$35)*J692+(2*$M$35-$M$36)*J693-($M$35+$M$37)*J694+$M$36*N693+$M$37*N694))","v":11.594872351096653},4.8278966076591772,0.41204840428749068,0.52203033892335637,null,null,4.5448294136552754,9.3914176085518974,-0.34776853389392898,-1.1116547227039095E-2,null,null,null,null,null,null,null,null,null,null,null,null,null,null,null,null,null,null,null,null,null,null,null,null,null,null,null,null,null,null,null,{"$error":"#N/A"},2068167]
[661,{"$f":"IF(A693>$A$8,\"\",OFFSET(InputPriceData!B$15,$A693+$A$11,0,1,1))","v":"2021-11-24T05:00:00"},{"$f":"IF(A693>$A$8,\"\",OFFSET(InputPriceData!G$15,CalculationsAndCharts!$A693+$A$11,IF($C$5,8,0),1,1))","v":1408571},{"$f":"IF(A693>$A$8,\"\",OFFSET(InputPriceData!C$15,CalculationsAndCharts!$A693+$A$11,IF($C$5,8,0),1,1))","v":4686.25},{"$f":"IF(A693>$A$8,\"\",OFFSET(InputPriceData!D$15,CalculationsAndCharts!$A693+$A$11,IF($C$5,8,0),1,1))","v":4702.25},{"$f":"IF(A693>$A$8,\"\",OFFSET(InputPriceData!E$15,CalculationsAndCharts!$A693+$A$11,IF($C$5,8,0),1,1))","v":4656.25},{"$f":"IF(A693>$A$8,\"\",OFFSET(InputPriceData!F$15,CalculationsAndCharts!$A693+$A$11,IF($C$5,8,0),1,1))","v":4699},10.5,0,{"$f":"IF($A693>$J$30,NA(),AVERAGE(H693:H696))","v":4.8125},5.4375,null,null,{"$f":"IF($A693>$J$30,NA(),IF($A693>$N$30,0,(1-$M$35)*J693+(2*$M$35-$M$36)*J694-($M$35+$M$37)*J695+$M$36*N694+$M$37*N695))","v":12.290584309684061},3.9769121061674375,0.51106033718965826,0.54134791980317609,null,null,5.2333809198954997,5.9685681659863512,-6.5630297054057304E-2,0.10027090323325423,null,null,null,null,null,null,null,null,null,null,null,null,null,null,null,null,null,null,null,null,null,null,null,null,null,null,null,null,null,null,null,1408571,{"$error":"#N/A"}]
[662,{"$f":"IF(A694>$A$8,\"\",OFFSET(InputPriceData!B$15,$A694+$A$11,0,1,1))","v":"2021-11-23T05:00:00"},{"$f":"IF(A694>$A$8,\"\",OFFSET(InputPriceData!G$15,CalculationsAndCharts!$A694+$A$11,IF($C$5,8,0),1,1))","v":1872492},{"$f":"IF(A694>$A$8,\"\",OFFSET(InputPriceData!C$15,CalculationsAndCharts!$A694+$A$11,IF($C$5,8,0),1,1))","v":4686},{"$f":"IF(A694>$A$8,\"\",OFFSET(InputPriceData!D$15,CalculationsAndCharts!$A694+$A$11,IF($C$5,8,0),1,1))","v":4695.5},{"$f":"IF(A694>$A$8,\"\",OFFSET(InputPriceData!E$15,CalculationsAndCharts!$A694+$A$11,IF($C$5,8,0),1,1))","v":4649},{"$f":"IF(A694>$A$8,\"\",OFFSET(InputPriceData!F$15,CalculationsAndCharts!$A694+$A$11,IF($C$5,8,0),1,1))","v":4688.5},8.75,0,{"$f":"IF($A694>$J$30,NA(),AVERAGE(H694:H697))","v":6},5.4375,null,null,{"$f":"IF($A694>$J$30,NA(),IF($A694>$N$30,0,(1-$M$35)*J694+(2*$M$35-$M$36)*J695-($M$35+$M$37)*J696+$M$36*N695+$M$37*N696))","v":12.971205890891991},4.0734029571385619,0.52203033892335637,0.5528656073097058,null,null,5.9500170847290814,6.0837914860270397,-1.1116547227039095E-2,0.18111528921935938,null,null,null,null,null,null,null,null,null,null,null,null,null,null,null,null,null,null,null,null,null,null,null,null,null,null,null,null,null,null,null,1872492,{"$error":"#N/A"}]
[663,{"$f":"IF(A695>$A$8,\"\",OFFSET(InputPriceData!B$15,$A695+$A$11,0,1,1))","v":"2021-11-22T05:00:00"},{"$f":"IF(A695>$A$8,\"\",OFFSET(InputPriceData!G$15,CalculationsAndCharts!$A695+$A$11,IF($C$5,8,0),1,1))","v":1685386},{"$f":"IF(A695>$A$8,\"\",OFFSET(InputPriceData!C$15,CalculationsAndCharts!$A695+$A$11,IF($C$5,8,0),1,1))","v":4701},{"$f":"IF(A695>$A$8,\"\",OFFSET(InputPriceData!D$15,CalculationsAndCharts!$A695+$A$11,IF($C$5,8,0),1,1))","v":4740.5},{"$f":"IF(A695>$A$8,\"\",OFFSET(InputPriceData!E$15,CalculationsAndCharts!$A695+$A$11,IF($C$5,8,0),1,1))","v":4674.25},{"$f":"IF(A695>$A$8,\"\",OFFSET(InputPriceData!F$15,CalculationsAndCharts!$A695+$A$11,IF($C$5,8,0),1,1))","v":4679.75},0,14.75,{"$f":"IF($A695>$J$30,NA(),AVERAGE(H695:H698))","v":3.8125},7.875,null,null,{"$f":"IF($A695>$J$30,NA(),IF($A695>$N$30,0,(1-$M$35)*J695+(2*$M$35-$M$36)*J696-($M$35+$M$37)*J697+$M$36*N696+$M$37*N697))","v":13.723712676817931},4.0837044552860178,0.54134791980317609,0.54145086553516053,null,null,7.074136122370005,5.784762720782096,0.10027090323325423,0.15231555749723247,null,null,null,null,null,null,null,null,null,null,null,null,null,null,null,null,null,null,null,null,null,null,null,null,null,null,null,null,null,null,null,{"$error":"#N/A"},1685386]
[664,{"$f":"IF(A696>$A$8,\"\",OFFSET(InputPriceData!B$15,$A696+$A$11,0,1,1))","v":"2021-11-19T05:00:00"},{"$f":"IF(A696>$A$8,\"\",OFFSET(InputPriceData!G$15,CalculationsAndCharts!$A696+$A$11,IF($C$5,8,0),1,1))","v":1344893},{"$f":"IF(A696>$A$8,\"\",OFFSET(InputPriceData!C$15,CalculationsAndCharts!$A696+$A$11,IF($C$5,8,0),1,1))","v":4705.25},{"$f":"IF(A696>$A$8,\"\",OFFSET(InputPriceData!D$15,CalculationsAndCharts!$A696+$A$11,IF($C$5,8,0),1,1))","v":4723.5},{"$f":"IF(A696>$A$8,\"\",OFFSET(InputPriceData!E$15,CalculationsAndCharts!$A696+$A$11,IF($C$5,8,0),1,1))","v":4684.25},{"$f":"IF(A696>$A$8,\"\",OFFSET(InputPriceData!F$15,CalculationsAndCharts!$A696+$A$11,IF($C$5,8,0),1,1))","v":4694.5},0,7,{"$f":"IF($A696>$J$30,NA(),AVERAGE(H696:H699))","v":8.0625},4.1875,null,null,{"$f":"IF($A696>$J$30,NA(),IF($A696>$N$30,0,(1-$M$35)*J696+(2*$M$35-$M$36)*J697-($M$35+$M$37)*J698+$M$36*N697+$M$37*N698))","v":14.42603104154335},4.1538524636828713,0.5528656073097058,0.5196910069682803,null,null,8.1354589835307483,5.6404341198558976,0.18111528921935938,6.1397306835931281E-2,null,null,null,null,null,null,null,null,null,null,null,null,null,null,null,null,null,null,null,null,null,null,null,null,null,null,null,null,null,null,null,{"$error":"#N/A"},1344893]
[665,{"$f":"IF(A697>$A$8,\"\",OFFSET(InputPriceData!B$15,$A697+$A$11,0,1,1))","v":"2021-11-18T05:00:00"},{"$f":"IF(A697>$A$8,\"\",OFFSET(InputPriceData!G$15,CalculationsAndCharts!$A697+$A$11,IF($C$5,8,0),1,1))","v":1168195},{"$f":"IF(A697>$A$8,\"\",OFFSET(InputPriceData!C$15,CalculationsAndCharts!$A697+$A$11,IF($C$5,8,0),1,1))","v":4685.25},{"$f":"IF(A697>$A$8,\"\",OFFSET(InputPriceData!D$15,CalculationsAndCharts!$A697+$A$11,IF($C$5,8,0),1,1))","v":4706.5},{"$f":"IF(A697>$A$8,\"\",OFFSET(InputPriceData!E$15,CalculationsAndCharts!$A697+$A$11,IF($C$5,8,0),1,1))","v":4668},{"$f":"IF(A697>$A$8,\"\",OFFSET(InputPriceData!F$15,CalculationsAndCharts!$A697+$A$11,IF($C$5,8,0),1,1))","v":4701.5},15.25,0,{"$f":"IF($A697>$J$30,NA(),AVERAGE(H697:H700))","v":8.25},2.4375,null,null,{"$f":"IF($A697>$J$30,NA(),IF($A697>$N$30,0,(1-$M$35)*J697+(2*$M$35-$M$36)*J698-($M$35+$M$37)*J699+$M$36*N698+$M$37*N699))","v":14.979002410049967},4.4559374183428897,0.54145086553516053,0.48593289818854191,null,null,8.700359491120043,6.4002948991005608,0.15231555749723247,-0.10091867754444291,null,null,null,null,null,null,null,null,null,null,null,null,null,null,null,null,null,null,null,null,null,null,null,null,null,null,null,null,null,null,null,1168195,{"$error":"#N/A"}]
[666,{"$f":"IF(A698>$A$8,\"\",OFFSET(InputPriceData!B$15,$A698+$A$11,0,1,1))","v":"2021-11-17T05:00:00"},{"$f":"IF(A698>$A$8,\"\",OFFSET(InputPriceData!G$15,CalculationsAndCharts!$A698+$A$11,IF($C$5,8,0),1,1))","v":1056696},{"$f":"IF(A698>$A$8,\"\",OFFSET(InputPriceData!C$15,CalculationsAndCharts!$A698+$A$11,IF($C$5,8,0),1,1))","v":4696.5},{"$f":"IF(A698>$A$8,\"\",OFFSET(InputPriceData!D$15,CalculationsAndCharts!$A698+$A$11,IF($C$5,8,0),1,1))","v":4701},{"$f":"IF(A698>$A$8,\"\",OFFSET(InputPriceData!E$15,CalculationsAndCharts!$A698+$A$11,IF($C$5,8,0),1,1))","v":4679.25},{"$f":"IF(A698>$A$8,\"\",OFFSET(InputPriceData!F$15,CalculationsAndCharts!$A698+$A$11,IF($C$5,8,0),1,1))","v":4686.25},0,9.75,{"$f":"IF($A698>$J$30,NA(),AVERAGE(H698:H701))","v":13.25},2.4375,null,null,{"$f":"IF($A698>$J$30,NA(),IF($A698>$N$30,0,(1-$M$35)*J698+(2*$M$35-$M$36)*J699-($M$35+$M$37)*J700+$M$36*N699+$M$37*N700))","v":15.345405403179178},4.8500229211518553,0.5196910069682803,0.47477071148083494,null,null,8.5520650244186989,7.5626640583462725,6.1397306835931281E-2,-0.15919272843290236,null,null,null,null,null,null,null,null,null,null,null,null,null,null,null,null,null,null,null,null,null,null,null,null,null,null,null,null,null,null,null,{"$error":"#N/A"},1056696]
[667,{"$f":"IF(A699>$A$8,\"\",OFFSET(InputPriceData!B$15,$A699+$A$11,0,1,1))","v":"2021-11-16T05:00:00"},{"$f":"IF(A699>$A$8,\"\",OFFSET(InputPriceData!G$15,CalculationsAndCharts!$A699+$A$11,IF($C$5,8,0),1,1))","v":1043587},{"$f":"IF(A699>$A$8,\"\",OFFSET(InputPriceData!C$15,CalculationsAndCharts!$A699+$A$11,IF($C$5,8,0),1,1))","v":4680.75},{"$f":"IF(A699>$A$8,\"\",OFFSET(InputPriceData!D$15,CalculationsAndCharts!$A699+$A$11,IF($C$5,8,0),1,1))","v":4709.75},{"$f":"IF(A699>$A$8,\"\",OFFSET(InputPriceData!E$15,CalculationsAndCharts!$A699+$A$11,IF($C$5,8,0),1,1))","v":4670.75},{"$f":"IF(A699>$A$8,\"\",OFFSET(InputPriceData!F$15,CalculationsAndCharts!$A699+$A$11,IF($C$5,8,0),1,1))","v":4696},17,0,{"$f":"IF($A699>$J$30,NA(),AVERAGE(H699:H702))","v":13.5},0,null,null,{"$f":"IF($A699>$J$30,NA(),IF($A699>$N$30,0,(1-$M$35)*J699+(2*$M$35-$M$36)*J700-($M$35+$M$37)*J701+$M$36*N700+$M$37*N701))","v":15.514600196284901},5.3673658941062667,0.48593289818854191,0.5029963585311007,null,null,7.5752764914356003,9.2758721249011771,-0.10091867754444291,-3.8500445323032532E-2,null,null,null,null,null,null,null,null,null,null,null,null,null,null,null,null,null,null,null,null,null,null,null,null,null,null,null,null,null,null,null,1043587,{"$error":"#N/A"}]
[668,{"$f":"IF(A700>$A$8,\"\",OFFSET(InputPriceData!B$15,$A700+$A$11,0,1,1))","v":"2021-11-15T05:00:00"},{"$f":"IF(A700>$A$8,\"\",OFFSET(InputPriceData!G$15,CalculationsAndCharts!$A700+$A$11,IF($C$5,8,0),1,1))","v":1047123},{"$f":"IF(A700>$A$8,\"\",OFFSET(InputPriceData!C$15,CalculationsAndCharts!$A700+$A$11,IF($C$5,8,0),1,1))","v":4684.75},{"$f":"IF(A700>$A$8,\"\",OFFSET(InputPriceData!D$15,CalculationsAndCharts!$A700+$A$11,IF($C$5,8,0),1,1))","v":4697.5},{"$f":"IF(A700>$A$8,\"\",OFFSET(InputPriceData!E$15,CalculationsAndCharts!$A700+$A$11,IF($C$5,8,0),1,1))","v":4667},{"$f":"IF(A700>$A$8,\"\",OFFSET(InputPriceData!F$15,CalculationsAndCharts!$A700+$A$11,IF($C$5,8,0),1,1))","v":4679},0.75,0,{"$f":"IF($A700>$J$30,NA(),AVERAGE(H700:H703))","v":9.25},9.0625,null,null,{"$f":"IF($A700>$J$30,NA(),IF($A700>$N$30,0,(1-$M$35)*J700+(2*$M$35-$M$36)*J701-($M$35+$M$37)*J702+$M$36*N701+$M$37*N702))","v":15.852598136296821},5.6457921055042757,0.47477071148083494,0.54871581334658515,null,null,7.2637302746404444,10.014260818615195,-0.15919272843290236,0.26865097924004799,null,null,null,null,null,null,null,null,null,null,null,null,null,null,null,null,null,null,null,null,null,null,null,null,null,null,null,null,null,null,null,1047123,{"$error":"#N/A"}]
[669,{"$f":"IF(A701>$A$8,\"\",OFFSET(InputPriceData!B$15,$A701+$A$11,0,1,1))","v":"2021-11-12T05:00:00"},{"$f":"IF(A701>$A$8,\"\",OFFSET(InputPriceData!G$15,CalculationsAndCharts!$A701+$A$11,IF($C$5,8,0),1,1))","v":1155591},{"$f":"IF(A701>$A$8,\"\",OFFSET(InputPriceData!C$15,CalculationsAndCharts!$A701+$A$11,IF($C$5,8,0),1,1))","v":4647},{"$f":"IF(A701>$A$8,\"\",OFFSET(InputPriceData!D$15,CalculationsAndCharts!$A701+$A$11,IF($C$5,8,0),1,1))","v":4685.5},{"$f":"IF(A701>$A$8,\"\",OFFSET(InputPriceData!E$15,CalculationsAndCharts!$A701+$A$11,IF($C$5,8,0),1,1))","v":4643.75},{"$f":"IF(A701>$A$8,\"\",OFFSET(InputPriceData!F$15,CalculationsAndCharts!$A701+$A$11,IF($C$5,8,0),1,1))","v":4678.25},35.25,0,{"$f":"IF($A701>$J$30,NA(),AVERAGE(H701:H704))","v":9.0625},13,null,null,{"$f":"IF($A701>$J$30,NA(),IF($A701>$N$30,0,(1-$M$35)*J701+(2*$M$35-$M$36)*J702-($M$35+$M$37)*J703+$M$36*N702+$M$37*N703))","v":16.383382612495314},5.4175785402077077,0.5029963585311007,0.5962461784242743,null,null,7.841460314997958,8.4694371302586511,-3.8500445323032532E-2,0.6775315212619204,null,null,null,null,null,null,null,null,null,null,null,null,null,null,null,null,null,null,null,null,null,null,null,null,null,null,null,null,null,null,null,1155591,{"$error":"#N/A"}]
[670,{"$f":"IF(A702>$A$8,\"\",OFFSET(InputPriceData!B$15,$A702+$A$11,0,1,1))","v":"2021-11-11T05:00:00"},{"$f":"IF(A702>$A$8,\"\",OFFSET(InputPriceData!G$15,CalculationsAndCharts!$A702+$A$11,IF($C$5,8,0),1,1))","v":936857},{"$f":"IF(A702>$A$8,\"\",OFFSET(InputPriceData!C$15,CalculationsAndCharts!$A702+$A$11,IF($C$5,8,0),1,1))","v":4645},{"$f":"IF(A702>$A$8,\"\",OFFSET(InputPriceData!D$15,CalculationsAndCharts!$A702+$A$11,IF($C$5,8,0),1,1))","v":4661.5},{"$f":"IF(A702>$A$8,\"\",OFFSET(InputPriceData!E$15,CalculationsAndCharts!$A702+$A$11,IF($C$5,8,0),1,1))","v":4638},{"$f":"IF(A702>$A$8,\"\",OFFSET(InputPriceData!F$15,CalculationsAndCharts!$A702+$A$11,IF($C$5,8,0),1,1))","v":4643},1,0,{"$f":"IF($A702>$J$30,NA(),AVERAGE(H702:H705))","v":1.1875},13,null,null,{"$f":"IF($A702>$J$30,NA(),IF($A702>$N$30,0,(1-$M$35)*J702+(2*$M$35-$M$36)*J703-($M$35+$M$37)*J704+$M$36*N703+$M$37*N704))","v":17.260535357648397},5.0295907053773226,0.54871581334658515,0.61090342682345578,null,null,10.09891023274275,5.8217967197592477,0.26865097924004799,0.95543681383661794,null,null,null,null,null,null,null,null,null,null,null,null,null,null,null,null,null,null,null,null,null,null,null,null,null,null,null,null,null,null,null,936857,{"$error":"#N/A"}]
[671,{"$f":"IF(A703>$A$8,\"\",OFFSET(InputPriceData!B$15,$A703+$A$11,0,1,1))","v":"2021-11-10T05:00:00"},{"$f":"IF(A703>$A$8,\"\",OFFSET(InputPriceData!G$15,CalculationsAndCharts!$A703+$A$11,IF($C$5,8,0),1,1))","v":1639098},{"$f":"IF(A703>$A$8,\"\",OFFSET(InputPriceData!C$15,CalculationsAndCharts!$A703+$A$11,IF($C$5,8,0),1,1))","v":4674.75},{"$f":"IF(A703>$A$8,\"\",OFFSET(InputPriceData!D$15,CalculationsAndCharts!$A703+$A$11,IF($C$5,8,0),1,1))","v":4680.25},{"$f":"IF(A703>$A$8,\"\",OFFSET(InputPriceData!E$15,CalculationsAndCharts!$A703+$A$11,IF($C$5,8,0),1,1))","v":4625.25},{"$f":"IF(A703>$A$8,\"\",OFFSET(InputPriceData!F$15,CalculationsAndCharts!$A703+$A$11,IF($C$5,8,0),1,1))","v":4642},0,36.25,{"$f":"IF($A703>$J$30,NA(),AVERAGE(H703:H706))","v":5.1875},13,null,null,{"$f":"IF($A703>$J$30,NA(),IF($A703>$N$30,0,(1-$M$35)*J703+(2*$M$35-$M$36)*J704-($M$35+$M$37)*J705+$M$36*N704+$M$37*N705))","v":18.327158083751986},4.6356634803297405,0.5962461784242743,0.58168289955511332,null,null,13.572233881390016,2.6089629657253521,0.6775315212619204,0.99963087341213008,null,null,null,null,null,null,null,null,null,null,null,null,null,null,null,null,null,null,null,null,null,null,null,null,null,null,null,null,null,null,null,{"$error":"#N/A"},1639098]
[672,{"$f":"IF(A704>$A$8,\"\",OFFSET(InputPriceData!B$15,$A704+$A$11,0,1,1))","v":"2021-11-09T05:00:00"},{"$f":"IF(A704>$A$8,\"\",OFFSET(InputPriceData!G$15,CalculationsAndCharts!$A704+$A$11,IF($C$5,8,0),1,1))","v":1289857},{"$f":"IF(A704>$A$8,\"\",OFFSET(InputPriceData!C$15,CalculationsAndCharts!$A704+$A$11,IF($C$5,8,0),1,1))","v":4690.75},{"$f":"IF(A704>$A$8,\"\",OFFSET(InputPriceData!D$15,CalculationsAndCharts!$A704+$A$11,IF($C$5,8,0),1,1))","v":4700.5},{"$f":"IF(A704>$A$8,\"\",OFFSET(InputPriceData!E$15,CalculationsAndCharts!$A704+$A$11,IF($C$5,8,0),1,1))","v":4663.25},{"$f":"IF(A704>$A$8,\"\",OFFSET(InputPriceData!F$15,CalculationsAndCharts!$A704+$A$11,IF($C$5,8,0),1,1))","v":4678.25},0,15.75,{"$f":"IF($A704>$J$30,NA(),AVERAGE(H704:H707))","v":10.4375},3.9375,null,null,{"$f":"IF($A704>$J$30,NA(),IF($A704>$N$30,0,(1-$M$35)*J704+(2*$M$35-$M$36)*J705-($M$35+$M$37)*J706+$M$36*N705+$M$37*N706))","v":19.058024022636634},4.6032628121889578,0.61090342682345578,0.53466301179566933,null,null,16.139283075033894,0.36780420166332728,0.95543681383661794,0.96429635028250993,null,null,null,null,null,null,null,null,null,null,null,null,null,null,null,null,null,null,null,null,null,null,null,null,null,null,null,null,null,null,null,{"$error":"#N/A"},1289857]
[673,{"$f":"IF(A705>$A$8,\"\",OFFSET(InputPriceData!B$15,$A705+$A$11,0,1,1))","v":"2021-11-08T05:00:00"},{"$f":"IF(A705>$A$8,\"\",OFFSET(InputPriceData!G$15,CalculationsAndCharts!$A705+$A$11,IF($C$5,8,0),1,1))","v":1000404},{"$f":"IF(A705>$A$8,\"\",OFFSET(InputPriceData!C$15,CalculationsAndCharts!$A705+$A$11,IF($C$5,8,0),1,1))","v":4678.5},{"$f":"IF(A705>$A$8,\"\",OFFSET(InputPriceData!D$15,CalculationsAndCharts!$A705+$A$11,IF($C$5,8,0),1,1))","v":4707},{"$f":"IF(A705>$A$8,\"\",OFFSET(InputPriceData!E$15,CalculationsAndCharts!$A705+$A$11,IF($C$5,8,0),1,1))","v":4676.25},{"$f":"IF(A705>$A$8,\"\",OFFSET(InputPriceData!F$15,CalculationsAndCharts!$A705+$A$11,IF($C$5,8,0),1,1))","v":4694},3.75,0,{"$f":"IF($A705>$J$30,NA(),AVERAGE(H705:H708))","v":17.625},0,null,null,{"$f":"IF($A705>$J$30,NA(),IF($A705>$N$30,0,(1-$M$35)*J705+(2*$M$35-$M$36)*J706-($M$35+$M$37)*J707+$M$36*N706+$M$37*N707))","v":19.309196389335458},5.1068182173428305,0.58168289955511332,0.48585860894010507,null,null,17.034929484225636,3.1446030758587873E-3,0.99963087341213008,0.91395216196046247,null,null,null,null,null,null,null,null,null,null,null,null,null,null,null,null,null,null,null,null,null,null,null,null,null,null,null,null,null,null,null,1000404,{"$error":"#N/A"}]
[674,{"$f":"IF(A706>$A$8,\"\",OFFSET(InputPriceData!B$15,$A706+$A$11,0,1,1))","v":"2021-11-05T04:00:00"},{"$f":"IF(A706>$A$8,\"\",OFFSET(InputPriceData!G$15,CalculationsAndCharts!$A706+$A$11,IF($C$5,8,0),1,1))","v":1459142},{"$f":"IF(A706>$A$8,\"\",OFFSET(InputPriceData!C$15,CalculationsAndCharts!$A706+$A$11,IF($C$5,8,0),1,1))","v":4671.75},{"$f":"IF(A706>$A$8,\"\",OFFSET(InputPriceData!D$15,CalculationsAndCharts!$A706+$A$11,IF($C$5,8,0),1,1))","v":4711.75},{"$f":"IF(A706>$A$8,\"\",OFFSET(InputPriceData!E$15,CalculationsAndCharts!$A706+$A$11,IF($C$5,8,0),1,1))","v":4667.5},{"$f":"IF(A706>$A$8,\"\",OFFSET(InputPriceData!F$15,CalculationsAndCharts!$A706+$A$11,IF($C$5,8,0),1,1))","v":4690.25},17,0,{"$f":"IF($A706>$J$30,NA(),AVERAGE(H706:H709))","v":21.125},0,null,null,{"$f":"IF($A706>$J$30,NA(),IF($A706>$N$30,0,(1-$M$35)*J706+(2*$M$35-$M$36)*J707-($M$35+$M$37)*J708+$M$36*N707+$M$37*N708))","v":19.131413166118652},5.8009830916545537,0.53466301179566933,0.44065412987061819,null,null,16.250009356754376,0.29536512751553612,0.96429635028250993,0.85282738557750393,null,null,null,null,null,null,null,null,null,null,null,null,null,null,null,null,null,null,null,null,null,null,null,null,null,null,null,null,null,null,null,1459142,{"$error":"#N/A"}]
[675,{"$f":"IF(A707>$A$8,\"\",OFFSET(InputPriceData!B$15,$A707+$A$11,0,1,1))","v":"2021-11-04T04:00:00"},{"$f":"IF(A707>$A$8,\"\",OFFSET(InputPriceData!G$15,CalculationsAndCharts!$A707+$A$11,IF($C$5,8,0),1,1))","v":1169886},{"$f":"IF(A707>$A$8,\"\",OFFSET(InputPriceData!C$15,CalculationsAndCharts!$A707+$A$11,IF($C$5,8,0),1,1))","v":4651.5},{"$f":"IF(A707>$A$8,\"\",OFFSET(InputPriceData!D$15,CalculationsAndCharts!$A707+$A$11,IF($C$5,8,0),1,1))","v":4676.25},{"$f":"IF(A707>$A$8,\"\",OFFSET(InputPriceData!E$15,CalculationsAndCharts!$A707+$A$11,IF($C$5,8,0),1,1))","v":4650.75},{"$f":"IF(A707>$A$8,\"\",OFFSET(InputPriceData!F$15,CalculationsAndCharts!$A707+$A$11,IF($C$5,8,0),1,1))","v":4673.25},21,0,{"$f":"IF($A707>$J$30,NA(),AVERAGE(H707:H710))","v":19.0625},0,null,null,{"$f":"IF($A707>$J$30,NA(),IF($A707>$N$30,0,(1-$M$35)*J707+(2*$M$35-$M$36)*J708-($M$35+$M$37)*J709+$M$36*N708+$M$37*N709))","v":18.881589272414157},6.5334659136008861,0.48585860894010507,0.39491690070746949,null,null,15.109154883805495,0.67928035935040221,0.91395216196046247,0.77811619164209567,null,null,null,null,null,null,null,null,null,null,null,null,null,null,null,null,null,null,null,null,null,null,null,null,null,null,null,null,null,null,null,1169886,{"$error":"#N/A"}]
[676,{"$f":"IF(A708>$A$8,\"\",OFFSET(InputPriceData!B$15,$A708+$A$11,0,1,1))","v":"2021-11-03T04:00:00"},{"$f":"IF(A708>$A$8,\"\",OFFSET(InputPriceData!G$15,CalculationsAndCharts!$A708+$A$11,IF($C$5,8,0),1,1))","v":1074650},{"$f":"IF(A708>$A$8,\"\",OFFSET(InputPriceData!C$15,CalculationsAndCharts!$A708+$A$11,IF($C$5,8,0),1,1))","v":4621.25},{"$f":"IF(A708>$A$8,\"\",OFFSET(InputPriceData!D$15,CalculationsAndCharts!$A708+$A$11,IF($C$5,8,0),1,1))","v":4657},{"$f":"IF(A708>$A$8,\"\",OFFSET(InputPriceData!E$15,CalculationsAndCharts!$A708+$A$11,IF($C$5,8,0),1,1))","v":4613},{"$f":"IF(A708>$A$8,\"\",OFFSET(InputPriceData!F$15,CalculationsAndCharts!$A708+$A$11,IF($C$5,8,0),1,1))","v":4652.25},28.75,0,{"$f":"IF($A708>$J$30,NA(),AVERAGE(H708:H711))","v":16.1875},0,null,null,{"$f":"IF($A708>$J$30,NA(),IF($A708>$N$30,0,(1-$M$35)*J708+(2*$M$35-$M$36)*J709-($M$35+$M$37)*J710+$M$36*N709+$M$37*N710))","v":18.814879050479913},7.3050322597658486,0.44065412987061819,0.36046986944472537,null,null,14.685401223629064,1.166481512929044,0.85282738557750393,0.79292855373083626,null,null,null,null,null,null,null,null,null,null,null,null,null,null,null,null,null,null,null,null,null,null,null,null,null,null,null,null,null,null,null,1074650,{"$error":"#N/A"}]
[677,{"$f":"IF(A709>$A$8,\"\",OFFSET(InputPriceData!B$15,$A709+$A$11,0,1,1))","v":"2021-11-02T04:00:00"},{"$f":"IF(A709>$A$8,\"\",OFFSET(InputPriceData!G$15,CalculationsAndCharts!$A709+$A$11,IF($C$5,8,0),1,1))","v":980833},{"$f":"IF(A709>$A$8,\"\",OFFSET(InputPriceData!C$15,CalculationsAndCharts!$A709+$A$11,IF($C$5,8,0),1,1))","v":4605.75},{"$f":"IF(A709>$A$8,\"\",OFFSET(InputPriceData!D$15,CalculationsAndCharts!$A709+$A$11,IF($C$5,8,0),1,1))","v":4627},{"$f":"IF(A709>$A$8,\"\",OFFSET(InputPriceData!E$15,CalculationsAndCharts!$A709+$A$11,IF($C$5,8,0),1,1))","v":4593.25},{"$f":"IF(A709>$A$8,\"\",OFFSET(InputPriceData!F$15,CalculationsAndCharts!$A709+$A$11,IF($C$5,8,0),1,1))","v":4623.5},17.75,0,{"$f":"IF($A709>$J$30,NA(),AVERAGE(H709:H712))","v":19.75},0,null,null,{"$f":"IF($A709>$J$30,NA(),IF($A709>$N$30,0,(1-$M$35)*J709+(2*$M$35-$M$36)*J710-($M$35+$M$37)*J711+$M$36*N710+$M$37*N711))","v":18.710950262017871},8.1163829684105675,0.39491690070746949,0.34025503807072871,null,null,14.158610635998896,1.7667948043771657,0.77811619164209567,0.9294269034128595,null,null,null,null,null,null,null,null,null,null,null,null,null,null,null,null,null,null,null,null,null,null,null,null,null,null,null,null,null,null,null,980833,{"$error":"#N/A"}]
[678,{"$f":"IF(A710>$A$8,\"\",OFFSET(InputPriceData!B$15,$A710+$A$11,0,1,1))","v":"2021-11-01T04:00:00"},{"$f":"IF(A710>$A$8,\"\",OFFSET(InputPriceData!G$15,CalculationsAndCharts!$A710+$A$11,IF($C$5,8,0),1,1))","v":1071118},{"$f":"IF(A710>$A$8,\"\",OFFSET(InputPriceData!C$15,CalculationsAndCharts!$A710+$A$11,IF($C$5,8,0),1,1))","v":4608},{"$f":"IF(A710>$A$8,\"\",OFFSET(InputPriceData!D$15,CalculationsAndCharts!$A710+$A$11,IF($C$5,8,0),1,1))","v":4619.5},{"$f":"IF(A710>$A$8,\"\",OFFSET(InputPriceData!E$15,CalculationsAndCharts!$A710+$A$11,IF($C$5,8,0),1,1))","v":4586.5},{"$f":"IF(A710>$A$8,\"\",OFFSET(InputPriceData!F$15,CalculationsAndCharts!$A710+$A$11,IF($C$5,8,0),1,1))","v":4605.75},8.75,0,{"$f":"IF($A710>$J$30,NA(),AVERAGE(H710:H713))","v":15.3125},5.1875,null,null,{"$f":"IF($A710>$J$30,NA(),IF($A710>$N$30,0,(1-$M$35)*J710+(2*$M$35-$M$36)*J711-($M$35+$M$37)*J712+$M$36*N711+$M$37*N712))","v":18.63141417788712},8.7582613986716105,0.36046986944472537,0.31706824413856588,null,null,13.810351097834657,1.5950046472085317,0.79292855373083626,1.0947499090612776,null,null,null,null,null,null,null,null,null,null,null,null,null,null,null,null,null,null,null,null,null,null,null,null,null,null,null,null,null,null,null,1071118,{"$error":"#N/A"}]
[679,{"$f":"IF(A711>$A$8,\"\",OFFSET(InputPriceData!B$15,$A711+$A$11,0,1,1))","v":"2021-10-29T04:00:00"},{"$f":"IF(A711>$A$8,\"\",OFFSET(InputPriceData!G$15,CalculationsAndCharts!$A711+$A$11,IF($C$5,8,0),1,1))","v":1418280},{"$f":"IF(A711>$A$8,\"\",OFFSET(InputPriceData!C$15,CalculationsAndCharts!$A711+$A$11,IF($C$5,8,0),1,1))","v":4577},{"$f":"IF(A711>$A$8,\"\",OFFSET(InputPriceData!D$15,CalculationsAndCharts!$A711+$A$11,IF($C$5,8,0),1,1))","v":4603.5},{"$f":"IF(A711>$A$8,\"\",OFFSET(InputPriceData!E$15,CalculationsAndCharts!$A711+$A$11,IF($C$5,8,0),1,1))","v":4559.25},{"$f":"IF(A711>$A$8,\"\",OFFSET(InputPriceData!F$15,CalculationsAndCharts!$A711+$A$11,IF($C$5,8,0),1,1))","v":4597},9.5,0,{"$f":"IF($A711>$J$30,NA(),AVERAGE(H711:H714))","v":14.9375},5.1875,null,null,{"$f":"IF($A711>$J$30,NA(),IF($A711>$N$30,0,(1-$M$35)*J711+(2*$M$35-$M$36)*J712-($M$35+$M$37)*J713+$M$36*N712+$M$37*N713))","v":18.736423139312723},9.2230660729545821,0.34025503807072871,0.30325924650753133,null,null,14.379113285643417,0.52594817090513368,0.9294269034128595,1.3013300388157476,null,null,null,null,null,null,null,null,null,null,null,null,null,null,null,null,null,null,null,null,null,null,null,null,null,null,null,null,null,null,null,1418280,{"$error":"#N/A"}]
[680,{"$f":"IF(A712>$A$8,\"\",OFFSET(InputPriceData!B$15,$A712+$A$11,0,1,1))","v":"2021-10-28T04:00:00"},{"$f":"IF(A712>$A$8,\"\",OFFSET(InputPriceData!G$15,CalculationsAndCharts!$A712+$A$11,IF($C$5,8,0),1,1))","v":1195785},{"$f":"IF(A712>$A$8,\"\",OFFSET(InputPriceData!C$15,CalculationsAndCharts!$A712+$A$11,IF($C$5,8,0),1,1))","v":4548.75},{"$f":"IF(A712>$A$8,\"\",OFFSET(InputPriceData!D$15,CalculationsAndCharts!$A712+$A$11,IF($C$5,8,0),1,1))","v":4589.75},{"$f":"IF(A712>$A$8,\"\",OFFSET(InputPriceData!E$15,CalculationsAndCharts!$A712+$A$11,IF($C$5,8,0),1,1))","v":4545.25},{"$f":"IF(A712>$A$8,\"\",OFFSET(InputPriceData!F$15,CalculationsAndCharts!$A712+$A$11,IF($C$5,8,0),1,1))","v":4587.5},43,0,{"$f":"IF($A712>$J$30,NA(),AVERAGE(H712:H715))","v":17.9375},5.1875,null,null,{"$f":"IF($A712>$J$30,NA(),IF($A712>$N$30,0,(1-$M$35)*J712+(2*$M$35-$M$36)*J713-($M$35+$M$37)*J714+$M$36*N713+$M$37*N714))","v":18.732072194599507},9.7130327237888316,0.31706824413856588,0.28947765112073626,null,null,14.752870964903105,-0.6673031354581811,1.0947499090612776,1.3631980257142386,null,null,null,null,null,null,null,null,null,null,null,null,null,null,null,null,null,null,null,null,null,null,null,null,null,null,null,null,null,null,null,1195785,{"$error":"#N/A"}]
[681,{"$f":"IF(A713>$A$8,\"\",OFFSET(InputPriceData!B$15,$A713+$A$11,0,1,1))","v":"2021-10-27T04:00:00"},{"$f":"IF(A713>$A$8,\"\",OFFSET(InputPriceData!G$15,CalculationsAndCharts!$A713+$A$11,IF($C$5,8,0),1,1))","v":1263181},{"$f":"IF(A713>$A$8,\"\",OFFSET(InputPriceData!C$15,CalculationsAndCharts!$A713+$A$11,IF($C$5,8,0),1,1))","v":4563.75},{"$f":"IF(A713>$A$8,\"\",OFFSET(InputPriceData!D$15,CalculationsAndCharts!$A713+$A$11,IF($C$5,8,0),1,1))","v":4576.75},{"$f":"IF(A713>$A$8,\"\",OFFSET(InputPriceData!E$15,CalculationsAndCharts!$A713+$A$11,IF($C$5,8,0),1,1))","v":4543.75},{"$f":"IF(A713>$A$8,\"\",OFFSET(InputPriceData!F$15,CalculationsAndCharts!$A713+$A$11,IF($C$5,8,0),1,1))","v":4544.5},0,20.75,{"$f":"IF($A713>$J$30,NA(),AVERAGE(H713:H716))","v":7.1875},6.5,null,null,{"$f":"IF($A713>$J$30,NA(),IF($A713>$N$30,0,(1-$M$35)*J713+(2*$M$35-$M$36)*J714-($M$35+$M$37)*J715+$M$36*N714+$M$37*N715))","v":19.033413960928058},10.175531246149845,0.30325924650753133,0.26206995178204856,null,null,16.698263431532247,-2.1864262331397164,1.3013300388157476,1.3027719477124426,null,null,null,null,null,null,null,null,null,null,null,null,null,null,null,null,null,null,null,null,null,null,null,null,null,null,null,null,null,null,null,{"$error":"#N/A"},1263181]
[682,{"$f":"IF(A714>$A$8,\"\",OFFSET(InputPriceData!B$15,$A714+$A$11,0,1,1))","v":"2021-10-26T04:00:00"},{"$f":"IF(A714>$A$8,\"\",OFFSET(InputPriceData!G$15,CalculationsAndCharts!$A714+$A$11,IF($C$5,8,0),1,1))","v":1257346},{"$f":"IF(A714>$A$8,\"\",OFFSET(InputPriceData!C$15,CalculationsAndCharts!$A714+$A$11,IF($C$5,8,0),1,1))","v":4564.75},{"$f":"IF(A714>$A$8,\"\",OFFSET(InputPriceData!D$15,CalculationsAndCharts!$A714+$A$11,IF($C$5,8,0),1,1))","v":4590},{"$f":"IF(A714>$A$8,\"\",OFFSET(InputPriceData!E$15,CalculationsAndCharts!$A714+$A$11,IF($C$5,8,0),1,1))","v":4560.75},{"$f":"IF(A714>$A$8,\"\",OFFSET(InputPriceData!F$15,CalculationsAndCharts!$A714+$A$11,IF($C$5,8,0),1,1))","v":4565.25},7.25,0,{"$f":"IF($A714>$J$30,NA(),AVERAGE(H714:H717))","v":10.625},1.3125,null,null,{"$f":"IF($A714>$J$30,NA(),IF($A714>$N$30,0,(1-$M$35)*J714+(2*$M$35-$M$36)*J715-($M$35+$M$37)*J716+$M$36*N715+$M$37*N716))","v":19.634312727277983},10.818813327621879,0.28947765112073626,0.23028182368405084,null,null,20.383558375148073,-3.132732880752636,1.3631980257142386,1.2384912985072072,null,null,null,null,null,null,null,null,null,null,null,null,null,null,null,null,null,null,null,null,null,null,null,null,null,null,null,null,null,null,null,1257346,{"$error":"#N/A"}]
[683,{"$f":"IF(A715>$A$8,\"\",OFFSET(InputPriceData!B$15,$A715+$A$11,0,1,1))","v":"2021-10-25T04:00:00"},{"$f":"IF(A715>$A$8,\"\",OFFSET(InputPriceData!G$15,CalculationsAndCharts!$A715+$A$11,IF($C$5,8,0),1,1))","v":1031431},{"$f":"IF(A715>$A$8,\"\",OFFSET(InputPriceData!C$15,CalculationsAndCharts!$A715+$A$11,IF($C$5,8,0),1,1))","v":4528.75},{"$f":"IF(A715>$A$8,\"\",OFFSET(InputPriceData!D$15,CalculationsAndCharts!$A715+$A$11,IF($C$5,8,0),1,1))","v":4566.25},{"$f":"IF(A715>$A$8,\"\",OFFSET(InputPriceData!E$15,CalculationsAndCharts!$A715+$A$11,IF($C$5,8,0),1,1))","v":4522.5},{"$f":"IF(A715>$A$8,\"\",OFFSET(InputPriceData!F$15,CalculationsAndCharts!$A715+$A$11,IF($C$5,8,0),1,1))","v":4558},21.5,0,{"$f":"IF($A715>$J$30,NA(),AVERAGE(H715:H718))","v":13},1.3125,null,null,{"$f":"IF($A715>$J$30,NA(),IF($A715>$N$30,0,(1-$M$35)*J715+(2*$M$35-$M$36)*J716-($M$35+$M$37)*J717+$M$36*N716+$M$37*N717))","v":20.014528273548439},11.702458958875299,0.26206995178204856,0.1905937671945018,null,null,23.768385520864829,-3.1251033717347996,1.3027719477124426,1.1486603847518979,null,null,null,null,null,null,null,null,null,null,null,null,null,null,null,null,null,null,null,null,null,null,null,null,null,null,null,null,null,null,null,1031431,{"$error":"#N/A"}]
[684,{"$f":"IF(A716>$A$8,\"\",OFFSET(InputPriceData!B$15,$A716+$A$11,0,1,1))","v":"2021-10-22T04:00:00"},{"$f":"IF(A716>$A$8,\"\",OFFSET(InputPriceData!G$15,CalculationsAndCharts!$A716+$A$11,IF($C$5,8,0),1,1))","v":1315668},{"$f":"IF(A716>$A$8,\"\",OFFSET(InputPriceData!C$15,CalculationsAndCharts!$A716+$A$11,IF($C$5,8,0),1,1))","v":4530},{"$f":"IF(A716>$A$8,\"\",OFFSET(InputPriceData!D$15,CalculationsAndCharts!$A716+$A$11,IF($C$5,8,0),1,1))","v":4551.5},{"$f":"IF(A716>$A$8,\"\",OFFSET(InputPriceData!E$15,CalculationsAndCharts!$A716+$A$11,IF($C$5,8,0),1,1))","v":4515.25},{"$f":"IF(A716>$A$8,\"\",OFFSET(InputPriceData!F$15,CalculationsAndCharts!$A716+$A$11,IF($C$5,8,0),1,1))","v":4536.5},0,5.25,{"$f":"IF($A716>$J$30,NA(),AVERAGE(H716:H719))","v":16.0625},1.3125,null,null,{"$f":"IF($A716>$J$30,NA(),IF($A716>$N$30,0,(1-$M$35)*J716+(2*$M$35-$M$36)*J717-($M$35+$M$37)*J718+$M$36*N717+$M$37*N718))","v":20.179283297540515},12.625043173144245,0.23028182368405084,0.14071788052457657,null,null,26.776796550862311,-2.8528290387088577,1.2384912985072072,1.0314520387022541,null,null,null,null,null,null,null,null,null,null,null,null,null,null,null,null,null,null,null,null,null,null,null,null,null,null,null,null,null,null,null,{"$error":"#N/A"},1315668]
[685,{"$f":"IF(A717>$A$8,\"\",OFFSET(InputPriceData!B$15,$A717+$A$11,0,1,1))","v":"2021-10-21T04:00:00"},{"$f":"IF(A717>$A$8,\"\",OFFSET(InputPriceData!G$15,CalculationsAndCharts!$A717+$A$11,IF($C$5,8,0),1,1))","v":938565},{"$f":"IF(A717>$A$8,\"\",OFFSET(InputPriceData!C$15,CalculationsAndCharts!$A717+$A$11,IF($C$5,8,0),1,1))","v":4525},{"$f":"IF(A717>$A$8,\"\",OFFSET(InputPriceData!D$15,CalculationsAndCharts!$A717+$A$11,IF($C$5,8,0),1,1))","v":4543.25},{"$f":"IF(A717>$A$8,\"\",OFFSET(InputPriceData!E$15,CalculationsAndCharts!$A717+$A$11,IF($C$5,8,0),1,1))","v":4510.25},{"$f":"IF(A717>$A$8,\"\",OFFSET(InputPriceData!F$15,CalculationsAndCharts!$A717+$A$11,IF($C$5,8,0),1,1))","v":4541.75},13.75,0,{"$f":"IF($A717>$J$30,NA(),AVERAGE(H717:H720))","v":19.8125},0,null,null,{"$f":"IF($A717>$J$30,NA(),IF($A717>$N$30,0,(1-$M$35)*J717+(2*$M$35-$M$36)*J718-($M$35+$M$37)*J719+$M$36*N718+$M$37*N719))","v":20.063518580990078},13.639863939258566,0.1905937671945018,6.9746494548294291E-2,null,null,29.014699442220991,-2.0074537666124947,1.1486603847518979,0.88438693790014189,null,null,null,null,null,null,null,null,null,null,null,null,null,null,null,null,null,null,null,null,null,null,null,null,null,null,null,null,null,null,null,938565,{"$error":"#N/A"}]
[686,{"$f":"IF(A718>$A$8,\"\",OFFSET(InputPriceData!B$15,$A718+$A$11,0,1,1))","v":"2021-10-20T04:00:00"},{"$f":"IF(A718>$A$8,\"\",OFFSET(InputPriceData!G$15,CalculationsAndCharts!$A718+$A$11,IF($C$5,8,0),1,1))","v":1006857},{"$f":"IF(A718>$A$8,\"\",OFFSET(InputPriceData!C$15,CalculationsAndCharts!$A718+$A$11,IF($C$5,8,0),1,1))","v":4516},{"$f":"IF(A718>$A$8,\"\",OFFSET(InputPriceData!D$15,CalculationsAndCharts!$A718+$A$11,IF($C$5,8,0),1,1))","v":4532.25},{"$f":"IF(A718>$A$8,\"\",OFFSET(InputPriceData!E$15,CalculationsAndCharts!$A718+$A$11,IF($C$5,8,0),1,1))","v":4504},{"$f":"IF(A718>$A$8,\"\",OFFSET(InputPriceData!F$15,CalculationsAndCharts!$A718+$A$11,IF($C$5,8,0),1,1))","v":4528},16.75,0,{"$f":"IF($A718>$J$30,NA(),AVERAGE(H718:H721))","v":24.75},0,null,null,{"$f":"IF($A718>$J$30,NA(),IF($A718>$N$30,0,(1-$M$35)*J718+(2*$M$35-$M$36)*J719-($M$35+$M$37)*J720+$M$36*N719+$M$37*N720))","v":19.57974281832481},14.74906564976156,0.14071788052457657,-1.6314228852985398E-2,null,null,29.94087745353842,-0.463560851306005,1.0314520387022541,0.66664129296178831,null,null,null,null,null,null,null,null,null,null,null,null,null,null,null,null,null,null,null,null,null,null,null,null,null,null,null,null,null,null,null,1006857,{"$error":"#N/A"}]
[687,{"$f":"IF(A719>$A$8,\"\",OFFSET(InputPriceData!B$15,$A719+$A$11,0,1,1))","v":"2021-10-19T04:00:00"},{"$f":"IF(A719>$A$8,\"\",OFFSET(InputPriceData!G$15,CalculationsAndCharts!$A719+$A$11,IF($C$5,8,0),1,1))","v":1018177},{"$f":"IF(A719>$A$8,\"\",OFFSET(InputPriceData!C$15,CalculationsAndCharts!$A719+$A$11,IF($C$5,8,0),1,1))","v":4475.75},{"$f":"IF(A719>$A$8,\"\",OFFSET(InputPriceData!D$15,CalculationsAndCharts!$A719+$A$11,IF($C$5,8,0),1,1))","v":4517.5},{"$f":"IF(A719>$A$8,\"\",OFFSET(InputPriceData!E$15,CalculationsAndCharts!$A719+$A$11,IF($C$5,8,0),1,1))","v":4471.75},{"$f":"IF(A719>$A$8,\"\",OFFSET(InputPriceData!F$15,CalculationsAndCharts!$A719+$A$11,IF($C$5,8,0),1,1))","v":4511.25},33.75,0,{"$f":"IF($A719>$J$30,NA(),AVERAGE(H719:H722))","v":39.0625},0,null,null,{"$f":"IF($A719>$J$30,NA(),IF($A719>$N$30,0,(1-$M$35)*J719+(2*$M$35-$M$36)*J720-($M$35+$M$37)*J721+$M$36*N720+$M$37*N721))","v":18.286021059367187},15.901557310942966,6.9746494548294291E-2,-9.4559190157922871E-2,null,null,27.450812729268868,1.6841936509584938,0.88438693790014189,0.408020887752578,null,null,null,null,null,null,null,null,null,null,null,null,null,null,null,null,null,null,null,null,null,null,null,null,null,null,null,null,null,null,null,1018177,{"$error":"#N/A"}]
[688,{"$f":"IF(A720>$A$8,\"\",OFFSET(InputPriceData!B$15,$A720+$A$11,0,1,1))","v":"2021-10-18T04:00:00"},{"$f":"IF(A720>$A$8,\"\",OFFSET(InputPriceData!G$15,CalculationsAndCharts!$A720+$A$11,IF($C$5,8,0),1,1))","v":1095216},{"$f":"IF(A720>$A$8,\"\",OFFSET(InputPriceData!C$15,CalculationsAndCharts!$A720+$A$11,IF($C$5,8,0),1,1))","v":4465.5},{"$f":"IF(A720>$A$8,\"\",OFFSET(InputPriceData!D$15,CalculationsAndCharts!$A720+$A$11,IF($C$5,8,0),1,1))","v":4479.75},{"$f":"IF(A720>$A$8,\"\",OFFSET(InputPriceData!E$15,CalculationsAndCharts!$A720+$A$11,IF($C$5,8,0),1,1))","v":4436.25},{"$f":"IF(A720>$A$8,\"\",OFFSET(InputPriceData!F$15,CalculationsAndCharts!$A720+$A$11,IF($C$5,8,0),1,1))","v":4477.5},15,0,{"$f":"IF($A720>$J$30,NA(),AVERAGE(H720:H723))","v":34.1875},0,null,null,{"$f":"IF($A720>$J$30,NA(),IF($A720>$N$30,0,(1-$M$35)*J720+(2*$M$35-$M$36)*J721-($M$35+$M$37)*J722+$M$36*N721+$M$37*N722))","v":16.548241597492073},17.097140053593925,-1.6314228852985398E-2,-0.14969466280161553,null,null,22.670902297145119,4.5345946419792655,0.66664129296178831,0.21568018621266125,null,null,null,null,null,null,null,null,null,null,null,null,null,null,null,null,null,null,null,null,null,null,null,null,null,null,null,null,null,null,null,1095216,{"$error":"#N/A"}]
[689,{"$f":"IF(A721>$A$8,\"\",OFFSET(InputPriceData!B$15,$A721+$A$11,0,1,1))","v":"2021-10-15T04:00:00"},{"$f":"IF(A721>$A$8,\"\",OFFSET(InputPriceData!G$15,CalculationsAndCharts!$A721+$A$11,IF($C$5,8,0),1,1))","v":1185108},{"$f":"IF(A721>$A$8,\"\",OFFSET(InputPriceData!C$15,CalculationsAndCharts!$A721+$A$11,IF($C$5,8,0),1,1))","v":4433},{"$f":"IF(A721>$A$8,\"\",OFFSET(InputPriceData!D$15,CalculationsAndCharts!$A721+$A$11,IF($C$5,8,0),1,1))","v":4467.5},{"$f":"IF(A721>$A$8,\"\",OFFSET(InputPriceData!E$15,CalculationsAndCharts!$A721+$A$11,IF($C$5,8,0),1,1))","v":4426.25},{"$f":"IF(A721>$A$8,\"\",OFFSET(InputPriceData!F$15,CalculationsAndCharts!$A721+$A$11,IF($C$5,8,0),1,1))","v":4462.5},33.5,0,{"$f":"IF($A721>$J$30,NA(),AVERAGE(H721:H724))","v":30.4375},2.5625,null,null,{"$f":"IF($A721>$J$30,NA(),IF($A721>$N$30,0,(1-$M$35)*J721+(2*$M$35-$M$36)*J722-($M$35+$M$37)*J723+$M$36*N722+$M$37*N723))","v":15.081685125365805},18.231779347251205,-9.4559190157922871E-2,-0.15933480471275732,null,null,18.412465987198175,7.7412170261090445,0.408020887752578,0.19789836976460662,null,null,null,null,null,null,null,null,null,null,null,null,null,null,null,null,null,null,null,null,null,null,null,null,null,null,null,null,null,null,null,1185108,{"$error":"#N/A"}]
[690,{"$f":"IF(A722>$A$8,\"\",OFFSET(InputPriceData!B$15,$A722+$A$11,0,1,1))","v":"2021-10-14T04:00:00"},{"$f":"IF(A722>$A$8,\"\",OFFSET(InputPriceData!G$15,CalculationsAndCharts!$A722+$A$11,IF($C$5,8,0),1,1))","v":1264458},{"$f":"IF(A722>$A$8,\"\",OFFSET(InputPriceData!C$15,CalculationsAndCharts!$A722+$A$11,IF($C$5,8,0),1,1))","v":4354.75},{"$f":"IF(A722>$A$8,\"\",OFFSET(InputPriceData!D$15,CalculationsAndCharts!$A722+$A$11,IF($C$5,8,0),1,1))","v":4437.25},{"$f":"IF(A722>$A$8,\"\",OFFSET(InputPriceData!E$15,CalculationsAndCharts!$A722+$A$11,IF($C$5,8,0),1,1))","v":4354},{"$f":"IF(A722>$A$8,\"\",OFFSET(InputPriceData!F$15,CalculationsAndCharts!$A722+$A$11,IF($C$5,8,0),1,1))","v":4429},74,0,{"$f":"IF($A722>$J$30,NA(),AVERAGE(H722:H725))","v":22.0625},10.375,null,null,{"$f":"IF($A722>$J$30,NA(),IF($A722>$N$30,0,(1-$M$35)*J722+(2*$M$35-$M$36)*J723-($M$35+$M$37)*J724+$M$36*N723+$M$37*N724))","v":14.041035730021886},18.984831839584999,-0.14969466280161553,-0.14907241519610465,null,null,15.468897934075141,9.9800616023421735,0.21568018621266125,0.2400217776218532,null,null,null,null,null,null,null,null,null,null,null,null,null,null,null,null,null,null,null,null,null,null,null,null,null,null,null,null,null,null,null,1264458,{"$error":"#N/A"}]
[691,{"$f":"IF(A723>$A$8,\"\",OFFSET(InputPriceData!B$15,$A723+$A$11,0,1,1))","v":"2021-10-13T04:00:00"},{"$f":"IF(A723>$A$8,\"\",OFFSET(InputPriceData!G$15,CalculationsAndCharts!$A723+$A$11,IF($C$5,8,0),1,1))","v":1372482},{"$f":"IF(A723>$A$8,\"\",OFFSET(InputPriceData!C$15,CalculationsAndCharts!$A723+$A$11,IF($C$5,8,0),1,1))","v":4327.5},{"$f":"IF(A723>$A$8,\"\",OFFSET(InputPriceData!D$15,CalculationsAndCharts!$A723+$A$11,IF($C$5,8,0),1,1))","v":4364.75},{"$f":"IF(A723>$A$8,\"\",OFFSET(InputPriceData!E$15,CalculationsAndCharts!$A723+$A$11,IF($C$5,8,0),1,1))","v":4318.75},{"$f":"IF(A723>$A$8,\"\",OFFSET(InputPriceData!F$15,CalculationsAndCharts!$A723+$A$11,IF($C$5,8,0),1,1))","v":4355},14.25,0,{"$f":"IF($A723>$J$30,NA(),AVERAGE(H723:H726))","v":3.5625},12.3125,null,null,{"$f":"IF($A723>$J$30,NA(),IF($A723>$N$30,0,(1-$M$35)*J723+(2*$M$35-$M$36)*J724-($M$35+$M$37)*J725+$M$36*N724+$M$37*N725))","v":14.041797238329876},19.364598832419798,-0.15933480471275732,-0.15519895603857839,null,null,16.683586902463727,11.171174943054337,0.19789836976460662,0.21555593894508124,null,null,null,null,null,null,null,null,null,null,null,null,null,null,null,null,null,null,null,null,null,null,null,null,null,null,null,null,null,null,null,1372482,{"$error":"#N/A"}]
[692,{"$f":"IF(A724>$A$8,\"\",OFFSET(InputPriceData!B$15,$A724+$A$11,0,1,1))","v":"2021-10-12T04:00:00"},{"$f":"IF(A724>$A$8,\"\",OFFSET(InputPriceData!G$15,CalculationsAndCharts!$A724+$A$11,IF($C$5,8,0),1,1))","v":1295686},{"$f":"IF(A724>$A$8,\"\",OFFSET(InputPriceData!C$15,CalculationsAndCharts!$A724+$A$11,IF($C$5,8,0),1,1))","v":4347.75},{"$f":"IF(A724>$A$8,\"\",OFFSET(InputPriceData!D$15,CalculationsAndCharts!$A724+$A$11,IF($C$5,8,0),1,1))","v":4365},{"$f":"IF(A724>$A$8,\"\",OFFSET(InputPriceData!E$15,CalculationsAndCharts!$A724+$A$11,IF($C$5,8,0),1,1))","v":4317.25},{"$f":"IF(A724>$A$8,\"\",OFFSET(InputPriceData!F$15,CalculationsAndCharts!$A724+$A$11,IF($C$5,8,0),1,1))","v":4340.75},0,10.25,{"$f":"IF($A724>$J$30,NA(),AVERAGE(H724:H727))","v":9},12.3125,null,null,{"$f":"IF($A724>$J$30,NA(),IF($A724>$N$30,0,(1-$M$35)*J724+(2*$M$35-$M$36)*J725-($M$35+$M$37)*J726+$M$36*N725+$M$37*N726))","v":14.567103318506335},19.671070595819096,-0.14907241519610465,-0.19230370884988093,null,null,20.369701783481432,12.48407893405885,0.2400217776218532,8.1537308061324837E-2,null,null,null,null,null,null,null,null,null,null,null,null,null,null,null,null,null,null,null,null,null,null,null,null,null,null,null,null,null,null,null,{"$error":"#N/A"},1295686]
[693,{"$f":"IF(A725>$A$8,\"\",OFFSET(InputPriceData!B$15,$A725+$A$11,0,1,1))","v":"2021-10-11T04:00:00"},{"$f":"IF(A725>$A$8,\"\",OFFSET(InputPriceData!G$15,CalculationsAndCharts!$A725+$A$11,IF($C$5,8,0),1,1))","v":1245705},{"$f":"IF(A725>$A$8,\"\",OFFSET(InputPriceData!C$15,CalculationsAndCharts!$A725+$A$11,IF($C$5,8,0),1,1))","v":4381},{"$f":"IF(A725>$A$8,\"\",OFFSET(InputPriceData!D$15,CalculationsAndCharts!$A725+$A$11,IF($C$5,8,0),1,1))","v":4407.5},{"$f":"IF(A725>$A$8,\"\",OFFSET(InputPriceData!E$15,CalculationsAndCharts!$A725+$A$11,IF($C$5,8,0),1,1))","v":4344},{"$f":"IF(A725>$A$8,\"\",OFFSET(InputPriceData!F$15,CalculationsAndCharts!$A725+$A$11,IF($C$5,8,0),1,1))","v":4351},0,31.25,{"$f":"IF($A725>$J$30,NA(),AVERAGE(H725:H728))","v":14},9.75,null,null,{"$f":"IF($A725>$J$30,NA(),IF($A725>$N$30,0,(1-$M$35)*J725+(2*$M$35-$M$36)*J726-($M$35+$M$37)*J727+$M$36*N726+$M$37*N727))","v":14.686353719863401},20.08243314383764,-0.15519895603857839,-0.24230913898843903,null,null,22.806299956801485,14.717764919380034,0.21555593894508124,-8.0280175962744948E-2,null,null,null,null,null,null,null,null,null,null,null,null,null,null,null,null,null,null,null,null,null,null,null,null,null,null,null,null,null,null,null,{"$error":"#N/A"},1245705]
[694,{"$f":"IF(A726>$A$8,\"\",OFFSET(InputPriceData!B$15,$A726+$A$11,0,1,1))","v":"2021-10-08T04:00:00"},{"$f":"IF(A726>$A$8,\"\",OFFSET(InputPriceData!G$15,CalculationsAndCharts!$A726+$A$11,IF($C$5,8,0),1,1))","v":1428160},{"$f":"IF(A726>$A$8,\"\",OFFSET(InputPriceData!C$15,CalculationsAndCharts!$A726+$A$11,IF($C$5,8,0),1,1))","v":4390.5},{"$f":"IF(A726>$A$8,\"\",OFFSET(InputPriceData!D$15,CalculationsAndCharts!$A726+$A$11,IF($C$5,8,0),1,1))","v":4407.75},{"$f":"IF(A726>$A$8,\"\",OFFSET(InputPriceData!E$15,CalculationsAndCharts!$A726+$A$11,IF($C$5,8,0),1,1))","v":4376.25},{"$f":"IF(A726>$A$8,\"\",OFFSET(InputPriceData!F$15,CalculationsAndCharts!$A726+$A$11,IF($C$5,8,0),1,1))","v":4382.25},0,7.75,{"$f":"IF($A726>$J$30,NA(),AVERAGE(H726:H729))","v":24.6875},1.9375,null,null,{"$f":"IF($A726>$J$30,NA(),IF($A726>$N$30,0,(1-$M$35)*J726+(2*$M$35-$M$36)*J727-($M$35+$M$37)*J728+$M$36*N727+$M$37*N728))","v":14.170305558882813},20.917897059220106,-0.19230370884988093,-0.2893895408901474,null,null,22.788139466651241,19.352134931278485,8.1537308061324837E-2,-0.23030666950552164,null,null,null,null,null,null,null,null,null,null,null,null,null,null,null,null,null,null,null,null,null,null,null,null,null,null,null,null,null,null,null,{"$error":"#N/A"},1428160]
[695,{"$f":"IF(A727>$A$8,\"\",OFFSET(InputPriceData!B$15,$A727+$A$11,0,1,1))","v":"2021-10-07T04:00:00"},{"$f":"IF(A727>$A$8,\"\",OFFSET(InputPriceData!G$15,CalculationsAndCharts!$A727+$A$11,IF($C$5,8,0),1,1))","v":1406808},{"$f":"IF(A727>$A$8,\"\",OFFSET(InputPriceData!C$15,CalculationsAndCharts!$A727+$A$11,IF($C$5,8,0),1,1))","v":4355.25},{"$f":"IF(A727>$A$8,\"\",OFFSET(InputPriceData!D$15,CalculationsAndCharts!$A727+$A$11,IF($C$5,8,0),1,1))","v":4421.5},{"$f":"IF(A727>$A$8,\"\",OFFSET(InputPriceData!E$15,CalculationsAndCharts!$A727+$A$11,IF($C$5,8,0),1,1))","v":4355},{"$f":"IF(A727>$A$8,\"\",OFFSET(InputPriceData!F$15,CalculationsAndCharts!$A727+$A$11,IF($C$5,8,0),1,1))","v":4390},36,0,{"$f":"IF($A727>$J$30,NA(),AVERAGE(H727:H730))","v":24.6875},13.125,null,null,{"$f":"IF($A727>$J$30,NA(),IF($A727>$N$30,0,(1-$M$35)*J727+(2*$M$35-$M$36)*J728-($M$35+$M$37)*J729+$M$36*N728+$M$37*N729))","v":13.196175953734413},21.636436217717034,-0.24230913898843903,-0.32587349264796239,null,null,20.72218295581488,24.339763985486425,-8.0280175962744948E-2,-0.35809100196361437,null,null,null,null,null,null,null,null,null,null,null,null,null,null,null,null,null,null,null,null,null,null,null,null,null,null,null,null,null,null,null,1406808,{"$error":"#N/A"}]
[696,{"$f":"IF(A728>$A$8,\"\",OFFSET(InputPriceData!B$15,$A728+$A$11,0,1,1))","v":"2021-10-06T04:00:00"},{"$f":"IF(A728>$A$8,\"\",OFFSET(InputPriceData!G$15,CalculationsAndCharts!$A728+$A$11,IF($C$5,8,0),1,1))","v":2202805},{"$f":"IF(A728>$A$8,\"\",OFFSET(InputPriceData!C$15,CalculationsAndCharts!$A728+$A$11,IF($C$5,8,0),1,1))","v":4334},{"$f":"IF(A728>$A$8,\"\",OFFSET(InputPriceData!D$15,CalculationsAndCharts!$A728+$A$11,IF($C$5,8,0),1,1))","v":4357.5},{"$f":"IF(A728>$A$8,\"\",OFFSET(InputPriceData!E$15,CalculationsAndCharts!$A728+$A$11,IF($C$5,8,0),1,1))","v":4273.75},{"$f":"IF(A728>$A$8,\"\",OFFSET(InputPriceData!F$15,CalculationsAndCharts!$A728+$A$11,IF($C$5,8,0),1,1))","v":4354},20,0,{"$f":"IF($A728>$J$30,NA(),AVERAGE(H728:H731))","v":27.1875},13.125,null,null,{"$f":"IF($A728>$J$30,NA(),IF($A728>$N$30,0,(1-$M$35)*J728+(2*$M$35-$M$36)*J729-($M$35+$M$37)*J730+$M$36*N729+$M$37*N730))","v":12.078093657839794},21.915477652578122,-0.2893895408901474,-0.33118570577438633,null,null,17.688801349659201,28.274443098088025,-0.23030666950552164,-0.40599036017262879,null,null,null,null,null,null,null,null,null,null,null,null,null,null,null,null,null,null,null,null,null,null,null,null,null,null,null,null,null,null,null,2202805,{"$error":"#N/A"}]
[697,{"$f":"IF(A729>$A$8,\"\",OFFSET(InputPriceData!B$15,$A729+$A$11,0,1,1))","v":"2021-10-05T04:00:00"},{"$f":"IF(A729>$A$8,\"\",OFFSET(InputPriceData!G$15,CalculationsAndCharts!$A729+$A$11,IF($C$5,8,0),1,1))","v":1650217},{"$f":"IF(A729>$A$8,\"\",OFFSET(InputPriceData!C$15,CalculationsAndCharts!$A729+$A$11,IF($C$5,8,0),1,1))","v":4295.75},{"$f":"IF(A729>$A$8,\"\",OFFSET(InputPriceData!D$15,CalculationsAndCharts!$A729+$A$11,IF($C$5,8,0),1,1))","v":4359.75},{"$f":"IF(A729>$A$8,\"\",OFFSET(InputPriceData!E$15,CalculationsAndCharts!$A729+$A$11,IF($C$5,8,0),1,1))","v":4269},{"$f":"IF(A729>$A$8,\"\",OFFSET(InputPriceData!F$15,CalculationsAndCharts!$A729+$A$11,IF($C$5,8,0),1,1))","v":4334},42.75,0,{"$f":"IF($A729>$J$30,NA(),AVERAGE(H729:H732))","v":22.1875},26.125,null,null,{"$f":"IF($A729>$J$30,NA(),IF($A729>$N$30,0,(1-$M$35)*J729+(2*$M$35-$M$36)*J730-($M$35+$M$37)*J731+$M$36*N730+$M$37*N731))","v":11.014225373389827},21.662802612510323,-0.32587349264796239,-0.31201830198053376,null,null,14.439236160111816,30.54918495341602,-0.35809100196361437,-0.38848550713042396,null,null,null,null,null,null,null,null,null,null,null,null,null,null,null,null,null,null,null,null,null,null,null,null,null,null,null,null,null,null,null,1650217,{"$error":"#N/A"}]
[698,{"$f":"IF(A730>$A$8,\"\",OFFSET(InputPriceData!B$15,$A730+$A$11,0,1,1))","v":"2021-10-04T04:00:00"},{"$f":"IF(A730>$A$8,\"\",OFFSET(InputPriceData!G$15,CalculationsAndCharts!$A730+$A$11,IF($C$5,8,0),1,1))","v":2135338},{"$f":"IF(A730>$A$8,\"\",OFFSET(InputPriceData!C$15,CalculationsAndCharts!$A730+$A$11,IF($C$5,8,0),1,1))","v":4349},{"$f":"IF(A730>$A$8,\"\",OFFSET(InputPriceData!D$15,CalculationsAndCharts!$A730+$A$11,IF($C$5,8,0),1,1))","v":4362},{"$f":"IF(A730>$A$8,\"\",OFFSET(InputPriceData!E$15,CalculationsAndCharts!$A730+$A$11,IF($C$5,8,0),1,1))","v":4267.5},{"$f":"IF(A730>$A$8,\"\",OFFSET(InputPriceData!F$15,CalculationsAndCharts!$A730+$A$11,IF($C$5,8,0),1,1))","v":4291.25},0,52.5,{"$f":"IF($A730>$J$30,NA(),AVERAGE(H730:H733))","v":13.0625},26.125,null,null,{"$f":"IF($A730>$J$30,NA(),IF($A730>$N$30,0,(1-$M$35)*J730+(2*$M$35-$M$36)*J731-($M$35+$M$37)*J732+$M$36*N731+$M$37*N732))","v":10.478782427726848},20.856619695697269,-0.33118570577438633,-0.25588621912550247,null,null,13.0097501166114,30.793411463029774,-0.40599036017262879,-0.26122165625011257,null,null,null,null,null,null,null,null,null,null,null,null,null,null,null,null,null,null,null,null,null,null,null,null,null,null,null,null,null,null,null,{"$error":"#N/A"},2135338]
[699,{"$f":"IF(A731>$A$8,\"\",OFFSET(InputPriceData!B$15,$A731+$A$11,0,1,1))","v":"2021-10-01T04:00:00"},{"$f":"IF(A731>$A$8,\"\",OFFSET(InputPriceData!G$15,CalculationsAndCharts!$A731+$A$11,IF($C$5,8,0),1,1))","v":2269695},{"$f":"IF(A731>$A$8,\"\",OFFSET(InputPriceData!C$15,CalculationsAndCharts!$A731+$A$11,IF($C$5,8,0),1,1))","v":4301},{"$f":"IF(A731>$A$8,\"\",OFFSET(InputPriceData!D$15,CalculationsAndCharts!$A731+$A$11,IF($C$5,8,0),1,1))","v":4365.75},{"$f":"IF(A731>$A$8,\"\",OFFSET(InputPriceData!E$15,CalculationsAndCharts!$A731+$A$11,IF($C$5,8,0),1,1))","v":4260},{"$f":"IF(A731>$A$8,\"\",OFFSET(InputPriceData!F$15,CalculationsAndCharts!$A731+$A$11,IF($C$5,8,0),1,1))","v":4343.75},46,0,{"$f":"IF($A731>$J$30,NA(),AVERAGE(H731:H734))","v":13.0625},35.375,null,null,{"$f":"IF($A731>$J$30,NA(),IF($A731>$N$30,0,(1-$M$35)*J731+(2*$M$35-$M$36)*J732-($M$35+$M$37)*J733+$M$36*N732+$M$37*N733))","v":10.291724194739025},19.626874583008764,-0.31201830198053376,-0.18522623861512316,null,null,12.887874738903026,29.262801620133832,-0.38848550713042396,-8.3960631652262807E-2,null,null,null,null,null,null,null,null,null,null,null,null,null,null,null,null,null,null,null,null,null,null,null,null,null,null,null,null,null,null,null,2269695,{"$error":"#N/A"}]
[700,{"$f":"IF(A732>$A$8,\"\",OFFSET(InputPriceData!B$15,$A732+$A$11,0,1,1))","v":"2021-09-30T04:00:00"},{"$f":"IF(A732>$A$8,\"\",OFFSET(InputPriceData!G$15,CalculationsAndCharts!$A732+$A$11,IF($C$5,8,0),1,1))","v":2373423},{"$f":"IF(A732>$A$8,\"\",OFFSET(InputPriceData!C$15,CalculationsAndCharts!$A732+$A$11,IF($C$5,8,0),1,1))","v":4360},{"$f":"IF(A732>$A$8,\"\",OFFSET(InputPriceData!D$15,CalculationsAndCharts!$A732+$A$11,IF($C$5,8,0),1,1))","v":4389},{"$f":"IF(A732>$A$8,\"\",OFFSET(InputPriceData!E$15,CalculationsAndCharts!$A732+$A$11,IF($C$5,8,0),1,1))","v":4294.25},{"$f":"IF(A732>$A$8,\"\",OFFSET(InputPriceData!F$15,CalculationsAndCharts!$A732+$A$11,IF($C$5,8,0),1,1))","v":4297.75},0,52,{"$f":"IF($A732>$J$30,NA(),AVERAGE(H732:H735))","v":1.5625},38.5625,null,null,{"$f":"IF($A732>$J$30,NA(),IF($A732>$N$30,0,(1-$M$35)*J732+(2*$M$35-$M$36)*J733-($M$35+$M$37)*J734+$M$36*N733+$M$37*N734))","v":10.563580823898928},17.828799737806015,-0.25588621912550247,-0.14766172586621973,null,null,14.708321265664368,25.109633307849371,-0.26122165625011257,2.6890606962376848E-3,null,null,null,null,null,null,null,null,null,null,null,null,null,null,null,null,null,null,null,null,null,null,null,null,null,null,null,null,null,null,null,{"$error":"#N/A"},2373423]
[701,{"$f":"IF(A733>$A$8,\"\",OFFSET(InputPriceData!B$15,$A733+$A$11,0,1,1))","v":"2021-09-29T04:00:00"},{"$f":"IF(A733>$A$8,\"\",OFFSET(InputPriceData!G$15,CalculationsAndCharts!$A733+$A$11,IF($C$5,8,0),1,1))","v":1815726},{"$f":"IF(A733>$A$8,\"\",OFFSET(InputPriceData!C$15,CalculationsAndCharts!$A733+$A$11,IF($C$5,8,0),1,1))","v":4347.5},{"$f":"IF(A733>$A$8,\"\",OFFSET(InputPriceData!D$15,CalculationsAndCharts!$A733+$A$11,IF($C$5,8,0),1,1))","v":4378.75},{"$f":"IF(A733>$A$8,\"\",OFFSET(InputPriceData!E$15,CalculationsAndCharts!$A733+$A$11,IF($C$5,8,0),1,1))","v":4344.25},{"$f":"IF(A733>$A$8,\"\",OFFSET(InputPriceData!F$15,CalculationsAndCharts!$A733+$A$11,IF($C$5,8,0),1,1))","v":4349.75},6.25,0,{"$f":"IF($A733>$J$30,NA(),AVERAGE(H733:H736))","v":3.5},25.5625,null,null,{"$f":"IF($A733>$J$30,NA(),IF($A733>$N$30,0,(1-$M$35)*J733+(2*$M$35-$M$36)*J734-($M$35+$M$37)*J735+$M$36*N734+$M$37*N735))","v":11.234135025919452},16.341949424381724,-0.18522623861512316,-0.17536619658912031,null,null,18.416594856871228,21.792582812183088,-8.3960631652262807E-2,-9.2685596676879325E-2,null,null,null,null,null,null,null,null,null,null,null,null,null,null,null,null,null,null,null,null,null,null,null,null,null,null,null,null,null,null,null,1815726,{"$error":"#N/A"}]
[702,{"$f":"IF(A734>$A$8,\"\",OFFSET(InputPriceData!B$15,$A734+$A$11,0,1,1))","v":"2021-09-28T04:00:00"},{"$f":"IF(A734>$A$8,\"\",OFFSET(InputPriceData!G$15,CalculationsAndCharts!$A734+$A$11,IF($C$5,8,0),1,1))","v":2307037},{"$f":"IF(A734>$A$8,\"\",OFFSET(InputPriceData!C$15,CalculationsAndCharts!$A734+$A$11,IF($C$5,8,0),1,1))","v":4429.75},{"$f":"IF(A734>$A$8,\"\",OFFSET(InputPriceData!D$15,CalculationsAndCharts!$A734+$A$11,IF($C$5,8,0),1,1))","v":4442},{"$f":"IF(A734>$A$8,\"\",OFFSET(InputPriceData!E$15,CalculationsAndCharts!$A734+$A$11,IF($C$5,8,0),1,1))","v":4334.75},{"$f":"IF(A734>$A$8,\"\",OFFSET(InputPriceData!F$15,CalculationsAndCharts!$A734+$A$11,IF($C$5,8,0),1,1))","v":4343.5},0,89.5,{"$f":"IF($A734>$J$30,NA(),AVERAGE(H734:H737))","v":15.4375},25.5625,null,null,{"$f":"IF($A734>$J$30,NA(),IF($A734>$N$30,0,(1-$M$35)*J734+(2*$M$35-$M$36)*J735-($M$35+$M$37)*J736+$M$36*N735+$M$37*N736))","v":11.370179041052333},15.309789197163159,-0.14766172586621973,-0.25649068086978682,null,null,20.186509135125462,20.07823479477948,2.6890606962376848E-3,-0.34132358774925597,null,null,null,null,null,null,null,null,null,null,null,null,null,null,null,null,null,null,null,null,null,null,null,null,null,null,null,null,null,null,null,{"$error":"#N/A"},2307037]
[703,{"$f":"IF(A735>$A$8,\"\",OFFSET(InputPriceData!B$15,$A735+$A$11,0,1,1))","v":"2021-09-27T04:00:00"},{"$f":"IF(A735>$A$8,\"\",OFFSET(InputPriceData!G$15,CalculationsAndCharts!$A735+$A$11,IF($C$5,8,0),1,1))","v":1306188},{"$f":"IF(A735>$A$8,\"\",OFFSET(InputPriceData!C$15,CalculationsAndCharts!$A735+$A$11,IF($C$5,8,0),1,1))","v":4446},{"$f":"IF(A735>$A$8,\"\",OFFSET(InputPriceData!D$15,CalculationsAndCharts!$A735+$A$11,IF($C$5,8,0),1,1))","v":4472},{"$f":"IF(A735>$A$8,\"\",OFFSET(InputPriceData!E$15,CalculationsAndCharts!$A735+$A$11,IF($C$5,8,0),1,1))","v":4425},{"$f":"IF(A735>$A$8,\"\",OFFSET(InputPriceData!F$15,CalculationsAndCharts!$A735+$A$11,IF($C$5,8,0),1,1))","v":4433},0,12.75,{"$f":"IF($A735>$J$30,NA(),AVERAGE(H735:H738))","v":25.625},3.1875,null,null,{"$f":"IF($A735>$J$30,NA(),IF($A735>$N$30,0,(1-$M$35)*J735+(2*$M$35-$M$36)*J736-($M$35+$M$37)*J737+$M$36*N736+$M$37*N737))","v":10.616057340999857},15.13126782827975,-0.17536619658912031,-0.30873325696820481,null,null,18.180448445906976,21.894851536810034,-9.2685596676879325E-2,-0.55048520752035413,null,null,null,null,null,null,null,null,null,null,null,null,null,null,null,null,null,null,null,null,null,null,null,null,null,null,null,null,null,null,null,{"$error":"#N/A"},1306188]
[704,{"$f":"IF(A736>$A$8,\"\",OFFSET(InputPriceData!B$15,$A736+$A$11,0,1,1))","v":"2021-09-24T04:00:00"},{"$f":"IF(A736>$A$8,\"\",OFFSET(InputPriceData!G$15,CalculationsAndCharts!$A736+$A$11,IF($C$5,8,0),1,1))","v":1182037},{"$f":"IF(A736>$A$8,\"\",OFFSET(InputPriceData!C$15,CalculationsAndCharts!$A736+$A$11,IF($C$5,8,0),1,1))","v":4439},{"$f":"IF(A736>$A$8,\"\",OFFSET(InputPriceData!D$15,CalculationsAndCharts!$A736+$A$11,IF($C$5,8,0),1,1))","v":4453},{"$f":"IF(A736>$A$8,\"\",OFFSET(InputPriceData!E$15,CalculationsAndCharts!$A736+$A$11,IF($C$5,8,0),1,1))","v":4410.75},{"$f":"IF(A736>$A$8,\"\",OFFSET(InputPriceData!F$15,CalculationsAndCharts!$A736+$A$11,IF($C$5,8,0),1,1))","v":4445.75},7.75,0,{"$f":"IF($A736>$J$30,NA(),AVERAGE(H736:H739))","v":25.625},1.25,null,null,{"$f":"IF($A736>$J$30,NA(),IF($A736>$N$30,0,(1-$M$35)*J736+(2*$M$35-$M$36)*J737-($M$35+$M$37)*J738+$M$36*N737+$M$37*N738))","v":9.4199519156331206},15.919211086796912,-0.25649068086978682,-0.29329518689369882,null,null,13.812144690977071,28.126945381430392,-0.34132358774925597,-0.66111063724109909,null,null,null,null,null,null,null,null,null,null,null,null,null,null,null,null,null,null,null,null,null,null,null,null,null,null,null,null,null,null,null,1182037,{"$error":"#N/A"}]
[705,{"$f":"IF(A737>$A$8,\"\",OFFSET(InputPriceData!B$15,$A737+$A$11,0,1,1))","v":"2021-09-23T04:00:00"},{"$f":"IF(A737>$A$8,\"\",OFFSET(InputPriceData!G$15,CalculationsAndCharts!$A737+$A$11,IF($C$5,8,0),1,1))","v":1447395},{"$f":"IF(A737>$A$8,\"\",OFFSET(InputPriceData!C$15,CalculationsAndCharts!$A737+$A$11,IF($C$5,8,0),1,1))","v":4386},{"$f":"IF(A737>$A$8,\"\",OFFSET(InputPriceData!D$15,CalculationsAndCharts!$A737+$A$11,IF($C$5,8,0),1,1))","v":4455},{"$f":"IF(A737>$A$8,\"\",OFFSET(InputPriceData!E$15,CalculationsAndCharts!$A737+$A$11,IF($C$5,8,0),1,1))","v":4385.75},{"$f":"IF(A737>$A$8,\"\",OFFSET(InputPriceData!F$15,CalculationsAndCharts!$A737+$A$11,IF($C$5,8,0),1,1))","v":4438},54,0,{"$f":"IF($A737>$J$30,NA(),AVERAGE(H737:H740))","v":23.6875},30.269999999999982,null,null,{"$f":"IF($A737>$J$30,NA(),IF($A737>$N$30,0,(1-$M$35)*J737+(2*$M$35-$M$36)*J738-($M$35+$M$37)*J739+$M$36*N738+$M$37*N739))","v":8.2565391272730189},15.631603071094696,-0.30873325696820481,-0.20626222098223301,null,null,{"$f":"IF($A737>$J$30,NA(),IF($A737>$N$30,0,(1-S$35)*$J737+(2*S$35-S$36)*$J738-(S$35+S$37)*$J739+S$36*T738+S$37*T739))","v":8.8427163994352078},{"$f":"IF($A737>$J$30,NA(),IF($A737>$N$30,0,(1-S$35)*$K737+(2*S$35-S$36)*$K738-(S$35+S$37)*$K739+S$36*U738+S$37*U739))","v":30.500666943552812},{"$f":"IF($A737>$N$30,NA(),(T737-U737)/(T737+U737))","v":-0.55048520752035413},{"$f":"IF($A737>$N$30,NA(),OFFSET(V737,$C$18,0,1,1))","v":-0.58892868562272604},null,null,null,null,null,null,null,null,null,null,null,null,null,null,null,null,null,null,null,null,null,null,null,null,null,null,null,null,null,null,null,1447395,{"$error":"#N/A"}]
[706,{"$f":"IF(A738>$A$8,\"\",OFFSET(InputPriceData!B$15,$A738+$A$11,0,1,1))","v":"2021-09-22T04:00:00"},{"$f":"IF(A738>$A$8,\"\",OFFSET(InputPriceData!G$15,CalculationsAndCharts!$A738+$A$11,IF($C$5,8,0),1,1))","v":1767853},{"$f":"IF(A738>$A$8,\"\",OFFSET(InputPriceData!C$15,CalculationsAndCharts!$A738+$A$11,IF($C$5,8,0),1,1))","v":4336.5},{"$f":"IF(A738>$A$8,\"\",OFFSET(InputPriceData!D$15,CalculationsAndCharts!$A738+$A$11,IF($C$5,8,0),1,1))","v":4406.5},{"$f":"IF(A738>$A$8,\"\",OFFSET(InputPriceData!E$15,CalculationsAndCharts!$A738+$A$11,IF($C$5,8,0),1,1))","v":4321.25},{"$f":"IF(A738>$A$8,\"\",OFFSET(InputPriceData!F$15,CalculationsAndCharts!$A738+$A$11,IF($C$5,8,0),1,1))","v":4384},{"$f":"IF($A738>$H$30,NA(),IF($G738>$G739,$G738-$G739,0))","v":40.75},{"$f":"IF($A738>$H$30,NA(),IF(G738<G739,G739-G738,0))","v":0},{"$f":"IF($A738>$J$30,NA(),AVERAGE(H738:H741))","v":10.1875},32.75,null,null,{"$f":"IF($A738>$J$30,NA(),IF($A738>$N$30,0,(1-$M$35)*J738+(2*$M$35-$M$36)*J739-($M$35+$M$37)*J740+$M$36*N739+$M$37*N740))","v":7.67536220906217},14.046188477214695,{"$f":"IF($A738>$N$30,NA(),(N738-O738)/(N738+O738))","v":-0.29329518689369882},{"$f":"IF($A738>$N$30,NA(),OFFSET(P738,$C$17,0,1,1))","v":-9.7179077765522565E-2},null,null,5.6051620970329408,27.474436810417401,-0.66111063724109909,-0.45083825899600916,null,null,null,null,null,null,null,null,null,null,null,null,null,null,null,null,null,null,null,null,null,null,null,null,null,null,null,null,null,null,null,1767853,{"$error":"#N/A"}]
[707,{"$f":"IF(A739>$A$8,\"\",OFFSET(InputPriceData!B$15,$A739+$A$11,0,1,1))","v":"2021-09-21T04:00:00"},{"$f":"IF(A739>$A$8,\"\",OFFSET(InputPriceData!G$15,CalculationsAndCharts!$A739+$A$11,IF($C$5,8,0),1,1))","v":1941006},{"$f":"IF(A739>$A$8,\"\",OFFSET(InputPriceData!C$15,CalculationsAndCharts!$A739+$A$11,IF($C$5,8,0),1,1))","v":4342.5},{"$f":"IF(A739>$A$8,\"\",OFFSET(InputPriceData!D$15,CalculationsAndCharts!$A739+$A$11,IF($C$5,8,0),1,1))","v":4395.75},{"$f":"IF(A739>$A$8,\"\",OFFSET(InputPriceData!E$15,CalculationsAndCharts!$A739+$A$11,IF($C$5,8,0),1,1))","v":4329.25},{"$f":"IF(A739>$A$8,\"\",OFFSET(InputPriceData!F$15,CalculationsAndCharts!$A739+$A$11,IF($C$5,8,0),1,1))","v":4343.25},0,5,{"$f":"IF($A739>$J$30,NA(),AVERAGE(H739:H742))","v":0},34.625,null,null,{"$f":"IF($A739>$J$30,NA(),IF($A739>$N$30,0,(1-$M$35)*J739+(2*$M$35-$M$36)*J740-($M$35+$M$37)*J741+$M$36*N740+$M$37*N741))","v":8.0349164533942918},12.210854041081413,-0.20626222098223301,-4.0123931424208559E-2,null,null,5.9004860659083844,22.807360283559937,-0.58892868562272604,-0.44372353718036989,null,null,null,null,null,null,null,null,null,null,null,null,null,null,null,null,null,null,null,null,null,null,null,null,null,null,null,null,null,null,null,{"$error":"#N/A"},1941006]
[708,{"$f":"IF(A740>$A$8,\"\",OFFSET(InputPriceData!B$15,$A740+$A$11,0,1,1))","v":"2021-09-20T04:00:00"},{"$f":"IF(A740>$A$8,\"\",OFFSET(InputPriceData!G$15,CalculationsAndCharts!$A740+$A$11,IF($C$5,8,0),1,1))","v":2711340},{"$f":"IF(A740>$A$8,\"\",OFFSET(InputPriceData!C$15,CalculationsAndCharts!$A740+$A$11,IF($C$5,8,0),1,1))","v":4411.75},{"$f":"IF(A740>$A$8,\"\",OFFSET(InputPriceData!D$15,CalculationsAndCharts!$A740+$A$11,IF($C$5,8,0),1,1))","v":4418},{"$f":"IF(A740>$A$8,\"\",OFFSET(InputPriceData!E$15,CalculationsAndCharts!$A740+$A$11,IF($C$5,8,0),1,1))","v":4293.75},{"$f":"IF(A740>$A$8,\"\",OFFSET(InputPriceData!F$15,CalculationsAndCharts!$A740+$A$11,IF($C$5,8,0),1,1))","v":4348.25},0,116.07999999999993,{"$f":"IF($A740>$J$30,NA(),AVERAGE(H740:H743))","v":9.3125},33.375,null,null,{"$f":"IF($A740>$J$30,NA(),IF($A740>$N$30,0,(1-$M$35)*J740+(2*$M$35-$M$36)*J741-($M$35+$M$37)*J742+$M$36*N741+$M$37*N742))","v":8.4499284535379395},10.269018450404888,-9.7179077765522565E-2,-3.8965353873744557E-2,null,null,6.4089595997616353,16.931922043029502,-0.45083825899600916,-0.59353313982030864,null,null,null,null,null,null,null,null,null,null,null,null,null,null,null,null,null,null,null,null,null,null,null,null,null,null,null,null,null,null,null,{"$error":"#N/A"},2711340]
[709,{"$f":"IF(A741>$A$8,\"\",OFFSET(InputPriceData!B$15,$A741+$A$11,0,1,1))","v":"2021-09-17T04:00:00"},{"$f":"IF(A741>$A$8,\"\",OFFSET(InputPriceData!G$15,CalculationsAndCharts!$A741+$A$11,IF($C$5,8,0),1,1))","v":1968041},{"$f":"IF(A741>$A$8,\"\",OFFSET(InputPriceData!C$15,CalculationsAndCharts!$A741+$A$11,IF($C$5,8,0),1,1))","v":4471},{"$f":"IF(A741>$A$8,\"\",OFFSET(InputPriceData!D$15,CalculationsAndCharts!$A741+$A$11,IF($C$5,8,0),1,1))","v":4482.5},{"$f":"IF(A741>$A$8,\"\",OFFSET(InputPriceData!E$15,CalculationsAndCharts!$A741+$A$11,IF($C$5,8,0),1,1))","v":4459},{"$f":"IF(A741>$A$8,\"\",OFFSET(InputPriceData!F$15,CalculationsAndCharts!$A741+$A$11,IF($C$5,8,0),1,1))","v":4464.33},0,9.9200000000000728,{"$f":"IF($A741>$J$30,NA(),AVERAGE(H741:H744))","v":9.3125},10.480000000000018,null,null,{"$f":"IF($A741>$J$30,NA(),IF($A741>$N$30,0,(1-$M$35)*J741+(2*$M$35-$M$36)*J742-($M$35+$M$37)*J743+$M$36*N742+$M$37*N743))","v":8.5100018697435811},9.2214577391416146,-4.0123931424208559E-2,-3.44634901829819E-2,null,null,5.4025347857918407,14.021385321874426,-0.44372353718036989,-0.8159519828988645,null,null,null,null,null,null,null,null,null,null,null,null,null,null,null,null,null,null,null,null,null,null,null,null,null,null,null,null,null,null,null,{"$error":"#N/A"},1968041]
[710,{"$f":"IF(A742>$A$8,\"\",OFFSET(InputPriceData!B$15,$A742+$A$11,0,1,1))","v":"2021-09-16T04:00:00"},{"$f":"IF(A742>$A$8,\"\",OFFSET(InputPriceData!G$15,CalculationsAndCharts!$A742+$A$11,IF($C$5,8,0),1,1))","v":268026},{"$f":"IF(A742>$A$8,\"\",OFFSET(InputPriceData!C$15,CalculationsAndCharts!$A742+$A$11,IF($C$5,8,0),1,1))","v":4486},{"$f":"IF(A742>$A$8,\"\",OFFSET(InputPriceData!D$15,CalculationsAndCharts!$A742+$A$11,IF($C$5,8,0),1,1))","v":4487.5},{"$f":"IF(A742>$A$8,\"\",OFFSET(InputPriceData!E$15,CalculationsAndCharts!$A742+$A$11,IF($C$5,8,0),1,1))","v":4443},{"$f":"IF(A742>$A$8,\"\",OFFSET(InputPriceData!F$15,CalculationsAndCharts!$A742+$A$11,IF($C$5,8,0),1,1))","v":4474.25},0,7.5,{"$f":"IF($A742>$J$30,NA(),AVERAGE(H742:H745))","v":12},8,null,null,{"$f":"IF($A742>$J$30,NA(),IF($A742>$N$30,0,(1-$M$35)*J742+(2*$M$35-$M$36)*J743-($M$35+$M$37)*J744+$M$36*N743+$M$37*N744))","v":8.4689260817660781},9.1556748957380716,-3.8965353873744557E-2,2.1493022040003272E-2,null,null,3.7888228478355046,14.853891818548549,-0.59353313982030864,-0.90900354886078505,null,null,null,null,null,null,null,null,null,null,null,null,null,null,null,null,null,null,null,null,null,null,null,null,null,null,null,null,null,null,null,{"$error":"#N/A"},268026]
[711,{"$f":"IF(A743>$A$8,\"\",OFFSET(InputPriceData!B$15,$A743+$A$11,0,1,1))","v":"2021-09-15T04:00:00"},{"$f":"IF(A743>$A$8,\"\",OFFSET(InputPriceData!G$15,CalculationsAndCharts!$A743+$A$11,IF($C$5,8,0),1,1))","v":518985},{"$f":"IF(A743>$A$8,\"\",OFFSET(InputPriceData!C$15,CalculationsAndCharts!$A743+$A$11,IF($C$5,8,0),1,1))","v":4446.75},{"$f":"IF(A743>$A$8,\"\",OFFSET(InputPriceData!D$15,CalculationsAndCharts!$A743+$A$11,IF($C$5,8,0),1,1))","v":4487.5},{"$f":"IF(A743>$A$8,\"\",OFFSET(InputPriceData!E$15,CalculationsAndCharts!$A743+$A$11,IF($C$5,8,0),1,1))","v":4437.5},{"$f":"IF(A743>$A$8,\"\",OFFSET(InputPriceData!F$15,CalculationsAndCharts!$A743+$A$11,IF($C$5,8,0),1,1))","v":4481.75},37.25,0,{"$f":"IF($A743>$J$30,NA(),AVERAGE(H743:H746))","v":12},14.625,null,null,{"$f":"IF($A743>$J$30,NA(),IF($A743>$N$30,0,(1-$M$35)*J743+(2*$M$35-$M$36)*J744-($M$35+$M$37)*J745+$M$36*N744+$M$37*N745))","v":8.3228838665754274},8.9170315213009435,-3.44634901829819E-2,0.106178219355404,null,null,1.5155283217354363,14.95330786140741,-0.8159519828988645,-0.76163355221890916,null,null,null,null,null,null,null,null,null,null,null,null,null,null,null,null,null,null,null,null,null,null,null,null,null,null,null,null,null,null,null,518985,{"$error":"#N/A"}]
[712,{"$f":"IF(A744>$A$8,\"\",OFFSET(InputPriceData!B$15,$A744+$A$11,0,1,1))","v":"2021-09-14T04:00:00"},{"$f":"IF(A744>$A$8,\"\",OFFSET(InputPriceData!G$15,CalculationsAndCharts!$A744+$A$11,IF($C$5,8,0),1,1))","v":893788},{"$f":"IF(A744>$A$8,\"\",OFFSET(InputPriceData!C$15,CalculationsAndCharts!$A744+$A$11,IF($C$5,8,0),1,1))","v":4475.5},{"$f":"IF(A744>$A$8,\"\",OFFSET(InputPriceData!D$15,CalculationsAndCharts!$A744+$A$11,IF($C$5,8,0),1,1))","v":4489.5},{"$f":"IF(A744>$A$8,\"\",OFFSET(InputPriceData!E$15,CalculationsAndCharts!$A744+$A$11,IF($C$5,8,0),1,1))","v":4435},{"$f":"IF(A744>$A$8,\"\",OFFSET(InputPriceData!F$15,CalculationsAndCharts!$A744+$A$11,IF($C$5,8,0),1,1))","v":4444.5},0,24.5,{"$f":"IF($A744>$J$30,NA(),AVERAGE(H744:H747))","v":2.6875},19.6875,null,null,{"$f":"IF($A744>$J$30,NA(),IF($A744>$N$30,0,(1-$M$35)*J744+(2*$M$35-$M$36)*J745-($M$35+$M$37)*J746+$M$36*N745+$M$37*N746))","v":8.5536038215500056},8.193654626613986,2.1493022040003272E-2,0.19968599427568215,null,null,0.61324944569203632,12.865285991999469,-0.90900354886078505,-0.40300089148302742,null,null,null,null,null,null,null,null,null,null,null,null,null,null,null,null,null,null,null,null,null,null,null,null,null,null,null,null,null,null,null,{"$error":"#N/A"},893788]
[713,{"$f":"IF(A745>$A$8,\"\",OFFSET(InputPriceData!B$15,$A745+$A$11,0,1,1))","v":"2021-09-13T04:00:00"},{"$f":"IF(A745>$A$8,\"\",OFFSET(InputPriceData!G$15,CalculationsAndCharts!$A745+$A$11,IF($C$5,8,0),1,1))","v":1534719},{"$f":"IF(A745>$A$8,\"\",OFFSET(InputPriceData!C$15,CalculationsAndCharts!$A745+$A$11,IF($C$5,8,0),1,1))","v":4461},{"$f":"IF(A745>$A$8,\"\",OFFSET(InputPriceData!D$15,CalculationsAndCharts!$A745+$A$11,IF($C$5,8,0),1,1))","v":4492.75},{"$f":"IF(A745>$A$8,\"\",OFFSET(InputPriceData!E$15,CalculationsAndCharts!$A745+$A$11,IF($C$5,8,0),1,1))","v":4444.75},{"$f":"IF(A745>$A$8,\"\",OFFSET(InputPriceData!F$15,CalculationsAndCharts!$A745+$A$11,IF($C$5,8,0),1,1))","v":4469},10.75,0,{"$f":"IF($A745>$J$30,NA(),AVERAGE(H745:H748))","v":2.6875},15.25,null,null,{"$f":"IF($A745>$J$30,NA(),IF($A745>$N$30,0,(1-$M$35)*J745+(2*$M$35-$M$36)*J746-($M$35+$M$37)*J747+$M$36*N746+$M$37*N747))","v":9.1761923519914408},7.4146104525306429,0.106178219355404,0.28782771863458784,null,null,1.372479957949956,10.143234361125717,-0.76163355221890916,0.16642228971810816,null,null,null,null,null,null,null,null,null,null,null,null,null,null,null,null,null,null,null,null,null,null,null,null,null,null,null,null,null,null,null,1534719,{"$error":"#N/A"}]
[714,{"$f":"IF(A746>$A$8,\"\",OFFSET(InputPriceData!B$15,$A746+$A$11,0,1,1))","v":"2021-09-10T04:00:00"},{"$f":"IF(A746>$A$8,\"\",OFFSET(InputPriceData!G$15,CalculationsAndCharts!$A746+$A$11,IF($C$5,8,0),1,1))","v":1721413},{"$f":"IF(A746>$A$8,\"\",OFFSET(InputPriceData!C$15,CalculationsAndCharts!$A746+$A$11,IF($C$5,8,0),1,1))","v":4491.25},{"$f":"IF(A746>$A$8,\"\",OFFSET(InputPriceData!D$15,CalculationsAndCharts!$A746+$A$11,IF($C$5,8,0),1,1))","v":4518.25},{"$f":"IF(A746>$A$8,\"\",OFFSET(InputPriceData!E$15,CalculationsAndCharts!$A746+$A$11,IF($C$5,8,0),1,1))","v":4456.5},{"$f":"IF(A746>$A$8,\"\",OFFSET(InputPriceData!F$15,CalculationsAndCharts!$A746+$A$11,IF($C$5,8,0),1,1))","v":4458.25},0,34,{"$f":"IF($A746>$J$30,NA(),AVERAGE(H746:H749))","v":0},19.0625,null,null,{"$f":"IF($A746>$J$30,NA(),IF($A746>$N$30,0,(1-$M$35)*J746+(2*$M$35-$M$36)*J747-($M$35+$M$37)*J748+$M$36*N747+$M$37*N748))","v":9.9376741608416772},6.6294512507400585,0.19968599427568215,0.32892207799223855,null,null,2.954938697202329,6.9443682030803222,-0.40300089148302742,0.4937408748674374,null,null,null,null,null,null,null,null,null,null,null,null,null,null,null,null,null,null,null,null,null,null,null,null,null,null,null,null,null,null,null,{"$error":"#N/A"},1721413]
[715,{"$f":"IF(A747>$A$8,\"\",OFFSET(InputPriceData!B$15,$A747+$A$11,0,1,1))","v":"2021-09-09T04:00:00"},{"$f":"IF(A747>$A$8,\"\",OFFSET(InputPriceData!G$15,CalculationsAndCharts!$A747+$A$11,IF($C$5,8,0),1,1))","v":1696301},{"$f":"IF(A747>$A$8,\"\",OFFSET(InputPriceData!C$15,CalculationsAndCharts!$A747+$A$11,IF($C$5,8,0),1,1))","v":4511},{"$f":"IF(A747>$A$8,\"\",OFFSET(InputPriceData!D$15,CalculationsAndCharts!$A747+$A$11,IF($C$5,8,0),1,1))","v":4529.5},{"$f":"IF(A747>$A$8,\"\",OFFSET(InputPriceData!E$15,CalculationsAndCharts!$A747+$A$11,IF($C$5,8,0),1,1))","v":4485.5},{"$f":"IF(A747>$A$8,\"\",OFFSET(InputPriceData!F$15,CalculationsAndCharts!$A747+$A$11,IF($C$5,8,0),1,1))","v":4492.25},0,20.25,{"$f":"IF($A747>$J$30,NA(),AVERAGE(H747:H750))","v":0},10.75,null,null,{"$f":"IF($A747>$J$30,NA(),IF($A747>$N$30,0,(1-$M$35)*J747+(2*$M$35-$M$36)*J748-($M$35+$M$37)*J749+$M$36*N748+$M$37*N749))","v":10.842624204735491},5.9960010987038901,0.28782771863458784,0.34275722290387001,null,null,5.4954007070046824,3.9272599459099116,0.16642228971810816,0.6085406816952541,null,null,null,null,null,null,null,null,null,null,null,null,null,null,null,null,null,null,null,null,null,null,null,null,null,null,null,null,null,null,null,{"$error":"#N/A"},1696301]
[716,{"$f":"IF(A748>$A$8,\"\",OFFSET(InputPriceData!B$15,$A748+$A$11,0,1,1))","v":"2021-09-08T04:00:00"},{"$f":"IF(A748>$A$8,\"\",OFFSET(InputPriceData!G$15,CalculationsAndCharts!$A748+$A$11,IF($C$5,8,0),1,1))","v":1606757},{"$f":"IF(A748>$A$8,\"\",OFFSET(InputPriceData!C$15,CalculationsAndCharts!$A748+$A$11,IF($C$5,8,0),1,1))","v":4517.5},{"$f":"IF(A748>$A$8,\"\",OFFSET(InputPriceData!D$15,CalculationsAndCharts!$A748+$A$11,IF($C$5,8,0),1,1))","v":4524.75},{"$f":"IF(A748>$A$8,\"\",OFFSET(InputPriceData!E$15,CalculationsAndCharts!$A748+$A$11,IF($C$5,8,0),1,1))","v":4492},{"$f":"IF(A748>$A$8,\"\",OFFSET(InputPriceData!F$15,CalculationsAndCharts!$A748+$A$11,IF($C$5,8,0),1,1))","v":4512.5},0,6.75,{"$f":"IF($A748>$J$30,NA(),AVERAGE(H748:H751))","v":3.5},5.6875,null,null,{"$f":"IF($A748>$J$30,NA(),IF($A748>$N$30,0,(1-$M$35)*J748+(2*$M$35-$M$36)*J749-($M$35+$M$37)*J750+$M$36*N749+$M$37*N750))","v":11.645180602071191},5.8805732324425044,0.32892207799223855,0.34325454089614488,null,null,8.0584537007537254,2.7311736520746237,0.4937408748674374,0.61562177594782364,null,null,null,null,null,null,null,null,null,null,null,null,null,null,null,null,null,null,null,null,null,null,null,null,null,null,null,null,null,null,null,{"$error":"#N/A"},1606757]
[717,{"$f":"IF(A749>$A$8,\"\",OFFSET(InputPriceData!B$15,$A749+$A$11,0,1,1))","v":"2021-09-07T04:00:00"},{"$f":"IF(A749>$A$8,\"\",OFFSET(InputPriceData!G$15,CalculationsAndCharts!$A749+$A$11,IF($C$5,8,0),1,1))","v":1277938},{"$f":"IF(A749>$A$8,\"\",OFFSET(InputPriceData!C$15,CalculationsAndCharts!$A749+$A$11,IF($C$5,8,0),1,1))","v":4533},{"$f":"IF(A749>$A$8,\"\",OFFSET(InputPriceData!D$15,CalculationsAndCharts!$A749+$A$11,IF($C$5,8,0),1,1))","v":4548},{"$f":"IF(A749>$A$8,\"\",OFFSET(InputPriceData!E$15,CalculationsAndCharts!$A749+$A$11,IF($C$5,8,0),1,1))","v":4510.75},{"$f":"IF(A749>$A$8,\"\",OFFSET(InputPriceData!F$15,CalculationsAndCharts!$A749+$A$11,IF($C$5,8,0),1,1))","v":4519.25},0,15.25,{"$f":"IF($A749>$J$30,NA(),AVERAGE(H749:H752))","v":3.6875},4,null,null,{"$f":"IF($A749>$J$30,NA(),IF($A749>$N$30,0,(1-$M$35)*J749+(2*$M$35-$M$36)*J750-($M$35+$M$37)*J751+$M$36*N750+$M$37*N751))","v":12.332405396254437},6.0363736888941997,0.34275722290387001,0.32963827963605674,null,null,10.572325210629046,2.5729129930908461,0.6085406816952541,0.56039480920585427,null,null,null,null,null,null,null,null,null,null,null,null,null,null,null,null,null,null,null,null,null,null,null,null,null,null,null,null,null,null,null,{"$f":"IF(G749>=G750,C749,NA())","v":{"$error":"#N/A"}},{"$f":"IF(G749<G750,C749,NA())","v":1277938}]
[718,{"$f":"IF(A750>$A$8,\"\",OFFSET(InputPriceData!B$15,$A750+$A$11,0,1,1))","v":"2021-09-03T04:00:00"},{"$f":"IF(A750>$A$8,\"\",OFFSET(InputPriceData!G$15,CalculationsAndCharts!$A750+$A$11,IF($C$5,8,0),1,1))","v":1156146},{"$f":"IF(A750>$A$8,\"\",OFFSET(InputPriceData!C$15,CalculationsAndCharts!$A750+$A$11,IF($C$5,8,0),1,1))","v":4536.75},{"$f":"IF(A750>$A$8,\"\",OFFSET(InputPriceData!D$15,CalculationsAndCharts!$A750+$A$11,IF($C$5,8,0),1,1))","v":4549.5},{"$f":"IF(A750>$A$8,\"\",OFFSET(InputPriceData!E$15,CalculationsAndCharts!$A750+$A$11,IF($C$5,8,0),1,1))","v":4519.25},{"$f":"IF(A750>$A$8,\"\",OFFSET(InputPriceData!F$15,CalculationsAndCharts!$A750+$A$11,IF($C$5,8,0),1,1))","v":4534.5},0,0.75,{"$f":"IF($A750>$J$30,NA(),AVERAGE(H750:H753))","v":3.6875},1.375,null,null,{"$f":"IF($A750>$J$30,NA(),IF($A750>$N$30,0,(1-$M$35)*J750+(2*$M$35-$M$36)*J751-($M$35+$M$37)*J752+$M$36*N751+$M$37*N752))","v":13.040172391646863},6.3756151521602602,0.34325454089614488,0.30148584136184148,null,null,13.580973348746442,3.2310968411084877,0.61562177594782364,0.47074052591436993,null,null,null,null,null,null,null,null,null,null,null,null,null,null,null,null,null,null,null,null,null,null,null,null,null,null,null,null,null,null,null,{"$error":"#N/A"},1156146]
[719,{"$f":"IF(A751>$A$8,\"\",OFFSET(InputPriceData!B$15,$A751+$A$11,0,1,1))","v":"2021-09-02T04:00:00"},{"$f":"IF(A751>$A$8,\"\",OFFSET(InputPriceData!G$15,CalculationsAndCharts!$A751+$A$11,IF($C$5,8,0),1,1))","v":1016806},{"$f":"IF(A751>$A$8,\"\",OFFSET(InputPriceData!C$15,CalculationsAndCharts!$A751+$A$11,IF($C$5,8,0),1,1))","v":4522.5},{"$f":"IF(A751>$A$8,\"\",OFFSET(InputPriceData!D$15,CalculationsAndCharts!$A751+$A$11,IF($C$5,8,0),1,1))","v":4544},{"$f":"IF(A751>$A$8,\"\",OFFSET(InputPriceData!E$15,CalculationsAndCharts!$A751+$A$11,IF($C$5,8,0),1,1))","v":4516},{"$f":"IF(A751>$A$8,\"\",OFFSET(InputPriceData!F$15,CalculationsAndCharts!$A751+$A$11,IF($C$5,8,0),1,1))","v":4535.25},14,0,{"$f":"IF($A751>$J$30,NA(),AVERAGE(H751:H754))","v":8.625},1.1875,null,null,{"$f":"IF($A751>$J$30,NA(),IF($A751>$N$30,0,(1-$M$35)*J751+(2*$M$35-$M$36)*J752-($M$35+$M$37)*J753+$M$36*N752+$M$37*N753))","v":13.575983518370986},6.8445830767588562,0.32963827963605674,0.28146661056029737,null,null,16.280385531291053,4.5866225300556458,0.56039480920585427,0.42326923352047346,null,null,null,null,null,null,null,null,null,null,null,null,null,null,null,null,null,null,null,null,null,null,null,null,null,null,null,null,null,null,null,1016806,{"$error":"#N/A"}]
[720,{"$f":"IF(A752>$A$8,\"\",OFFSET(InputPriceData!B$15,$A752+$A$11,0,1,1))","v":"2021-09-01T04:00:00"},{"$f":"IF(A752>$A$8,\"\",OFFSET(InputPriceData!G$15,CalculationsAndCharts!$A752+$A$11,IF($C$5,8,0),1,1))","v":1061414},{"$f":"IF(A752>$A$8,\"\",OFFSET(InputPriceData!C$15,CalculationsAndCharts!$A752+$A$11,IF($C$5,8,0),1,1))","v":4527.75},{"$f":"IF(A752>$A$8,\"\",OFFSET(InputPriceData!D$15,CalculationsAndCharts!$A752+$A$11,IF($C$5,8,0),1,1))","v":4540},{"$f":"IF(A752>$A$8,\"\",OFFSET(InputPriceData!E$15,CalculationsAndCharts!$A752+$A$11,IF($C$5,8,0),1,1))","v":4519.25},{"$f":"IF(A752>$A$8,\"\",OFFSET(InputPriceData!F$15,CalculationsAndCharts!$A752+$A$11,IF($C$5,8,0),1,1))","v":4521.25},0.75,0,{"$f":"IF($A752>$J$30,NA(),AVERAGE(H752:H755))","v":14.875},1.1875,null,null,{"$f":"IF($A752>$J$30,NA(),IF($A752>$N$30,0,(1-$M$35)*J752+(2*$M$35-$M$36)*J753-($M$35+$M$37)*J754+$M$36*N753+$M$37*N754))","v":13.67909666889028},7.3416416813276877,0.30148584136184148,0.2705414270208138,null,null,17.466735692993311,6.2855651176940341,0.47074052591436993,0.40977168428294569,null,null,null,null,null,null,null,null,null,null,null,null,null,null,null,null,null,null,null,null,null,null,null,null,null,null,null,null,null,null,null,1061414,{"$error":"#N/A"}]
[721,{"$f":"IF(A753>$A$8,\"\",OFFSET(InputPriceData!B$15,$A753+$A$11,0,1,1))","v":"2021-08-31T04:00:00"},{"$f":"IF(A753>$A$8,\"\",OFFSET(InputPriceData!G$15,CalculationsAndCharts!$A753+$A$11,IF($C$5,8,0),1,1))","v":1378199},{"$f":"IF(A753>$A$8,\"\",OFFSET(InputPriceData!C$15,CalculationsAndCharts!$A753+$A$11,IF($C$5,8,0),1,1))","v":4529.5},{"$f":"IF(A753>$A$8,\"\",OFFSET(InputPriceData!D$15,CalculationsAndCharts!$A753+$A$11,IF($C$5,8,0),1,1))","v":4542.25},{"$f":"IF(A753>$A$8,\"\",OFFSET(InputPriceData!E$15,CalculationsAndCharts!$A753+$A$11,IF($C$5,8,0),1,1))","v":4512.5},{"$f":"IF(A753>$A$8,\"\",OFFSET(InputPriceData!F$15,CalculationsAndCharts!$A753+$A$11,IF($C$5,8,0),1,1))","v":4520.5},0,4.75,{"$f":"IF($A753>$J$30,NA(),AVERAGE(H753:H756))","v":14.6875},7.8125,null,null,{"$f":"IF($A753>$J$30,NA(),IF($A753>$N$30,0,(1-$M$35)*J753+(2*$M$35-$M$36)*J754-($M$35+$M$37)*J755+$M$36*N754+$M$37*N755))","v":13.539120077271697},7.5915437507182792,0.28146661056029737,0.25677018308843086,null,null,17.716327276344721,7.1789305695979957,0.42326923352047346,0.38014828538696643,null,null,null,null,null,null,null,null,null,null,null,null,null,null,null,null,null,null,null,null,null,null,null,null,null,null,null,null,null,null,null,{"$error":"#N/A"},1378199]
[722,{"$f":"IF(A754>$A$8,\"\",OFFSET(InputPriceData!B$15,$A754+$A$11,0,1,1))","v":"2021-08-30T04:00:00"},{"$f":"IF(A754>$A$8,\"\",OFFSET(InputPriceData!G$15,CalculationsAndCharts!$A754+$A$11,IF($C$5,8,0),1,1))","v":975807},{"$f":"IF(A754>$A$8,\"\",OFFSET(InputPriceData!C$15,CalculationsAndCharts!$A754+$A$11,IF($C$5,8,0),1,1))","v":4508.75},{"$f":"IF(A754>$A$8,\"\",OFFSET(InputPriceData!D$15,CalculationsAndCharts!$A754+$A$11,IF($C$5,8,0),1,1))","v":4534.5},{"$f":"IF(A754>$A$8,\"\",OFFSET(InputPriceData!E$15,CalculationsAndCharts!$A754+$A$11,IF($C$5,8,0),1,1))","v":4500.75},{"$f":"IF(A754>$A$8,\"\",OFFSET(InputPriceData!F$15,CalculationsAndCharts!$A754+$A$11,IF($C$5,8,0),1,1))","v":4525.25},19.75,0,{"$f":"IF($A754>$J$30,NA(),AVERAGE(H754:H757))","v":17.3125},6.625,null,null,{"$f":"IF($A754>$J$30,NA(),IF($A754>$N$30,0,(1-$M$35)*J754+(2*$M$35-$M$36)*J755-($M$35+$M$37)*J756+$M$36*N755+$M$37*N756))","v":13.293032984759849},7.6319564757248344,0.2705414270208138,0.24707264458901015,null,null,17.466815369191252,7.3128217364801174,0.40977168428294569,0.35567477465153052,null,null,null,null,null,null,null,null,null,null,null,null,null,null,null,null,null,null,null,null,null,null,null,null,null,null,null,null,null,null,null,975807,{"$error":"#N/A"}]
[723,{"$f":"IF(A755>$A$8,\"\",OFFSET(InputPriceData!B$15,$A755+$A$11,0,1,1))","v":"2021-08-27T04:00:00"},{"$f":"IF(A755>$A$8,\"\",OFFSET(InputPriceData!G$15,CalculationsAndCharts!$A755+$A$11,IF($C$5,8,0),1,1))","v":1216414},{"$f":"IF(A755>$A$8,\"\",OFFSET(InputPriceData!C$15,CalculationsAndCharts!$A755+$A$11,IF($C$5,8,0),1,1))","v":4470},{"$f":"IF(A755>$A$8,\"\",OFFSET(InputPriceData!D$15,CalculationsAndCharts!$A755+$A$11,IF($C$5,8,0),1,1))","v":4510},{"$f":"IF(A755>$A$8,\"\",OFFSET(InputPriceData!E$15,CalculationsAndCharts!$A755+$A$11,IF($C$5,8,0),1,1))","v":4462.25},{"$f":"IF(A755>$A$8,\"\",OFFSET(InputPriceData!F$15,CalculationsAndCharts!$A755+$A$11,IF($C$5,8,0),1,1))","v":4505.5},39,0,{"$f":"IF($A755>$J$30,NA(),AVERAGE(H755:H758))","v":14.125},6.625,null,null,{"$f":"IF($A755>$J$30,NA(),IF($A755>$N$30,0,(1-$M$35)*J755+(2*$M$35-$M$36)*J756-($M$35+$M$37)*J757+$M$36*N756+$M$37*N757))","v":13.05824983827182},7.7223988658246148,0.25677018308843086,0.20779782632745544,null,null,17.134324224849763,7.695361695523113,0.38014828538696643,0.22381060497086969,null,null,null,null,null,null,null,null,null,null,null,null,null,null,null,null,null,null,null,null,null,null,null,null,null,null,null,null,null,null,null,1216414,{"$error":"#N/A"}]
[724,{"$f":"IF(A756>$A$8,\"\",OFFSET(InputPriceData!B$15,$A756+$A$11,0,1,1))","v":"2021-08-26T04:00:00"},{"$f":"IF(A756>$A$8,\"\",OFFSET(InputPriceData!G$15,CalculationsAndCharts!$A756+$A$11,IF($C$5,8,0),1,1))","v":1306718},{"$f":"IF(A756>$A$8,\"\",OFFSET(InputPriceData!C$15,CalculationsAndCharts!$A756+$A$11,IF($C$5,8,0),1,1))","v":4493.75},{"$f":"IF(A756>$A$8,\"\",OFFSET(InputPriceData!D$15,CalculationsAndCharts!$A756+$A$11,IF($C$5,8,0),1,1))","v":4494.25},{"$f":"IF(A756>$A$8,\"\",OFFSET(InputPriceData!E$15,CalculationsAndCharts!$A756+$A$11,IF($C$5,8,0),1,1))","v":4465},{"$f":"IF(A756>$A$8,\"\",OFFSET(InputPriceData!F$15,CalculationsAndCharts!$A756+$A$11,IF($C$5,8,0),1,1))","v":4466.5},0,26.5,{"$f":"IF($A756>$J$30,NA(),AVERAGE(H756:H759))","v":14},6.625,null,null,{"$f":"IF($A756>$J$30,NA(),IF($A756>$N$30,0,(1-$M$35)*J756+(2*$M$35-$M$36)*J757-($M$35+$M$37)*J758+$M$36*N757+$M$37*N758))","v":12.946816130369553},7.8167154674811137,0.24707264458901015,0.1381041539513089,null,null,17.163778687426781,8.1576022342454468,0.35567477465153052,-3.4322418522576871E-2,null,null,null,null,null,null,null,null,null,null,null,null,null,null,null,null,null,null,null,null,null,null,null,null,null,null,null,null,null,null,null,{"$error":"#N/A"},1306718]
[725,{"$f":"IF(A757>$A$8,\"\",OFFSET(InputPriceData!B$15,$A757+$A$11,0,1,1))","v":"2021-08-25T04:00:00"},{"$f":"IF(A757>$A$8,\"\",OFFSET(InputPriceData!G$15,CalculationsAndCharts!$A757+$A$11,IF($C$5,8,0),1,1))","v":801106},{"$f":"IF(A757>$A$8,\"\",OFFSET(InputPriceData!C$15,CalculationsAndCharts!$A757+$A$11,IF($C$5,8,0),1,1))","v":4483.5},{"$f":"IF(A757>$A$8,\"\",OFFSET(InputPriceData!D$15,CalculationsAndCharts!$A757+$A$11,IF($C$5,8,0),1,1))","v":4498},{"$f":"IF(A757>$A$8,\"\",OFFSET(InputPriceData!E$15,CalculationsAndCharts!$A757+$A$11,IF($C$5,8,0),1,1))","v":4476.25},{"$f":"IF(A757>$A$8,\"\",OFFSET(InputPriceData!F$15,CalculationsAndCharts!$A757+$A$11,IF($C$5,8,0),1,1))","v":4493},10.5,0,{"$f":"IF($A757>$J$30,NA(),AVERAGE(H757:H760))","v":22.875},0,null,null,{"$f":"IF($A757>$J$30,NA(),IF($A757>$N$30,0,(1-$M$35)*J757+(2*$M$35-$M$36)*J758-($M$35+$M$37)*J759+$M$36*N758+$M$37*N759))","v":12.475812037854162},8.1829634060283603,0.20779782632745544,9.5972936197219985E-2,null,null,15.516629907998389,9.8412642710077343,0.22381060497086969,-0.26079345632994899,null,null,null,null,null,null,null,null,null,null,null,null,null,null,null,null,null,null,null,null,null,null,null,null,null,null,null,null,null,null,null,801106,{"$error":"#N/A"}]
[726,{"$f":"IF(A758>$A$8,\"\",OFFSET(InputPriceData!B$15,$A758+$A$11,0,1,1))","v":"2021-08-24T04:00:00"},{"$f":"IF(A758>$A$8,\"\",OFFSET(InputPriceData!G$15,CalculationsAndCharts!$A758+$A$11,IF($C$5,8,0),1,1))","v":787503},{"$f":"IF(A758>$A$8,\"\",OFFSET(InputPriceData!C$15,CalculationsAndCharts!$A758+$A$11,IF($C$5,8,0),1,1))","v":4481},{"$f":"IF(A758>$A$8,\"\",OFFSET(InputPriceData!D$15,CalculationsAndCharts!$A758+$A$11,IF($C$5,8,0),1,1))","v":4492},{"$f":"IF(A758>$A$8,\"\",OFFSET(InputPriceData!E$15,CalculationsAndCharts!$A758+$A$11,IF($C$5,8,0),1,1))","v":4476.75},{"$f":"IF(A758>$A$8,\"\",OFFSET(InputPriceData!F$15,CalculationsAndCharts!$A758+$A$11,IF($C$5,8,0),1,1))","v":4482.5},7,0,{"$f":"IF($A758>$J$30,NA(),AVERAGE(H758:H761))","v":22},0,null,null,{"$f":"IF($A758>$J$30,NA(),IF($A758>$N$30,0,(1-$M$35)*J758+(2*$M$35-$M$36)*J759-($M$35+$M$37)*J760+$M$36*N759+$M$37*N760))","v":11.661761176709883},8.8315498022935444,0.1381041539513089,0.11719258020383262,null,null,12.051053145312888,12.907697842517999,-3.4322418522576871E-2,-0.34141679661003971,null,null,null,null,null,null,null,null,null,null,null,null,null,null,null,null,null,null,null,null,null,null,null,null,null,null,null,null,null,null,null,787503,{"$error":"#N/A"}]
[727,{"$f":"IF(A759>$A$8,\"\",OFFSET(InputPriceData!B$15,$A759+$A$11,0,1,1))","v":"2021-08-23T04:00:00"},{"$f":"IF(A759>$A$8,\"\",OFFSET(InputPriceData!G$15,CalculationsAndCharts!$A759+$A$11,IF($C$5,8,0),1,1))","v":997026},{"$f":"IF(A759>$A$8,\"\",OFFSET(InputPriceData!C$15,CalculationsAndCharts!$A759+$A$11,IF($C$5,8,0),1,1))","v":4435},{"$f":"IF(A759>$A$8,\"\",OFFSET(InputPriceData!D$15,CalculationsAndCharts!$A759+$A$11,IF($C$5,8,0),1,1))","v":4485.75},{"$f":"IF(A759>$A$8,\"\",OFFSET(InputPriceData!E$15,CalculationsAndCharts!$A759+$A$11,IF($C$5,8,0),1,1))","v":4433.5},{"$f":"IF(A759>$A$8,\"\",OFFSET(InputPriceData!F$15,CalculationsAndCharts!$A759+$A$11,IF($C$5,8,0),1,1))","v":4475.5},38.5,0,{"$f":"IF($A759>$J$30,NA(),AVERAGE(H759:H762))","v":20.25},12.25,null,null,{"$f":"IF($A759>$J$30,NA(),IF($A759>$N$30,0,(1-$M$35)*J759+(2*$M$35-$M$36)*J760-($M$35+$M$37)*J761+$M$36*N760+$M$37*N761))","v":10.921987006460251},9.0091383812835257,9.5972936197219985E-2,0.19052209114978194,null,null,8.3555154119533732,14.25119845848797,-0.26079345632994899,-0.16202115645160639,null,null,null,null,null,null,null,null,null,null,null,null,null,null,null,null,null,null,null,null,null,null,null,null,null,null,null,null,null,null,null,997026,{"$error":"#N/A"}]
[728,{"$f":"IF(A760>$A$8,\"\",OFFSET(InputPriceData!B$15,$A760+$A$11,0,1,1))","v":"2021-08-20T04:00:00"},{"$f":"IF(A760>$A$8,\"\",OFFSET(InputPriceData!G$15,CalculationsAndCharts!$A760+$A$11,IF($C$5,8,0),1,1))","v":1328852},{"$f":"IF(A760>$A$8,\"\",OFFSET(InputPriceData!C$15,CalculationsAndCharts!$A760+$A$11,IF($C$5,8,0),1,1))","v":4403.75},{"$f":"IF(A760>$A$8,\"\",OFFSET(InputPriceData!D$15,CalculationsAndCharts!$A760+$A$11,IF($C$5,8,0),1,1))","v":4440.5},{"$f":"IF(A760>$A$8,\"\",OFFSET(InputPriceData!E$15,CalculationsAndCharts!$A760+$A$11,IF($C$5,8,0),1,1))","v":4371.75},{"$f":"IF(A760>$A$8,\"\",OFFSET(InputPriceData!F$15,CalculationsAndCharts!$A760+$A$11,IF($C$5,8,0),1,1))","v":4437},35.5,0,{"$f":"IF($A760>$J$30,NA(),AVERAGE(H760:H763))","v":10.625},19.875,null,null,{"$f":"IF($A760>$J$30,NA(),IF($A760>$N$30,0,(1-$M$35)*J760+(2*$M$35-$M$36)*J761-($M$35+$M$37)*J762+$M$36*N761+$M$37*N762))","v":10.61476976018149},8.3878085746026834,0.11719258020383262,0.28195893526371418,null,null,5.9893751356997784,12.199291398370175,-0.34141679661003971,0.32190050189465808,null,null,null,null,null,null,null,null,null,null,null,null,null,null,null,null,null,null,null,null,null,null,null,null,null,null,null,null,null,null,null,1328852,{"$error":"#N/A"}]
[729,{"$f":"IF(A761>$A$8,\"\",OFFSET(InputPriceData!B$15,$A761+$A$11,0,1,1))","v":"2021-08-19T04:00:00"},{"$f":"IF(A761>$A$8,\"\",OFFSET(InputPriceData!G$15,CalculationsAndCharts!$A761+$A$11,IF($C$5,8,0),1,1))","v":1924058},{"$f":"IF(A761>$A$8,\"\",OFFSET(InputPriceData!C$15,CalculationsAndCharts!$A761+$A$11,IF($C$5,8,0),1,1))","v":4389.75},{"$f":"IF(A761>$A$8,\"\",OFFSET(InputPriceData!D$15,CalculationsAndCharts!$A761+$A$11,IF($C$5,8,0),1,1))","v":4414.75},{"$f":"IF(A761>$A$8,\"\",OFFSET(InputPriceData!E$15,CalculationsAndCharts!$A761+$A$11,IF($C$5,8,0),1,1))","v":4347.75},{"$f":"IF(A761>$A$8,\"\",OFFSET(InputPriceData!F$15,CalculationsAndCharts!$A761+$A$11,IF($C$5,8,0),1,1))","v":4401.5},7,0,{"$f":"IF($A761>$J$30,NA(),AVERAGE(H761:H764))","v":4.625},19.875,null,null,{"$f":"IF($A761>$J$30,NA(),IF($A761>$N$30,0,(1-$M$35)*J761+(2*$M$35-$M$36)*J762-($M$35+$M$37)*J763+$M$36*N762+$M$37*N763))","v":10.930161233034893},7.4318016642327525,0.19052209114978194,0.33809943962297168,null,null,5.9839333598283355,8.2978910702242619,-0.16202115645160639,0.93351708083375717,null,null,null,null,null,null,null,null,null,null,null,null,null,null,null,null,null,null,null,null,null,null,null,null,null,null,null,null,null,null,null,1924058,{"$error":"#N/A"}]
[730,{"$f":"IF(A762>$A$8,\"\",OFFSET(InputPriceData!B$15,$A762+$A$11,0,1,1))","v":"2021-08-18T04:00:00"},{"$f":"IF(A762>$A$8,\"\",OFFSET(InputPriceData!G$15,CalculationsAndCharts!$A762+$A$11,IF($C$5,8,0),1,1))","v":1546011},{"$f":"IF(A762>$A$8,\"\",OFFSET(InputPriceData!C$15,CalculationsAndCharts!$A762+$A$11,IF($C$5,8,0),1,1))","v":4436.75},{"$f":"IF(A762>$A$8,\"\",OFFSET(InputPriceData!D$15,CalculationsAndCharts!$A762+$A$11,IF($C$5,8,0),1,1))","v":4449.75},{"$f":"IF(A762>$A$8,\"\",OFFSET(InputPriceData!E$15,CalculationsAndCharts!$A762+$A$11,IF($C$5,8,0),1,1))","v":4381.5},{"$f":"IF(A762>$A$8,\"\",OFFSET(InputPriceData!F$15,CalculationsAndCharts!$A762+$A$11,IF($C$5,8,0),1,1))","v":4394.5},0,49,{"$f":"IF($A762>$J$30,NA(),AVERAGE(H762:H765))","v":4.875},19.875,null,null,{"$f":"IF($A762>$J$30,NA(),IF($A762>$N$30,0,(1-$M$35)*J762+(2*$M$35-$M$36)*J763-($M$35+$M$37)*J764+$M$36*N763+$M$37*N764))","v":11.493414414842984},6.4376036524068097,0.28195893526371418,0.32737214616765647,null,null,7.0620391019134674,3.622636623364742,0.32190050189465808,1.0344868743762752,null,null,null,null,null,null,null,null,null,null,null,null,null,null,null,null,null,null,null,null,null,null,null,null,null,null,null,null,null,null,null,{"$error":"#N/A"},1546011]
[731,{"$f":"IF(A763>$A$8,\"\",OFFSET(InputPriceData!B$15,$A763+$A$11,0,1,1))","v":"2021-08-17T04:00:00"},{"$f":"IF(A763>$A$8,\"\",OFFSET(InputPriceData!G$15,CalculationsAndCharts!$A763+$A$11,IF($C$5,8,0),1,1))","v":1789568},{"$f":"IF(A763>$A$8,\"\",OFFSET(InputPriceData!C$15,CalculationsAndCharts!$A763+$A$11,IF($C$5,8,0),1,1))","v":4472},{"$f":"IF(A763>$A$8,\"\",OFFSET(InputPriceData!D$15,CalculationsAndCharts!$A763+$A$11,IF($C$5,8,0),1,1))","v":4472.25},{"$f":"IF(A763>$A$8,\"\",OFFSET(InputPriceData!E$15,CalculationsAndCharts!$A763+$A$11,IF($C$5,8,0),1,1))","v":4411.75},{"$f":"IF(A763>$A$8,\"\",OFFSET(InputPriceData!F$15,CalculationsAndCharts!$A763+$A$11,IF($C$5,8,0),1,1))","v":4443.5},0,30.5,{"$f":"IF($A763>$J$30,NA(),AVERAGE(H763:H766))","v":8.375},7.625,null,null,{"$f":"IF($A763>$J$30,NA(),IF($A763>$N$30,0,(1-$M$35)*J763+(2*$M$35-$M$36)*J764-($M$35+$M$37)*J765+$M$36*N764+$M$37*N765))","v":11.929368698079553},5.9009484589784016,0.33809943962297168,0.2940770653230248,null,null,7.7614812474083976,0.26687425495059747,0.93351708083375717,0.78843687204851076,null,null,null,null,null,null,null,null,null,null,null,null,null,null,null,null,null,null,null,null,null,null,null,null,null,null,null,null,null,null,null,{"$error":"#N/A"},1789568]
[732,{"$f":"IF(A764>$A$8,\"\",OFFSET(InputPriceData!B$15,$A764+$A$11,0,1,1))","v":"2021-08-16T04:00:00"},{"$f":"IF(A764>$A$8,\"\",OFFSET(InputPriceData!G$15,CalculationsAndCharts!$A764+$A$11,IF($C$5,8,0),1,1))","v":1239520},{"$f":"IF(A764>$A$8,\"\",OFFSET(InputPriceData!C$15,CalculationsAndCharts!$A764+$A$11,IF($C$5,8,0),1,1))","v":4456.25},{"$f":"IF(A764>$A$8,\"\",OFFSET(InputPriceData!D$15,CalculationsAndCharts!$A764+$A$11,IF($C$5,8,0),1,1))","v":4476.5},{"$f":"IF(A764>$A$8,\"\",OFFSET(InputPriceData!E$15,CalculationsAndCharts!$A764+$A$11,IF($C$5,8,0),1,1))","v":4432.5},{"$f":"IF(A764>$A$8,\"\",OFFSET(InputPriceData!F$15,CalculationsAndCharts!$A764+$A$11,IF($C$5,8,0),1,1))","v":4474},11.5,0,{"$f":"IF($A764>$J$30,NA(),AVERAGE(H764:H767))","v":11},0,null,null,{"$f":"IF($A764>$J$30,NA(),IF($A764>$N$30,0,(1-$M$35)*J764+(2*$M$35-$M$36)*J765-($M$35+$M$37)*J766+$M$36*N765+$M$37*N766))","v":12.136133553705964},6.149821276286505,0.32737214616765647,0.27011743819294659,null,null,7.6018097918055716,-0.12885935152700823,1.0344868743762752,0.58902461846173659,null,null,null,null,null,null,null,null,null,null,null,null,null,null,null,null,null,null,null,null,null,null,null,null,null,null,null,null,null,null,null,1239520,{"$error":"#N/A"}]
[733,{"$f":"IF(A765>$A$8,\"\",OFFSET(InputPriceData!B$15,$A765+$A$11,0,1,1))","v":"2021-08-13T04:00:00"},{"$f":"IF(A765>$A$8,\"\",OFFSET(InputPriceData!G$15,CalculationsAndCharts!$A765+$A$11,IF($C$5,8,0),1,1))","v":789104},{"$f":"IF(A765>$A$8,\"\",OFFSET(InputPriceData!C$15,CalculationsAndCharts!$A765+$A$11,IF($C$5,8,0),1,1))","v":4455.75},{"$f":"IF(A765>$A$8,\"\",OFFSET(InputPriceData!D$15,CalculationsAndCharts!$A765+$A$11,IF($C$5,8,0),1,1))","v":4463.25},{"$f":"IF(A765>$A$8,\"\",OFFSET(InputPriceData!E$15,CalculationsAndCharts!$A765+$A$11,IF($C$5,8,0),1,1))","v":4451},{"$f":"IF(A765>$A$8,\"\",OFFSET(InputPriceData!F$15,CalculationsAndCharts!$A765+$A$11,IF($C$5,8,0),1,1))","v":4462.5},8,0,{"$f":"IF($A765>$J$30,NA(),AVERAGE(H765:H768))","v":9.1875},0,null,null,{"$f":"IF($A765>$J$30,NA(),IF($A765>$N$30,0,(1-$M$35)*J765+(2*$M$35-$M$36)*J766-($M$35+$M$37)*J767+$M$36*N766+$M$37*N767))","v":12.319078884300502},6.7200946153479748,0.2940770653230248,0.25464550993673041,null,null,7.3658427339736798,0.87134231750280744,0.78843687204851076,0.46149501956425376,null,null,null,null,null,null,null,null,null,null,null,null,null,null,null,null,null,null,null,null,null,null,null,null,null,null,null,null,null,null,null,789104,{"$error":"#N/A"}]
[734,{"$f":"IF(A766>$A$8,\"\",OFFSET(InputPriceData!B$15,$A766+$A$11,0,1,1))","v":"2021-08-12T04:00:00"},{"$f":"IF(A766>$A$8,\"\",OFFSET(InputPriceData!G$15,CalculationsAndCharts!$A766+$A$11,IF($C$5,8,0),1,1))","v":850527},{"$f":"IF(A766>$A$8,\"\",OFFSET(InputPriceData!C$15,CalculationsAndCharts!$A766+$A$11,IF($C$5,8,0),1,1))","v":4440},{"$f":"IF(A766>$A$8,\"\",OFFSET(InputPriceData!D$15,CalculationsAndCharts!$A766+$A$11,IF($C$5,8,0),1,1))","v":4456.25},{"$f":"IF(A766>$A$8,\"\",OFFSET(InputPriceData!E$15,CalculationsAndCharts!$A766+$A$11,IF($C$5,8,0),1,1))","v":4430.25},{"$f":"IF(A766>$A$8,\"\",OFFSET(InputPriceData!F$15,CalculationsAndCharts!$A766+$A$11,IF($C$5,8,0),1,1))","v":4454.5},14,0,{"$f":"IF($A766>$J$30,NA(),AVERAGE(H766:H769))","v":7.1875},0.9375,null,null,{"$f":"IF($A766>$J$30,NA(),IF($A766>$N$30,0,(1-$M$35)*J766+(2*$M$35-$M$36)*J767-($M$35+$M$37)*J768+$M$36*N767+$M$37*N768))","v":12.664095710810448},7.2775180801602968,0.27011743819294659,0.23646237807000006,null,null,7.8582886253638389,2.0324185846617628,0.58902461846173659,0.3416957823341587,null,null,null,null,null,null,null,null,null,null,null,null,null,null,null,null,null,null,null,null,null,null,null,null,null,null,null,null,null,null,null,850527,{"$error":"#N/A"}]
[735,{"$f":"IF(A767>$A$8,\"\",OFFSET(InputPriceData!B$15,$A767+$A$11,0,1,1))","v":"2021-08-11T04:00:00"},{"$f":"IF(A767>$A$8,\"\",OFFSET(InputPriceData!G$15,CalculationsAndCharts!$A767+$A$11,IF($C$5,8,0),1,1))","v":1001054},{"$f":"IF(A767>$A$8,\"\",OFFSET(InputPriceData!C$15,CalculationsAndCharts!$A767+$A$11,IF($C$5,8,0),1,1))","v":4429.25},{"$f":"IF(A767>$A$8,\"\",OFFSET(InputPriceData!D$15,CalculationsAndCharts!$A767+$A$11,IF($C$5,8,0),1,1))","v":4443.25},{"$f":"IF(A767>$A$8,\"\",OFFSET(InputPriceData!E$15,CalculationsAndCharts!$A767+$A$11,IF($C$5,8,0),1,1))","v":4420.75},{"$f":"IF(A767>$A$8,\"\",OFFSET(InputPriceData!F$15,CalculationsAndCharts!$A767+$A$11,IF($C$5,8,0),1,1))","v":4440.5},10.5,0,{"$f":"IF($A767>$J$30,NA(),AVERAGE(H767:H770))","v":5.6875},0.9375,null,null,{"$f":"IF($A767>$J$30,NA(),IF($A767>$N$30,0,(1-$M$35)*J767+(2*$M$35-$M$36)*J768-($M$35+$M$37)*J769+$M$36*N768+$M$37*N769))","v":13.164550765948757},7.8207405560799206,0.25464550993673041,0.22600340390176119,null,null,9.1559003175107723,3.3735988527848795,0.46149501956425376,0.28437853286495995,null,null,null,null,null,null,null,null,null,null,null,null,null,null,null,null,null,null,null,null,null,null,null,null,null,null,null,null,null,null,null,1001054,{"$error":"#N/A"}]
[736,{"$f":"IF(A768>$A$8,\"\",OFFSET(InputPriceData!B$15,$A768+$A$11,0,1,1))","v":"2021-08-10T04:00:00"},{"$f":"IF(A768>$A$8,\"\",OFFSET(InputPriceData!G$15,CalculationsAndCharts!$A768+$A$11,IF($C$5,8,0),1,1))","v":950320},{"$f":"IF(A768>$A$8,\"\",OFFSET(InputPriceData!C$15,CalculationsAndCharts!$A768+$A$11,IF($C$5,8,0),1,1))","v":4427.25},{"$f":"IF(A768>$A$8,\"\",OFFSET(InputPriceData!D$15,CalculationsAndCharts!$A768+$A$11,IF($C$5,8,0),1,1))","v":4438.25},{"$f":"IF(A768>$A$8,\"\",OFFSET(InputPriceData!E$15,CalculationsAndCharts!$A768+$A$11,IF($C$5,8,0),1,1))","v":4416.5},{"$f":"IF(A768>$A$8,\"\",OFFSET(InputPriceData!F$15,CalculationsAndCharts!$A768+$A$11,IF($C$5,8,0),1,1))","v":4430},4.25,0,{"$f":"IF($A768>$J$30,NA(),AVERAGE(H768:H771))","v":9.75},0.9375,null,null,{"$f":"IF($A768>$J$30,NA(),IF($A768>$N$30,0,(1-$M$35)*J768+(2*$M$35-$M$36)*J769-($M$35+$M$37)*J770+$M$36*N769+$M$37*N770))","v":13.580622094065239},8.3862769154514041,0.23646237807000006,0.21388972770899128,null,null,10.337043632496433,5.0718795654478832,0.3416957823341587,0.22242657218208436,null,null,null,null,null,null,null,null,null,null,null,null,null,null,null,null,null,null,null,null,null,null,null,null,null,null,null,null,null,null,null,950320,{"$error":"#N/A"}]
[737,{"$f":"IF(A769>$A$8,\"\",OFFSET(InputPriceData!B$15,$A769+$A$11,0,1,1))","v":"2021-08-09T04:00:00"},{"$f":"IF(A769>$A$8,\"\",OFFSET(InputPriceData!G$15,CalculationsAndCharts!$A769+$A$11,IF($C$5,8,0),1,1))","v":789726},{"$f":"IF(A769>$A$8,\"\",OFFSET(InputPriceData!C$15,CalculationsAndCharts!$A769+$A$11,IF($C$5,8,0),1,1))","v":4428},{"$f":"IF(A769>$A$8,\"\",OFFSET(InputPriceData!D$15,CalculationsAndCharts!$A769+$A$11,IF($C$5,8,0),1,1))","v":4432},{"$f":"IF(A769>$A$8,\"\",OFFSET(InputPriceData!E$15,CalculationsAndCharts!$A769+$A$11,IF($C$5,8,0),1,1))","v":4412.25},{"$f":"IF(A769>$A$8,\"\",OFFSET(InputPriceData!F$15,CalculationsAndCharts!$A769+$A$11,IF($C$5,8,0),1,1))","v":4425.75},0,3.75,{"$f":"IF($A769>$J$30,NA(),AVERAGE(H769:H772))","v":8.6875},6,null,null,{"$f":"IF($A769>$J$30,NA(),IF($A769>$N$30,0,(1-$M$35)*J769+(2*$M$35-$M$36)*J770-($M$35+$M$37)*J771+$M$36*N770+$M$37*N771))","v":13.890474329097486},8.7692903744767303,0.22600340390176119,0.19510068092543953,null,null,11.288901106351851,6.2898746478187002,0.28437853286495995,0.11575917297187652,null,null,null,null,null,null,null,null,null,null,null,null,null,null,null,null,null,null,null,null,null,null,null,null,null,null,null,null,null,null,null,{"$error":"#N/A"},789726]
[738,{"$f":"IF(A770>$A$8,\"\",OFFSET(InputPriceData!B$15,$A770+$A$11,0,1,1))","v":"2021-08-06T04:00:00"},{"$f":"IF(A770>$A$8,\"\",OFFSET(InputPriceData!G$15,CalculationsAndCharts!$A770+$A$11,IF($C$5,8,0),1,1))","v":951045},{"$f":"IF(A770>$A$8,\"\",OFFSET(InputPriceData!C$15,CalculationsAndCharts!$A770+$A$11,IF($C$5,8,0),1,1))","v":4420.25},{"$f":"IF(A770>$A$8,\"\",OFFSET(InputPriceData!D$15,CalculationsAndCharts!$A770+$A$11,IF($C$5,8,0),1,1))","v":4433.25},{"$f":"IF(A770>$A$8,\"\",OFFSET(InputPriceData!E$15,CalculationsAndCharts!$A770+$A$11,IF($C$5,8,0),1,1))","v":4416},{"$f":"IF(A770>$A$8,\"\",OFFSET(InputPriceData!F$15,CalculationsAndCharts!$A770+$A$11,IF($C$5,8,0),1,1))","v":4429.5},8,0,{"$f":"IF($A770>$J$30,NA(),AVERAGE(H770:H773))","v":17.5},5.0625,null,null,{"$f":"IF($A770>$J$30,NA(),IF($A770>$N$30,0,(1-$M$35)*J770+(2*$M$35-$M$36)*J771-($M$35+$M$37)*J772+$M$36*N771+$M$37*N772))","v":13.89705046129972},8.999675895431249,0.21388972770899128,0.20490849246773815,null,null,11.141385494794726,7.0869248975536179,0.22242657218208436,0.15206967759299109,null,null,null,null,null,null,null,null,null,null,null,null,null,null,null,null,null,null,null,null,null,null,null,null,null,null,null,null,null,null,null,951045,{"$error":"#N/A"}]
[739,{"$f":"IF(A771>$A$8,\"\",OFFSET(InputPriceData!B$15,$A771+$A$11,0,1,1))","v":"2021-08-05T04:00:00"},{"$f":"IF(A771>$A$8,\"\",OFFSET(InputPriceData!G$15,CalculationsAndCharts!$A771+$A$11,IF($C$5,8,0),1,1))","v":763343},{"$f":"IF(A771>$A$8,\"\",OFFSET(InputPriceData!C$15,CalculationsAndCharts!$A771+$A$11,IF($C$5,8,0),1,1))","v":4396.25},{"$f":"IF(A771>$A$8,\"\",OFFSET(InputPriceData!D$15,CalculationsAndCharts!$A771+$A$11,IF($C$5,8,0),1,1))","v":4422.75},{"$f":"IF(A771>$A$8,\"\",OFFSET(InputPriceData!E$15,CalculationsAndCharts!$A771+$A$11,IF($C$5,8,0),1,1))","v":4393.75},{"$f":"IF(A771>$A$8,\"\",OFFSET(InputPriceData!F$15,CalculationsAndCharts!$A771+$A$11,IF($C$5,8,0),1,1))","v":4421.5},26.75,0,{"$f":"IF($A771>$J$30,NA(),AVERAGE(H771:H774))","v":15.5},7.5,null,null,{"$f":"IF($A771>$J$30,NA(),IF($A771>$N$30,0,(1-$M$35)*J771+(2*$M$35-$M$36)*J772-($M$35+$M$37)*J773+$M$36*N772+$M$37*N773))","v":13.625907615514276},9.1770374969642852,0.19510068092543953,0.21934475883239449,null,null,9.8824931014967099,7.8318906847001433,0.11575917297187652,0.22080294283502866,null,null,null,null,null,null,null,null,null,null,null,null,null,null,null,null,null,null,null,null,null,null,null,null,null,null,null,null,null,null,null,763343,{"$error":"#N/A"}]
[740,{"$f":"IF(A772>$A$8,\"\",OFFSET(InputPriceData!B$15,$A772+$A$11,0,1,1))","v":"2021-08-04T04:00:00"},{"$f":"IF(A772>$A$8,\"\",OFFSET(InputPriceData!G$15,CalculationsAndCharts!$A772+$A$11,IF($C$5,8,0),1,1))","v":1047251},{"$f":"IF(A772>$A$8,\"\",OFFSET(InputPriceData!C$15,CalculationsAndCharts!$A772+$A$11,IF($C$5,8,0),1,1))","v":4409.75},{"$f":"IF(A772>$A$8,\"\",OFFSET(InputPriceData!D$15,CalculationsAndCharts!$A772+$A$11,IF($C$5,8,0),1,1))","v":4415},{"$f":"IF(A772>$A$8,\"\",OFFSET(InputPriceData!E$15,CalculationsAndCharts!$A772+$A$11,IF($C$5,8,0),1,1))","v":4391.25},{"$f":"IF(A772>$A$8,\"\",OFFSET(InputPriceData!F$15,CalculationsAndCharts!$A772+$A$11,IF($C$5,8,0),1,1))","v":4394.75},0,20.25,{"$f":"IF($A772>$J$30,NA(),AVERAGE(H772:H775))","v":8.8125},13.0625,null,null,{"$f":"IF($A772>$J$30,NA(),IF($A772>$N$30,0,(1-$M$35)*J772+(2*$M$35-$M$36)*J773-($M$35+$M$37)*J774+$M$36*N773+$M$37*N774))","v":13.693282998459878},9.0358837126404179,0.20490849246773815,0.22962397636073179,null,null,10.037804497960105,7.3878854463009063,0.15206967759299109,0.26902414772863542,null,null,null,null,null,null,null,null,null,null,null,null,null,null,null,null,null,null,null,null,null,null,null,null,null,null,null,null,null,null,null,{"$error":"#N/A"},1047251]
[741,{"$f":"IF(A773>$A$8,\"\",OFFSET(InputPriceData!B$15,$A773+$A$11,0,1,1))","v":"2021-08-03T04:00:00"},{"$f":"IF(A773>$A$8,\"\",OFFSET(InputPriceData!G$15,CalculationsAndCharts!$A773+$A$11,IF($C$5,8,0),1,1))","v":1296856},{"$f":"IF(A773>$A$8,\"\",OFFSET(InputPriceData!C$15,CalculationsAndCharts!$A773+$A$11,IF($C$5,8,0),1,1))","v":4383.75},{"$f":"IF(A773>$A$8,\"\",OFFSET(InputPriceData!D$15,CalculationsAndCharts!$A773+$A$11,IF($C$5,8,0),1,1))","v":4417},{"$f":"IF(A773>$A$8,\"\",OFFSET(InputPriceData!E$15,CalculationsAndCharts!$A773+$A$11,IF($C$5,8,0),1,1))","v":4365.25},{"$f":"IF(A773>$A$8,\"\",OFFSET(InputPriceData!F$15,CalculationsAndCharts!$A773+$A$11,IF($C$5,8,0),1,1))","v":4415},35.25,0,{"$f":"IF($A773>$J$30,NA(),AVERAGE(H773:H776))","v":13.3125},8,null,null,{"$f":"IF($A773>$J$30,NA(),IF($A773>$N$30,0,(1-$M$35)*J773+(2*$M$35-$M$36)*J774-($M$35+$M$37)*J775+$M$36*N774+$M$37*N775))","v":13.849694871163008},8.8669236583249642,0.21934475883239449,0.25711447891012645,null,null,10.752249647746808,6.8627957792853858,0.22080294283502866,0.38163618185500087,null,null,null,null,null,null,null,null,null,null,null,null,null,null,null,null,null,null,null,null,null,null,null,null,null,null,null,null,null,null,null,1296856,{"$error":"#N/A"}]
[742,{"$f":"IF(A774>$A$8,\"\",OFFSET(InputPriceData!B$15,$A774+$A$11,0,1,1))","v":"2021-08-02T04:00:00"},{"$f":"IF(A774>$A$8,\"\",OFFSET(InputPriceData!G$15,CalculationsAndCharts!$A774+$A$11,IF($C$5,8,0),1,1))","v":1193301},{"$f":"IF(A774>$A$8,\"\",OFFSET(InputPriceData!C$15,CalculationsAndCharts!$A774+$A$11,IF($C$5,8,0),1,1))","v":4396.5},{"$f":"IF(A774>$A$8,\"\",OFFSET(InputPriceData!D$15,CalculationsAndCharts!$A774+$A$11,IF($C$5,8,0),1,1))","v":4419.75},{"$f":"IF(A774>$A$8,\"\",OFFSET(InputPriceData!E$15,CalculationsAndCharts!$A774+$A$11,IF($C$5,8,0),1,1))","v":4377.25},{"$f":"IF(A774>$A$8,\"\",OFFSET(InputPriceData!F$15,CalculationsAndCharts!$A774+$A$11,IF($C$5,8,0),1,1))","v":4379.75},0,9.75,{"$f":"IF($A774>$J$30,NA(),AVERAGE(H774:H777))","v":4.5},8.1875,null,null,{"$f":"IF($A774>$J$30,NA(),IF($A774>$N$30,0,(1-$M$35)*J774+(2*$M$35-$M$36)*J775-($M$35+$M$37)*J776+$M$36*N775+$M$37*N776))","v":14.184378333005906},8.8867045438697314,0.22962397636073179,0.2743162093638043,null,null,12.493356806399234,7.1963501684609144,0.26902414772863542,0.43201400047738386,null,null,null,null,null,null,null,null,null,null,null,null,null,null,null,null,null,null,null,null,null,null,null,null,null,null,null,null,null,null,null,{"$error":"#N/A"},1193301]
[743,{"$f":"IF(A775>$A$8,\"\",OFFSET(InputPriceData!B$15,$A775+$A$11,0,1,1))","v":"2021-07-30T04:00:00"},{"$f":"IF(A775>$A$8,\"\",OFFSET(InputPriceData!G$15,CalculationsAndCharts!$A775+$A$11,IF($C$5,8,0),1,1))","v":1376982},{"$f":"IF(A775>$A$8,\"\",OFFSET(InputPriceData!C$15,CalculationsAndCharts!$A775+$A$11,IF($C$5,8,0),1,1))","v":4394.25},{"$f":"IF(A775>$A$8,\"\",OFFSET(InputPriceData!D$15,CalculationsAndCharts!$A775+$A$11,IF($C$5,8,0),1,1))","v":4405},{"$f":"IF(A775>$A$8,\"\",OFFSET(InputPriceData!E$15,CalculationsAndCharts!$A775+$A$11,IF($C$5,8,0),1,1))","v":4370.75},{"$f":"IF(A775>$A$8,\"\",OFFSET(InputPriceData!F$15,CalculationsAndCharts!$A775+$A$11,IF($C$5,8,0),1,1))","v":4389.5},0,22.25,{"$f":"IF($A775>$J$30,NA(),AVERAGE(H775:H778))","v":4.5},10.6875,null,null,{"$f":"IF($A775>$J$30,NA(),IF($A775>$N$30,0,(1-$M$35)*J775+(2*$M$35-$M$36)*J776-($M$35+$M$37)*J777+$M$36*N776+$M$37*N777))","v":14.885965663387196},8.7967870423056045,0.25711447891012645,0.26890122890593471,null,null,16.188389733269645,7.2452608121799162,0.38163618185500087,0.39814810261326516,null,null,null,null,null,null,null,null,null,null,null,null,null,null,null,null,null,null,null,null,null,null,null,null,null,null,null,null,null,null,null,{"$error":"#N/A"},1376982]
[744,{"$f":"IF(A776>$A$8,\"\",OFFSET(InputPriceData!B$15,$A776+$A$11,0,1,1))","v":"2021-07-29T04:00:00"},{"$f":"IF(A776>$A$8,\"\",OFFSET(InputPriceData!G$15,CalculationsAndCharts!$A776+$A$11,IF($C$5,8,0),1,1))","v":1009496},{"$f":"IF(A776>$A$8,\"\",OFFSET(InputPriceData!C$15,CalculationsAndCharts!$A776+$A$11,IF($C$5,8,0),1,1))","v":4393.75},{"$f":"IF(A776>$A$8,\"\",OFFSET(InputPriceData!D$15,CalculationsAndCharts!$A776+$A$11,IF($C$5,8,0),1,1))","v":4422.5},{"$f":"IF(A776>$A$8,\"\",OFFSET(InputPriceData!E$15,CalculationsAndCharts!$A776+$A$11,IF($C$5,8,0),1,1))","v":4380.5},{"$f":"IF(A776>$A$8,\"\",OFFSET(InputPriceData!F$15,CalculationsAndCharts!$A776+$A$11,IF($C$5,8,0),1,1))","v":4411.75},18,0,{"$f":"IF($A776>$J$30,NA(),AVERAGE(H776:H779))","v":7.3125},5.125,null,null,{"$f":"IF($A776>$J$30,NA(),IF($A776>$N$30,0,(1-$M$35)*J776+(2*$M$35-$M$36)*J777-($M$35+$M$37)*J778+$M$36*N777+$M$37*N778))","v":15.497681456624406},8.8254517543414064,0.2743162093638043,0.25277315460303507,null,null,20.090015875286085,7.9683911913889194,0.43201400047738386,0.33649490843300378,null,null,null,null,null,null,null,null,null,null,null,null,null,null,null,null,null,null,null,null,null,null,null,null,null,null,null,null,null,null,null,1009496,{"$error":"#N/A"}]
[745,{"$f":"IF(A777>$A$8,\"\",OFFSET(InputPriceData!B$15,$A777+$A$11,0,1,1))","v":"2021-07-28T04:00:00"},{"$f":"IF(A777>$A$8,\"\",OFFSET(InputPriceData!G$15,CalculationsAndCharts!$A777+$A$11,IF($C$5,8,0),1,1))","v":1221313},{"$f":"IF(A777>$A$8,\"\",OFFSET(InputPriceData!C$15,CalculationsAndCharts!$A777+$A$11,IF($C$5,8,0),1,1))","v":4380},{"$f":"IF(A777>$A$8,\"\",OFFSET(InputPriceData!D$15,CalculationsAndCharts!$A777+$A$11,IF($C$5,8,0),1,1))","v":4407.75},{"$f":"IF(A777>$A$8,\"\",OFFSET(InputPriceData!E$15,CalculationsAndCharts!$A777+$A$11,IF($C$5,8,0),1,1))","v":4377.5},{"$f":"IF(A777>$A$8,\"\",OFFSET(InputPriceData!F$15,CalculationsAndCharts!$A777+$A$11,IF($C$5,8,0),1,1))","v":4393.75},0,0.75,{"$f":"IF($A777>$J$30,NA(),AVERAGE(H777:H780))","v":13.6875},5.125,null,null,{"$f":"IF($A777>$J$30,NA(),IF($A777>$N$30,0,(1-$M$35)*J777+(2*$M$35-$M$36)*J778-($M$35+$M$37)*J779+$M$36*N778+$M$37*N779))","v":15.756776099610976},9.0785313942539325,0.26890122890593471,0.21229728925978344,null,null,23.031926480946851,9.9144065118142155,0.39814810261326516,0.21351102840500685,null,null,null,null,null,null,null,null,null,null,null,null,null,null,null,null,null,null,null,null,null,null,null,null,null,null,null,null,null,null,null,{"$error":"#N/A"},1221313]
[746,{"$f":"IF(A778>$A$8,\"\",OFFSET(InputPriceData!B$15,$A778+$A$11,0,1,1))","v":"2021-07-27T04:00:00"},{"$f":"IF(A778>$A$8,\"\",OFFSET(InputPriceData!G$15,CalculationsAndCharts!$A778+$A$11,IF($C$5,8,0),1,1))","v":1575473},{"$f":"IF(A778>$A$8,\"\",OFFSET(InputPriceData!C$15,CalculationsAndCharts!$A778+$A$11,IF($C$5,8,0),1,1))","v":4415.75},{"$f":"IF(A778>$A$8,\"\",OFFSET(InputPriceData!D$15,CalculationsAndCharts!$A778+$A$11,IF($C$5,8,0),1,1))","v":4416},{"$f":"IF(A778>$A$8,\"\",OFFSET(InputPriceData!E$15,CalculationsAndCharts!$A778+$A$11,IF($C$5,8,0),1,1))","v":4364.75},{"$f":"IF(A778>$A$8,\"\",OFFSET(InputPriceData!F$15,CalculationsAndCharts!$A778+$A$11,IF($C$5,8,0),1,1))","v":4394.5},0,19.75,{"$f":"IF($A778>$J$30,NA(),AVERAGE(H778:H781))","v":15.9375},4.9375,null,null,{"$f":"IF($A778>$J$30,NA(),IF($A778>$N$30,0,(1-$M$35)*J778+(2*$M$35-$M$36)*J779-($M$35+$M$37)*J780+$M$36*N779+$M$37*N780))","v":15.67108678210384},9.3471485217481511,0.25277315460303507,0.129787160947018,null,null,24.849925758947826,12.336786441974128,0.33649490843300378,-1.2238978071998459E-2,null,null,null,null,null,null,null,null,null,null,null,null,null,null,null,null,null,null,null,null,null,null,null,null,null,null,null,null,null,null,null,{"$error":"#N/A"},1575473]
[747,{"$f":"IF(A779>$A$8,\"\",OFFSET(InputPriceData!B$15,$A779+$A$11,0,1,1))","v":"2021-07-26T04:00:00"},{"$f":"IF(A779>$A$8,\"\",OFFSET(InputPriceData!G$15,CalculationsAndCharts!$A779+$A$11,IF($C$5,8,0),1,1))","v":938628},{"$f":"IF(A779>$A$8,\"\",OFFSET(InputPriceData!C$15,CalculationsAndCharts!$A779+$A$11,IF($C$5,8,0),1,1))","v":4400.5},{"$f":"IF(A779>$A$8,\"\",OFFSET(InputPriceData!D$15,CalculationsAndCharts!$A779+$A$11,IF($C$5,8,0),1,1))","v":4416.75},{"$f":"IF(A779>$A$8,\"\",OFFSET(InputPriceData!E$15,CalculationsAndCharts!$A779+$A$11,IF($C$5,8,0),1,1))","v":4375.5},{"$f":"IF(A779>$A$8,\"\",OFFSET(InputPriceData!F$15,CalculationsAndCharts!$A779+$A$11,IF($C$5,8,0),1,1))","v":4414.25},11.25,0,{"$f":"IF($A779>$J$30,NA(),AVERAGE(H779:H782))","v":24.6875},0,null,null,{"$f":"IF($A779>$J$30,NA(),IF($A779>$N$30,0,(1-$M$35)*J779+(2*$M$35-$M$36)*J780-($M$35+$M$37)*J781+$M$36*N780+$M$37*N781))","v":15.13045508454454},9.831169788481521,0.21229728925978344,6.546424190554731E-2,null,null,24.863087358403217,16.114022492971305,0.21351102840500685,-0.22268442113164286,null,null,null,null,null,null,null,null,null,null,null,null,null,null,null,null,null,null,null,null,null,null,null,null,null,null,null,null,null,null,null,938628,{"$error":"#N/A"}]
[748,{"$f":"IF(A780>$A$8,\"\",OFFSET(InputPriceData!B$15,$A780+$A$11,0,1,1))","v":"2021-07-23T04:00:00"},{"$f":"IF(A780>$A$8,\"\",OFFSET(InputPriceData!G$15,CalculationsAndCharts!$A780+$A$11,IF($C$5,8,0),1,1))","v":1173337},{"$f":"IF(A780>$A$8,\"\",OFFSET(InputPriceData!C$15,CalculationsAndCharts!$A780+$A$11,IF($C$5,8,0),1,1))","v":4371.5},{"$f":"IF(A780>$A$8,\"\",OFFSET(InputPriceData!D$15,CalculationsAndCharts!$A780+$A$11,IF($C$5,8,0),1,1))","v":4408.25},{"$f":"IF(A780>$A$8,\"\",OFFSET(InputPriceData!E$15,CalculationsAndCharts!$A780+$A$11,IF($C$5,8,0),1,1))","v":4367.25},{"$f":"IF(A780>$A$8,\"\",OFFSET(InputPriceData!F$15,CalculationsAndCharts!$A780+$A$11,IF($C$5,8,0),1,1))","v":4403},43.5,0,{"$f":"IF($A780>$J$30,NA(),AVERAGE(H780:H783))","v":37.9375},0,null,null,{"$f":"IF($A780>$J$30,NA(),IF($A780>$N$30,0,(1-$M$35)*J780+(2*$M$35-$M$36)*J781-($M$35+$M$37)*J782+$M$36*N781+$M$37*N782))","v":13.672039323740986},10.530819048770018,0.129787160947018,6.3846757653379216E-2,null,null,20.829601341861846,21.34578497011216,-1.2238978071998459E-2,-0.34092604502920026,null,null,null,null,null,null,null,null,null,null,null,null,null,null,null,null,null,null,null,null,null,null,null,null,null,null,null,null,null,null,null,1173337,{"$error":"#N/A"}]
[749,{"$f":"IF(A781>$A$8,\"\",OFFSET(InputPriceData!B$15,$A781+$A$11,0,1,1))","v":"2021-07-22T04:00:00"},{"$f":"IF(A781>$A$8,\"\",OFFSET(InputPriceData!G$15,CalculationsAndCharts!$A781+$A$11,IF($C$5,8,0),1,1))","v":981969},{"$f":"IF(A781>$A$8,\"\",OFFSET(InputPriceData!C$15,CalculationsAndCharts!$A781+$A$11,IF($C$5,8,0),1,1))","v":4355},{"$f":"IF(A781>$A$8,\"\",OFFSET(InputPriceData!D$15,CalculationsAndCharts!$A781+$A$11,IF($C$5,8,0),1,1))","v":4371.5},{"$f":"IF(A781>$A$8,\"\",OFFSET(InputPriceData!E$15,CalculationsAndCharts!$A781+$A$11,IF($C$5,8,0),1,1))","v":4341.5},{"$f":"IF(A781>$A$8,\"\",OFFSET(InputPriceData!F$15,CalculationsAndCharts!$A781+$A$11,IF($C$5,8,0),1,1))","v":4359.5},9,0,{"$f":"IF($A781>$J$30,NA(),AVERAGE(H781:H784))","v":27.0625},16.8125,null,null,{"$f":"IF($A781>$J$30,NA(),IF($A781>$N$30,0,(1-$M$35)*J781+(2*$M$35-$M$36)*J782-($M$35+$M$37)*J783+$M$36*N782+$M$37*N783))","v":12.054876908041049},10.57352568664632,6.546424190554731E-2,0.11397378965304666,null,null,15.499982586092914,24.380814885272123,-0.22268442113164286,-0.38749043034764069,null,null,null,null,null,null,null,null,null,null,null,null,null,null,null,null,null,null,null,null,null,null,null,null,null,null,null,null,null,null,null,981969,{"$error":"#N/A"}]
[750,{"$f":"IF(A782>$A$8,\"\",OFFSET(InputPriceData!B$15,$A782+$A$11,0,1,1))","v":"2021-07-21T04:00:00"},{"$f":"IF(A782>$A$8,\"\",OFFSET(InputPriceData!G$15,CalculationsAndCharts!$A782+$A$11,IF($C$5,8,0),1,1))","v":1191429},{"$f":"IF(A782>$A$8,\"\",OFFSET(InputPriceData!C$15,CalculationsAndCharts!$A782+$A$11,IF($C$5,8,0),1,1))","v":4318.75},{"$f":"IF(A782>$A$8,\"\",OFFSET(InputPriceData!D$15,CalculationsAndCharts!$A782+$A$11,IF($C$5,8,0),1,1))","v":4355.25},{"$f":"IF(A782>$A$8,\"\",OFFSET(InputPriceData!E$15,CalculationsAndCharts!$A782+$A$11,IF($C$5,8,0),1,1))","v":4310},{"$f":"IF(A782>$A$8,\"\",OFFSET(InputPriceData!F$15,CalculationsAndCharts!$A782+$A$11,IF($C$5,8,0),1,1))","v":4350.5},35,0,{"$f":"IF($A782>$J$30,NA(),AVERAGE(H782:H785))","v":24.8125},25.1875,null,null,{"$f":"IF($A782>$J$30,NA(),IF($A782>$N$30,0,(1-$M$35)*J782+(2*$M$35-$M$36)*J783-($M$35+$M$37)*J784+$M$36*N783+$M$37*N784))","v":10.902170043531052},9.5935826860799907,6.3846757653379216E-2,0.23910066283107614,null,null,11.440077994540182,23.275534443966919,-0.34092604502920026,-0.19957600420490199,null,null,null,null,null,null,null,null,null,null,null,null,null,null,null,null,null,null,null,null,null,null,null,null,null,null,null,null,null,null,null,1191429,{"$error":"#N/A"}]
[751,{"$f":"IF(A783>$A$8,\"\",OFFSET(InputPriceData!B$15,$A783+$A$11,0,1,1))","v":"2021-07-20T04:00:00"},{"$f":"IF(A783>$A$8,\"\",OFFSET(InputPriceData!G$15,CalculationsAndCharts!$A783+$A$11,IF($C$5,8,0),1,1))","v":1844380},{"$f":"IF(A783>$A$8,\"\",OFFSET(InputPriceData!C$15,CalculationsAndCharts!$A783+$A$11,IF($C$5,8,0),1,1))","v":4262.75},{"$f":"IF(A783>$A$8,\"\",OFFSET(InputPriceData!D$15,CalculationsAndCharts!$A783+$A$11,IF($C$5,8,0),1,1))","v":4329},{"$f":"IF(A783>$A$8,\"\",OFFSET(InputPriceData!E$15,CalculationsAndCharts!$A783+$A$11,IF($C$5,8,0),1,1))","v":4252.75},{"$f":"IF(A783>$A$8,\"\",OFFSET(InputPriceData!F$15,CalculationsAndCharts!$A783+$A$11,IF($C$5,8,0),1,1))","v":4315.5},64.25,0,{"$f":"IF($A783>$J$30,NA(),AVERAGE(H783:H786))","v":16.0625},29.125,null,null,{"$f":"IF($A783>$J$30,NA(),IF($A783>$N$30,0,(1-$M$35)*J783+(2*$M$35-$M$36)*J784-($M$35+$M$37)*J785+$M$36*N784+$M$37*N785))","v":10.148576266227353},8.0719175380087123,0.11397378965304666,0.37361199329289285,null,null,8.6109653208815384,19.506033163791429,-0.38749043034764069,0.13852656364202282,null,null,null,null,null,null,null,null,null,null,null,null,null,null,null,null,null,null,null,null,null,null,null,null,null,null,null,null,null,null,null,1844380,{"$error":"#N/A"}]
[752,{"$f":"IF(A784>$A$8,\"\",OFFSET(InputPriceData!B$15,$A784+$A$11,0,1,1))","v":"2021-07-19T04:00:00"},{"$f":"IF(A784>$A$8,\"\",OFFSET(InputPriceData!G$15,CalculationsAndCharts!$A784+$A$11,IF($C$5,8,0),1,1))","v":2599774},{"$f":"IF(A784>$A$8,\"\",OFFSET(InputPriceData!C$15,CalculationsAndCharts!$A784+$A$11,IF($C$5,8,0),1,1))","v":4320},{"$f":"IF(A784>$A$8,\"\",OFFSET(InputPriceData!D$15,CalculationsAndCharts!$A784+$A$11,IF($C$5,8,0),1,1))","v":4320.75},{"$f":"IF(A784>$A$8,\"\",OFFSET(InputPriceData!E$15,CalculationsAndCharts!$A784+$A$11,IF($C$5,8,0),1,1))","v":4224},{"$f":"IF(A784>$A$8,\"\",OFFSET(InputPriceData!F$15,CalculationsAndCharts!$A784+$A$11,IF($C$5,8,0),1,1))","v":4251.25},0,67.25,{"$f":"IF($A784>$J$30,NA(),AVERAGE(H784:H787))","v":1.625},29.125,null,null,{"$f":"IF($A784>$J$30,NA(),IF($A784>$N$30,0,(1-$M$35)*J784+(2*$M$35-$M$36)*J785-($M$35+$M$37)*J786+$M$36*N785+$M$37*N786))","v":10.304610885131016},6.3277922669861271,0.23910066283107614,0.43712437217139721,null,null,9.4104249471589068,14.103175336178673,-0.19957600420490199,0.3275881968721634,null,null,null,null,null,null,null,null,null,null,null,null,null,null,null,null,null,null,null,null,null,null,null,null,null,null,null,null,null,null,null,{"$error":"#N/A"},2599774]
[753,{"$f":"IF(A785>$A$8,\"\",OFFSET(InputPriceData!B$15,$A785+$A$11,0,1,1))","v":"2021-07-16T04:00:00"},{"$f":"IF(A785>$A$8,\"\",OFFSET(InputPriceData!G$15,CalculationsAndCharts!$A785+$A$11,IF($C$5,8,0),1,1))","v":1636065},{"$f":"IF(A785>$A$8,\"\",OFFSET(InputPriceData!C$15,CalculationsAndCharts!$A785+$A$11,IF($C$5,8,0),1,1))","v":4347.75},{"$f":"IF(A785>$A$8,\"\",OFFSET(InputPriceData!D$15,CalculationsAndCharts!$A785+$A$11,IF($C$5,8,0),1,1))","v":4368},{"$f":"IF(A785>$A$8,\"\",OFFSET(InputPriceData!E$15,CalculationsAndCharts!$A785+$A$11,IF($C$5,8,0),1,1))","v":4314.25},{"$f":"IF(A785>$A$8,\"\",OFFSET(InputPriceData!F$15,CalculationsAndCharts!$A785+$A$11,IF($C$5,8,0),1,1))","v":4318.5},0,33.5,{"$f":"IF($A785>$J$30,NA(),AVERAGE(H785:H788))","v":1.625},16.125,null,null,{"$f":"IF($A785>$J$30,NA(),IF($A785>$N$30,0,(1-$M$35)*J785+(2*$M$35-$M$36)*J786-($M$35+$M$37)*J787+$M$36*N786+$M$37*N787))","v":11.052883016378932},5.040283132938673,0.37361199329289285,0.43587307046621088,null,null,12.957644502675921,9.8044849310473001,0.13852656364202282,0.34558739074106043,null,null,null,null,null,null,null,null,null,null,null,null,null,null,null,null,null,null,null,null,null,null,null,null,null,null,null,null,null,null,null,{"$error":"#N/A"},1636065]
[754,{"$f":"IF(A786>$A$8,\"\",OFFSET(InputPriceData!B$15,$A786+$A$11,0,1,1))","v":"2021-07-15T04:00:00"},{"$f":"IF(A786>$A$8,\"\",OFFSET(InputPriceData!G$15,CalculationsAndCharts!$A786+$A$11,IF($C$5,8,0),1,1))","v":1611726},{"$f":"IF(A786>$A$8,\"\",OFFSET(InputPriceData!C$15,CalculationsAndCharts!$A786+$A$11,IF($C$5,8,0),1,1))","v":4366.5},{"$f":"IF(A786>$A$8,\"\",OFFSET(InputPriceData!D$15,CalculationsAndCharts!$A786+$A$11,IF($C$5,8,0),1,1))","v":4370.25},{"$f":"IF(A786>$A$8,\"\",OFFSET(InputPriceData!E$15,CalculationsAndCharts!$A786+$A$11,IF($C$5,8,0),1,1))","v":4332.5},{"$f":"IF(A786>$A$8,\"\",OFFSET(InputPriceData!F$15,CalculationsAndCharts!$A786+$A$11,IF($C$5,8,0),1,1))","v":4352},0,15.75,{"$f":"IF($A786>$J$30,NA(),AVERAGE(H786:H789))","v":5.75},7.75,null,null,{"$f":"IF($A786>$J$30,NA(),IF($A786>$N$30,0,(1-$M$35)*J786+(2*$M$35-$M$36)*J787-($M$35+$M$37)*J788+$M$36*N787+$M$37*N788))","v":11.665170599374882},4.5688740320575416,0.43712437217139721,0.4388294013930788,null,null,16.451552213424183,8.3325672178641046,0.3275881968721634,0.37221087285387733,null,null,null,null,null,null,null,null,null,null,null,null,null,null,null,null,null,null,null,null,null,null,null,null,null,null,null,null,null,null,null,{"$error":"#N/A"},1611726]
[755,{"$f":"IF(A787>$A$8,\"\",OFFSET(InputPriceData!B$15,$A787+$A$11,0,1,1))","v":"2021-07-14T04:00:00"},{"$f":"IF(A787>$A$8,\"\",OFFSET(InputPriceData!G$15,CalculationsAndCharts!$A787+$A$11,IF($C$5,8,0),1,1))","v":1308582},{"$f":"IF(A787>$A$8,\"\",OFFSET(InputPriceData!C$15,CalculationsAndCharts!$A787+$A$11,IF($C$5,8,0),1,1))","v":4359.5},{"$f":"IF(A787>$A$8,\"\",OFFSET(InputPriceData!D$15,CalculationsAndCharts!$A787+$A$11,IF($C$5,8,0),1,1))","v":4384.5},{"$f":"IF(A787>$A$8,\"\",OFFSET(InputPriceData!E$15,CalculationsAndCharts!$A787+$A$11,IF($C$5,8,0),1,1))","v":4350},{"$f":"IF(A787>$A$8,\"\",OFFSET(InputPriceData!F$15,CalculationsAndCharts!$A787+$A$11,IF($C$5,8,0),1,1))","v":4367.75},6.5,0,{"$f":"IF($A787>$J$30,NA(),AVERAGE(H787:H790))","v":17.5},3.8125,null,null,{"$f":"IF($A787>$J$30,NA(),IF($A787>$N$30,0,(1-$M$35)*J787+(2*$M$35-$M$36)*J788-($M$35+$M$37)*J789+$M$36*N788+$M$37*N789))","v":11.659592179048699},4.5808296505256498,0.43587307046621088,0.45948930210129857,null,null,17.76727500831332,8.6409317429825307,0.34558739074106043,0.45641593389772783,null,null,null,null,null,null,null,null,null,null,null,null,null,null,null,null,null,null,null,null,null,null,null,null,null,null,null,null,null,null,null,1308582,{"$error":"#N/A"}]
[756,{"$f":"IF(A788>$A$8,\"\",OFFSET(InputPriceData!B$15,$A788+$A$11,0,1,1))","v":"2021-07-13T04:00:00"},{"$f":"IF(A788>$A$8,\"\",OFFSET(InputPriceData!G$15,CalculationsAndCharts!$A788+$A$11,IF($C$5,8,0),1,1))","v":1249893},{"$f":"IF(A788>$A$8,\"\",OFFSET(InputPriceData!C$15,CalculationsAndCharts!$A788+$A$11,IF($C$5,8,0),1,1))","v":4377},{"$f":"IF(A788>$A$8,\"\",OFFSET(InputPriceData!D$15,CalculationsAndCharts!$A788+$A$11,IF($C$5,8,0),1,1))","v":4383.75},{"$f":"IF(A788>$A$8,\"\",OFFSET(InputPriceData!E$15,CalculationsAndCharts!$A788+$A$11,IF($C$5,8,0),1,1))","v":4356.5},{"$f":"IF(A788>$A$8,\"\",OFFSET(InputPriceData!F$15,CalculationsAndCharts!$A788+$A$11,IF($C$5,8,0),1,1))","v":4361.25},0,15.25,{"$f":"IF($A788>$J$30,NA(),AVERAGE(H788:H791))","v":15.875},13,null,null,{"$f":"IF($A788>$J$30,NA(),IF($A788>$N$30,0,(1-$M$35)*J788+(2*$M$35-$M$36)*J789-($M$35+$M$37)*J790+$M$36*N789+$M$37*N790))","v":11.243784726547069},4.3852880678520503,0.4388294013930788,0.47662541948052972,null,null,17.470860361859486,7.992952390948961,0.37221087285387733,0.56585802983348921,null,null,null,null,null,null,null,null,null,null,null,null,null,null,null,null,null,null,null,null,null,null,null,null,null,null,null,null,null,null,null,{"$error":"#N/A"},1249893]
[757,{"$f":"IF(A789>$A$8,\"\",OFFSET(InputPriceData!B$15,$A789+$A$11,0,1,1))","v":"2021-07-12T04:00:00"},{"$f":"IF(A789>$A$8,\"\",OFFSET(InputPriceData!G$15,CalculationsAndCharts!$A789+$A$11,IF($C$5,8,0),1,1))","v":1055739},{"$f":"IF(A789>$A$8,\"\",OFFSET(InputPriceData!C$15,CalculationsAndCharts!$A789+$A$11,IF($C$5,8,0),1,1))","v":4362},{"$f":"IF(A789>$A$8,\"\",OFFSET(InputPriceData!D$15,CalculationsAndCharts!$A789+$A$11,IF($C$5,8,0),1,1))","v":4379.25},{"$f":"IF(A789>$A$8,\"\",OFFSET(InputPriceData!E$15,CalculationsAndCharts!$A789+$A$11,IF($C$5,8,0),1,1))","v":4341.75},{"$f":"IF(A789>$A$8,\"\",OFFSET(InputPriceData!F$15,CalculationsAndCharts!$A789+$A$11,IF($C$5,8,0),1,1))","v":4376.5},16.5,0,{"$f":"IF($A789>$J$30,NA(),AVERAGE(H789:H792))","v":19.8125},9.1875,null,null,{"$f":"IF($A789>$J$30,NA(),IF($A789>$N$30,0,(1-$M$35)*J789+(2*$M$35-$M$36)*J790-($M$35+$M$37)*J791+$M$36*N790+$M$37*N791))","v":10.717906723925303},3.9692947629156152,0.45948930210129857,0.51868843337625692,null,null,16.619890076830586,6.2031094386329197,0.45641593389772783,0.80397234656324068,null,null,null,null,null,null,null,null,null,null,null,null,null,null,null,null,null,null,null,null,null,null,null,null,null,null,null,null,null,null,null,1055739,{"$error":"#N/A"}]
[758,{"$f":"IF(A790>$A$8,\"\",OFFSET(InputPriceData!B$15,$A790+$A$11,0,1,1))","v":"2021-07-09T04:00:00"},{"$f":"IF(A790>$A$8,\"\",OFFSET(InputPriceData!G$15,CalculationsAndCharts!$A790+$A$11,IF($C$5,8,0),1,1))","v":1311506},{"$f":"IF(A790>$A$8,\"\",OFFSET(InputPriceData!C$15,CalculationsAndCharts!$A790+$A$11,IF($C$5,8,0),1,1))","v":4310.25},{"$f":"IF(A790>$A$8,\"\",OFFSET(InputPriceData!D$15,CalculationsAndCharts!$A790+$A$11,IF($C$5,8,0),1,1))","v":4364},{"$f":"IF(A790>$A$8,\"\",OFFSET(InputPriceData!E$15,CalculationsAndCharts!$A790+$A$11,IF($C$5,8,0),1,1))","v":4293.25},{"$f":"IF(A790>$A$8,\"\",OFFSET(InputPriceData!F$15,CalculationsAndCharts!$A790+$A$11,IF($C$5,8,0),1,1))","v":4360},47,0,{"$f":"IF($A790>$J$30,NA(),AVERAGE(H790:H793))","v":15.6875},11.375,null,null,{"$f":"IF($A790>$J$30,NA(),IF($A790>$N$30,0,(1-$M$35)*J790+(2*$M$35-$M$36)*J791-($M$35+$M$37)*J792+$M$36*N791+$M$37*N792))","v":10.179527112304454},3.6080279141904397,0.47662541948052972,0.51815244515456849,null,null,15.555597914814959,4.3128673207838464,0.56585802983348921,0.96822537717995472,null,null,null,null,null,null,null,null,null,null,null,null,null,null,null,null,null,null,null,null,null,null,null,null,null,null,null,null,null,null,null,1311506,{"$error":"#N/A"}]
[759,{"$f":"IF(A791>$A$8,\"\",OFFSET(InputPriceData!B$15,$A791+$A$11,0,1,1))","v":"2021-07-08T04:00:00"},{"$f":"IF(A791>$A$8,\"\",OFFSET(InputPriceData!G$15,CalculationsAndCharts!$A791+$A$11,IF($C$5,8,0),1,1))","v":1991636},{"$f":"IF(A791>$A$8,\"\",OFFSET(InputPriceData!C$15,CalculationsAndCharts!$A791+$A$11,IF($C$5,8,0),1,1))","v":4352.25},{"$f":"IF(A791>$A$8,\"\",OFFSET(InputPriceData!D$15,CalculationsAndCharts!$A791+$A$11,IF($C$5,8,0),1,1))","v":4352.25},{"$f":"IF(A791>$A$8,\"\",OFFSET(InputPriceData!E$15,CalculationsAndCharts!$A791+$A$11,IF($C$5,8,0),1,1))","v":4279.25},{"$f":"IF(A791>$A$8,\"\",OFFSET(InputPriceData!F$15,CalculationsAndCharts!$A791+$A$11,IF($C$5,8,0),1,1))","v":4313},0,36.75,{"$f":"IF($A791>$J$30,NA(),AVERAGE(H791:H794))","v":11.9375},11.375,null,null,{"$f":"IF($A791>$J$30,NA(),IF($A791>$N$30,0,(1-$M$35)*J791+(2*$M$35-$M$36)*J792-($M$35+$M$37)*J793+$M$36*N792+$M$37*N793))","v":9.9401038667422981},3.1502755004647818,0.51868843337625692,0.46645584074558405,null,null,15.577519021930021,1.6927224555592026,0.80397234656324068,0.96884305085643641,null,null,null,null,null,null,null,null,null,null,null,null,null,null,null,null,null,null,null,null,null,null,null,null,null,null,null,null,null,null,null,{"$error":"#N/A"},1991636]
[760,{"$f":"IF(A792>$A$8,\"\",OFFSET(InputPriceData!B$15,$A792+$A$11,0,1,1))","v":"2021-07-07T04:00:00"},{"$f":"IF(A792>$A$8,\"\",OFFSET(InputPriceData!G$15,CalculationsAndCharts!$A792+$A$11,IF($C$5,8,0),1,1))","v":1221078},{"$f":"IF(A792>$A$8,\"\",OFFSET(InputPriceData!C$15,CalculationsAndCharts!$A792+$A$11,IF($C$5,8,0),1,1))","v":4328},{"$f":"IF(A792>$A$8,\"\",OFFSET(InputPriceData!D$15,CalculationsAndCharts!$A792+$A$11,IF($C$5,8,0),1,1))","v":4353.25},{"$f":"IF(A792>$A$8,\"\",OFFSET(InputPriceData!E$15,CalculationsAndCharts!$A792+$A$11,IF($C$5,8,0),1,1))","v":4320.25},{"$f":"IF(A792>$A$8,\"\",OFFSET(InputPriceData!F$15,CalculationsAndCharts!$A792+$A$11,IF($C$5,8,0),1,1))","v":4349.75},15.75,0,{"$f":"IF($A792>$J$30,NA(),AVERAGE(H792:H795))","v":17.5},2.1875,null,null,{"$f":"IF($A792>$J$30,NA(),IF($A792>$N$30,0,(1-$M$35)*J792+(2*$M$35-$M$36)*J793-($M$35+$M$37)*J794+$M$36*N793+$M$37*N794))","v":9.6202578153817253},3.0533809171267912,0.51815244515456849,0.4040266074929757,null,null,15.191822804416896,0.24525364074460509,0.96822537717995472,0.90010874440043354,null,null,null,null,null,null,null,null,null,null,null,null,null,null,null,null,null,null,null,null,null,null,null,null,null,null,null,null,null,null,null,1221078,{"$error":"#N/A"}]
[761,{"$f":"IF(A793>$A$8,\"\",OFFSET(InputPriceData!B$15,$A793+$A$11,0,1,1))","v":"2021-07-06T04:00:00"},{"$f":"IF(A793>$A$8,\"\",OFFSET(InputPriceData!G$15,CalculationsAndCharts!$A793+$A$11,IF($C$5,8,0),1,1))","v":1368133},{"$f":"IF(A793>$A$8,\"\",OFFSET(InputPriceData!C$15,CalculationsAndCharts!$A793+$A$11,IF($C$5,8,0),1,1))","v":4341},{"$f":"IF(A793>$A$8,\"\",OFFSET(InputPriceData!D$15,CalculationsAndCharts!$A793+$A$11,IF($C$5,8,0),1,1))","v":4348},{"$f":"IF(A793>$A$8,\"\",OFFSET(InputPriceData!E$15,CalculationsAndCharts!$A793+$A$11,IF($C$5,8,0),1,1))","v":4305.25},{"$f":"IF(A793>$A$8,\"\",OFFSET(InputPriceData!F$15,CalculationsAndCharts!$A793+$A$11,IF($C$5,8,0),1,1))","v":4334},0,8.75,{"$f":"IF($A793>$J$30,NA(),AVERAGE(H793:H796))","v":15.1875},2.1875,null,null,{"$f":"IF($A793>$J$30,NA(),IF($A793>$N$30,0,(1-$M$35)*J793+(2*$M$35-$M$36)*J794-($M$35+$M$37)*J795+$M$36*N794+$M$37*N795))","v":9.1592022903655295},3.3324146214792272,0.46645584074558405,0.34025476202191873,null,null,14.075325489576599,0.22274208209083901,0.96884305085643641,0.76002889132738793,null,null,null,null,null,null,null,null,null,null,null,null,null,null,null,null,null,null,null,null,null,null,null,null,null,null,null,null,null,null,null,{"$error":"#N/A"},1368133]
[762,{"$f":"IF(A794>$A$8,\"\",OFFSET(InputPriceData!B$15,$A794+$A$11,0,1,1))","v":"2021-07-02T04:00:00"},{"$f":"IF(A794>$A$8,\"\",OFFSET(InputPriceData!G$15,CalculationsAndCharts!$A794+$A$11,IF($C$5,8,0),1,1))","v":999780},{"$f":"IF(A794>$A$8,\"\",OFFSET(InputPriceData!C$15,CalculationsAndCharts!$A794+$A$11,IF($C$5,8,0),1,1))","v":4309.75},{"$f":"IF(A794>$A$8,\"\",OFFSET(InputPriceData!D$15,CalculationsAndCharts!$A794+$A$11,IF($C$5,8,0),1,1))","v":4347},{"$f":"IF(A794>$A$8,\"\",OFFSET(InputPriceData!E$15,CalculationsAndCharts!$A794+$A$11,IF($C$5,8,0),1,1))","v":4308},{"$f":"IF(A794>$A$8,\"\",OFFSET(InputPriceData!F$15,CalculationsAndCharts!$A794+$A$11,IF($C$5,8,0),1,1))","v":4342.75},32,0,{"$f":"IF($A794>$J$30,NA(),AVERAGE(H794:H797))","v":15.5625},0,null,null,{"$f":"IF($A794>$J$30,NA(),IF($A794>$N$30,0,(1-$M$35)*J794+(2*$M$35-$M$36)*J795-($M$35+$M$37)*J796+$M$36*N795+$M$37*N796))","v":8.7619934461564224},3.719242164900554,0.4040266074929757,0.29287964672149946,null,null,13.008906779373817,0.68389561176373759,0.90010874440043354,0.62872624832404722,null,null,null,null,null,null,null,null,null,null,null,null,null,null,null,null,null,null,null,null,null,null,null,null,null,null,null,null,null,null,null,999780,{"$error":"#N/A"}]
[763,{"$f":"IF(A795>$A$8,\"\",OFFSET(InputPriceData!B$15,$A795+$A$11,0,1,1))","v":"2021-07-01T04:00:00"},{"$f":"IF(A795>$A$8,\"\",OFFSET(InputPriceData!G$15,CalculationsAndCharts!$A795+$A$11,IF($C$5,8,0),1,1))","v":985190},{"$f":"IF(A795>$A$8,\"\",OFFSET(InputPriceData!C$15,CalculationsAndCharts!$A795+$A$11,IF($C$5,8,0),1,1))","v":4294.25},{"$f":"IF(A795>$A$8,\"\",OFFSET(InputPriceData!D$15,CalculationsAndCharts!$A795+$A$11,IF($C$5,8,0),1,1))","v":4312},{"$f":"IF(A795>$A$8,\"\",OFFSET(InputPriceData!E$15,CalculationsAndCharts!$A795+$A$11,IF($C$5,8,0),1,1))","v":4286},{"$f":"IF(A795>$A$8,\"\",OFFSET(InputPriceData!F$15,CalculationsAndCharts!$A795+$A$11,IF($C$5,8,0),1,1))","v":4310.75},22.25,0,{"$f":"IF($A795>$J$30,NA(),AVERAGE(H795:H798))","v":9.875},0,null,null,{"$f":"IF($A795>$J$30,NA(),IF($A795>$N$30,0,(1-$M$35)*J795+(2*$M$35-$M$36)*J796-($M$35+$M$37)*J797+$M$36*N796+$M$37*N797))","v":8.568583020049509},4.2179158797908141,0.34025476202191873,0.24181666894529422,null,null,12.597390856548639,1.717591037922277,0.76002889132738793,0.48844437403842045,null,null,null,null,null,null,null,null,null,null,null,null,null,null,null,null,null,null,null,null,null,null,null,null,null,null,null,null,null,null,null,985190,{"$error":"#N/A"}]
[764,{"$f":"IF(A796>$A$8,\"\",OFFSET(InputPriceData!B$15,$A796+$A$11,0,1,1))","v":"2021-06-30T04:00:00"},{"$f":"IF(A796>$A$8,\"\",OFFSET(InputPriceData!G$15,CalculationsAndCharts!$A796+$A$11,IF($C$5,8,0),1,1))","v":1100062},{"$f":"IF(A796>$A$8,\"\",OFFSET(InputPriceData!C$15,CalculationsAndCharts!$A796+$A$11,IF($C$5,8,0),1,1))","v":4284.75},{"$f":"IF(A796>$A$8,\"\",OFFSET(InputPriceData!D$15,CalculationsAndCharts!$A796+$A$11,IF($C$5,8,0),1,1))","v":4294.25},{"$f":"IF(A796>$A$8,\"\",OFFSET(InputPriceData!E$15,CalculationsAndCharts!$A796+$A$11,IF($C$5,8,0),1,1))","v":4269.25},{"$f":"IF(A796>$A$8,\"\",OFFSET(InputPriceData!F$15,CalculationsAndCharts!$A796+$A$11,IF($C$5,8,0),1,1))","v":4288.5},6.5,0,{"$f":"IF($A796>$J$30,NA(),AVERAGE(H796:H799))","v":8.125},0,null,null,{"$f":"IF($A796>$J$30,NA(),IF($A796>$N$30,0,(1-$M$35)*J796+(2*$M$35-$M$36)*J797-($M$35+$M$37)*J798+$M$36*N797+$M$37*N798))","v":8.6737106847757346},4.7439507453049998,0.29287964672149946,0.18727166145353405,null,null,13.318314080372398,3.0359555141366732,0.62872624832404722,0.33967831345302002,null,null,null,null,null,null,null,null,null,null,null,null,null,null,null,null,null,null,null,null,null,null,null,null,null,null,null,null,null,null,null,1100062,{"$error":"#N/A"}]
[765,{"$f":"IF(A797>$A$8,\"\",OFFSET(InputPriceData!B$15,$A797+$A$11,0,1,1))","v":"2021-06-29T04:00:00"},{"$f":"IF(A797>$A$8,\"\",OFFSET(InputPriceData!G$15,CalculationsAndCharts!$A797+$A$11,IF($C$5,8,0),1,1))","v":741471},{"$f":"IF(A797>$A$8,\"\",OFFSET(InputPriceData!C$15,CalculationsAndCharts!$A797+$A$11,IF($C$5,8,0),1,1))","v":4280.5},{"$f":"IF(A797>$A$8,\"\",OFFSET(InputPriceData!D$15,CalculationsAndCharts!$A797+$A$11,IF($C$5,8,0),1,1))","v":4291},{"$f":"IF(A797>$A$8,\"\",OFFSET(InputPriceData!E$15,CalculationsAndCharts!$A797+$A$11,IF($C$5,8,0),1,1))","v":4271.75},{"$f":"IF(A797>$A$8,\"\",OFFSET(InputPriceData!F$15,CalculationsAndCharts!$A797+$A$11,IF($C$5,8,0),1,1))","v":4282},1.5,0,{"$f":"IF($A797>$J$30,NA(),AVERAGE(H797:H800))","v":12.625},0,null,null,{"$f":"IF($A797>$J$30,NA(),IF($A797>$N$30,0,(1-$M$35)*J797+(2*$M$35-$M$36)*J798-($M$35+$M$37)*J799+$M$36*N798+$M$37*N799))","v":8.6773210334370656},5.2978836009264434,0.24181666894529422,0.13010611254774118,null,null,13.580795344512332,4.667512192389653,0.48844437403842045,0.1726567595610119,null,null,null,null,null,null,null,null,null,null,null,null,null,null,null,null,null,null,null,null,null,null,null,null,null,null,null,null,null,null,null,741471,{"$error":"#N/A"}]
[766,{"$f":"IF(A798>$A$8,\"\",OFFSET(InputPriceData!B$15,$A798+$A$11,0,1,1))","v":"2021-06-28T04:00:00"},{"$f":"IF(A798>$A$8,\"\",OFFSET(InputPriceData!G$15,CalculationsAndCharts!$A798+$A$11,IF($C$5,8,0),1,1))","v":823723},{"$f":"IF(A798>$A$8,\"\",OFFSET(InputPriceData!C$15,CalculationsAndCharts!$A798+$A$11,IF($C$5,8,0),1,1))","v":4275},{"$f":"IF(A798>$A$8,\"\",OFFSET(InputPriceData!D$15,CalculationsAndCharts!$A798+$A$11,IF($C$5,8,0),1,1))","v":4282},{"$f":"IF(A798>$A$8,\"\",OFFSET(InputPriceData!E$15,CalculationsAndCharts!$A798+$A$11,IF($C$5,8,0),1,1))","v":4264.25},{"$f":"IF(A798>$A$8,\"\",OFFSET(InputPriceData!F$15,CalculationsAndCharts!$A798+$A$11,IF($C$5,8,0),1,1))","v":4280.5},9.25,0,{"$f":"IF($A798>$J$30,NA(),AVERAGE(H798:H801))","v":12.25},1.1875,null,null,{"$f":"IF($A798>$J$30,NA(),IF($A798>$N$30,0,(1-$M$35)*J798+(2*$M$35-$M$36)*J799-($M$35+$M$37)*J800+$M$36*N799+$M$37*N800))","v":8.5198902735793745},5.8321582932141407,0.18727166145353405,5.6912753052226775E-2,null,null,13.042834303664684,6.4287570070086764,0.33967831345302002,-7.0149908666649344E-2,null,null,null,null,null,null,null,null,null,null,null,null,null,null,null,null,null,null,null,null,null,null,null,null,null,null,null,null,null,null,null,823723,{"$error":"#N/A"}]
[767,{"$f":"IF(A799>$A$8,\"\",OFFSET(InputPriceData!B$15,$A799+$A$11,0,1,1))","v":"2021-06-25T04:00:00"},{"$f":"IF(A799>$A$8,\"\",OFFSET(InputPriceData!G$15,CalculationsAndCharts!$A799+$A$11,IF($C$5,8,0),1,1))","v":906160},{"$f":"IF(A799>$A$8,\"\",OFFSET(InputPriceData!C$15,CalculationsAndCharts!$A799+$A$11,IF($C$5,8,0),1,1))","v":4262},{"$f":"IF(A799>$A$8,\"\",OFFSET(InputPriceData!D$15,CalculationsAndCharts!$A799+$A$11,IF($C$5,8,0),1,1))","v":4276.75},{"$f":"IF(A799>$A$8,\"\",OFFSET(InputPriceData!E$15,CalculationsAndCharts!$A799+$A$11,IF($C$5,8,0),1,1))","v":4253.5},{"$f":"IF(A799>$A$8,\"\",OFFSET(InputPriceData!F$15,CalculationsAndCharts!$A799+$A$11,IF($C$5,8,0),1,1))","v":4271.25},15.25,0,{"$f":"IF($A799>$J$30,NA(),AVERAGE(H799:H802))","v":15.5625},1.1875,null,null,{"$f":"IF($A799>$J$30,NA(),IF($A799>$N$30,0,(1-$M$35)*J799+(2*$M$35-$M$36)*J800-($M$35+$M$37)*J801+$M$36*N800+$M$37*N801))","v":8.2434364639590729},6.3453466112423369,0.13010611254774118,1.4756638519857418E-2,null,null,11.763148568360545,8.2992413380671817,0.1726567595610119,-0.2769071271158407,null,null,null,null,null,null,null,null,null,null,null,null,null,null,null,null,null,null,null,null,null,null,null,null,null,null,null,null,null,null,null,906160,{"$error":"#N/A"}]
[768,{"$f":"IF(A800>$A$8,\"\",OFFSET(InputPriceData!B$15,$A800+$A$11,0,1,1))","v":"2021-06-24T04:00:00"},{"$f":"IF(A800>$A$8,\"\",OFFSET(InputPriceData!G$15,CalculationsAndCharts!$A800+$A$11,IF($C$5,8,0),1,1))","v":878788},{"$f":"IF(A800>$A$8,\"\",OFFSET(InputPriceData!C$15,CalculationsAndCharts!$A800+$A$11,IF($C$5,8,0),1,1))","v":4233.75},{"$f":"IF(A800>$A$8,\"\",OFFSET(InputPriceData!D$15,CalculationsAndCharts!$A800+$A$11,IF($C$5,8,0),1,1))","v":4263.75},{"$f":"IF(A800>$A$8,\"\",OFFSET(InputPriceData!E$15,CalculationsAndCharts!$A800+$A$11,IF($C$5,8,0),1,1))","v":4231.75},{"$f":"IF(A800>$A$8,\"\",OFFSET(InputPriceData!F$15,CalculationsAndCharts!$A800+$A$11,IF($C$5,8,0),1,1))","v":4256},24.5,0,{"$f":"IF($A800>$J$30,NA(),AVERAGE(H800:H803))","v":18.375},1.1875,null,null,{"$f":"IF($A800>$J$30,NA(),IF($A800>$N$30,0,(1-$M$35)*J800+(2*$M$35-$M$36)*J801-($M$35+$M$37)*J802+$M$36*N801+$M$37*N802))","v":7.7148809500624349},6.8840174505536247,5.6912753052226775E-2,9.5964020401845661E-3,null,null,9.0787903456916794,10.448637635034171,-7.0149908666649344E-2,-0.42880178796701934,null,null,null,null,null,null,null,null,null,null,null,null,null,null,null,null,null,null,null,null,null,null,null,null,null,null,null,null,null,null,null,878788,{"$error":"#N/A"}]
[769,{"$f":"IF(A801>$A$8,\"\",OFFSET(InputPriceData!B$15,$A801+$A$11,0,1,1))","v":"2021-06-23T04:00:00"},{"$f":"IF(A801>$A$8,\"\",OFFSET(InputPriceData!G$15,CalculationsAndCharts!$A801+$A$11,IF($C$5,8,0),1,1))","v":938299},{"$f":"IF(A801>$A$8,\"\",OFFSET(InputPriceData!C$15,CalculationsAndCharts!$A801+$A$11,IF($C$5,8,0),1,1))","v":4237.5},{"$f":"IF(A801>$A$8,\"\",OFFSET(InputPriceData!D$15,CalculationsAndCharts!$A801+$A$11,IF($C$5,8,0),1,1))","v":4248.25},{"$f":"IF(A801>$A$8,\"\",OFFSET(InputPriceData!E$15,CalculationsAndCharts!$A801+$A$11,IF($C$5,8,0),1,1))","v":4230.5},{"$f":"IF(A801>$A$8,\"\",OFFSET(InputPriceData!F$15,CalculationsAndCharts!$A801+$A$11,IF($C$5,8,0),1,1))","v":4231.5},0,4.75,{"$f":"IF($A801>$J$30,NA(),AVERAGE(H801:H804))","v":12.25},9.9375,null,null,{"$f":"IF($A801>$J$30,NA(),IF($A801>$N$30,0,(1-$M$35)*J801+(2*$M$35-$M$36)*J802-($M$35+$M$37)*J803+$M$36*N802+$M$37*N803))","v":7.3070057694839257},7.0944881298652973,1.4756638519857418E-2,3.4930069919666323E-2,null,null,{"$f":"IF($A801>$J$30,NA(),IF($A801>$N$30,0,(1-S$35)*$J801+(2*S$35-S$36)*$J802-(S$35+S$37)*$J803+S$36*T802+S$37*T803))","v":6.427132393705957},{"$f":"IF($A801>$J$30,NA(),IF($A801>$N$30,0,(1-S$35)*$K801+(2*S$35-S$36)*$K802-(S$35+S$37)*$K803+S$36*U802+S$37*U803))","v":11.349650187680638},{"$f":"IF($A801>$N$30,NA(),(T801-U801)/(T801+U801))","v":-0.2769071271158407},{"$f":"IF($A801>$N$30,NA(),OFFSET(V801,$C$18,0,1,1))","v":-0.52056260014809341},null,null,null,null,null,null,null,null,null,null,null,null,null,null,null,null,null,null,null,null,null,null,null,null,null,null,null,null,null,null,null,{"$error":"#N/A"},938299]
[770,{"$f":"IF(A802>$A$8,\"\",OFFSET(InputPriceData!B$15,$A802+$A$11,0,1,1))","v":"2021-06-22T04:00:00"},{"$f":"IF(A802>$A$8,\"\",OFFSET(InputPriceData!G$15,CalculationsAndCharts!$A802+$A$11,IF($C$5,8,0),1,1))","v":1063749},{"$f":"IF(A802>$A$8,\"\",OFFSET(InputPriceData!C$15,CalculationsAndCharts!$A802+$A$11,IF($C$5,8,0),1,1))","v":4219.25},{"$f":"IF(A802>$A$8,\"\",OFFSET(InputPriceData!D$15,CalculationsAndCharts!$A802+$A$11,IF($C$5,8,0),1,1))","v":4245.5},{"$f":"IF(A802>$A$8,\"\",OFFSET(InputPriceData!E$15,CalculationsAndCharts!$A802+$A$11,IF($C$5,8,0),1,1))","v":4205.75},{"$f":"IF(A802>$A$8,\"\",OFFSET(InputPriceData!F$15,CalculationsAndCharts!$A802+$A$11,IF($C$5,8,0),1,1))","v":4236.25},{"$f":"IF($A802>$H$30,NA(),IF($G802>$G803,$G802-$G803,0))","v":22.5},{"$f":"IF($A802>$H$30,NA(),IF(G802<G803,G803-G802,0))","v":0},{"$f":"IF($A802>$J$30,NA(),AVERAGE(H802:H805))","v":12.25},8.9375,null,null,{"$f":"IF($A802>$J$30,NA(),IF($A802>$N$30,0,(1-$M$35)*J802+(2*$M$35-$M$36)*J803-($M$35+$M$37)*J804+$M$36*N803+$M$37*N804))","v":7.1394803689792603},7.003756184859192,{"$f":"IF($A802>$N$30,NA(),(N802-O802)/(N802+O802))","v":9.5964020401845661E-3},{"$f":"IF($A802>$N$30,NA(),OFFSET(P802,$C$17,0,1,1))","v":0.12056680572441861},null,null,4.362744549060678,10.91301947524539,-0.42880178796701934,-0.26601366396190501,null,null,null,null,null,null,null,null,null,null,null,null,null,null,null,null,null,null,null,null,null,null,null,null,null,null,null,null,null,null,null,1063749,{"$error":"#N/A"}]
[771,{"$f":"IF(A803>$A$8,\"\",OFFSET(InputPriceData!B$15,$A803+$A$11,0,1,1))","v":"2021-06-21T04:00:00"},{"$f":"IF(A803>$A$8,\"\",OFFSET(InputPriceData!G$15,CalculationsAndCharts!$A803+$A$11,IF($C$5,8,0),1,1))","v":1425623},{"$f":"IF(A803>$A$8,\"\",OFFSET(InputPriceData!C$15,CalculationsAndCharts!$A803+$A$11,IF($C$5,8,0),1,1))","v":4142.5},{"$f":"IF(A803>$A$8,\"\",OFFSET(InputPriceData!D$15,CalculationsAndCharts!$A803+$A$11,IF($C$5,8,0),1,1))","v":4219.75},{"$f":"IF(A803>$A$8,\"\",OFFSET(InputPriceData!E$15,CalculationsAndCharts!$A803+$A$11,IF($C$5,8,0),1,1))","v":4126.75},{"$f":"IF(A803>$A$8,\"\",OFFSET(InputPriceData!F$15,CalculationsAndCharts!$A803+$A$11,IF($C$5,8,0),1,1))","v":4213.75},26.5,0,{"$f":"IF($A803>$J$30,NA(),AVERAGE(H803:H806))","v":6.625},14.8125,null,null,{"$f":"IF($A803>$J$30,NA(),IF($A803>$N$30,0,(1-$M$35)*J803+(2*$M$35-$M$36)*J804-($M$35+$M$37)*J805+$M$36*N804+$M$37*N805))","v":7.2024404367336867},6.7162592823550762,3.4930069919666323E-2,0.19713493772283935,null,null,2.9600596289769303,9.3879951113969469,-0.52056260014809341,0.21510797521424696,null,null,null,null,null,null,null,null,null,null,null,null,null,null,null,null,null,null,null,null,null,null,null,null,null,null,null,null,null,null,null,1425623,{"$error":"#N/A"}]
[772,{"$f":"IF(A804>$A$8,\"\",OFFSET(InputPriceData!B$15,$A804+$A$11,0,1,1))","v":"2021-06-18T04:00:00"},{"$f":"IF(A804>$A$8,\"\",OFFSET(InputPriceData!G$15,CalculationsAndCharts!$A804+$A$11,IF($C$5,8,0),1,1))","v":1951342},{"$f":"IF(A804>$A$8,\"\",OFFSET(InputPriceData!C$15,CalculationsAndCharts!$A804+$A$11,IF($C$5,8,0),1,1))","v":4225.75},{"$f":"IF(A804>$A$8,\"\",OFFSET(InputPriceData!D$15,CalculationsAndCharts!$A804+$A$11,IF($C$5,8,0),1,1))","v":4231},{"$f":"IF(A804>$A$8,\"\",OFFSET(InputPriceData!E$15,CalculationsAndCharts!$A804+$A$11,IF($C$5,8,0),1,1))","v":4183.75},{"$f":"IF(A804>$A$8,\"\",OFFSET(InputPriceData!F$15,CalculationsAndCharts!$A804+$A$11,IF($C$5,8,0),1,1))","v":4187.25},0,35,{"$f":"IF($A804>$J$30,NA(),AVERAGE(H804:H807))","v":0},16.875,null,null,{"$f":"IF($A804>$J$30,NA(),IF($A804>$N$30,0,(1-$M$35)*J804+(2*$M$35-$M$36)*J805-($M$35+$M$37)*J806+$M$36*N805+$M$37*N806))","v":7.7735471044471609},6.1007655465005097,0.12056680572441861,0.2329686383250863,null,null,3.5222253330223463,6.0752975637514091,-0.26601366396190501,0.61753742620068564,null,null,null,null,null,null,null,null,null,null,null,null,null,null,null,null,null,null,null,null,null,null,null,null,null,null,null,null,null,null,null,{"$error":"#N/A"},1951342]
[773,{"$f":"IF(A805>$A$8,\"\",OFFSET(InputPriceData!B$15,$A805+$A$11,0,1,1))","v":"2021-06-17T04:00:00"},{"$f":"IF(A805>$A$8,\"\",OFFSET(InputPriceData!G$15,CalculationsAndCharts!$A805+$A$11,IF($C$5,8,0),1,1))","v":326193},{"$f":"IF(A805>$A$8,\"\",OFFSET(InputPriceData!C$15,CalculationsAndCharts!$A805+$A$11,IF($C$5,8,0),1,1))","v":4214.25},{"$f":"IF(A805>$A$8,\"\",OFFSET(InputPriceData!D$15,CalculationsAndCharts!$A805+$A$11,IF($C$5,8,0),1,1))","v":4232.5},{"$f":"IF(A805>$A$8,\"\",OFFSET(InputPriceData!E$15,CalculationsAndCharts!$A805+$A$11,IF($C$5,8,0),1,1))","v":4193},{"$f":"IF(A805>$A$8,\"\",OFFSET(InputPriceData!F$15,CalculationsAndCharts!$A805+$A$11,IF($C$5,8,0),1,1))","v":4222.25},0,0.75,{"$f":"IF($A805>$J$30,NA(),AVERAGE(H805:H808))","v":2.25},8.125,null,null,{"$f":"IF($A805>$J$30,NA(),IF($A805>$N$30,0,(1-$M$35)*J805+(2*$M$35-$M$36)*J806-($M$35+$M$37)*J807+$M$36*N806+$M$37*N807))","v":8.5542103532057698},5.7369277360014141,0.19713493772283935,0.23400802932891426,null,null,5.0342610549910694,3.2518520438937144,0.21510797521424696,0.87578523371328409,null,null,null,null,null,null,null,null,null,null,null,null,null,null,null,null,null,null,null,null,null,null,null,null,null,null,null,null,null,null,null,{"$error":"#N/A"},326193]
[774,{"$f":"IF(A806>$A$8,\"\",OFFSET(InputPriceData!B$15,$A806+$A$11,0,1,1))","v":"2021-06-16T04:00:00"},{"$f":"IF(A806>$A$8,\"\",OFFSET(InputPriceData!G$15,CalculationsAndCharts!$A806+$A$11,IF($C$5,8,0),1,1))","v":511740},{"$f":"IF(A806>$A$8,\"\",OFFSET(InputPriceData!C$15,CalculationsAndCharts!$A806+$A$11,IF($C$5,8,0),1,1))","v":4248},{"$f":"IF(A806>$A$8,\"\",OFFSET(InputPriceData!D$15,CalculationsAndCharts!$A806+$A$11,IF($C$5,8,0),1,1))","v":4251.25},{"$f":"IF(A806>$A$8,\"\",OFFSET(InputPriceData!E$15,CalculationsAndCharts!$A806+$A$11,IF($C$5,8,0),1,1))","v":4200.75},{"$f":"IF(A806>$A$8,\"\",OFFSET(InputPriceData!F$15,CalculationsAndCharts!$A806+$A$11,IF($C$5,8,0),1,1))","v":4223},0,23.5,{"$f":"IF($A806>$J$30,NA(),AVERAGE(H806:H809))","v":4.1875},7.9375,null,null,{"$f":"IF($A806>$J$30,NA(),IF($A806>$N$30,0,(1-$M$35)*J806+(2*$M$35-$M$36)*J807-($M$35+$M$37)*J808+$M$36*N807+$M$37*N808))","v":9.2055771459335123},5.7268012776389394,0.2329686383250863,0.20683424256168392,null,null,6.1602094245490351,1.4565657112427794,0.61753742620068564,0.8948413841974574,null,null,null,null,null,null,null,null,null,null,null,null,null,null,null,null,null,null,null,null,null,null,null,null,null,null,null,null,null,null,null,{"$error":"#N/A"},511740]
[775,{"$f":"IF(A807>$A$8,\"\",OFFSET(InputPriceData!B$15,$A807+$A$11,0,1,1))","v":"2021-06-15T04:00:00"},{"$f":"IF(A807>$A$8,\"\",OFFSET(InputPriceData!G$15,CalculationsAndCharts!$A807+$A$11,IF($C$5,8,0),1,1))","v":981189},{"$f":"IF(A807>$A$8,\"\",OFFSET(InputPriceData!C$15,CalculationsAndCharts!$A807+$A$11,IF($C$5,8,0),1,1))","v":4255.25},{"$f":"IF(A807>$A$8,\"\",OFFSET(InputPriceData!D$15,CalculationsAndCharts!$A807+$A$11,IF($C$5,8,0),1,1))","v":4267.5},{"$f":"IF(A807>$A$8,\"\",OFFSET(InputPriceData!E$15,CalculationsAndCharts!$A807+$A$11,IF($C$5,8,0),1,1))","v":4238},{"$f":"IF(A807>$A$8,\"\",OFFSET(InputPriceData!F$15,CalculationsAndCharts!$A807+$A$11,IF($C$5,8,0),1,1))","v":4246.5},0,8.25,{"$f":"IF($A807>$J$30,NA(),AVERAGE(H807:H810))","v":9.0625},2.0625,null,null,{"$f":"IF($A807>$J$30,NA(),IF($A807>$N$30,0,(1-$M$35)*J807+(2*$M$35-$M$36)*J808-($M$35+$M$37)*J809+$M$36*N808+$M$37*N809))","v":9.6154880233191733},5.9686699315497691,0.23400802932891426,0.18449237440986102,null,null,6.361601953575124,0.42126619064388759,0.87578523371328409,0.89068880243370374,null,null,null,null,null,null,null,null,null,null,null,null,null,null,null,null,null,null,null,null,null,null,null,null,null,null,null,null,null,null,null,{"$error":"#N/A"},981189]
[776,{"$f":"IF(A808>$A$8,\"\",OFFSET(InputPriceData!B$15,$A808+$A$11,0,1,1))","v":"2021-06-14T04:00:00"},{"$f":"IF(A808>$A$8,\"\",OFFSET(InputPriceData!G$15,CalculationsAndCharts!$A808+$A$11,IF($C$5,8,0),1,1))","v":1116773},{"$f":"IF(A808>$A$8,\"\",OFFSET(InputPriceData!C$15,CalculationsAndCharts!$A808+$A$11,IF($C$5,8,0),1,1))","v":4248},{"$f":"IF(A808>$A$8,\"\",OFFSET(InputPriceData!D$15,CalculationsAndCharts!$A808+$A$11,IF($C$5,8,0),1,1))","v":4257.5},{"$f":"IF(A808>$A$8,\"\",OFFSET(InputPriceData!E$15,CalculationsAndCharts!$A808+$A$11,IF($C$5,8,0),1,1))","v":4233.5},{"$f":"IF(A808>$A$8,\"\",OFFSET(InputPriceData!F$15,CalculationsAndCharts!$A808+$A$11,IF($C$5,8,0),1,1))","v":4254.75},9,0,{"$f":"IF($A808>$J$30,NA(),AVERAGE(H808:H811))","v":9.0625},1.8125,null,null,{"$f":"IF($A808>$J$30,NA(),IF($A808>$N$30,0,(1-$M$35)*J808+(2*$M$35-$M$36)*J809-($M$35+$M$37)*J810+$M$36*N809+$M$37*N810))","v":9.8522087315073854},6.4751515372808406,0.20683424256168392,0.17292112596169859,null,null,5.8154359523538179,0.32274110125417244,0.8948413841974574,0.90834456663520058,null,null,null,null,null,null,null,null,null,null,null,null,null,null,null,null,null,null,null,null,null,null,null,null,null,null,null,null,null,null,null,1116773,{"$error":"#N/A"}]
[777,{"$f":"IF(A809>$A$8,\"\",OFFSET(InputPriceData!B$15,$A809+$A$11,0,1,1))","v":"2021-06-11T04:00:00"},{"$f":"IF(A809>$A$8,\"\",OFFSET(InputPriceData!G$15,CalculationsAndCharts!$A809+$A$11,IF($C$5,8,0),1,1))","v":1084830},{"$f":"IF(A809>$A$8,\"\",OFFSET(InputPriceData!C$15,CalculationsAndCharts!$A809+$A$11,IF($C$5,8,0),1,1))","v":4239.5},{"$f":"IF(A809>$A$8,\"\",OFFSET(InputPriceData!D$15,CalculationsAndCharts!$A809+$A$11,IF($C$5,8,0),1,1))","v":4247.75},{"$f":"IF(A809>$A$8,\"\",OFFSET(InputPriceData!E$15,CalculationsAndCharts!$A809+$A$11,IF($C$5,8,0),1,1))","v":4230.75},{"$f":"IF(A809>$A$8,\"\",OFFSET(InputPriceData!F$15,CalculationsAndCharts!$A809+$A$11,IF($C$5,8,0),1,1))","v":4245.75},7.75,0,{"$f":"IF($A809>$J$30,NA(),AVERAGE(H809:H812))","v":6.875},1.8125,null,null,{"$f":"IF($A809>$J$30,NA(),IF($A809>$N$30,0,(1-$M$35)*J809+(2*$M$35-$M$36)*J810-($M$35+$M$37)*J811+$M$36*N810+$M$37*N811))","v":10.194392854183477},7.0187071613612195,0.18449237440986102,0.15960531150817517,null,null,5.6330437292042843,0.32567747542061554,0.89068880243370374,0.92595004294268235,null,null,null,null,null,null,null,null,null,null,null,null,null,null,null,null,null,null,null,null,null,null,null,null,null,null,null,null,null,null,null,1084830,{"$error":"#N/A"}]
[778,{"$f":"IF(A810>$A$8,\"\",OFFSET(InputPriceData!B$15,$A810+$A$11,0,1,1))","v":"2021-06-10T04:00:00"},{"$f":"IF(A810>$A$8,\"\",OFFSET(InputPriceData!G$15,CalculationsAndCharts!$A810+$A$11,IF($C$5,8,0),1,1))","v":1563728},{"$f":"IF(A810>$A$8,\"\",OFFSET(InputPriceData!C$15,CalculationsAndCharts!$A810+$A$11,IF($C$5,8,0),1,1))","v":4222.25},{"$f":"IF(A810>$A$8,\"\",OFFSET(InputPriceData!D$15,CalculationsAndCharts!$A810+$A$11,IF($C$5,8,0),1,1))","v":4249},{"$f":"IF(A810>$A$8,\"\",OFFSET(InputPriceData!E$15,CalculationsAndCharts!$A810+$A$11,IF($C$5,8,0),1,1))","v":4207},{"$f":"IF(A810>$A$8,\"\",OFFSET(InputPriceData!F$15,CalculationsAndCharts!$A810+$A$11,IF($C$5,8,0),1,1))","v":4238},19.5,0,{"$f":"IF($A810>$J$30,NA(),AVERAGE(H810:H813))","v":4.9375},2.5,null,null,{"$f":"IF($A810>$J$30,NA(),IF($A810>$N$30,0,(1-$M$35)*J810+(2*$M$35-$M$36)*J811-($M$35+$M$37)*J812+$M$36*N811+$M$37*N812))","v":10.724437295751363},7.5622779119028749,0.17292112596169859,0.14410527332063794,null,null,6.2296695233450539,0.2992033356368311,0.90834456663520058,1.0026046450369777,null,null,null,null,null,null,null,null,null,null,null,null,null,null,null,null,null,null,null,null,null,null,null,null,null,null,null,null,null,null,null,1563728,{"$error":"#N/A"}]
[779,{"$f":"IF(A811>$A$8,\"\",OFFSET(InputPriceData!B$15,$A811+$A$11,0,1,1))","v":"2021-06-09T04:00:00"},{"$f":"IF(A811>$A$8,\"\",OFFSET(InputPriceData!G$15,CalculationsAndCharts!$A811+$A$11,IF($C$5,8,0),1,1))","v":1057216},{"$f":"IF(A811>$A$8,\"\",OFFSET(InputPriceData!C$15,CalculationsAndCharts!$A811+$A$11,IF($C$5,8,0),1,1))","v":4225.5},{"$f":"IF(A811>$A$8,\"\",OFFSET(InputPriceData!D$15,CalculationsAndCharts!$A811+$A$11,IF($C$5,8,0),1,1))","v":4235},{"$f":"IF(A811>$A$8,\"\",OFFSET(InputPriceData!E$15,CalculationsAndCharts!$A811+$A$11,IF($C$5,8,0),1,1))","v":4217},{"$f":"IF(A811>$A$8,\"\",OFFSET(InputPriceData!F$15,CalculationsAndCharts!$A811+$A$11,IF($C$5,8,0),1,1))","v":4218.5},0,7.25,{"$f":"IF($A811>$J$30,NA(),AVERAGE(H811:H814))","v":9.3125},2.5,null,null,{"$f":"IF($A811>$J$30,NA(),IF($A811>$N$30,0,(1-$M$35)*J811+(2*$M$35-$M$36)*J812-($M$35+$M$37)*J813+$M$36*N812+$M$37*N813))","v":11.183847016330802},8.1052109162948476,0.15960531150817517,0.13034665647700749,null,null,6.6108542705529052,0.25417765982063789,0.92595004294268235,1.1809783475410314,null,null,null,null,null,null,null,null,null,null,null,null,null,null,null,null,null,null,null,null,null,null,null,null,null,null,null,null,null,null,null,{"$error":"#N/A"},1057216]
[780,{"$f":"IF(A812>$A$8,\"\",OFFSET(InputPriceData!B$15,$A812+$A$11,0,1,1))","v":"2021-06-08T04:00:00"},{"$f":"IF(A812>$A$8,\"\",OFFSET(InputPriceData!G$15,CalculationsAndCharts!$A812+$A$11,IF($C$5,8,0),1,1))","v":1305814},{"$f":"IF(A812>$A$8,\"\",OFFSET(InputPriceData!C$15,CalculationsAndCharts!$A812+$A$11,IF($C$5,8,0),1,1))","v":4227.5},{"$f":"IF(A812>$A$8,\"\",OFFSET(InputPriceData!D$15,CalculationsAndCharts!$A812+$A$11,IF($C$5,8,0),1,1))","v":4236.75},{"$f":"IF(A812>$A$8,\"\",OFFSET(InputPriceData!E$15,CalculationsAndCharts!$A812+$A$11,IF($C$5,8,0),1,1))","v":4205.75},{"$f":"IF(A812>$A$8,\"\",OFFSET(InputPriceData!F$15,CalculationsAndCharts!$A812+$A$11,IF($C$5,8,0),1,1))","v":4225.75},0.25,0,{"$f":"IF($A812>$J$30,NA(),AVERAGE(H812:H815))","v":9.3125},4.4375,null,null,{"$f":"IF($A812>$J$30,NA(),IF($A812>$N$30,0,(1-$M$35)*J812+(2*$M$35-$M$36)*J813-($M$35+$M$37)*J814+$M$36*N813+$M$37*N814))","v":11.490885582950197},8.5962267674704655,0.14410527332063794,0.11455223543417443,null,null,6.4123901235994065,-8.3401385051161681E-3,1.0026046450369777,1.4225460908318552,null,null,null,null,null,null,null,null,null,null,null,null,null,null,null,null,null,null,null,null,null,null,null,null,null,null,null,null,null,null,null,1305814,{"$error":"#N/A"}]
[781,{"$f":"IF(A813>$A$8,\"\",OFFSET(InputPriceData!B$15,$A813+$A$11,0,1,1))","v":"2021-06-07T04:00:00"},{"$f":"IF(A813>$A$8,\"\",OFFSET(InputPriceData!G$15,CalculationsAndCharts!$A813+$A$11,IF($C$5,8,0),1,1))","v":934681},{"$f":"IF(A813>$A$8,\"\",OFFSET(InputPriceData!C$15,CalculationsAndCharts!$A813+$A$11,IF($C$5,8,0),1,1))","v":4232.25},{"$f":"IF(A813>$A$8,\"\",OFFSET(InputPriceData!D$15,CalculationsAndCharts!$A813+$A$11,IF($C$5,8,0),1,1))","v":4232.5},{"$f":"IF(A813>$A$8,\"\",OFFSET(InputPriceData!E$15,CalculationsAndCharts!$A813+$A$11,IF($C$5,8,0),1,1))","v":4214},{"$f":"IF(A813>$A$8,\"\",OFFSET(InputPriceData!F$15,CalculationsAndCharts!$A813+$A$11,IF($C$5,8,0),1,1))","v":4225.5},0,2.75,{"$f":"IF($A813>$J$30,NA(),AVERAGE(H813:H816))","v":11.1875},4.4375,null,null,{"$f":"IF($A813>$J$30,NA(),IF($A813>$N$30,0,(1-$M$35)*J813+(2*$M$35-$M$36)*J814-($M$35+$M$37)*J815+$M$36*N814+$M$37*N815))","v":11.740279006805816},9.0326032581750351,0.13034665647700749,0.11341887369193515,null,null,5.9884845740225243,-0.496926548447159,1.1809783475410314,1.5046841234025223,null,null,null,null,null,null,null,null,null,null,null,null,null,null,null,null,null,null,null,null,null,null,null,null,null,null,null,null,null,null,null,{"$f":"IF(G813>=G814,C813,NA())","v":{"$error":"#N/A"}},{"$f":"IF(G813<G814,C813,NA())","v":934681}]
[782,{"$f":"IF(A814>$A$8,\"\",OFFSET(InputPriceData!B$15,$A814+$A$11,0,1,1))","v":"2021-06-04T04:00:00"},{"$f":"IF(A814>$A$8,\"\",OFFSET(InputPriceData!G$15,CalculationsAndCharts!$A814+$A$11,IF($C$5,8,0),1,1))","v":1051573},{"$f":"IF(A814>$A$8,\"\",OFFSET(InputPriceData!C$15,CalculationsAndCharts!$A814+$A$11,IF($C$5,8,0),1,1))","v":4190.75},{"$f":"IF(A814>$A$8,\"\",OFFSET(InputPriceData!D$15,CalculationsAndCharts!$A814+$A$11,IF($C$5,8,0),1,1))","v":4232},{"$f":"IF(A814>$A$8,\"\",OFFSET(InputPriceData!E$15,CalculationsAndCharts!$A814+$A$11,IF($C$5,8,0),1,1))","v":4177},{"$f":"IF(A814>$A$8,\"\",OFFSET(InputPriceData!F$15,CalculationsAndCharts!$A814+$A$11,IF($C$5,8,0),1,1))","v":4228.25},37,0,{"$f":"IF($A814>$J$30,NA(),AVERAGE(H814:H817))","v":11.1875},4.75,null,null,{"$f":"IF($A814>$J$30,NA(),IF($A814>$N$30,0,(1-$M$35)*J814+(2*$M$35-$M$36)*J815-($M$35+$M$37)*J816+$M$36*N815+$M$37*N816))","v":11.929520861601352},9.4773194502916134,0.11455223543417443,0.1156984376515952,null,null,5.3352702066672304,-0.93059016622663548,1.4225460908318552,1.1753984395530721,null,null,null,null,null,null,null,null,null,null,null,null,null,null,null,null,null,null,null,null,null,null,null,null,null,null,null,null,null,null,null,1051573,{"$error":"#N/A"}]
[783,{"$f":"IF(A815>$A$8,\"\",OFFSET(InputPriceData!B$15,$A815+$A$11,0,1,1))","v":"2021-06-03T04:00:00"},{"$f":"IF(A815>$A$8,\"\",OFFSET(InputPriceData!G$15,CalculationsAndCharts!$A815+$A$11,IF($C$5,8,0),1,1))","v":1384271},{"$f":"IF(A815>$A$8,\"\",OFFSET(InputPriceData!C$15,CalculationsAndCharts!$A815+$A$11,IF($C$5,8,0),1,1))","v":4208},{"$f":"IF(A815>$A$8,\"\",OFFSET(InputPriceData!D$15,CalculationsAndCharts!$A815+$A$11,IF($C$5,8,0),1,1))","v":4213.25},{"$f":"IF(A815>$A$8,\"\",OFFSET(InputPriceData!E$15,CalculationsAndCharts!$A815+$A$11,IF($C$5,8,0),1,1))","v":4165.25},{"$f":"IF(A815>$A$8,\"\",OFFSET(InputPriceData!F$15,CalculationsAndCharts!$A815+$A$11,IF($C$5,8,0),1,1))","v":4191.25},0,15,{"$f":"IF($A815>$J$30,NA(),AVERAGE(H815:H818))","v":2.8125},4.75,null,null,{"$f":"IF($A815>$J$30,NA(),IF($A815>$N$30,0,(1-$M$35)*J815+(2*$M$35-$M$36)*J816-($M$35+$M$37)*J817+$M$36*N816+$M$37*N817))","v":12.470807440013568},9.9301195330710232,0.11341887369193515,0.10920393277073799,null,null,6.2235446648910884,-1.2540200795420753,1.5046841234025223,0.85188646884831787,null,null,null,null,null,null,null,null,null,null,null,null,null,null,null,null,null,null,null,null,null,null,null,null,null,null,null,null,null,null,null,{"$error":"#N/A"},1384271]
[784,{"$f":"IF(A816>$A$8,\"\",OFFSET(InputPriceData!B$15,$A816+$A$11,0,1,1))","v":"2021-06-02T04:00:00"},{"$f":"IF(A816>$A$8,\"\",OFFSET(InputPriceData!G$15,CalculationsAndCharts!$A816+$A$11,IF($C$5,8,0),1,1))","v":1059938},{"$f":"IF(A816>$A$8,\"\",OFFSET(InputPriceData!C$15,CalculationsAndCharts!$A816+$A$11,IF($C$5,8,0),1,1))","v":4198.5},{"$f":"IF(A816>$A$8,\"\",OFFSET(InputPriceData!D$15,CalculationsAndCharts!$A816+$A$11,IF($C$5,8,0),1,1))","v":4215},{"$f":"IF(A816>$A$8,\"\",OFFSET(InputPriceData!E$15,CalculationsAndCharts!$A816+$A$11,IF($C$5,8,0),1,1))","v":4190.75},{"$f":"IF(A816>$A$8,\"\",OFFSET(InputPriceData!F$15,CalculationsAndCharts!$A816+$A$11,IF($C$5,8,0),1,1))","v":4206.25},7.75,0,{"$f":"IF($A816>$J$30,NA(),AVERAGE(H816:H819))","v":4.3125},1,null,null,{"$f":"IF($A816>$J$30,NA(),IF($A816>$N$30,0,(1-$M$35)*J816+(2*$M$35-$M$36)*J817-($M$35+$M$37)*J818+$M$36*N817+$M$37*N818))","v":13.317032717419201},10.555067965001541,0.1156984376515952,0.10518864793087494,null,null,8.6715407225744485,-0.69917063633315646,1.1753984395530721,0.66894680932303308,null,null,null,null,null,null,null,null,null,null,null,null,null,null,null,null,null,null,null,null,null,null,null,null,null,null,null,null,null,null,null,1059938,{"$error":"#N/A"}]
[785,{"$f":"IF(A817>$A$8,\"\",OFFSET(InputPriceData!B$15,$A817+$A$11,0,1,1))","v":"2021-06-01T04:00:00"},{"$f":"IF(A817>$A$8,\"\",OFFSET(InputPriceData!G$15,CalculationsAndCharts!$A817+$A$11,IF($C$5,8,0),1,1))","v":1366344},{"$f":"IF(A817>$A$8,\"\",OFFSET(InputPriceData!C$15,CalculationsAndCharts!$A817+$A$11,IF($C$5,8,0),1,1))","v":4206.5},{"$f":"IF(A817>$A$8,\"\",OFFSET(InputPriceData!D$15,CalculationsAndCharts!$A817+$A$11,IF($C$5,8,0),1,1))","v":4230},{"$f":"IF(A817>$A$8,\"\",OFFSET(InputPriceData!E$15,CalculationsAndCharts!$A817+$A$11,IF($C$5,8,0),1,1))","v":4190},{"$f":"IF(A817>$A$8,\"\",OFFSET(InputPriceData!F$15,CalculationsAndCharts!$A817+$A$11,IF($C$5,8,0),1,1))","v":4198.5},0,4,{"$f":"IF($A817>$J$30,NA(),AVERAGE(H817:H820))","v":4.25},1,null,null,{"$f":"IF($A817>$J$30,NA(),IF($A817>$N$30,0,(1-$M$35)*J817+(2*$M$35-$M$36)*J818-($M$35+$M$37)*J819+$M$36*N818+$M$37*N819))","v":14.143026452733864},11.358192998238087,0.10920393277073799,9.0956765056238176E-2,null,null,11.485058505577063,0.9185728171568659,0.85188646884831787,0.5192229008174285,null,null,null,null,null,null,null,null,null,null,null,null,null,null,null,null,null,null,null,null,null,null,null,null,null,null,null,null,null,null,null,{"$error":"#N/A"},1366344]
[786,{"$f":"IF(A818>$A$8,\"\",OFFSET(InputPriceData!B$15,$A818+$A$11,0,1,1))","v":"2021-05-28T04:00:00"},{"$f":"IF(A818>$A$8,\"\",OFFSET(InputPriceData!G$15,CalculationsAndCharts!$A818+$A$11,IF($C$5,8,0),1,1))","v":1110833},{"$f":"IF(A818>$A$8,\"\",OFFSET(InputPriceData!C$15,CalculationsAndCharts!$A818+$A$11,IF($C$5,8,0),1,1))","v":4211.25},{"$f":"IF(A818>$A$8,\"\",OFFSET(InputPriceData!D$15,CalculationsAndCharts!$A818+$A$11,IF($C$5,8,0),1,1))","v":4217.5},{"$f":"IF(A818>$A$8,\"\",OFFSET(InputPriceData!E$15,CalculationsAndCharts!$A818+$A$11,IF($C$5,8,0),1,1))","v":4201},{"$f":"IF(A818>$A$8,\"\",OFFSET(InputPriceData!F$15,CalculationsAndCharts!$A818+$A$11,IF($C$5,8,0),1,1))","v":4202.5},3.5,0,{"$f":"IF($A818>$J$30,NA(),AVERAGE(H818:H821))","v":4.25},2.0625,null,null,{"$f":"IF($A818>$J$30,NA(),IF($A818>$N$30,0,(1-$M$35)*J818+(2*$M$35-$M$36)*J819-($M$35+$M$37)*J820+$M$36*N819+$M$37*N820))","v":15.007457005438104},12.150724601900952,0.10518864793087494,6.8193871878045528E-2,null,null,14.934947718558721,2.962504297442571,0.66894680932303308,0.36979278811313898,null,null,null,null,null,null,null,null,null,null,null,null,null,null,null,null,null,null,null,null,null,null,null,null,null,null,null,null,null,null,null,1110833,{"$error":"#N/A"}]
[787,{"$f":"IF(A819>$A$8,\"\",OFFSET(InputPriceData!B$15,$A819+$A$11,0,1,1))","v":"2021-05-27T04:00:00"},{"$f":"IF(A819>$A$8,\"\",OFFSET(InputPriceData!G$15,CalculationsAndCharts!$A819+$A$11,IF($C$5,8,0),1,1))","v":1179928},{"$f":"IF(A819>$A$8,\"\",OFFSET(InputPriceData!C$15,CalculationsAndCharts!$A819+$A$11,IF($C$5,8,0),1,1))","v":4193},{"$f":"IF(A819>$A$8,\"\",OFFSET(InputPriceData!D$15,CalculationsAndCharts!$A819+$A$11,IF($C$5,8,0),1,1))","v":4211.5},{"$f":"IF(A819>$A$8,\"\",OFFSET(InputPriceData!E$15,CalculationsAndCharts!$A819+$A$11,IF($C$5,8,0),1,1))","v":4177.75},{"$f":"IF(A819>$A$8,\"\",OFFSET(InputPriceData!F$15,CalculationsAndCharts!$A819+$A$11,IF($C$5,8,0),1,1))","v":4199},6,0,{"$f":"IF($A819>$J$30,NA(),AVERAGE(H819:H822))","v":13.875},2.0625,null,null,{"$f":"IF($A819>$J$30,NA(),IF($A819>$N$30,0,(1-$M$35)*J819+(2*$M$35-$M$36)*J820-($M$35+$M$37)*J821+$M$36*N820+$M$37*N821))","v":15.51861142493952},12.930932905333815,9.0956765056238176E-2,3.7734716679527477E-2,null,null,17.387615936103295,5.5025286591996938,0.5192229008174285,0.21143574675523111,null,null,null,null,null,null,null,null,null,null,null,null,null,null,null,null,null,null,null,null,null,null,null,null,null,null,null,null,null,null,null,1179928,{"$error":"#N/A"}]
[788,{"$f":"IF(A820>$A$8,\"\",OFFSET(InputPriceData!B$15,$A820+$A$11,0,1,1))","v":"2021-05-26T04:00:00"},{"$f":"IF(A820>$A$8,\"\",OFFSET(InputPriceData!G$15,CalculationsAndCharts!$A820+$A$11,IF($C$5,8,0),1,1))","v":1051147},{"$f":"IF(A820>$A$8,\"\",OFFSET(InputPriceData!C$15,CalculationsAndCharts!$A820+$A$11,IF($C$5,8,0),1,1))","v":4188},{"$f":"IF(A820>$A$8,\"\",OFFSET(InputPriceData!D$15,CalculationsAndCharts!$A820+$A$11,IF($C$5,8,0),1,1))","v":4204.25},{"$f":"IF(A820>$A$8,\"\",OFFSET(InputPriceData!E$15,CalculationsAndCharts!$A820+$A$11,IF($C$5,8,0),1,1))","v":4180.5},{"$f":"IF(A820>$A$8,\"\",OFFSET(InputPriceData!F$15,CalculationsAndCharts!$A820+$A$11,IF($C$5,8,0),1,1))","v":4193},7.5,0,{"$f":"IF($A820>$J$30,NA(),AVERAGE(H820:H823))","v":12.375},2.6875,null,null,{"$f":"IF($A820>$J$30,NA(),IF($A820>$N$30,0,(1-$M$35)*J820+(2*$M$35-$M$36)*J821-($M$35+$M$37)*J822+$M$36*N821+$M$37*N822))","v":15.722094829626377},13.714686720120897,6.8193871878045528E-2,-2.8205154717901855E-3,null,null,18.867841852047974,8.6806195149271481,0.36979278811313898,2.9937670161406141E-2,null,null,null,null,null,null,null,null,null,null,null,null,null,null,null,null,null,null,null,null,null,null,null,null,null,null,null,null,null,null,null,1051147,{"$error":"#N/A"}]
[789,{"$f":"IF(A821>$A$8,\"\",OFFSET(InputPriceData!B$15,$A821+$A$11,0,1,1))","v":"2021-05-25T04:00:00"},{"$f":"IF(A821>$A$8,\"\",OFFSET(InputPriceData!G$15,CalculationsAndCharts!$A821+$A$11,IF($C$5,8,0),1,1))","v":1221701},{"$f":"IF(A821>$A$8,\"\",OFFSET(InputPriceData!C$15,CalculationsAndCharts!$A821+$A$11,IF($C$5,8,0),1,1))","v":4199.25},{"$f":"IF(A821>$A$8,\"\",OFFSET(InputPriceData!D$15,CalculationsAndCharts!$A821+$A$11,IF($C$5,8,0),1,1))","v":4212.75},{"$f":"IF(A821>$A$8,\"\",OFFSET(InputPriceData!E$15,CalculationsAndCharts!$A821+$A$11,IF($C$5,8,0),1,1))","v":4179.25},{"$f":"IF(A821>$A$8,\"\",OFFSET(InputPriceData!F$15,CalculationsAndCharts!$A821+$A$11,IF($C$5,8,0),1,1))","v":4185.5},0,8.25,{"$f":"IF($A821>$J$30,NA(),AVERAGE(H821:H824))","v":21.1875},2.6875,null,null,{"$f":"IF($A821>$J$30,NA(),IF($A821>$N$30,0,(1-$M$35)*J821+(2*$M$35-$M$36)*J822-($M$35+$M$37)*J823+$M$36*N822+$M$37*N823))","v":15.638013249117426},14.500736082031233,3.7734716679527477E-2,-1.7547008600865516E-2,null,null,19.30455796150834,12.565985751956637,0.21143574675523111,-5.7626246778309007E-2,null,null,null,null,null,null,null,null,null,null,null,null,null,null,null,null,null,null,null,null,null,null,null,null,null,null,null,null,null,null,null,{"$error":"#N/A"},1221701]
[790,{"$f":"IF(A822>$A$8,\"\",OFFSET(InputPriceData!B$15,$A822+$A$11,0,1,1))","v":"2021-05-24T04:00:00"},{"$f":"IF(A822>$A$8,\"\",OFFSET(InputPriceData!G$15,CalculationsAndCharts!$A822+$A$11,IF($C$5,8,0),1,1))","v":1046500},{"$f":"IF(A822>$A$8,\"\",OFFSET(InputPriceData!C$15,CalculationsAndCharts!$A822+$A$11,IF($C$5,8,0),1,1))","v":4151.5},{"$f":"IF(A822>$A$8,\"\",OFFSET(InputPriceData!D$15,CalculationsAndCharts!$A822+$A$11,IF($C$5,8,0),1,1))","v":4206.25},{"$f":"IF(A822>$A$8,\"\",OFFSET(InputPriceData!E$15,CalculationsAndCharts!$A822+$A$11,IF($C$5,8,0),1,1))","v":4142.5},{"$f":"IF(A822>$A$8,\"\",OFFSET(InputPriceData!F$15,CalculationsAndCharts!$A822+$A$11,IF($C$5,8,0),1,1))","v":4193.75},42,0,{"$f":"IF($A822>$J$30,NA(),AVERAGE(H822:H825))","v":21.1875},3.5,null,null,{"$f":"IF($A822>$J$30,NA(),IF($A822>$N$30,0,(1-$M$35)*J822+(2*$M$35-$M$36)*J823-($M$35+$M$37)*J824+$M$36*N823+$M$37*N824))","v":15.194180834506026},15.280134111302887,-2.8205154717901855E-3,-4.5295824230761035E-3,null,null,18.240098590353668,17.179711984193393,2.9937670161406141E-2,-5.8282020543103989E-2,null,null,null,null,null,null,null,null,null,null,null,null,null,null,null,null,null,null,null,null,null,null,null,null,null,null,null,null,null,null,null,1046500,{"$error":"#N/A"}]
[791,{"$f":"IF(A823>$A$8,\"\",OFFSET(InputPriceData!B$15,$A823+$A$11,0,1,1))","v":"2021-05-21T04:00:00"},{"$f":"IF(A823>$A$8,\"\",OFFSET(InputPriceData!G$15,CalculationsAndCharts!$A823+$A$11,IF($C$5,8,0),1,1))","v":1466725},{"$f":"IF(A823>$A$8,\"\",OFFSET(InputPriceData!C$15,CalculationsAndCharts!$A823+$A$11,IF($C$5,8,0),1,1))","v":4152.5},{"$f":"IF(A823>$A$8,\"\",OFFSET(InputPriceData!D$15,CalculationsAndCharts!$A823+$A$11,IF($C$5,8,0),1,1))","v":4185},{"$f":"IF(A823>$A$8,\"\",OFFSET(InputPriceData!E$15,CalculationsAndCharts!$A823+$A$11,IF($C$5,8,0),1,1))","v":4147},{"$f":"IF(A823>$A$8,\"\",OFFSET(InputPriceData!F$15,CalculationsAndCharts!$A823+$A$11,IF($C$5,8,0),1,1))","v":4151.75},0,2.5,{"$f":"IF($A823>$J$30,NA(),AVERAGE(H823:H826))","v":10.6875},12.1875,null,null,{"$f":"IF($A823>$J$30,NA(),IF($A823>$N$30,0,(1-$M$35)*J823+(2*$M$35-$M$36)*J824-($M$35+$M$37)*J825+$M$36*N824+$M$37*N825))","v":15.158154297253962},15.699615855528364,-1.7547008600865516E-2,5.6577891284720089E-3,null,null,18.757605887053952,21.051664740289748,-5.7626246778309007E-2,-7.1024128711889942E-2,null,null,null,null,null,null,null,null,null,null,null,null,null,null,null,null,null,null,null,null,null,null,null,null,null,null,null,null,null,null,null,{"$error":"#N/A"},1466725]
[792,{"$f":"IF(A824>$A$8,\"\",OFFSET(InputPriceData!B$15,$A824+$A$11,0,1,1))","v":"2021-05-20T04:00:00"},{"$f":"IF(A824>$A$8,\"\",OFFSET(InputPriceData!G$15,CalculationsAndCharts!$A824+$A$11,IF($C$5,8,0),1,1))","v":1486599},{"$f":"IF(A824>$A$8,\"\",OFFSET(InputPriceData!C$15,CalculationsAndCharts!$A824+$A$11,IF($C$5,8,0),1,1))","v":4107.75},{"$f":"IF(A824>$A$8,\"\",OFFSET(InputPriceData!D$15,CalculationsAndCharts!$A824+$A$11,IF($C$5,8,0),1,1))","v":4169.25},{"$f":"IF(A824>$A$8,\"\",OFFSET(InputPriceData!E$15,CalculationsAndCharts!$A824+$A$11,IF($C$5,8,0),1,1))","v":4084.5},{"$f":"IF(A824>$A$8,\"\",OFFSET(InputPriceData!F$15,CalculationsAndCharts!$A824+$A$11,IF($C$5,8,0),1,1))","v":4154.25},42.75,0,{"$f":"IF($A824>$J$30,NA(),AVERAGE(H824:H827))","v":10.6875},14.375,null,null,{"$f":"IF($A824>$J$30,NA(),IF($A824>$N$30,0,(1-$M$35)*J824+(2*$M$35-$M$36)*J825-($M$35+$M$37)*J826+$M$36*N825+$M$37*N826))","v":15.546532437780165},15.688011880718026,-4.5295824230761035E-3,-9.1195910078453925E-3,null,null,21.107557704612518,23.720210618947764,-5.8282020543103989E-2,-0.15440838092690243,null,null,null,null,null,null,null,null,null,null,null,null,null,null,null,null,null,null,null,null,null,null,null,null,null,null,null,null,null,null,null,1486599,{"$error":"#N/A"}]
[793,{"$f":"IF(A825>$A$8,\"\",OFFSET(InputPriceData!B$15,$A825+$A$11,0,1,1))","v":"2021-05-19T04:00:00"},{"$f":"IF(A825>$A$8,\"\",OFFSET(InputPriceData!G$15,CalculationsAndCharts!$A825+$A$11,IF($C$5,8,0),1,1))","v":2313119},{"$f":"IF(A825>$A$8,\"\",OFFSET(InputPriceData!C$15,CalculationsAndCharts!$A825+$A$11,IF($C$5,8,0),1,1))","v":4114},{"$f":"IF(A825>$A$8,\"\",OFFSET(InputPriceData!D$15,CalculationsAndCharts!$A825+$A$11,IF($C$5,8,0),1,1))","v":4123},{"$f":"IF(A825>$A$8,\"\",OFFSET(InputPriceData!E$15,CalculationsAndCharts!$A825+$A$11,IF($C$5,8,0),1,1))","v":4055.5},{"$f":"IF(A825>$A$8,\"\",OFFSET(InputPriceData!F$15,CalculationsAndCharts!$A825+$A$11,IF($C$5,8,0),1,1))","v":4111.5},0,11.5,{"$f":"IF($A825>$J$30,NA(),AVERAGE(H825:H828))","v":15.5},14.375,null,null,{"$f":"IF($A825>$J$30,NA(),IF($A825>$N$30,0,(1-$M$35)*J825+(2*$M$35-$M$36)*J826-($M$35+$M$37)*J827+$M$36*N826+$M$37*N827))","v":15.756354725062863},15.579065525035753,5.6577891284720089E-3,-2.7827000732732012E-2,null,null,22.89273512578805,26.393227692697597,-7.1024128711889942E-2,-0.26835450794266352,null,null,null,null,null,null,null,null,null,null,null,null,null,null,null,null,null,null,null,null,null,null,null,null,null,null,null,null,null,null,null,{"$error":"#N/A"},2313119]
[794,{"$f":"IF(A826>$A$8,\"\",OFFSET(InputPriceData!B$15,$A826+$A$11,0,1,1))","v":"2021-05-18T04:00:00"},{"$f":"IF(A826>$A$8,\"\",OFFSET(InputPriceData!G$15,CalculationsAndCharts!$A826+$A$11,IF($C$5,8,0),1,1))","v":1285520},{"$f":"IF(A826>$A$8,\"\",OFFSET(InputPriceData!C$15,CalculationsAndCharts!$A826+$A$11,IF($C$5,8,0),1,1))","v":4159},{"$f":"IF(A826>$A$8,\"\",OFFSET(InputPriceData!D$15,CalculationsAndCharts!$A826+$A$11,IF($C$5,8,0),1,1))","v":4179.5},{"$f":"IF(A826>$A$8,\"\",OFFSET(InputPriceData!E$15,CalculationsAndCharts!$A826+$A$11,IF($C$5,8,0),1,1))","v":4111.5},{"$f":"IF(A826>$A$8,\"\",OFFSET(InputPriceData!F$15,CalculationsAndCharts!$A826+$A$11,IF($C$5,8,0),1,1))","v":4123},0,34.75,{"$f":"IF($A826>$J$30,NA(),AVERAGE(H826:H829))","v":27.5625},11.5,null,null,{"$f":"IF($A826>$J$30,NA(),IF($A826>$N$30,0,(1-$M$35)*J826+(2*$M$35-$M$36)*J827-($M$35+$M$37)*J828+$M$36*N827+$M$37*N828))","v":15.292024258853125},15.573505264345272,-9.1195910078453925E-3,-2.1045915418794674E-2,null,null,21.864625508588176,29.84976005392549,-0.15440838092690243,-0.36591470196622777,null,null,null,null,null,null,null,null,null,null,null,null,null,null,null,null,null,null,null,null,null,null,null,null,null,null,null,null,null,null,null,{"$error":"#N/A"},1285520]
[795,{"$f":"IF(A827>$A$8,\"\",OFFSET(InputPriceData!B$15,$A827+$A$11,0,1,1))","v":"2021-05-17T04:00:00"},{"$f":"IF(A827>$A$8,\"\",OFFSET(InputPriceData!G$15,CalculationsAndCharts!$A827+$A$11,IF($C$5,8,0),1,1))","v":1480730},{"$f":"IF(A827>$A$8,\"\",OFFSET(InputPriceData!C$15,CalculationsAndCharts!$A827+$A$11,IF($C$5,8,0),1,1))","v":4169},{"$f":"IF(A827>$A$8,\"\",OFFSET(InputPriceData!D$15,CalculationsAndCharts!$A827+$A$11,IF($C$5,8,0),1,1))","v":4178.75},{"$f":"IF(A827>$A$8,\"\",OFFSET(InputPriceData!E$15,CalculationsAndCharts!$A827+$A$11,IF($C$5,8,0),1,1))","v":4136.5},{"$f":"IF(A827>$A$8,\"\",OFFSET(InputPriceData!F$15,CalculationsAndCharts!$A827+$A$11,IF($C$5,8,0),1,1))","v":4157.75},0,11.25,{"$f":"IF($A827>$J$30,NA(),AVERAGE(H827:H830))","v":27.5625},24.6875,null,null,{"$f":"IF($A827>$J$30,NA(),IF($A827>$N$30,0,(1-$M$35)*J827+(2*$M$35-$M$36)*J828-($M$35+$M$37)*J829+$M$36*N828+$M$37*N829))","v":14.321738654381591},15.141615430078607,-2.7827000732732012E-2,4.0680045575427842E-2,null,null,18.358679054307395,31.825950670353546,-0.26835450794266352,-0.36756192161240209,null,null,null,null,null,null,null,null,null,null,null,null,null,null,null,null,null,null,null,null,null,null,null,null,null,null,null,null,null,null,null,{"$error":"#N/A"},1480730]
[796,{"$f":"IF(A828>$A$8,\"\",OFFSET(InputPriceData!B$15,$A828+$A$11,0,1,1))","v":"2021-05-14T04:00:00"},{"$f":"IF(A828>$A$8,\"\",OFFSET(InputPriceData!G$15,CalculationsAndCharts!$A828+$A$11,IF($C$5,8,0),1,1))","v":1513171},{"$f":"IF(A828>$A$8,\"\",OFFSET(InputPriceData!C$15,CalculationsAndCharts!$A828+$A$11,IF($C$5,8,0),1,1))","v":4112.5},{"$f":"IF(A828>$A$8,\"\",OFFSET(InputPriceData!D$15,CalculationsAndCharts!$A828+$A$11,IF($C$5,8,0),1,1))","v":4178.25},{"$f":"IF(A828>$A$8,\"\",OFFSET(InputPriceData!E$15,CalculationsAndCharts!$A828+$A$11,IF($C$5,8,0),1,1))","v":4105.25},{"$f":"IF(A828>$A$8,\"\",OFFSET(InputPriceData!F$15,CalculationsAndCharts!$A828+$A$11,IF($C$5,8,0),1,1))","v":4169},62,0,{"$f":"IF($A828>$J$30,NA(),AVERAGE(H828:H831))","v":27.5625},31.1875,null,null,{"$f":"IF($A828>$J$30,NA(),IF($A828>$N$30,0,(1-$M$35)*J828+(2*$M$35-$M$36)*J829-($M$35+$M$37)*J830+$M$36*N829+$M$37*N830))","v":13.314694007021622},13.88718239705431,-2.1045915418794674E-2,0.17151366837501245,null,null,14.08653534933217,30.344506950538033,-0.36591470196622777,-0.16565321343264708,null,null,null,null,null,null,null,null,null,null,null,null,null,null,null,null,null,null,null,null,null,null,null,null,null,null,null,null,null,null,null,1513171,{"$error":"#N/A"}]
[797,{"$f":"IF(A829>$A$8,\"\",OFFSET(InputPriceData!B$15,$A829+$A$11,0,1,1))","v":"2021-05-13T04:00:00"},{"$f":"IF(A829>$A$8,\"\",OFFSET(InputPriceData!G$15,CalculationsAndCharts!$A829+$A$11,IF($C$5,8,0),1,1))","v":2381081},{"$f":"IF(A829>$A$8,\"\",OFFSET(InputPriceData!C$15,CalculationsAndCharts!$A829+$A$11,IF($C$5,8,0),1,1))","v":4053.5},{"$f":"IF(A829>$A$8,\"\",OFFSET(InputPriceData!D$15,CalculationsAndCharts!$A829+$A$11,IF($C$5,8,0),1,1))","v":4126.75},{"$f":"IF(A829>$A$8,\"\",OFFSET(InputPriceData!E$15,CalculationsAndCharts!$A829+$A$11,IF($C$5,8,0),1,1))","v":4029.25},{"$f":"IF(A829>$A$8,\"\",OFFSET(InputPriceData!F$15,CalculationsAndCharts!$A829+$A$11,IF($C$5,8,0),1,1))","v":4107},48.25,0,{"$f":"IF($A829>$J$30,NA(),AVERAGE(H829:H832))","v":12.0625},41.625,null,null,{"$f":"IF($A829>$J$30,NA(),IF($A829>$N$30,0,(1-$M$35)*J829+(2*$M$35-$M$36)*J830-($M$35+$M$37)*J831+$M$36*N830+$M$37*N831))","v":12.898278796894079},11.889894766599543,4.0680045575427842E-2,0.27543402663865668,null,null,11.679485518287315,25.255309894614406,-0.36756192161240209,4.3404470440258157E-2,null,null,null,null,null,null,null,null,null,null,null,null,null,null,null,null,null,null,null,null,null,null,null,null,null,null,null,null,null,null,null,2381081,{"$error":"#N/A"}]
[798,{"$f":"IF(A830>$A$8,\"\",OFFSET(InputPriceData!B$15,$A830+$A$11,0,1,1))","v":"2021-05-12T04:00:00"},{"$f":"IF(A830>$A$8,\"\",OFFSET(InputPriceData!G$15,CalculationsAndCharts!$A830+$A$11,IF($C$5,8,0),1,1))","v":2629953},{"$f":"IF(A830>$A$8,\"\",OFFSET(InputPriceData!C$15,CalculationsAndCharts!$A830+$A$11,IF($C$5,8,0),1,1))","v":4140},{"$f":"IF(A830>$A$8,\"\",OFFSET(InputPriceData!D$15,CalculationsAndCharts!$A830+$A$11,IF($C$5,8,0),1,1))","v":4150.5},{"$f":"IF(A830>$A$8,\"\",OFFSET(InputPriceData!E$15,CalculationsAndCharts!$A830+$A$11,IF($C$5,8,0),1,1))","v":4051},{"$f":"IF(A830>$A$8,\"\",OFFSET(InputPriceData!F$15,CalculationsAndCharts!$A830+$A$11,IF($C$5,8,0),1,1))","v":4058.75},0,87.5,{"$f":"IF($A830>$J$30,NA(),AVERAGE(H830:H833))","v":7.75},41.625,null,null,{"$f":"IF($A830>$J$30,NA(),IF($A830>$N$30,0,(1-$M$35)*J830+(2*$M$35-$M$36)*J831-($M$35+$M$37)*J832+$M$36*N831+$M$37*N832))","v":13.2717292274865},9.3856747546548256,0.17151366837501245,0.303532493116768,null,null,12.260352039260933,17.12875147656165,-0.16565321343264708,5.099148196632413E-2,null,null,null,null,null,null,null,null,null,null,null,null,null,null,null,null,null,null,null,null,null,null,null,null,null,null,null,null,null,null,null,{"$error":"#N/A"},2629953]
[799,{"$f":"IF(A831>$A$8,\"\",OFFSET(InputPriceData!B$15,$A831+$A$11,0,1,1))","v":"2021-05-11T04:00:00"},{"$f":"IF(A831>$A$8,\"\",OFFSET(InputPriceData!G$15,CalculationsAndCharts!$A831+$A$11,IF($C$5,8,0),1,1))","v":2520859},{"$f":"IF(A831>$A$8,\"\",OFFSET(InputPriceData!C$15,CalculationsAndCharts!$A831+$A$11,IF($C$5,8,0),1,1))","v":4176.75},{"$f":"IF(A831>$A$8,\"\",OFFSET(InputPriceData!D$15,CalculationsAndCharts!$A831+$A$11,IF($C$5,8,0),1,1))","v":4185.5},{"$f":"IF(A831>$A$8,\"\",OFFSET(InputPriceData!E$15,CalculationsAndCharts!$A831+$A$11,IF($C$5,8,0),1,1))","v":4103.75},{"$f":"IF(A831>$A$8,\"\",OFFSET(InputPriceData!F$15,CalculationsAndCharts!$A831+$A$11,IF($C$5,8,0),1,1))","v":4146.25},0,37.25,{"$f":"IF($A831>$J$30,NA(),AVERAGE(H831:H834))","v":16.3125},19.75,null,null,{"$f":"IF($A831>$J$30,NA(),IF($A831>$N$30,0,(1-$M$35)*J831+(2*$M$35-$M$36)*J832-($M$35+$M$37)*J833+$M$36*N832+$M$37*N833))","v":13.493039260934419},7.665309942739654,0.27543402663865668,0.299869655003901,null,null,12.188416958632343,11.174367664073969,4.3404470440258157E-2,-6.7280910611234271E-2,null,null,null,null,null,null,null,null,null,null,null,null,null,null,null,null,null,null,null,null,null,null,null,null,null,null,null,null,null,null,null,{"$error":"#N/A"},2520859]
[800,{"$f":"IF(A832>$A$8,\"\",OFFSET(InputPriceData!B$15,$A832+$A$11,0,1,1))","v":"2021-05-10T04:00:00"},{"$f":"IF(A832>$A$8,\"\",OFFSET(InputPriceData!G$15,CalculationsAndCharts!$A832+$A$11,IF($C$5,8,0),1,1))","v":1662210},{"$f":"IF(A832>$A$8,\"\",OFFSET(InputPriceData!C$15,CalculationsAndCharts!$A832+$A$11,IF($C$5,8,0),1,1))","v":4226.75},{"$f":"IF(A832>$A$8,\"\",OFFSET(InputPriceData!D$15,CalculationsAndCharts!$A832+$A$11,IF($C$5,8,0),1,1))","v":4238.25},{"$f":"IF(A832>$A$8,\"\",OFFSET(InputPriceData!E$15,CalculationsAndCharts!$A832+$A$11,IF($C$5,8,0),1,1))","v":4172},{"$f":"IF(A832>$A$8,\"\",OFFSET(InputPriceData!F$15,CalculationsAndCharts!$A832+$A$11,IF($C$5,8,0),1,1))","v":4183.5},0,41.75,{"$f":"IF($A832>$J$30,NA(),AVERAGE(H832:H835))","v":16.75},10.4375,null,null,{"$f":"IF($A832>$J$30,NA(),IF($A832>$N$30,0,(1-$M$35)*J832+(2*$M$35-$M$36)*J833-($M$35+$M$37)*J834+$M$36*N833+$M$37*N834))","v":13.363696602827131},7.1401215580448074,0.303532493116768,0.29366649955572682,null,null,10.53271589915637,9.5106737569623832,5.099148196632413E-2,-0.19888083377149512,null,null,null,null,null,null,null,null,null,null,null,null,null,null,null,null,null,null,null,null,null,null,null,null,null,null,null,null,null,null,null,{"$error":"#N/A"},1662210]
[801,{"$f":"IF(A833>$A$8,\"\",OFFSET(InputPriceData!B$15,$A833+$A$11,0,1,1))","v":"2021-05-07T04:00:00"},{"$f":"IF(A833>$A$8,\"\",OFFSET(InputPriceData!G$15,CalculationsAndCharts!$A833+$A$11,IF($C$5,8,0),1,1))","v":1652592},{"$f":"IF(A833>$A$8,\"\",OFFSET(InputPriceData!C$15,CalculationsAndCharts!$A833+$A$11,IF($C$5,8,0),1,1))","v":4197.5},{"$f":"IF(A833>$A$8,\"\",OFFSET(InputPriceData!D$15,CalculationsAndCharts!$A833+$A$11,IF($C$5,8,0),1,1))","v":4232.25},{"$f":"IF(A833>$A$8,\"\",OFFSET(InputPriceData!E$15,CalculationsAndCharts!$A833+$A$11,IF($C$5,8,0),1,1))","v":4191.75},{"$f":"IF(A833>$A$8,\"\",OFFSET(InputPriceData!F$15,CalculationsAndCharts!$A833+$A$11,IF($C$5,8,0),1,1))","v":4225.25},31,0,{"$f":"IF($A833>$J$30,NA(),AVERAGE(H833:H836))","v":16.75},6.875,null,null,{"$f":"IF($A833>$J$30,NA(),IF($A833>$N$30,0,(1-$M$35)*J833+(2*$M$35-$M$36)*J834-($M$35+$M$37)*J835+$M$36*N834+$M$37*N835))","v":13.21634385219301},7.1185317275486319,0.299869655003901,0.32384968742175219,null,null,8.5374006801291671,9.7690771806894432,-6.7280910611234271E-2,-0.13586232482462815,null,null,null,null,null,null,null,null,null,null,null,null,null,null,null,null,null,null,null,null,null,null,null,null,null,null,null,null,null,null,null,1652592,{"$error":"#N/A"}]
[802,{"$f":"IF(A834>$A$8,\"\",OFFSET(InputPriceData!B$15,$A834+$A$11,0,1,1))","v":"2021-05-06T04:00:00"},{"$f":"IF(A834>$A$8,\"\",OFFSET(InputPriceData!G$15,CalculationsAndCharts!$A834+$A$11,IF($C$5,8,0),1,1))","v":1751616},{"$f":"IF(A834>$A$8,\"\",OFFSET(InputPriceData!C$15,CalculationsAndCharts!$A834+$A$11,IF($C$5,8,0),1,1))","v":4158.75},{"$f":"IF(A834>$A$8,\"\",OFFSET(InputPriceData!D$15,CalculationsAndCharts!$A834+$A$11,IF($C$5,8,0),1,1))","v":4197.25},{"$f":"IF(A834>$A$8,\"\",OFFSET(InputPriceData!E$15,CalculationsAndCharts!$A834+$A$11,IF($C$5,8,0),1,1))","v":4140.5},{"$f":"IF(A834>$A$8,\"\",OFFSET(InputPriceData!F$15,CalculationsAndCharts!$A834+$A$11,IF($C$5,8,0),1,1))","v":4194.25},34.25,0,{"$f":"IF($A834>$J$30,NA(),AVERAGE(H834:H837))","v":11.8125},6.875,null,null,{"$f":"IF($A834>$J$30,NA(),IF($A834>$N$30,0,(1-$M$35)*J834+(2*$M$35-$M$36)*J835-($M$35+$M$37)*J836+$M$36*N835+$M$37*N836))","v":13.268163924777749},7.2443312651870908,0.29366649955572682,0.37517368002825036,null,null,7.1305529019074232,10.670925835585573,-0.19888083377149512,2.9012990376707883E-2,null,null,null,null,null,null,null,null,null,null,null,null,null,null,null,null,null,null,null,null,null,null,null,null,null,null,null,null,null,null,null,1751616,{"$error":"#N/A"}]
[803,{"$f":"IF(A835>$A$8,\"\",OFFSET(InputPriceData!B$15,$A835+$A$11,0,1,1))","v":"2021-05-05T04:00:00"},{"$f":"IF(A835>$A$8,\"\",OFFSET(InputPriceData!G$15,CalculationsAndCharts!$A835+$A$11,IF($C$5,8,0),1,1))","v":1418246},{"$f":"IF(A835>$A$8,\"\",OFFSET(InputPriceData!C$15,CalculationsAndCharts!$A835+$A$11,IF($C$5,8,0),1,1))","v":4158.25},{"$f":"IF(A835>$A$8,\"\",OFFSET(InputPriceData!D$15,CalculationsAndCharts!$A835+$A$11,IF($C$5,8,0),1,1))","v":4180},{"$f":"IF(A835>$A$8,\"\",OFFSET(InputPriceData!E$15,CalculationsAndCharts!$A835+$A$11,IF($C$5,8,0),1,1))","v":4153},{"$f":"IF(A835>$A$8,\"\",OFFSET(InputPriceData!F$15,CalculationsAndCharts!$A835+$A$11,IF($C$5,8,0),1,1))","v":4160},1.75,0,{"$f":"IF($A835>$J$30,NA(),AVERAGE(H835:H838))","v":3.25},14.125,null,null,{"$f":"IF($A835>$J$30,NA(),IF($A835>$N$30,0,(1-$M$35)*J835+(2*$M$35-$M$36)*J836-($M$35+$M$37)*J837+$M$36*N836+$M$37*N837))","v":13.873785463436235},7.085973934106792,0.32384968742175219,0.40346970092934598,null,null,7.9416688888798834,10.438895035191976,-0.13586232482462815,0.11195447701110318,null,null,null,null,null,null,null,null,null,null,null,null,null,null,null,null,null,null,null,null,null,null,null,null,null,null,null,null,null,null,null,1418246,{"$error":"#N/A"}]
[804,{"$f":"IF(A836>$A$8,\"\",OFFSET(InputPriceData!B$15,$A836+$A$11,0,1,1))","v":"2021-05-04T04:00:00"},{"$f":"IF(A836>$A$8,\"\",OFFSET(InputPriceData!G$15,CalculationsAndCharts!$A836+$A$11,IF($C$5,8,0),1,1))","v":2003587},{"$f":"IF(A836>$A$8,\"\",OFFSET(InputPriceData!C$15,CalculationsAndCharts!$A836+$A$11,IF($C$5,8,0),1,1))","v":4184.25},{"$f":"IF(A836>$A$8,\"\",OFFSET(InputPriceData!D$15,CalculationsAndCharts!$A836+$A$11,IF($C$5,8,0),1,1))","v":4185.5},{"$f":"IF(A836>$A$8,\"\",OFFSET(InputPriceData!E$15,CalculationsAndCharts!$A836+$A$11,IF($C$5,8,0),1,1))","v":4120.5},{"$f":"IF(A836>$A$8,\"\",OFFSET(InputPriceData!F$15,CalculationsAndCharts!$A836+$A$11,IF($C$5,8,0),1,1))","v":4158.25},0,27.5,{"$f":"IF($A836>$J$30,NA(),AVERAGE(H836:H839))","v":9.625},14.125,null,null,{"$f":"IF($A836>$J$30,NA(),IF($A836>$N$30,0,(1-$M$35)*J836+(2*$M$35-$M$36)*J837-($M$35+$M$37)*J838+$M$36*N837+$M$37*N838))","v":14.597148109165852},6.6323857615899948,0.37517368002825036,0.41889546458243254,null,null,9.4076163353561331,8.8771214149654263,2.9012990376707883E-2,0.16897710710258002,null,null,null,null,null,null,null,null,null,null,null,null,null,null,null,null,null,null,null,null,null,null,null,null,null,null,null,null,null,null,null,{"$error":"#N/A"},2003587]
[805,{"$f":"IF(A837>$A$8,\"\",OFFSET(InputPriceData!B$15,$A837+$A$11,0,1,1))","v":"2021-05-03T04:00:00"},{"$f":"IF(A837>$A$8,\"\",OFFSET(InputPriceData!G$15,CalculationsAndCharts!$A837+$A$11,IF($C$5,8,0),1,1))","v":1256240},{"$f":"IF(A837>$A$8,\"\",OFFSET(InputPriceData!C$15,CalculationsAndCharts!$A837+$A$11,IF($C$5,8,0),1,1))","v":4181.5},{"$f":"IF(A837>$A$8,\"\",OFFSET(InputPriceData!D$15,CalculationsAndCharts!$A837+$A$11,IF($C$5,8,0),1,1))","v":4202.5},{"$f":"IF(A837>$A$8,\"\",OFFSET(InputPriceData!E$15,CalculationsAndCharts!$A837+$A$11,IF($C$5,8,0),1,1))","v":4181},{"$f":"IF(A837>$A$8,\"\",OFFSET(InputPriceData!F$15,CalculationsAndCharts!$A837+$A$11,IF($C$5,8,0),1,1))","v":4185.75},11.25,0,{"$f":"IF($A837>$J$30,NA(),AVERAGE(H837:H840))","v":9.625},7.9375,null,null,{"$f":"IF($A837>$J$30,NA(),IF($A837>$N$30,0,(1-$M$35)*J837+(2*$M$35-$M$36)*J838-($M$35+$M$37)*J839+$M$36*N838+$M$37*N839))","v":15.095586887726554},6.4162232749447119,0.40346970092934598,0.41664366384479085,null,null,10.149510451198287,8.1057520816345949,0.11195447701110318,0.1674627168719284,null,null,null,null,null,null,null,null,null,null,null,null,null,null,null,null,null,null,null,null,null,null,null,null,null,null,null,null,null,null,null,1256240,{"$error":"#N/A"}]
[806,{"$f":"IF(A838>$A$8,\"\",OFFSET(InputPriceData!B$15,$A838+$A$11,0,1,1))","v":"2021-04-30T04:00:00"},{"$f":"IF(A838>$A$8,\"\",OFFSET(InputPriceData!G$15,CalculationsAndCharts!$A838+$A$11,IF($C$5,8,0),1,1))","v":1898434},{"$f":"IF(A838>$A$8,\"\",OFFSET(InputPriceData!C$15,CalculationsAndCharts!$A838+$A$11,IF($C$5,8,0),1,1))","v":4200.75},{"$f":"IF(A838>$A$8,\"\",OFFSET(InputPriceData!D$15,CalculationsAndCharts!$A838+$A$11,IF($C$5,8,0),1,1))","v":4201.5},{"$f":"IF(A838>$A$8,\"\",OFFSET(InputPriceData!E$15,CalculationsAndCharts!$A838+$A$11,IF($C$5,8,0),1,1))","v":4167.25},{"$f":"IF(A838>$A$8,\"\",OFFSET(InputPriceData!F$15,CalculationsAndCharts!$A838+$A$11,IF($C$5,8,0),1,1))","v":4174.5},0,29,{"$f":"IF($A838>$J$30,NA(),AVERAGE(H838:H841))","v":6.8125},8.0625,null,null,{"$f":"IF($A838>$J$30,NA(),IF($A838>$N$30,0,(1-$M$35)*J838+(2*$M$35-$M$36)*J839-($M$35+$M$37)*J840+$M$36*N839+$M$37*N840))","v":15.731059879275438},6.4426100942274225,0.41889546458243254,0.3911403274981336,null,null,11.621131136447035,8.2614329716749868,0.16897710710258002,8.3855354458011747E-2,null,null,null,null,null,null,null,null,null,null,null,null,null,null,null,null,null,null,null,null,null,null,null,null,null,null,null,null,null,null,null,{"$error":"#N/A"},1898434]
[807,{"$f":"IF(A839>$A$8,\"\",OFFSET(InputPriceData!B$15,$A839+$A$11,0,1,1))","v":"2021-04-29T04:00:00"},{"$f":"IF(A839>$A$8,\"\",OFFSET(InputPriceData!G$15,CalculationsAndCharts!$A839+$A$11,IF($C$5,8,0),1,1))","v":1746965},{"$f":"IF(A839>$A$8,\"\",OFFSET(InputPriceData!C$15,CalculationsAndCharts!$A839+$A$11,IF($C$5,8,0),1,1))","v":4184.75},{"$f":"IF(A839>$A$8,\"\",OFFSET(InputPriceData!D$15,CalculationsAndCharts!$A839+$A$11,IF($C$5,8,0),1,1))","v":4211},{"$f":"IF(A839>$A$8,\"\",OFFSET(InputPriceData!E$15,CalculationsAndCharts!$A839+$A$11,IF($C$5,8,0),1,1))","v":4168},{"$f":"IF(A839>$A$8,\"\",OFFSET(InputPriceData!F$15,CalculationsAndCharts!$A839+$A$11,IF($C$5,8,0),1,1))","v":4203.5},27.25,0,{"$f":"IF($A839>$J$30,NA(),AVERAGE(H839:H842))","v":8.8125},0.8125,null,null,{"$f":"IF($A839>$J$30,NA(),IF($A839>$N$30,0,(1-$M$35)*J839+(2*$M$35-$M$36)*J840-($M$35+$M$37)*J841+$M$36*N840+$M$37*N841))","v":16.427276904137166},6.7645494151975143,0.41664366384479085,0.38144211659020799,null,null,13.581271867261648,9.685033207817721,0.1674627168719284,4.4328887234161077E-2,null,null,null,null,null,null,null,null,null,null,null,null,null,null,null,null,null,null,null,null,null,null,null,null,null,null,null,null,null,null,null,1746965,{"$error":"#N/A"}]
[808,{"$f":"IF(A840>$A$8,\"\",OFFSET(InputPriceData!B$15,$A840+$A$11,0,1,1))","v":"2021-04-28T04:00:00"},{"$f":"IF(A840>$A$8,\"\",OFFSET(InputPriceData!G$15,CalculationsAndCharts!$A840+$A$11,IF($C$5,8,0),1,1))","v":1282972},{"$f":"IF(A840>$A$8,\"\",OFFSET(InputPriceData!C$15,CalculationsAndCharts!$A840+$A$11,IF($C$5,8,0),1,1))","v":4180.25},{"$f":"IF(A840>$A$8,\"\",OFFSET(InputPriceData!D$15,CalculationsAndCharts!$A840+$A$11,IF($C$5,8,0),1,1))","v":4193.75},{"$f":"IF(A840>$A$8,\"\",OFFSET(InputPriceData!E$15,CalculationsAndCharts!$A840+$A$11,IF($C$5,8,0),1,1))","v":4172.75},{"$f":"IF(A840>$A$8,\"\",OFFSET(InputPriceData!F$15,CalculationsAndCharts!$A840+$A$11,IF($C$5,8,0),1,1))","v":4176.25},0,2.75,{"$f":"IF($A840>$J$30,NA(),AVERAGE(H840:H843))","v":12.9375},0.8125,null,null,{"$f":"IF($A840>$J$30,NA(),IF($A840>$N$30,0,(1-$M$35)*J840+(2*$M$35-$M$36)*J841-($M$35+$M$37)*J842+$M$36*N841+$M$37*N842))","v":16.904954081012594},7.3987825684955775,0.3911403274981336,0.38065022043717428,null,null,14.879782263108218,12.577354340786572,8.3855354458011747E-2,6.5268502747638573E-3,null,null,null,null,null,null,null,null,null,null,null,null,null,null,null,null,null,null,null,null,null,null,null,null,null,null,null,null,null,null,null,{"$error":"#N/A"},1282972]
[809,{"$f":"IF(A841>$A$8,\"\",OFFSET(InputPriceData!B$15,$A841+$A$11,0,1,1))","v":"2021-04-27T04:00:00"},{"$f":"IF(A841>$A$8,\"\",OFFSET(InputPriceData!G$15,CalculationsAndCharts!$A841+$A$11,IF($C$5,8,0),1,1))","v":992029},{"$f":"IF(A841>$A$8,\"\",OFFSET(InputPriceData!C$15,CalculationsAndCharts!$A841+$A$11,IF($C$5,8,0),1,1))","v":4181.5},{"$f":"IF(A841>$A$8,\"\",OFFSET(InputPriceData!D$15,CalculationsAndCharts!$A841+$A$11,IF($C$5,8,0),1,1))","v":4192.5},{"$f":"IF(A841>$A$8,\"\",OFFSET(InputPriceData!E$15,CalculationsAndCharts!$A841+$A$11,IF($C$5,8,0),1,1))","v":4166.75},{"$f":"IF(A841>$A$8,\"\",OFFSET(InputPriceData!F$15,CalculationsAndCharts!$A841+$A$11,IF($C$5,8,0),1,1))","v":4179},0,0.5,{"$f":"IF($A841>$J$30,NA(),AVERAGE(H841:H844))","v":12.9375},9.375,null,null,{"$f":"IF($A841>$J$30,NA(),IF($A841>$N$30,0,(1-$M$35)*J841+(2*$M$35-$M$36)*J842-($M$35+$M$37)*J843+$M$36*N842+$M$37*N843))","v":17.235430643154693},7.7173783615347507,0.38144211659020799,0.38810727596999295,null,null,15.717583779311623,14.383247427107742,4.4328887234161077E-2,-3.5569475575937252E-2,null,null,null,null,null,null,null,null,null,null,null,null,null,null,null,null,null,null,null,null,null,null,null,null,null,null,null,null,null,null,null,{"$error":"#N/A"},992029]
[810,{"$f":"IF(A842>$A$8,\"\",OFFSET(InputPriceData!B$15,$A842+$A$11,0,1,1))","v":"2021-04-26T04:00:00"},{"$f":"IF(A842>$A$8,\"\",OFFSET(InputPriceData!G$15,CalculationsAndCharts!$A842+$A$11,IF($C$5,8,0),1,1))","v":1019731},{"$f":"IF(A842>$A$8,\"\",OFFSET(InputPriceData!C$15,CalculationsAndCharts!$A842+$A$11,IF($C$5,8,0),1,1))","v":4170.75},{"$f":"IF(A842>$A$8,\"\",OFFSET(InputPriceData!D$15,CalculationsAndCharts!$A842+$A$11,IF($C$5,8,0),1,1))","v":4186},{"$f":"IF(A842>$A$8,\"\",OFFSET(InputPriceData!E$15,CalculationsAndCharts!$A842+$A$11,IF($C$5,8,0),1,1))","v":4163.75},{"$f":"IF(A842>$A$8,\"\",OFFSET(InputPriceData!F$15,CalculationsAndCharts!$A842+$A$11,IF($C$5,8,0),1,1))","v":4179.5},8,0,{"$f":"IF($A842>$J$30,NA(),AVERAGE(H842:H845))","v":22.5},9.25,null,null,{"$f":"IF($A842>$J$30,NA(),IF($A842>$N$30,0,(1-$M$35)*J842+(2*$M$35-$M$36)*J843-($M$35+$M$37)*J844+$M$36*N843+$M$37*N844))","v":17.192224051190994},7.7123083158080608,0.38065022043717428,0.43908610071010595,null,null,15.05986359761121,14.864551421223382,6.5268502747638573E-3,0.10150524637071791,null,null,null,null,null,null,null,null,null,null,null,null,null,null,null,null,null,null,null,null,null,null,null,null,null,null,null,null,null,null,null,1019731,{"$error":"#N/A"}]
[811,{"$f":"IF(A843>$A$8,\"\",OFFSET(InputPriceData!B$15,$A843+$A$11,0,1,1))","v":"2021-04-23T04:00:00"},{"$f":"IF(A843>$A$8,\"\",OFFSET(InputPriceData!G$15,CalculationsAndCharts!$A843+$A$11,IF($C$5,8,0),1,1))","v":1509514},{"$f":"IF(A843>$A$8,\"\",OFFSET(InputPriceData!C$15,CalculationsAndCharts!$A843+$A$11,IF($C$5,8,0),1,1))","v":4129},{"$f":"IF(A843>$A$8,\"\",OFFSET(InputPriceData!D$15,CalculationsAndCharts!$A843+$A$11,IF($C$5,8,0),1,1))","v":4186.75},{"$f":"IF(A843>$A$8,\"\",OFFSET(InputPriceData!E$15,CalculationsAndCharts!$A843+$A$11,IF($C$5,8,0),1,1))","v":4127.5},{"$f":"IF(A843>$A$8,\"\",OFFSET(InputPriceData!F$15,CalculationsAndCharts!$A843+$A$11,IF($C$5,8,0),1,1))","v":4171.5},43.75,0,{"$f":"IF($A843>$J$30,NA(),AVERAGE(H843:H846))","v":20.5},16.5,null,null,{"$f":"IF($A843>$J$30,NA(),IF($A843>$N$30,0,(1-$M$35)*J843+(2*$M$35-$M$36)*J844-($M$35+$M$37)*J845+$M$36*N844+$M$37*N845))","v":16.841197009435191},7.4237820753646675,0.38810727596999295,0.49073416372233475,null,null,13.012960046455921,13.972830462874924,-3.5569475575937252E-2,0.3378692395594996,null,null,null,null,null,null,null,null,null,null,null,null,null,null,null,null,null,null,null,null,null,null,null,null,null,null,null,null,null,null,null,1509514,{"$error":"#N/A"}]
[812,{"$f":"IF(A844>$A$8,\"\",OFFSET(InputPriceData!B$15,$A844+$A$11,0,1,1))","v":"2021-04-22T04:00:00"},{"$f":"IF(A844>$A$8,\"\",OFFSET(InputPriceData!G$15,CalculationsAndCharts!$A844+$A$11,IF($C$5,8,0),1,1))","v":1944942},{"$f":"IF(A844>$A$8,\"\",OFFSET(InputPriceData!C$15,CalculationsAndCharts!$A844+$A$11,IF($C$5,8,0),1,1))","v":4157.5},{"$f":"IF(A844>$A$8,\"\",OFFSET(InputPriceData!D$15,CalculationsAndCharts!$A844+$A$11,IF($C$5,8,0),1,1))","v":4171.75},{"$f":"IF(A844>$A$8,\"\",OFFSET(InputPriceData!E$15,CalculationsAndCharts!$A844+$A$11,IF($C$5,8,0),1,1))","v":4115.25},{"$f":"IF(A844>$A$8,\"\",OFFSET(InputPriceData!F$15,CalculationsAndCharts!$A844+$A$11,IF($C$5,8,0),1,1))","v":4127.75},0,37,{"$f":"IF($A844>$J$30,NA(),AVERAGE(H844:H847))","v":9.5625},21.6875,null,null,{"$f":"IF($A844>$J$30,NA(),IF($A844>$N$30,0,(1-$M$35)*J844+(2*$M$35-$M$36)*J845-($M$35+$M$37)*J846+$M$36*N845+$M$37*N846))","v":16.999889633157309},6.6260624551421259,0.43908610071010595,0.51616549708041415,null,null,12.927123738931359,10.544618736239133,0.10150524637071791,0.54514131781336828,null,null,null,null,null,null,null,null,null,null,null,null,null,null,null,null,null,null,null,null,null,null,null,null,null,null,null,null,null,null,null,{"$error":"#N/A"},1944942]
[813,{"$f":"IF(A845>$A$8,\"\",OFFSET(InputPriceData!B$15,$A845+$A$11,0,1,1))","v":"2021-04-21T04:00:00"},{"$f":"IF(A845>$A$8,\"\",OFFSET(InputPriceData!G$15,CalculationsAndCharts!$A845+$A$11,IF($C$5,8,0),1,1))","v":1505474},{"$f":"IF(A845>$A$8,\"\",OFFSET(InputPriceData!C$15,CalculationsAndCharts!$A845+$A$11,IF($C$5,8,0),1,1))","v":4121.25},{"$f":"IF(A845>$A$8,\"\",OFFSET(InputPriceData!D$15,CalculationsAndCharts!$A845+$A$11,IF($C$5,8,0),1,1))","v":4167.25},{"$f":"IF(A845>$A$8,\"\",OFFSET(InputPriceData!E$15,CalculationsAndCharts!$A845+$A$11,IF($C$5,8,0),1,1))","v":4113},{"$f":"IF(A845>$A$8,\"\",OFFSET(InputPriceData!F$15,CalculationsAndCharts!$A845+$A$11,IF($C$5,8,0),1,1))","v":4164.75},38.25,0,{"$f":"IF($A845>$J$30,NA(),AVERAGE(H845:H848))","v":13},12.4375,null,null,{"$f":"IF($A845>$J$30,NA(),IF($A845>$N$30,0,(1-$M$35)*J845+(2*$M$35-$M$36)*J846-($M$35+$M$37)*J847+$M$36*N846+$M$37*N847))","v":17.468687255099351},5.9676673682902033,0.49073416372233475,0.53132886146271452,null,null,14.223061003374909,7.0391977926460321,0.3378692395594996,0.78582228532333698,null,null,null,null,null,null,null,null,null,null,null,null,null,null,null,null,null,null,null,null,null,null,null,null,null,null,null,null,null,null,null,1505474,{"$error":"#N/A"}]
[814,{"$f":"IF(A846>$A$8,\"\",OFFSET(InputPriceData!B$15,$A846+$A$11,0,1,1))","v":"2021-04-20T04:00:00"},{"$f":"IF(A846>$A$8,\"\",OFFSET(InputPriceData!G$15,CalculationsAndCharts!$A846+$A$11,IF($C$5,8,0),1,1))","v":1700883},{"$f":"IF(A846>$A$8,\"\",OFFSET(InputPriceData!C$15,CalculationsAndCharts!$A846+$A$11,IF($C$5,8,0),1,1))","v":4156.25},{"$f":"IF(A846>$A$8,\"\",OFFSET(InputPriceData!D$15,CalculationsAndCharts!$A846+$A$11,IF($C$5,8,0),1,1))","v":4167.25},{"$f":"IF(A846>$A$8,\"\",OFFSET(InputPriceData!E$15,CalculationsAndCharts!$A846+$A$11,IF($C$5,8,0),1,1))","v":4110.5},{"$f":"IF(A846>$A$8,\"\",OFFSET(InputPriceData!F$15,CalculationsAndCharts!$A846+$A$11,IF($C$5,8,0),1,1))","v":4126.5},0,29,{"$f":"IF($A846>$J$30,NA(),AVERAGE(H846:H849))","v":14.5625},12.4375,null,null,{"$f":"IF($A846>$J$30,NA(),IF($A846>$N$30,0,(1-$M$35)*J846+(2*$M$35-$M$36)*J847-($M$35+$M$37)*J848+$M$36*N847+$M$37*N848))","v":17.753633364886241},5.665489941999863,0.51616549708041415,0.52090792976018252,null,null,14.969574148482316,4.4067430542273369,0.54514131781336828,0.94803536071076355,null,null,null,null,null,null,null,null,null,null,null,null,null,null,null,null,null,null,null,null,null,null,null,null,null,null,null,null,null,null,null,{"$error":"#N/A"},1700883]
[815,{"$f":"IF(A847>$A$8,\"\",OFFSET(InputPriceData!B$15,$A847+$A$11,0,1,1))","v":"2021-04-19T04:00:00"},{"$f":"IF(A847>$A$8,\"\",OFFSET(InputPriceData!G$15,CalculationsAndCharts!$A847+$A$11,IF($C$5,8,0),1,1))","v":1618649},{"$f":"IF(A847>$A$8,\"\",OFFSET(InputPriceData!C$15,CalculationsAndCharts!$A847+$A$11,IF($C$5,8,0),1,1))","v":4165},{"$f":"IF(A847>$A$8,\"\",OFFSET(InputPriceData!D$15,CalculationsAndCharts!$A847+$A$11,IF($C$5,8,0),1,1))","v":4174.75},{"$f":"IF(A847>$A$8,\"\",OFFSET(InputPriceData!E$15,CalculationsAndCharts!$A847+$A$11,IF($C$5,8,0),1,1))","v":4141.75},{"$f":"IF(A847>$A$8,\"\",OFFSET(InputPriceData!F$15,CalculationsAndCharts!$A847+$A$11,IF($C$5,8,0),1,1))","v":4155.5},0,20.75,{"$f":"IF($A847>$J$30,NA(),AVERAGE(H847:H850))","v":14.5625},8.875,null,null,{"$f":"IF($A847>$J$30,NA(),IF($A847>$N$30,0,(1-$M$35)*J847+(2*$M$35-$M$36)*J848-($M$35+$M$37)*J849+$M$36*N848+$M$37*N849))","v":17.98588141556262},5.50467227044658,0.53132886146271452,0.49676688711616074,null,null,15.6560558465374,1.8776662659098071,0.78582228532333698,1.0406530428546599,null,null,null,null,null,null,null,null,null,null,null,null,null,null,null,null,null,null,null,null,null,null,null,null,null,null,null,null,null,null,null,{"$error":"#N/A"},1618649]
[816,{"$f":"IF(A848>$A$8,\"\",OFFSET(InputPriceData!B$15,$A848+$A$11,0,1,1))","v":"2021-04-16T04:00:00"},{"$f":"IF(A848>$A$8,\"\",OFFSET(InputPriceData!G$15,CalculationsAndCharts!$A848+$A$11,IF($C$5,8,0),1,1))","v":1304078},{"$f":"IF(A848>$A$8,\"\",OFFSET(InputPriceData!C$15,CalculationsAndCharts!$A848+$A$11,IF($C$5,8,0),1,1))","v":4162.75},{"$f":"IF(A848>$A$8,\"\",OFFSET(InputPriceData!D$15,CalculationsAndCharts!$A848+$A$11,IF($C$5,8,0),1,1))","v":4183.5},{"$f":"IF(A848>$A$8,\"\",OFFSET(InputPriceData!E$15,CalculationsAndCharts!$A848+$A$11,IF($C$5,8,0),1,1))","v":4154.25},{"$f":"IF(A848>$A$8,\"\",OFFSET(InputPriceData!F$15,CalculationsAndCharts!$A848+$A$11,IF($C$5,8,0),1,1))","v":4176.25},13.75,0,{"$f":"IF($A848>$J$30,NA(),AVERAGE(H848:H851))","v":17.6875},3.6875,null,null,{"$f":"IF($A848>$J$30,NA(),IF($A848>$N$30,0,(1-$M$35)*J848+(2*$M$35-$M$36)*J849-($M$35+$M$37)*J850+$M$36*N849+$M$37*N850))","v":18.099659624986195},5.7014650464331442,0.52090792976018252,0.47786848999479675,null,null,15.996994102240707,0.42672635466518444,0.94803536071076355,1.1314085971659793,null,null,null,null,null,null,null,null,null,null,null,null,null,null,null,null,null,null,null,null,null,null,null,null,null,null,null,null,null,null,null,1304078,{"$error":"#N/A"}]
[817,{"$f":"IF(A849>$A$8,\"\",OFFSET(InputPriceData!B$15,$A849+$A$11,0,1,1))","v":"2021-04-15T04:00:00"},{"$f":"IF(A849>$A$8,\"\",OFFSET(InputPriceData!G$15,CalculationsAndCharts!$A849+$A$11,IF($C$5,8,0),1,1))","v":1277980},{"$f":"IF(A849>$A$8,\"\",OFFSET(InputPriceData!C$15,CalculationsAndCharts!$A849+$A$11,IF($C$5,8,0),1,1))","v":4123.5},{"$f":"IF(A849>$A$8,\"\",OFFSET(InputPriceData!D$15,CalculationsAndCharts!$A849+$A$11,IF($C$5,8,0),1,1))","v":4166.5},{"$f":"IF(A849>$A$8,\"\",OFFSET(InputPriceData!E$15,CalculationsAndCharts!$A849+$A$11,IF($C$5,8,0),1,1))","v":4119.5},{"$f":"IF(A849>$A$8,\"\",OFFSET(InputPriceData!F$15,CalculationsAndCharts!$A849+$A$11,IF($C$5,8,0),1,1))","v":4162.5},44.5,0,{"$f":"IF($A849>$J$30,NA(),AVERAGE(H849:H852))","v":14.4375},3.6875,null,null,{"$f":"IF($A849>$J$30,NA(),IF($A849>$N$30,0,(1-$M$35)*J849+(2*$M$35-$M$36)*J850-($M$35+$M$37)*J851+$M$36*N850+$M$37*N851))","v":18.221424288895342},6.1262873631212056,0.49676688711616074,0.44956560591678019,null,null,16.494290643666197,-0.32859241150379936,1.0406530428546599,1.1382499625383518,null,null,null,null,null,null,null,null,null,null,null,null,null,null,null,null,null,null,null,null,null,null,null,null,null,null,null,null,null,null,null,1277980,{"$error":"#N/A"}]
[818,{"$f":"IF(A850>$A$8,\"\",OFFSET(InputPriceData!B$15,$A850+$A$11,0,1,1))","v":"2021-04-14T04:00:00"},{"$f":"IF(A850>$A$8,\"\",OFFSET(InputPriceData!G$15,CalculationsAndCharts!$A850+$A$11,IF($C$5,8,0),1,1))","v":1529562},{"$f":"IF(A850>$A$8,\"\",OFFSET(InputPriceData!C$15,CalculationsAndCharts!$A850+$A$11,IF($C$5,8,0),1,1))","v":4134.75},{"$f":"IF(A850>$A$8,\"\",OFFSET(InputPriceData!D$15,CalculationsAndCharts!$A850+$A$11,IF($C$5,8,0),1,1))","v":4144},{"$f":"IF(A850>$A$8,\"\",OFFSET(InputPriceData!E$15,CalculationsAndCharts!$A850+$A$11,IF($C$5,8,0),1,1))","v":4113},{"$f":"IF(A850>$A$8,\"\",OFFSET(InputPriceData!F$15,CalculationsAndCharts!$A850+$A$11,IF($C$5,8,0),1,1))","v":4118},0,14.75,{"$f":"IF($A850>$J$30,NA(),AVERAGE(H850:H853))","v":10.9375},3.6875,null,null,{"$f":"IF($A850>$J$30,NA(),IF($A850>$N$30,0,(1-$M$35)*J850+(2*$M$35-$M$36)*J851-($M$35+$M$37)*J852+$M$36*N851+$M$37*N852))","v":18.619277575640435},6.5781979801256796,0.47786848999479675,0.41129593677301257,null,null,18.312536277176914,-1.1290302131344578,1.1314085971659793,1.069502300520099,null,null,null,null,null,null,null,null,null,null,null,null,null,null,null,null,null,null,null,null,null,null,null,null,null,null,null,null,null,null,null,{"$error":"#N/A"},1529562]
[819,{"$f":"IF(A851>$A$8,\"\",OFFSET(InputPriceData!B$15,$A851+$A$11,0,1,1))","v":"2021-04-13T04:00:00"},{"$f":"IF(A851>$A$8,\"\",OFFSET(InputPriceData!G$15,CalculationsAndCharts!$A851+$A$11,IF($C$5,8,0),1,1))","v":1081282},{"$f":"IF(A851>$A$8,\"\",OFFSET(InputPriceData!C$15,CalculationsAndCharts!$A851+$A$11,IF($C$5,8,0),1,1))","v":4122.75},{"$f":"IF(A851>$A$8,\"\",OFFSET(InputPriceData!D$15,CalculationsAndCharts!$A851+$A$11,IF($C$5,8,0),1,1))","v":4139.75},{"$f":"IF(A851>$A$8,\"\",OFFSET(InputPriceData!E$15,CalculationsAndCharts!$A851+$A$11,IF($C$5,8,0),1,1))","v":4101.25},{"$f":"IF(A851>$A$8,\"\",OFFSET(InputPriceData!F$15,CalculationsAndCharts!$A851+$A$11,IF($C$5,8,0),1,1))","v":4132.75},12.5,0,{"$f":"IF($A851>$J$30,NA(),AVERAGE(H851:H854))","v":15.6875},0,null,null,{"$f":"IF($A851>$J$30,NA(),IF($A851>$N$30,0,(1-$M$35)*J851+(2*$M$35-$M$36)*J852-($M$35+$M$37)*J853+$M$36*N852+$M$37*N853))","v":18.979983528983158},7.20714929413489,0.44956560591678019,0.3774919864612204,null,null,20.26294617885636,-1.3101141584111149,1.1382499625383518,1.0059062141660264,null,null,null,null,null,null,null,null,null,null,null,null,null,null,null,null,null,null,null,null,null,null,null,null,null,null,null,null,null,null,null,1081282,{"$error":"#N/A"}]
[820,{"$f":"IF(A852>$A$8,\"\",OFFSET(InputPriceData!B$15,$A852+$A$11,0,1,1))","v":"2021-04-12T04:00:00"},{"$f":"IF(A852>$A$8,\"\",OFFSET(InputPriceData!G$15,CalculationsAndCharts!$A852+$A$11,IF($C$5,8,0),1,1))","v":1089291},{"$f":"IF(A852>$A$8,\"\",OFFSET(InputPriceData!C$15,CalculationsAndCharts!$A852+$A$11,IF($C$5,8,0),1,1))","v":4114.25},{"$f":"IF(A852>$A$8,\"\",OFFSET(InputPriceData!D$15,CalculationsAndCharts!$A852+$A$11,IF($C$5,8,0),1,1))","v":4124.5},{"$f":"IF(A852>$A$8,\"\",OFFSET(InputPriceData!E$15,CalculationsAndCharts!$A852+$A$11,IF($C$5,8,0),1,1))","v":4104.5},{"$f":"IF(A852>$A$8,\"\",OFFSET(InputPriceData!F$15,CalculationsAndCharts!$A852+$A$11,IF($C$5,8,0),1,1))","v":4120.25},0.75,0,{"$f":"IF($A852>$J$30,NA(),AVERAGE(H852:H855))","v":14.0625},0,null,null,{"$f":"IF($A852>$J$30,NA(),IF($A852>$N$30,0,(1-$M$35)*J852+(2*$M$35-$M$36)*J853-($M$35+$M$37)*J854+$M$36*N853+$M$37*N854))","v":19.225478493787485},8.019662646131545,0.41129593677301257,0.34041120328536745,null,null,21.994256790541616,-0.7386565575637567,1.069502300520099,0.94568612291407939,null,null,null,null,null,null,null,null,null,null,null,null,null,null,null,null,null,null,null,null,null,null,null,null,null,null,null,null,null,null,null,1089291,{"$error":"#N/A"}]
[821,{"$f":"IF(A853>$A$8,\"\",OFFSET(InputPriceData!B$15,$A853+$A$11,0,1,1))","v":"2021-04-09T04:00:00"},{"$f":"IF(A853>$A$8,\"\",OFFSET(InputPriceData!G$15,CalculationsAndCharts!$A853+$A$11,IF($C$5,8,0),1,1))","v":1090560},{"$f":"IF(A853>$A$8,\"\",OFFSET(InputPriceData!C$15,CalculationsAndCharts!$A853+$A$11,IF($C$5,8,0),1,1))","v":4098},{"$f":"IF(A853>$A$8,\"\",OFFSET(InputPriceData!D$15,CalculationsAndCharts!$A853+$A$11,IF($C$5,8,0),1,1))","v":4121.5},{"$f":"IF(A853>$A$8,\"\",OFFSET(InputPriceData!E$15,CalculationsAndCharts!$A853+$A$11,IF($C$5,8,0),1,1))","v":4081},{"$f":"IF(A853>$A$8,\"\",OFFSET(InputPriceData!F$15,CalculationsAndCharts!$A853+$A$11,IF($C$5,8,0),1,1))","v":4119.5},30.5,0,{"$f":"IF($A853>$J$30,NA(),AVERAGE(H853:H856))","v":13.875},0.9375,null,null,{"$f":"IF($A853>$J$30,NA(),IF($A853>$N$30,0,(1-$M$35)*J853+(2*$M$35-$M$36)*J854-($M$35+$M$37)*J855+$M$36*N854+$M$37*N855))","v":19.550332501082217},8.8350703807262772,0.3774919864612204,0.29172135938813087,null,null,24.263742279513853,-7.1442451975082699E-2,1.0059062141660264,0.86420350059361695,null,null,null,null,null,null,null,null,null,null,null,null,null,null,null,null,null,null,null,null,null,null,null,null,null,null,null,null,null,null,null,1090560,{"$error":"#N/A"}]
[822,{"$f":"IF(A854>$A$8,\"\",OFFSET(InputPriceData!B$15,$A854+$A$11,0,1,1))","v":"2021-04-08T04:00:00"},{"$f":"IF(A854>$A$8,\"\",OFFSET(InputPriceData!G$15,CalculationsAndCharts!$A854+$A$11,IF($C$5,8,0),1,1))","v":988346},{"$f":"IF(A854>$A$8,\"\",OFFSET(InputPriceData!C$15,CalculationsAndCharts!$A854+$A$11,IF($C$5,8,0),1,1))","v":4074.25},{"$f":"IF(A854>$A$8,\"\",OFFSET(InputPriceData!D$15,CalculationsAndCharts!$A854+$A$11,IF($C$5,8,0),1,1))","v":4098.5},{"$f":"IF(A854>$A$8,\"\",OFFSET(InputPriceData!E$15,CalculationsAndCharts!$A854+$A$11,IF($C$5,8,0),1,1))","v":4072.5},{"$f":"IF(A854>$A$8,\"\",OFFSET(InputPriceData!F$15,CalculationsAndCharts!$A854+$A$11,IF($C$5,8,0),1,1))","v":4089},19,0,{"$f":"IF($A854>$J$30,NA(),AVERAGE(H854:H857))","v":20.6875},0.9375,null,null,{"$f":"IF($A854>$J$30,NA(),IF($A854>$N$30,0,(1-$M$35)*J854+(2*$M$35-$M$36)*J855-($M$35+$M$37)*J856+$M$36*N855+$M$37*N856))","v":19.615687689893566},9.6524766492513603,0.34041120328536745,0.23254444185773038,null,null,25.634108261291559,0.7155767772171413,0.94568612291407939,0.74265748453590685,null,null,null,null,null,null,null,null,null,null,null,null,null,null,null,null,null,null,null,null,null,null,null,null,null,null,null,null,null,null,null,988346,{"$error":"#N/A"}]
[823,{"$f":"IF(A855>$A$8,\"\",OFFSET(InputPriceData!B$15,$A855+$A$11,0,1,1))","v":"2021-04-07T04:00:00"},{"$f":"IF(A855>$A$8,\"\",OFFSET(InputPriceData!G$15,CalculationsAndCharts!$A855+$A$11,IF($C$5,8,0),1,1))","v":1101579},{"$f":"IF(A855>$A$8,\"\",OFFSET(InputPriceData!C$15,CalculationsAndCharts!$A855+$A$11,IF($C$5,8,0),1,1))","v":4067},{"$f":"IF(A855>$A$8,\"\",OFFSET(InputPriceData!D$15,CalculationsAndCharts!$A855+$A$11,IF($C$5,8,0),1,1))","v":4075.5},{"$f":"IF(A855>$A$8,\"\",OFFSET(InputPriceData!E$15,CalculationsAndCharts!$A855+$A$11,IF($C$5,8,0),1,1))","v":4056.5},{"$f":"IF(A855>$A$8,\"\",OFFSET(InputPriceData!F$15,CalculationsAndCharts!$A855+$A$11,IF($C$5,8,0),1,1))","v":4070},6,0,{"$f":"IF($A855>$J$30,NA(),AVERAGE(H855:H858))","v":26.5625},0.9375,null,null,{"$f":"IF($A855>$J$30,NA(),IF($A855>$N$30,0,(1-$M$35)*J855+(2*$M$35-$M$36)*J856-($M$35+$M$37)*J857+$M$36*N856+$M$37*N857))","v":19.165463043591856},10.508836145314101,0.29172135938813087,0.17004925241390345,null,null,24.841683057081092,1.8095736851906312,0.86420350059361695,0.58050369233091026,null,null,null,null,null,null,null,null,null,null,null,null,null,null,null,null,null,null,null,null,null,null,null,null,null,null,null,null,null,null,null,1101579,{"$error":"#N/A"}]
[824,{"$f":"IF(A856>$A$8,\"\",OFFSET(InputPriceData!B$15,$A856+$A$11,0,1,1))","v":"2021-04-06T04:00:00"},{"$f":"IF(A856>$A$8,\"\",OFFSET(InputPriceData!G$15,CalculationsAndCharts!$A856+$A$11,IF($C$5,8,0),1,1))","v":1252163},{"$f":"IF(A856>$A$8,\"\",OFFSET(InputPriceData!C$15,CalculationsAndCharts!$A856+$A$11,IF($C$5,8,0),1,1))","v":4069.75},{"$f":"IF(A856>$A$8,\"\",OFFSET(InputPriceData!D$15,CalculationsAndCharts!$A856+$A$11,IF($C$5,8,0),1,1))","v":4076},{"$f":"IF(A856>$A$8,\"\",OFFSET(InputPriceData!E$15,CalculationsAndCharts!$A856+$A$11,IF($C$5,8,0),1,1))","v":4052.25},{"$f":"IF(A856>$A$8,\"\",OFFSET(InputPriceData!F$15,CalculationsAndCharts!$A856+$A$11,IF($C$5,8,0),1,1))","v":4064},0,3.75,{"$f":"IF($A856>$J$30,NA(),AVERAGE(H856:H859))","v":30},0.9375,null,null,{"$f":"IF($A856>$J$30,NA(),IF($A856>$N$30,0,(1-$M$35)*J856+(2*$M$35-$M$36)*J857-($M$35+$M$37)*J858+$M$36*N857+$M$37*N858))","v":18.315886291159075},11.404561376517371,0.23254444185773038,0.12664563694878739,null,null,22.080206292951196,3.2606383525259401,0.74265748453590685,0.43732070276859886,null,null,null,null,null,null,null,null,null,null,null,null,null,null,null,null,null,null,null,null,null,null,null,null,null,null,null,null,null,null,null,{"$error":"#N/A"},1252163]
[825,{"$f":"IF(A857>$A$8,\"\",OFFSET(InputPriceData!B$15,$A857+$A$11,0,1,1))","v":"2021-04-05T04:00:00"},{"$f":"IF(A857>$A$8,\"\",OFFSET(InputPriceData!G$15,CalculationsAndCharts!$A857+$A$11,IF($C$5,8,0),1,1))","v":1250666},{"$f":"IF(A857>$A$8,\"\",OFFSET(InputPriceData!C$15,CalculationsAndCharts!$A857+$A$11,IF($C$5,8,0),1,1))","v":4030},{"$f":"IF(A857>$A$8,\"\",OFFSET(InputPriceData!D$15,CalculationsAndCharts!$A857+$A$11,IF($C$5,8,0),1,1))","v":4073.75},{"$f":"IF(A857>$A$8,\"\",OFFSET(InputPriceData!E$15,CalculationsAndCharts!$A857+$A$11,IF($C$5,8,0),1,1))","v":4021},{"$f":"IF(A857>$A$8,\"\",OFFSET(InputPriceData!F$15,CalculationsAndCharts!$A857+$A$11,IF($C$5,8,0),1,1))","v":4067.75},57.75,0,{"$f":"IF($A857>$J$30,NA(),AVERAGE(H857:H860))","v":30},2.8125,null,null,{"$f":"IF($A857>$J$30,NA(),IF($A857>$N$30,0,(1-$M$35)*J857+(2*$M$35-$M$36)*J858-($M$35+$M$37)*J859+$M$36*N858+$M$37*N859))","v":17.289713138039723},12.264107955165862,0.17004925241390345,9.5324036703104298E-2,null,null,18.062270959715924,4.7940767316683033,0.58050369233091026,0.31021887404107201,null,null,null,null,null,null,null,null,null,null,null,null,null,null,null,null,null,null,null,null,null,null,null,null,null,null,null,null,null,null,null,1250666,{"$error":"#N/A"}]
[826,{"$f":"IF(A858>$A$8,\"\",OFFSET(InputPriceData!B$15,$A858+$A$11,0,1,1))","v":"2021-04-01T04:00:00"},{"$f":"IF(A858>$A$8,\"\",OFFSET(InputPriceData!G$15,CalculationsAndCharts!$A858+$A$11,IF($C$5,8,0),1,1))","v":1245846},{"$f":"IF(A858>$A$8,\"\",OFFSET(InputPriceData!C$15,CalculationsAndCharts!$A858+$A$11,IF($C$5,8,0),1,1))","v":3967.5},{"$f":"IF(A858>$A$8,\"\",OFFSET(InputPriceData!D$15,CalculationsAndCharts!$A858+$A$11,IF($C$5,8,0),1,1))","v":4015.25},{"$f":"IF(A858>$A$8,\"\",OFFSET(InputPriceData!E$15,CalculationsAndCharts!$A858+$A$11,IF($C$5,8,0),1,1))","v":3964.5},{"$f":"IF(A858>$A$8,\"\",OFFSET(InputPriceData!F$15,CalculationsAndCharts!$A858+$A$11,IF($C$5,8,0),1,1))","v":4010},42.5,0,{"$f":"IF($A858>$J$30,NA(),AVERAGE(H858:H861))","v":15.5625},4.25,null,null,{"$f":"IF($A858>$J$30,NA(),IF($A858>$N$30,0,(1-$M$35)*J858+(2*$M$35-$M$36)*J859-($M$35+$M$37)*J860+$M$36*N859+$M$37*N860))","v":16.804568596355487},13.02658335638465,0.12664563694878739,5.7313622573972323E-2,null,null,15.730900302493795,6.1582998908834909,0.43732070276859886,0.12209466626199647,null,null,null,null,null,null,null,null,null,null,null,null,null,null,null,null,null,null,null,null,null,null,null,null,null,null,null,null,null,null,null,1245846,{"$error":"#N/A"}]
[827,{"$f":"IF(A859>$A$8,\"\",OFFSET(InputPriceData!B$15,$A859+$A$11,0,1,1))","v":"2021-03-31T04:00:00"},{"$f":"IF(A859>$A$8,\"\",OFFSET(InputPriceData!G$15,CalculationsAndCharts!$A859+$A$11,IF($C$5,8,0),1,1))","v":1642169},{"$f":"IF(A859>$A$8,\"\",OFFSET(InputPriceData!C$15,CalculationsAndCharts!$A859+$A$11,IF($C$5,8,0),1,1))","v":3949.5},{"$f":"IF(A859>$A$8,\"\",OFFSET(InputPriceData!D$15,CalculationsAndCharts!$A859+$A$11,IF($C$5,8,0),1,1))","v":3983.75},{"$f":"IF(A859>$A$8,\"\",OFFSET(InputPriceData!E$15,CalculationsAndCharts!$A859+$A$11,IF($C$5,8,0),1,1))","v":3941.5},{"$f":"IF(A859>$A$8,\"\",OFFSET(InputPriceData!F$15,CalculationsAndCharts!$A859+$A$11,IF($C$5,8,0),1,1))","v":3967.5},19.75,0,{"$f":"IF($A859>$J$30,NA(),AVERAGE(H859:H862))","v":21},4.25,null,null,{"$f":"IF($A859>$J$30,NA(),IF($A859>$N$30,0,(1-$M$35)*J859+(2*$M$35-$M$36)*J860-($M$35+$M$37)*J861+$M$36*N860+$M$37*N861))","v":16.663075222076117},13.762761632981903,9.5324036703104298E-2,2.1399908836002027E-2,null,null,14.492525936037275,7.6297716787702061,0.31021887404107201,-9.801491210238604E-2,null,null,null,null,null,null,null,null,null,null,null,null,null,null,null,null,null,null,null,null,null,null,null,null,null,null,null,null,null,null,null,1642169,{"$error":"#N/A"}]
[828,{"$f":"IF(A860>$A$8,\"\",OFFSET(InputPriceData!B$15,$A860+$A$11,0,1,1))","v":"2021-03-30T04:00:00"},{"$f":"IF(A860>$A$8,\"\",OFFSET(InputPriceData!G$15,CalculationsAndCharts!$A860+$A$11,IF($C$5,8,0),1,1))","v":1590486},{"$f":"IF(A860>$A$8,\"\",OFFSET(InputPriceData!C$15,CalculationsAndCharts!$A860+$A$11,IF($C$5,8,0),1,1))","v":3965.25},{"$f":"IF(A860>$A$8,\"\",OFFSET(InputPriceData!D$15,CalculationsAndCharts!$A860+$A$11,IF($C$5,8,0),1,1))","v":3968.5},{"$f":"IF(A860>$A$8,\"\",OFFSET(InputPriceData!E$15,CalculationsAndCharts!$A860+$A$11,IF($C$5,8,0),1,1))","v":3933.75},{"$f":"IF(A860>$A$8,\"\",OFFSET(InputPriceData!F$15,CalculationsAndCharts!$A860+$A$11,IF($C$5,8,0),1,1))","v":3947.75},0,11.25,{"$f":"IF($A860>$J$30,NA(),AVERAGE(H860:H863))","v":21},4.25,null,null,{"$f":"IF($A860>$J$30,NA(),IF($A860>$N$30,0,(1-$M$35)*J860+(2*$M$35-$M$36)*J861-($M$35+$M$37)*J862+$M$36*N861+$M$37*N862))","v":16.295197788995587},14.528575670625253,5.7313622573972323E-2,-4.7529140630412888E-3,null,null,12.080210601551251,9.4513249538109871,0.12209466626199647,-0.32644919946096618,null,null,null,null,null,null,null,null,null,null,null,null,null,null,null,null,null,null,null,null,null,null,null,null,null,null,null,null,null,null,null,{"$error":"#N/A"},1590486]
[829,{"$f":"IF(A861>$A$8,\"\",OFFSET(InputPriceData!B$15,$A861+$A$11,0,1,1))","v":"2021-03-29T04:00:00"},{"$f":"IF(A861>$A$8,\"\",OFFSET(InputPriceData!G$15,CalculationsAndCharts!$A861+$A$11,IF($C$5,8,0),1,1))","v":2003052},{"$f":"IF(A861>$A$8,\"\",OFFSET(InputPriceData!C$15,CalculationsAndCharts!$A861+$A$11,IF($C$5,8,0),1,1))","v":3962.25},{"$f":"IF(A861>$A$8,\"\",OFFSET(InputPriceData!D$15,CalculationsAndCharts!$A861+$A$11,IF($C$5,8,0),1,1))","v":3971.25},{"$f":"IF(A861>$A$8,\"\",OFFSET(InputPriceData!E$15,CalculationsAndCharts!$A861+$A$11,IF($C$5,8,0),1,1))","v":3928.75},{"$f":"IF(A861>$A$8,\"\",OFFSET(InputPriceData!F$15,CalculationsAndCharts!$A861+$A$11,IF($C$5,8,0),1,1))","v":3959},0,5.75,{"$f":"IF($A861>$J$30,NA(),AVERAGE(H861:H864))","v":21},6.1875,null,null,{"$f":"IF($A861>$J$30,NA(),IF($A861>$N$30,0,(1-$M$35)*J861+(2*$M$35-$M$36)*J862-($M$35+$M$37)*J863+$M$36*N862+$M$37*N863))","v":15.91235110832368},15.245574344122387,2.1399908836002027E-2,-8.5791616111769615E-3,null,null,9.2933206556766681,11.313052510287624,-9.801491210238604E-2,-0.43430894522918595,null,null,null,null,null,null,null,null,null,null,null,null,null,null,null,null,null,null,null,null,null,null,null,null,null,null,null,null,null,null,null,{"$error":"#N/A"},2003052]
[830,{"$f":"IF(A862>$A$8,\"\",OFFSET(InputPriceData!B$15,$A862+$A$11,0,1,1))","v":"2021-03-26T04:00:00"},{"$f":"IF(A862>$A$8,\"\",OFFSET(InputPriceData!G$15,CalculationsAndCharts!$A862+$A$11,IF($C$5,8,0),1,1))","v":1984060},{"$f":"IF(A862>$A$8,\"\",OFFSET(InputPriceData!C$15,CalculationsAndCharts!$A862+$A$11,IF($C$5,8,0),1,1))","v":3907.5},{"$f":"IF(A862>$A$8,\"\",OFFSET(InputPriceData!D$15,CalculationsAndCharts!$A862+$A$11,IF($C$5,8,0),1,1))","v":3968},{"$f":"IF(A862>$A$8,\"\",OFFSET(InputPriceData!E$15,CalculationsAndCharts!$A862+$A$11,IF($C$5,8,0),1,1))","v":3900.75},{"$f":"IF(A862>$A$8,\"\",OFFSET(InputPriceData!F$15,CalculationsAndCharts!$A862+$A$11,IF($C$5,8,0),1,1))","v":3964.75},64.25,0,{"$f":"IF($A862>$J$30,NA(),AVERAGE(H862:H865))","v":21},12.3125,null,null,{"$f":"IF($A862>$J$30,NA(),IF($A862>$N$30,0,(1-$M$35)*J862+(2*$M$35-$M$36)*J863-($M$35+$M$37)*J864+$M$36*N863+$M$37*N864))","v":15.514552638209503},15.662735609971776,-4.7529140630412888E-3,9.9750250751893567E-3,null,null,6.1563962701099433,12.124025236873823,-0.32644919946096618,-0.30284147188795468,null,null,null,null,null,null,null,null,null,null,null,null,null,null,null,null,null,null,null,null,null,null,null,null,null,null,null,null,null,null,null,1984060,{"$error":"#N/A"}]
[831,{"$f":"IF(A863>$A$8,\"\",OFFSET(InputPriceData!B$15,$A863+$A$11,0,1,1))","v":"2021-03-25T04:00:00"},{"$f":"IF(A863>$A$8,\"\",OFFSET(InputPriceData!G$15,CalculationsAndCharts!$A863+$A$11,IF($C$5,8,0),1,1))","v":2279488},{"$f":"IF(A863>$A$8,\"\",OFFSET(InputPriceData!C$15,CalculationsAndCharts!$A863+$A$11,IF($C$5,8,0),1,1))","v":3882.75},{"$f":"IF(A863>$A$8,\"\",OFFSET(InputPriceData!D$15,CalculationsAndCharts!$A863+$A$11,IF($C$5,8,0),1,1))","v":3909.5},{"$f":"IF(A863>$A$8,\"\",OFFSET(InputPriceData!E$15,CalculationsAndCharts!$A863+$A$11,IF($C$5,8,0),1,1))","v":3843.25},{"$f":"IF(A863>$A$8,\"\",OFFSET(InputPriceData!F$15,CalculationsAndCharts!$A863+$A$11,IF($C$5,8,0),1,1))","v":3900.5},19.75,0,{"$f":"IF($A863>$J$30,NA(),AVERAGE(H863:H866))","v":9.2825000000000273},12.3125,null,null,{"$f":"IF($A863>$J$30,NA(),IF($A863>$N$30,0,(1-$M$35)*J863+(2*$M$35-$M$36)*J864-($M$35+$M$37)*J865+$M$36*N864+$M$37*N865))","v":15.575957680326855},15.845527681307548,-8.5791616111769615E-3,4.7604497731921554E-2,null,null,4.7387227424982257,12.015025447556106,-0.43430894522918595,-1.5675024031153565E-2,null,null,null,null,null,null,null,null,null,null,null,null,null,null,null,null,null,null,null,null,null,null,null,null,null,null,null,null,null,null,null,2279488,{"$error":"#N/A"}]
[832,{"$f":"IF(A864>$A$8,\"\",OFFSET(InputPriceData!B$15,$A864+$A$11,0,1,1))","v":"2021-03-24T04:00:00"},{"$f":"IF(A864>$A$8,\"\",OFFSET(InputPriceData!G$15,CalculationsAndCharts!$A864+$A$11,IF($C$5,8,0),1,1))","v":2063480},{"$f":"IF(A864>$A$8,\"\",OFFSET(InputPriceData!C$15,CalculationsAndCharts!$A864+$A$11,IF($C$5,8,0),1,1))","v":3905.75},{"$f":"IF(A864>$A$8,\"\",OFFSET(InputPriceData!D$15,CalculationsAndCharts!$A864+$A$11,IF($C$5,8,0),1,1))","v":3931.5},{"$f":"IF(A864>$A$8,\"\",OFFSET(InputPriceData!E$15,CalculationsAndCharts!$A864+$A$11,IF($C$5,8,0),1,1))","v":3877.5},{"$f":"IF(A864>$A$8,\"\",OFFSET(InputPriceData!F$15,CalculationsAndCharts!$A864+$A$11,IF($C$5,8,0),1,1))","v":3880.75},0,19,{"$f":"IF($A864>$J$30,NA(),AVERAGE(H864:H867))","v":4.3450000000000273},13.282500000000027,null,null,{"$f":"IF($A864>$J$30,NA(),IF($A864>$N$30,0,(1-$M$35)*J864+(2*$M$35-$M$36)*J865-($M$35+$M$37)*J866+$M$36*N865+$M$37*N866))","v":16.314866678164293},15.992598898917089,9.9750250751893567E-3,8.4736866307719164E-2,null,null,6.269342862396984,11.716072533366182,-0.30284147188795468,0.30323090558795224,null,null,null,null,null,null,null,null,null,null,null,null,null,null,null,null,null,null,null,null,null,null,null,null,null,null,null,null,null,null,null,{"$error":"#N/A"},2063480]
[833,{"$f":"IF(A865>$A$8,\"\",OFFSET(InputPriceData!B$15,$A865+$A$11,0,1,1))","v":"2021-03-23T04:00:00"},{"$f":"IF(A865>$A$8,\"\",OFFSET(InputPriceData!G$15,CalculationsAndCharts!$A865+$A$11,IF($C$5,8,0),1,1))","v":1877976},{"$f":"IF(A865>$A$8,\"\",OFFSET(InputPriceData!C$15,CalculationsAndCharts!$A865+$A$11,IF($C$5,8,0),1,1))","v":3933.25},{"$f":"IF(A865>$A$8,\"\",OFFSET(InputPriceData!D$15,CalculationsAndCharts!$A865+$A$11,IF($C$5,8,0),1,1))","v":3938.75},{"$f":"IF(A865>$A$8,\"\",OFFSET(InputPriceData!E$15,CalculationsAndCharts!$A865+$A$11,IF($C$5,8,0),1,1))","v":3890.5},{"$f":"IF(A865>$A$8,\"\",OFFSET(InputPriceData!F$15,CalculationsAndCharts!$A865+$A$11,IF($C$5,8,0),1,1))","v":3899.75},0,30.25,{"$f":"IF($A865>$J$30,NA(),AVERAGE(H865:H868))","v":4.3450000000000273},22.907500000000027,null,null,{"$f":"IF($A865>$J$30,NA(),IF($A865>$N$30,0,(1-$M$35)*J865+(2*$M$35-$M$36)*J866-($M$35+$M$37)*J867+$M$36*N866+$M$37*N867))","v":17.283445152946513},15.712681133959308,4.7604497731921554E-2,0.11539928255161254,null,null,{"$f":"IF($A865>$J$30,NA(),IF($A865>$N$30,0,(1-S$35)*$J865+(2*S$35-S$36)*$J866-(S$35+S$37)*$J867+S$36*T866+S$37*T867))","v":9.2526860606280046},{"$f":"IF($A865>$J$30,NA(),IF($A865>$N$30,0,(1-S$35)*$K865+(2*S$35-S$36)*$K866-(S$35+S$37)*$K867+S$36*U866+S$37*U867))","v":9.5473775088670543},{"$f":"IF($A865>$N$30,NA(),(T865-U865)/(T865+U865))","v":-1.5675024031153565E-2},{"$f":"IF($A865>$N$30,NA(),OFFSET(V865,$C$18,0,1,1))","v":0.56978428092235933},null,null,null,null,null,null,null,null,null,null,null,null,null,null,null,null,null,null,null,null,null,null,null,null,null,null,null,null,null,null,null,{"$error":"#N/A"},1877976]
[834,{"$f":"IF(A866>$A$8,\"\",OFFSET(InputPriceData!B$15,$A866+$A$11,0,1,1))","v":"2021-03-22T04:00:00"},{"$f":"IF(A866>$A$8,\"\",OFFSET(InputPriceData!G$15,CalculationsAndCharts!$A866+$A$11,IF($C$5,8,0),1,1))","v":1325987},{"$f":"IF(A866>$A$8,\"\",OFFSET(InputPriceData!C$15,CalculationsAndCharts!$A866+$A$11,IF($C$5,8,0),1,1))","v":3893.5},{"$f":"IF(A866>$A$8,\"\",OFFSET(InputPriceData!D$15,CalculationsAndCharts!$A866+$A$11,IF($C$5,8,0),1,1))","v":3944.5},{"$f":"IF(A866>$A$8,\"\",OFFSET(InputPriceData!E$15,CalculationsAndCharts!$A866+$A$11,IF($C$5,8,0),1,1))","v":3885},{"$f":"IF(A866>$A$8,\"\",OFFSET(InputPriceData!F$15,CalculationsAndCharts!$A866+$A$11,IF($C$5,8,0),1,1))","v":3930},{"$f":"IF($A866>$H$30,NA(),IF($G866>$G867,$G866-$G867,0))","v":17.380000000000109},{"$f":"IF($A866>$H$30,NA(),IF(G866<G867,G867-G866,0))","v":0},{"$f":"IF($A866>$J$30,NA(),AVERAGE(H866:H869))","v":7.2200000000000273},15.345000000000027,null,null,{"$f":"IF($A866>$J$30,NA(),IF($A866>$N$30,0,(1-$M$35)*J866+(2*$M$35-$M$36)*J867-($M$35+$M$37)*J868+$M$36*N867+$M$37*N868))","v":18.173309516904446},15.334004710855975,{"$f":"IF($A866>$N$30,NA(),(N866-O866)/(N866+O866))","v":8.4736866307719164E-2},{"$f":"IF($A866>$N$30,NA(),OFFSET(P866,$C$17,0,1,1))","v":0.14417747981556076},null,null,12.566145649624985,6.7184578626831764,0.30323090558795224,0.80083770654083686,null,null,null,null,null,null,null,null,null,null,null,null,null,null,null,null,null,null,null,null,null,null,null,null,null,null,null,null,null,null,null,1325987,{"$error":"#N/A"}]
[835,{"$f":"IF(A867>$A$8,\"\",OFFSET(InputPriceData!B$15,$A867+$A$11,0,1,1))","v":"2021-03-19T04:00:00"},{"$f":"IF(A867>$A$8,\"\",OFFSET(InputPriceData!G$15,CalculationsAndCharts!$A867+$A$11,IF($C$5,8,0),1,1))","v":2047619},{"$f":"IF(A867>$A$8,\"\",OFFSET(InputPriceData!C$15,CalculationsAndCharts!$A867+$A$11,IF($C$5,8,0),1,1))","v":3923.75},{"$f":"IF(A867>$A$8,\"\",OFFSET(InputPriceData!D$15,CalculationsAndCharts!$A867+$A$11,IF($C$5,8,0),1,1))","v":3934.25},{"$f":"IF(A867>$A$8,\"\",OFFSET(InputPriceData!E$15,CalculationsAndCharts!$A867+$A$11,IF($C$5,8,0),1,1))","v":3908},{"$f":"IF(A867>$A$8,\"\",OFFSET(InputPriceData!F$15,CalculationsAndCharts!$A867+$A$11,IF($C$5,8,0),1,1))","v":3912.62},0,3.8800000000001091,{"$f":"IF($A867>$J$30,NA(),AVERAGE(H867:H870))","v":2.875},16.595000000000027,null,null,{"$f":"IF($A867>$J$30,NA(),IF($A867>$N$30,0,(1-$M$35)*J867+(2*$M$35-$M$36)*J868-($M$35+$M$37)*J869+$M$36*N868+$M$37*N869))","v":19.15555186820562},15.191882575870672,0.11539928255161254,0.14555921850914857,null,null,16.969482735803599,4.6506633467305267,0.56978428092235933,0.80780475426956155,null,null,null,null,null,null,null,null,null,null,null,null,null,null,null,null,null,null,null,null,null,null,null,null,null,null,null,null,null,null,null,{"$error":"#N/A"},2047619]
[836,{"$f":"IF(A868>$A$8,\"\",OFFSET(InputPriceData!B$15,$A868+$A$11,0,1,1))","v":"2021-03-18T04:00:00"},{"$f":"IF(A868>$A$8,\"\",OFFSET(InputPriceData!G$15,CalculationsAndCharts!$A868+$A$11,IF($C$5,8,0),1,1))","v":335435},{"$f":"IF(A868>$A$8,\"\",OFFSET(InputPriceData!C$15,CalculationsAndCharts!$A868+$A$11,IF($C$5,8,0),1,1))","v":3972},{"$f":"IF(A868>$A$8,\"\",OFFSET(InputPriceData!D$15,CalculationsAndCharts!$A868+$A$11,IF($C$5,8,0),1,1))","v":3988.75},{"$f":"IF(A868>$A$8,\"\",OFFSET(InputPriceData!E$15,CalculationsAndCharts!$A868+$A$11,IF($C$5,8,0),1,1))","v":3911},{"$f":"IF(A868>$A$8,\"\",OFFSET(InputPriceData!F$15,CalculationsAndCharts!$A868+$A$11,IF($C$5,8,0),1,1))","v":3916.5},0,57.5,{"$f":"IF($A868>$J$30,NA(),AVERAGE(H868:H871))","v":9.1875},15.625,null,null,{"$f":"IF($A868>$J$30,NA(),IF($A868>$N$30,0,(1-$M$35)*J868+(2*$M$35-$M$36)*J869-($M$35+$M$37)*J870+$M$36*N869+$M$37*N870))","v":20.093096641926099},15.029245820477668,0.14417747981556076,0.12125873771268805,null,null,21.975429622170918,2.4303561322630163,0.80083770654083686,0.66298305985580319,null,null,null,null,null,null,null,null,null,null,null,null,null,null,null,null,null,null,null,null,null,null,null,null,null,null,null,null,null,null,null,{"$error":"#N/A"},335435]
[837,{"$f":"IF(A869>$A$8,\"\",OFFSET(InputPriceData!B$15,$A869+$A$11,0,1,1))","v":"2021-03-17T04:00:00"},{"$f":"IF(A869>$A$8,\"\",OFFSET(InputPriceData!G$15,CalculationsAndCharts!$A869+$A$11,IF($C$5,8,0),1,1))","v":520411},{"$f":"IF(A869>$A$8,\"\",OFFSET(InputPriceData!C$15,CalculationsAndCharts!$A869+$A$11,IF($C$5,8,0),1,1))","v":3967.5},{"$f":"IF(A869>$A$8,\"\",OFFSET(InputPriceData!D$15,CalculationsAndCharts!$A869+$A$11,IF($C$5,8,0),1,1))","v":3983.75},{"$f":"IF(A869>$A$8,\"\",OFFSET(InputPriceData!E$15,CalculationsAndCharts!$A869+$A$11,IF($C$5,8,0),1,1))","v":3935.25},{"$f":"IF(A869>$A$8,\"\",OFFSET(InputPriceData!F$15,CalculationsAndCharts!$A869+$A$11,IF($C$5,8,0),1,1))","v":3974},11.5,0,{"$f":"IF($A869>$J$30,NA(),AVERAGE(H869:H872))","v":10.5625},1.25,null,null,{"$f":"IF($A869>$J$30,NA(),IF($A869>$N$30,0,(1-$M$35)*J869+(2*$M$35-$M$36)*J870-($M$35+$M$37)*J871+$M$36*N870+$M$37*N871))","v":20.75097509071438},15.477575568971417,0.14555921850914857,8.4005313200809922E-2,null,null,26.588115012976836,2.8266931405946911,0.80780475426956155,0.50583189468927292,null,null,null,null,null,null,null,null,null,null,null,null,null,null,null,null,null,null,null,null,null,null,null,null,null,null,null,null,null,null,null,520411,{"$error":"#N/A"}]
[838,{"$f":"IF(A870>$A$8,\"\",OFFSET(InputPriceData!B$15,$A870+$A$11,0,1,1))","v":"2021-03-16T04:00:00"},{"$f":"IF(A870>$A$8,\"\",OFFSET(InputPriceData!G$15,CalculationsAndCharts!$A870+$A$11,IF($C$5,8,0),1,1))","v":887247},{"$f":"IF(A870>$A$8,\"\",OFFSET(InputPriceData!C$15,CalculationsAndCharts!$A870+$A$11,IF($C$5,8,0),1,1))","v":3967},{"$f":"IF(A870>$A$8,\"\",OFFSET(InputPriceData!D$15,CalculationsAndCharts!$A870+$A$11,IF($C$5,8,0),1,1))","v":3980.5},{"$f":"IF(A870>$A$8,\"\",OFFSET(InputPriceData!E$15,CalculationsAndCharts!$A870+$A$11,IF($C$5,8,0),1,1))","v":3952.75},{"$f":"IF(A870>$A$8,\"\",OFFSET(InputPriceData!F$15,CalculationsAndCharts!$A870+$A$11,IF($C$5,8,0),1,1))","v":3962.5},0,5,{"$f":"IF($A870>$J$30,NA(),AVERAGE(H870:H873))","v":17.75},1.25,null,null,{"$f":"IF($A870>$J$30,NA(),IF($A870>$N$30,0,(1-$M$35)*J870+(2*$M$35-$M$36)*J871-($M$35+$M$37)*J872+$M$36*N871+$M$37*N872))","v":21.081125764165769},16.521481118827563,0.12125873771268805,3.2928838304281914E-2,null,null,30.464861395086068,6.1739500642774061,0.66298305985580319,0.32681605354815002,null,null,null,null,null,null,null,null,null,null,null,null,null,null,null,null,null,null,null,null,null,null,null,null,null,null,null,null,null,null,null,{"$error":"#N/A"},887247]
[839,{"$f":"IF(A871>$A$8,\"\",OFFSET(InputPriceData!B$15,$A871+$A$11,0,1,1))","v":"2021-03-15T04:00:00"},{"$f":"IF(A871>$A$8,\"\",OFFSET(InputPriceData!G$15,CalculationsAndCharts!$A871+$A$11,IF($C$5,8,0),1,1))","v":1295099},{"$f":"IF(A871>$A$8,\"\",OFFSET(InputPriceData!C$15,CalculationsAndCharts!$A871+$A$11,IF($C$5,8,0),1,1))","v":3945.75},{"$f":"IF(A871>$A$8,\"\",OFFSET(InputPriceData!D$15,CalculationsAndCharts!$A871+$A$11,IF($C$5,8,0),1,1))","v":3969.75},{"$f":"IF(A871>$A$8,\"\",OFFSET(InputPriceData!E$15,CalculationsAndCharts!$A871+$A$11,IF($C$5,8,0),1,1))","v":3922.25},{"$f":"IF(A871>$A$8,\"\",OFFSET(InputPriceData!F$15,CalculationsAndCharts!$A871+$A$11,IF($C$5,8,0),1,1))","v":3967.5},25.25,0,{"$f":"IF($A871>$J$30,NA(),AVERAGE(H871:H874))","v":23.5625},0,null,null,{"$f":"IF($A871>$J$30,NA(),IF($A871>$N$30,0,(1-$M$35)*J871+(2*$M$35-$M$36)*J872-($M$35+$M$37)*J873+$M$36*N872+$M$37*N873))","v":20.889886477797379},17.652150583099512,8.4005313200809922E-2,-1.9944852765700467E-2,null,null,32.591652542089122,10.695586434628634,0.50583189468927292,0.1579114231551014,null,null,null,null,null,null,null,null,null,null,null,null,null,null,null,null,null,null,null,null,null,null,null,null,null,null,null,null,null,null,null,1295099,{"$error":"#N/A"}]
[840,{"$f":"IF(A872>$A$8,\"\",OFFSET(InputPriceData!B$15,$A872+$A$11,0,1,1))","v":"2021-03-12T05:00:00"},{"$f":"IF(A872>$A$8,\"\",OFFSET(InputPriceData!G$15,CalculationsAndCharts!$A872+$A$11,IF($C$5,8,0),1,1))","v":1448886},{"$f":"IF(A872>$A$8,\"\",OFFSET(InputPriceData!C$15,CalculationsAndCharts!$A872+$A$11,IF($C$5,8,0),1,1))","v":3937.5},{"$f":"IF(A872>$A$8,\"\",OFFSET(InputPriceData!D$15,CalculationsAndCharts!$A872+$A$11,IF($C$5,8,0),1,1))","v":3947.5},{"$f":"IF(A872>$A$8,\"\",OFFSET(InputPriceData!E$15,CalculationsAndCharts!$A872+$A$11,IF($C$5,8,0),1,1))","v":3910.25},{"$f":"IF(A872>$A$8,\"\",OFFSET(InputPriceData!F$15,CalculationsAndCharts!$A872+$A$11,IF($C$5,8,0),1,1))","v":3942.25},5.5,0,{"$f":"IF($A872>$J$30,NA(),AVERAGE(H872:H875))","v":30.75},0,null,null,{"$f":"IF($A872>$J$30,NA(),IF($A872>$N$30,0,(1-$M$35)*J872+(2*$M$35-$M$36)*J873-($M$35+$M$37)*J874+$M$36*N873+$M$37*N874))","v":20.156117236508337},18.870999616183724,3.2928838304281914E-2,-7.771835777846349E-2,null,null,32.573024571364769,16.526508833071382,0.32681605354815002,-1.817784790080677E-2,null,null,null,null,null,null,null,null,null,null,null,null,null,null,null,null,null,null,null,null,null,null,null,null,null,null,null,null,null,null,null,1448886,{"$error":"#N/A"}]
[841,{"$f":"IF(A873>$A$8,\"\",OFFSET(InputPriceData!B$15,$A873+$A$11,0,1,1))","v":"2021-03-11T05:00:00"},{"$f":"IF(A873>$A$8,\"\",OFFSET(InputPriceData!G$15,CalculationsAndCharts!$A873+$A$11,IF($C$5,8,0),1,1))","v":1599748},{"$f":"IF(A873>$A$8,\"\",OFFSET(InputPriceData!C$15,CalculationsAndCharts!$A873+$A$11,IF($C$5,8,0),1,1))","v":3907.75},{"$f":"IF(A873>$A$8,\"\",OFFSET(InputPriceData!D$15,CalculationsAndCharts!$A873+$A$11,IF($C$5,8,0),1,1))","v":3958.5},{"$f":"IF(A873>$A$8,\"\",OFFSET(InputPriceData!E$15,CalculationsAndCharts!$A873+$A$11,IF($C$5,8,0),1,1))","v":3893},{"$f":"IF(A873>$A$8,\"\",OFFSET(InputPriceData!F$15,CalculationsAndCharts!$A873+$A$11,IF($C$5,8,0),1,1))","v":3936.75},40.25,0,{"$f":"IF($A873>$J$30,NA(),AVERAGE(H873:H876))","v":29.375},4.9375,null,null,{"$f":"IF($A873>$J$30,NA(),IF($A873>$N$30,0,(1-$M$35)*J873+(2*$M$35-$M$36)*J874-($M$35+$M$37)*J875+$M$36*N874+$M$37*N875))","v":19.149513458245256},19.928927203558086,-1.9944852765700467E-2,-0.13025404428808168,null,null,31.228366206669907,22.710761747657028,0.1579114231551014,-0.18318082787284118,null,null,null,null,null,null,null,null,null,null,null,null,null,null,null,null,null,null,null,null,null,null,null,null,null,null,null,null,null,null,null,1599748,{"$error":"#N/A"}]
[842,{"$f":"IF(A874>$A$8,\"\",OFFSET(InputPriceData!B$15,$A874+$A$11,0,1,1))","v":"2021-03-10T05:00:00"},{"$f":"IF(A874>$A$8,\"\",OFFSET(InputPriceData!G$15,CalculationsAndCharts!$A874+$A$11,IF($C$5,8,0),1,1))","v":1845205},{"$f":"IF(A874>$A$8,\"\",OFFSET(InputPriceData!C$15,CalculationsAndCharts!$A874+$A$11,IF($C$5,8,0),1,1))","v":3878.5},{"$f":"IF(A874>$A$8,\"\",OFFSET(InputPriceData!D$15,CalculationsAndCharts!$A874+$A$11,IF($C$5,8,0),1,1))","v":3916.25},{"$f":"IF(A874>$A$8,\"\",OFFSET(InputPriceData!E$15,CalculationsAndCharts!$A874+$A$11,IF($C$5,8,0),1,1))","v":3856.25},{"$f":"IF(A874>$A$8,\"\",OFFSET(InputPriceData!F$15,CalculationsAndCharts!$A874+$A$11,IF($C$5,8,0),1,1))","v":3896.5},23.25,0,{"$f":"IF($A874>$J$30,NA(),AVERAGE(H874:H877))","v":37.6875},4.9375,null,null,{"$f":"IF($A874>$J$30,NA(),IF($A874>$N$30,0,(1-$M$35)*J874+(2*$M$35-$M$36)*J875-($M$35+$M$37)*J876+$M$36*N875+$M$37*N876))","v":17.814842561295233},20.817266646438561,-7.771835777846349E-2,-0.13912169551535036,null,null,28.11984462983499,29.16108872395646,-1.817784790080677E-2,-0.24557300127048209,null,null,null,null,null,null,null,null,null,null,null,null,null,null,null,null,null,null,null,null,null,null,null,null,null,null,null,null,null,null,null,1845205,{"$error":"#N/A"}]
[843,{"$f":"IF(A875>$A$8,\"\",OFFSET(InputPriceData!B$15,$A875+$A$11,0,1,1))","v":"2021-03-09T05:00:00"},{"$f":"IF(A875>$A$8,\"\",OFFSET(InputPriceData!G$15,CalculationsAndCharts!$A875+$A$11,IF($C$5,8,0),1,1))","v":1704837},{"$f":"IF(A875>$A$8,\"\",OFFSET(InputPriceData!C$15,CalculationsAndCharts!$A875+$A$11,IF($C$5,8,0),1,1))","v":3831.25},{"$f":"IF(A875>$A$8,\"\",OFFSET(InputPriceData!D$15,CalculationsAndCharts!$A875+$A$11,IF($C$5,8,0),1,1))","v":3901.25},{"$f":"IF(A875>$A$8,\"\",OFFSET(InputPriceData!E$15,CalculationsAndCharts!$A875+$A$11,IF($C$5,8,0),1,1))","v":3826.25},{"$f":"IF(A875>$A$8,\"\",OFFSET(InputPriceData!F$15,CalculationsAndCharts!$A875+$A$11,IF($C$5,8,0),1,1))","v":3873.25},54,0,{"$f":"IF($A875>$J$30,NA(),AVERAGE(H875:H878))","v":31.875},17.75,null,null,{"$f":"IF($A875>$J$30,NA(),IF($A875>$N$30,0,(1-$M$35)*J875+(2*$M$35-$M$36)*J876-($M$35+$M$37)*J877+$M$36*N876+$M$37*N877))","v":16.320284991727526},21.208570151654627,-0.13025404428808168,-0.11509685151505189,null,null,23.739899576845783,34.387775156895799,-0.18318082787284118,-0.23297609760918872,null,null,null,null,null,null,null,null,null,null,null,null,null,null,null,null,null,null,null,null,null,null,null,null,null,null,null,null,null,null,null,1704837,{"$error":"#N/A"}]
[844,{"$f":"IF(A876>$A$8,\"\",OFFSET(InputPriceData!B$15,$A876+$A$11,0,1,1))","v":"2021-03-08T05:00:00"},{"$f":"IF(A876>$A$8,\"\",OFFSET(InputPriceData!G$15,CalculationsAndCharts!$A876+$A$11,IF($C$5,8,0),1,1))","v":2198363},{"$f":"IF(A876>$A$8,\"\",OFFSET(InputPriceData!C$15,CalculationsAndCharts!$A876+$A$11,IF($C$5,8,0),1,1))","v":3854.75},{"$f":"IF(A876>$A$8,\"\",OFFSET(InputPriceData!D$15,CalculationsAndCharts!$A876+$A$11,IF($C$5,8,0),1,1))","v":3878.75},{"$f":"IF(A876>$A$8,\"\",OFFSET(InputPriceData!E$15,CalculationsAndCharts!$A876+$A$11,IF($C$5,8,0),1,1))","v":3796.25},{"$f":"IF(A876>$A$8,\"\",OFFSET(InputPriceData!F$15,CalculationsAndCharts!$A876+$A$11,IF($C$5,8,0),1,1))","v":3819.25},0,19.75,{"$f":"IF($A876>$J$30,NA(),AVERAGE(H876:H879))","v":18.375},30.4375,null,null,{"$f":"IF($A876>$J$30,NA(),IF($A876>$N$30,0,(1-$M$35)*J876+(2*$M$35-$M$36)*J877-($M$35+$M$37)*J878+$M$36*N877+$M$37*N878))","v":15.544154437342055},20.568160988349391,-0.13912169551535036,-8.9445598933100084E-2,null,null,21.696758139226212,35.821751075752388,-0.24557300127048209,-0.22489302671979822,null,null,null,null,null,null,null,null,null,null,null,null,null,null,null,null,null,null,null,null,null,null,null,null,null,null,null,null,null,null,null,{"$error":"#N/A"},2198363]
[845,{"$f":"IF(A877>$A$8,\"\",OFFSET(InputPriceData!B$15,$A877+$A$11,0,1,1))","v":"2021-03-05T05:00:00"},{"$f":"IF(A877>$A$8,\"\",OFFSET(InputPriceData!G$15,CalculationsAndCharts!$A877+$A$11,IF($C$5,8,0),1,1))","v":2948117},{"$f":"IF(A877>$A$8,\"\",OFFSET(InputPriceData!C$15,CalculationsAndCharts!$A877+$A$11,IF($C$5,8,0),1,1))","v":3765.5},{"$f":"IF(A877>$A$8,\"\",OFFSET(InputPriceData!D$15,CalculationsAndCharts!$A877+$A$11,IF($C$5,8,0),1,1))","v":3850},{"$f":"IF(A877>$A$8,\"\",OFFSET(InputPriceData!E$15,CalculationsAndCharts!$A877+$A$11,IF($C$5,8,0),1,1))","v":3728.5},{"$f":"IF(A877>$A$8,\"\",OFFSET(InputPriceData!F$15,CalculationsAndCharts!$A877+$A$11,IF($C$5,8,0),1,1))","v":3839},73.5,0,{"$f":"IF($A877>$J$30,NA(),AVERAGE(H877:H880))","v":18.375},33.3125,null,null,{"$f":"IF($A877>$J$30,NA(),IF($A877>$N$30,0,(1-$M$35)*J877+(2*$M$35-$M$36)*J878-($M$35+$M$37)*J879+$M$36*N878+$M$37*N879))","v":15.281519696582146},19.256767849904257,-0.11509685151505189,-7.4591532651234166E-2,null,null,21.41437264396955,34.423190115733277,-0.23297609760918872,-0.25340526643151529,null,null,null,null,null,null,null,null,null,null,null,null,null,null,null,null,null,null,null,null,null,null,null,null,null,null,null,null,null,null,null,{"$f":"IF(G877>=G878,C877,NA())","v":2948117},{"$f":"IF(G877<G878,C877,NA())","v":{"$error":"#N/A"}}]
[846,{"$f":"IF(A878>$A$8,\"\",OFFSET(InputPriceData!B$15,$A878+$A$11,0,1,1))","v":"2021-03-04T05:00:00"},{"$f":"IF(A878>$A$8,\"\",OFFSET(InputPriceData!G$15,CalculationsAndCharts!$A878+$A$11,IF($C$5,8,0),1,1))","v":3192468},{"$f":"IF(A878>$A$8,\"\",OFFSET(InputPriceData!C$15,CalculationsAndCharts!$A878+$A$11,IF($C$5,8,0),1,1))","v":3818},{"$f":"IF(A878>$A$8,\"\",OFFSET(InputPriceData!D$15,CalculationsAndCharts!$A878+$A$11,IF($C$5,8,0),1,1))","v":3842.25},{"$f":"IF(A878>$A$8,\"\",OFFSET(InputPriceData!E$15,CalculationsAndCharts!$A878+$A$11,IF($C$5,8,0),1,1))","v":3720.5},{"$f":"IF(A878>$A$8,\"\",OFFSET(InputPriceData!F$15,CalculationsAndCharts!$A878+$A$11,IF($C$5,8,0),1,1))","v":3765.5},0,51.25,{"$f":"IF($A878>$J$30,NA(),AVERAGE(H878:H881))","v":22.375},33.3125,null,null,{"$f":"IF($A878>$J$30,NA(),IF($A878>$N$30,0,(1-$M$35)*J878+(2*$M$35-$M$36)*J879-($M$35+$M$37)*J880+$M$36*N879+$M$37*N880))","v":14.845490315491148},17.762095344622367,-8.9445598933100084E-2,-5.2998054194217076E-2,null,null,20.159396012632307,31.85767184399932,-0.22489302671979822,-0.28516588512111701,null,null,null,null,null,null,null,null,null,null,null,null,null,null,null,null,null,null,null,null,null,null,null,null,null,null,null,null,null,null,null,{"$error":"#N/A"},3192468]
[847,{"$f":"IF(A879>$A$8,\"\",OFFSET(InputPriceData!B$15,$A879+$A$11,0,1,1))","v":"2021-03-03T05:00:00"},{"$f":"IF(A879>$A$8,\"\",OFFSET(InputPriceData!G$15,CalculationsAndCharts!$A879+$A$11,IF($C$5,8,0),1,1))","v":2203398},{"$f":"IF(A879>$A$8,\"\",OFFSET(InputPriceData!C$15,CalculationsAndCharts!$A879+$A$11,IF($C$5,8,0),1,1))","v":3867.5},{"$f":"IF(A879>$A$8,\"\",OFFSET(InputPriceData!D$15,CalculationsAndCharts!$A879+$A$11,IF($C$5,8,0),1,1))","v":3898},{"$f":"IF(A879>$A$8,\"\",OFFSET(InputPriceData!E$15,CalculationsAndCharts!$A879+$A$11,IF($C$5,8,0),1,1))","v":3813},{"$f":"IF(A879>$A$8,\"\",OFFSET(InputPriceData!F$15,CalculationsAndCharts!$A879+$A$11,IF($C$5,8,0),1,1))","v":3816.75},0,50.75,{"$f":"IF($A879>$J$30,NA(),AVERAGE(H879:H882))","v":22.375},25.1875,null,null,{"$f":"IF($A879>$J$30,NA(),IF($A879>$N$30,0,(1-$M$35)*J879+(2*$M$35-$M$36)*J880-($M$35+$M$37)*J881+$M$36*N880+$M$37*N881))","v":14.229725911064804},16.523668753308712,-7.4591532651234166E-2,-3.965192103487835E-2,null,null,17.760674364383057,29.817144138280891,-0.25340526643151529,-0.4069085991185401,null,null,null,null,null,null,null,null,null,null,null,null,null,null,null,null,null,null,null,null,null,null,null,null,null,null,null,null,null,null,null,{"$error":"#N/A"},2203398]
[848,{"$f":"IF(A880>$A$8,\"\",OFFSET(InputPriceData!B$15,$A880+$A$11,0,1,1))","v":"2021-03-02T05:00:00"},{"$f":"IF(A880>$A$8,\"\",OFFSET(InputPriceData!G$15,CalculationsAndCharts!$A880+$A$11,IF($C$5,8,0),1,1))","v":1641396},{"$f":"IF(A880>$A$8,\"\",OFFSET(InputPriceData!C$15,CalculationsAndCharts!$A880+$A$11,IF($C$5,8,0),1,1))","v":3903.25},{"$f":"IF(A880>$A$8,\"\",OFFSET(InputPriceData!D$15,CalculationsAndCharts!$A880+$A$11,IF($C$5,8,0),1,1))","v":3906.5},{"$f":"IF(A880>$A$8,\"\",OFFSET(InputPriceData!E$15,CalculationsAndCharts!$A880+$A$11,IF($C$5,8,0),1,1))","v":3865.5},{"$f":"IF(A880>$A$8,\"\",OFFSET(InputPriceData!F$15,CalculationsAndCharts!$A880+$A$11,IF($C$5,8,0),1,1))","v":3867.5},0,31.25,{"$f":"IF($A880>$J$30,NA(),AVERAGE(H880:H883))","v":22.375},36.125,null,null,{"$f":"IF($A880>$J$30,NA(),IF($A880>$N$30,0,(1-$M$35)*J880+(2*$M$35-$M$36)*J881-($M$35+$M$37)*J882+$M$36*N881+$M$37*N882))","v":13.589790146318959},15.110869248326125,-5.2998054194217076E-2,-1.7420027555674275E-2,null,null,14.738453914712567,26.497557651998285,-0.28516588512111701,-0.59781335125371426,null,null,null,null,null,null,null,null,null,null,null,null,null,null,null,null,null,null,null,null,null,null,null,null,null,null,null,null,null,null,null,{"$error":"#N/A"},1641396]
[849,{"$f":"IF(A881>$A$8,\"\",OFFSET(InputPriceData!B$15,$A881+$A$11,0,1,1))","v":"2021-03-01T05:00:00"},{"$f":"IF(A881>$A$8,\"\",OFFSET(InputPriceData!G$15,CalculationsAndCharts!$A881+$A$11,IF($C$5,8,0),1,1))","v":1692835},{"$f":"IF(A881>$A$8,\"\",OFFSET(InputPriceData!C$15,CalculationsAndCharts!$A881+$A$11,IF($C$5,8,0),1,1))","v":3817.25},{"$f":"IF(A881>$A$8,\"\",OFFSET(InputPriceData!D$15,CalculationsAndCharts!$A881+$A$11,IF($C$5,8,0),1,1))","v":3912},{"$f":"IF(A881>$A$8,\"\",OFFSET(InputPriceData!E$15,CalculationsAndCharts!$A881+$A$11,IF($C$5,8,0),1,1))","v":3812.5},{"$f":"IF(A881>$A$8,\"\",OFFSET(InputPriceData!F$15,CalculationsAndCharts!$A881+$A$11,IF($C$5,8,0),1,1))","v":3898.75},89.5,0,{"$f":"IF($A881>$J$30,NA(),AVERAGE(H881:H884))","v":33.5},28.3125,null,null,{"$f":"IF($A881>$J$30,NA(),IF($A881>$N$30,0,(1-$M$35)*J881+(2*$M$35-$M$36)*J882-($M$35+$M$37)*J883+$M$36*N882+$M$37*N883))","v":12.475667340325998},13.505885835205673,-3.965192103487835E-2,5.3537319359870363E-2,null,null,9.125160510893739,21.64635462937574,-0.4069085991185401,-0.64063338197436315,null,null,null,null,null,null,null,null,null,null,null,null,null,null,null,null,null,null,null,null,null,null,null,null,null,null,null,null,null,null,null,1692835,{"$error":"#N/A"}]
[850,{"$f":"IF(A882>$A$8,\"\",OFFSET(InputPriceData!B$15,$A882+$A$11,0,1,1))","v":"2021-02-26T05:00:00"},{"$f":"IF(A882>$A$8,\"\",OFFSET(InputPriceData!G$15,CalculationsAndCharts!$A882+$A$11,IF($C$5,8,0),1,1))","v":3010481},{"$f":"IF(A882>$A$8,\"\",OFFSET(InputPriceData!C$15,CalculationsAndCharts!$A882+$A$11,IF($C$5,8,0),1,1))","v":3823.25},{"$f":"IF(A882>$A$8,\"\",OFFSET(InputPriceData!D$15,CalculationsAndCharts!$A882+$A$11,IF($C$5,8,0),1,1))","v":3858.5},{"$f":"IF(A882>$A$8,\"\",OFFSET(InputPriceData!E$15,CalculationsAndCharts!$A882+$A$11,IF($C$5,8,0),1,1))","v":3785},{"$f":"IF(A882>$A$8,\"\",OFFSET(InputPriceData!F$15,CalculationsAndCharts!$A882+$A$11,IF($C$5,8,0),1,1))","v":3809.25},0,18.75,{"$f":"IF($A882>$J$30,NA(),AVERAGE(H882:H885))","v":12.25},28.3125,null,null,{"$f":"IF($A882>$J$30,NA(),IF($A882>$N$30,0,(1-$M$35)*J882+(2*$M$35-$M$36)*J883-($M$35+$M$37)*J884+$M$36*N883+$M$37*N884))","v":11.729836847394386},12.145750232229332,-1.7420027555674275E-2,9.7107255587707275E-2,null,null,4.2666929953409847,16.950784057372289,-0.59781335125371426,-0.91492988241749085,null,null,null,null,null,null,null,null,null,null,null,null,null,null,null,null,null,null,null,null,null,null,null,null,null,null,null,null,null,null,null,{"$error":"#N/A"},3010481]
[851,{"$f":"IF(A883>$A$8,\"\",OFFSET(InputPriceData!B$15,$A883+$A$11,0,1,1))","v":"2021-02-25T05:00:00"},{"$f":"IF(A883>$A$8,\"\",OFFSET(InputPriceData!G$15,CalculationsAndCharts!$A883+$A$11,IF($C$5,8,0),1,1))","v":2863387},{"$f":"IF(A883>$A$8,\"\",OFFSET(InputPriceData!C$15,CalculationsAndCharts!$A883+$A$11,IF($C$5,8,0),1,1))","v":3923.5},{"$f":"IF(A883>$A$8,\"\",OFFSET(InputPriceData!D$15,CalculationsAndCharts!$A883+$A$11,IF($C$5,8,0),1,1))","v":3934.5},{"$f":"IF(A883>$A$8,\"\",OFFSET(InputPriceData!E$15,CalculationsAndCharts!$A883+$A$11,IF($C$5,8,0),1,1))","v":3810.25},{"$f":"IF(A883>$A$8,\"\",OFFSET(InputPriceData!F$15,CalculationsAndCharts!$A883+$A$11,IF($C$5,8,0),1,1))","v":3828},0,94.5,{"$f":"IF($A883>$J$30,NA(),AVERAGE(H883:H886))","v":12.25},31,null,null,{"$f":"IF($A883>$J$30,NA(),IF($A883>$N$30,0,(1-$M$35)*J883+(2*$M$35-$M$36)*J884-($M$35+$M$37)*J885+$M$36*N884+$M$37*N885))","v":11.818687772425957},10.617513689534585,5.3537319359870363E-2,0.12681886579330337,null,null,2.3459237584421815,10.709956452862393,-0.64063338197436315,-0.96224385209137453,null,null,null,null,null,null,null,null,null,null,null,null,null,null,null,null,null,null,null,null,null,null,null,null,null,null,null,null,null,null,null,{"$error":"#N/A"},2863387]
[852,{"$f":"IF(A884>$A$8,\"\",OFFSET(InputPriceData!B$15,$A884+$A$11,0,1,1))","v":"2021-02-24T05:00:00"},{"$f":"IF(A884>$A$8,\"\",OFFSET(InputPriceData!G$15,CalculationsAndCharts!$A884+$A$11,IF($C$5,8,0),1,1))","v":1944661},{"$f":"IF(A884>$A$8,\"\",OFFSET(InputPriceData!C$15,CalculationsAndCharts!$A884+$A$11,IF($C$5,8,0),1,1))","v":3876.25},{"$f":"IF(A884>$A$8,\"\",OFFSET(InputPriceData!D$15,CalculationsAndCharts!$A884+$A$11,IF($C$5,8,0),1,1))","v":3927.75},{"$f":"IF(A884>$A$8,\"\",OFFSET(InputPriceData!E$15,CalculationsAndCharts!$A884+$A$11,IF($C$5,8,0),1,1))","v":3851.75},{"$f":"IF(A884>$A$8,\"\",OFFSET(InputPriceData!F$15,CalculationsAndCharts!$A884+$A$11,IF($C$5,8,0),1,1))","v":3922.5},44.5,0,{"$f":"IF($A884>$J$30,NA(),AVERAGE(H884:H887))","v":12.25},9,null,null,{"$f":"IF($A884>$J$30,NA(),IF($A884>$N$30,0,(1-$M$35)*J884+(2*$M$35-$M$36)*J885-($M$35+$M$37)*J886+$M$36*N885+$M$37*N886))","v":11.916285821763978},9.8068151076534757,9.7107255587707275E-2,0.18440046994236389,null,null,0.29219882349412019,6.5774007914521651,-0.91492988241749085,0.157228769789476,null,null,null,null,null,null,null,null,null,null,null,null,null,null,null,null,null,null,null,null,null,null,null,null,null,null,null,null,null,null,null,1944661,{"$error":"#N/A"}]
[853,{"$f":"IF(A885>$A$8,\"\",OFFSET(InputPriceData!B$15,$A885+$A$11,0,1,1))","v":"2021-02-23T05:00:00"},{"$f":"IF(A885>$A$8,\"\",OFFSET(InputPriceData!G$15,CalculationsAndCharts!$A885+$A$11,IF($C$5,8,0),1,1))","v":2282940},{"$f":"IF(A885>$A$8,\"\",OFFSET(InputPriceData!C$15,CalculationsAndCharts!$A885+$A$11,IF($C$5,8,0),1,1))","v":3878},{"$f":"IF(A885>$A$8,\"\",OFFSET(InputPriceData!D$15,CalculationsAndCharts!$A885+$A$11,IF($C$5,8,0),1,1))","v":3896},{"$f":"IF(A885>$A$8,\"\",OFFSET(InputPriceData!E$15,CalculationsAndCharts!$A885+$A$11,IF($C$5,8,0),1,1))","v":3804.75},{"$f":"IF(A885>$A$8,\"\",OFFSET(InputPriceData!F$15,CalculationsAndCharts!$A885+$A$11,IF($C$5,8,0),1,1))","v":3878},4.5,0,{"$f":"IF($A885>$J$30,NA(),AVERAGE(H885:H888))","v":1.125},13.625,null,null,{"$f":"IF($A885>$J$30,NA(),IF($A885>$N$30,0,(1-$M$35)*J885+(2*$M$35-$M$36)*J886-($M$35+$M$37)*J887+$M$36*N886+$M$37*N887))","v":12.473148672734457},9.6655446902899662,0.12681886579330337,0.22818821097514411,null,null,9.0075098200179671E-2,4.6813384696337099,-0.96224385209137453,1.2610517776554169,null,null,null,null,null,null,null,null,null,null,null,null,null,null,null,null,null,null,null,null,null,null,null,null,null,null,null,null,null,null,null,2282940,{"$error":"#N/A"}]
[854,{"$f":"IF(A886>$A$8,\"\",OFFSET(InputPriceData!B$15,$A886+$A$11,0,1,1))","v":"2021-02-22T05:00:00"},{"$f":"IF(A886>$A$8,\"\",OFFSET(InputPriceData!G$15,CalculationsAndCharts!$A886+$A$11,IF($C$5,8,0),1,1))","v":1514278},{"$f":"IF(A886>$A$8,\"\",OFFSET(InputPriceData!C$15,CalculationsAndCharts!$A886+$A$11,IF($C$5,8,0),1,1))","v":3905.5},{"$f":"IF(A886>$A$8,\"\",OFFSET(InputPriceData!D$15,CalculationsAndCharts!$A886+$A$11,IF($C$5,8,0),1,1))","v":3914.5},{"$f":"IF(A886>$A$8,\"\",OFFSET(InputPriceData!E$15,CalculationsAndCharts!$A886+$A$11,IF($C$5,8,0),1,1))","v":3861.25},{"$f":"IF(A886>$A$8,\"\",OFFSET(InputPriceData!F$15,CalculationsAndCharts!$A886+$A$11,IF($C$5,8,0),1,1))","v":3873.5},0,29.5,{"$f":"IF($A886>$J$30,NA(),AVERAGE(H886:H889))","v":6.25E-2},13.625,null,null,{"$f":"IF($A886>$J$30,NA(),IF($A886>$N$30,0,(1-$M$35)*J886+(2*$M$35-$M$36)*J887-($M$35+$M$37)*J888+$M$36*N887+$M$37*N888))","v":13.550148071274112},9.3308764050729778,0.18440046994236389,0.24752849275062161,null,null,2.2974414374231342,1.6731501990794506,0.157228769789476,1.5053635395909124,null,null,null,null,null,null,null,null,null,null,null,null,null,null,null,null,null,null,null,null,null,null,null,null,null,null,null,null,null,null,null,{"$error":"#N/A"},1514278]
[855,{"$f":"IF(A887>$A$8,\"\",OFFSET(InputPriceData!B$15,$A887+$A$11,0,1,1))","v":"2021-02-19T05:00:00"},{"$f":"IF(A887>$A$8,\"\",OFFSET(InputPriceData!G$15,CalculationsAndCharts!$A887+$A$11,IF($C$5,8,0),1,1))","v":1427294},{"$f":"IF(A887>$A$8,\"\",OFFSET(InputPriceData!C$15,CalculationsAndCharts!$A887+$A$11,IF($C$5,8,0),1,1))","v":3910.5},{"$f":"IF(A887>$A$8,\"\",OFFSET(InputPriceData!D$15,CalculationsAndCharts!$A887+$A$11,IF($C$5,8,0),1,1))","v":3931},{"$f":"IF(A887>$A$8,\"\",OFFSET(InputPriceData!E$15,CalculationsAndCharts!$A887+$A$11,IF($C$5,8,0),1,1))","v":3890.25},{"$f":"IF(A887>$A$8,\"\",OFFSET(InputPriceData!F$15,CalculationsAndCharts!$A887+$A$11,IF($C$5,8,0),1,1))","v":3903},0,6.5,{"$f":"IF($A887>$J$30,NA(),AVERAGE(H887:H890))","v":6.25E-2},7.0625,null,null,{"$f":"IF($A887>$J$30,NA(),IF($A887>$N$30,0,(1-$M$35)*J887+(2*$M$35-$M$36)*J888-($M$35+$M$37)*J889+$M$36*N888+$M$37*N889))","v":14.716635801346808},9.2481534220609731,0.22818821097514411,0.24578076399554294,null,null,5.4112705770170582,-0.6247631378745182,1.2610517776554169,1.3520155630973498,null,null,null,null,null,null,null,null,null,null,null,null,null,null,null,null,null,null,null,null,null,null,null,null,null,null,null,null,null,null,null,{"$error":"#N/A"},1427294]
[856,{"$f":"IF(A888>$A$8,\"\",OFFSET(InputPriceData!B$15,$A888+$A$11,0,1,1))","v":"2021-02-18T05:00:00"},{"$f":"IF(A888>$A$8,\"\",OFFSET(InputPriceData!G$15,CalculationsAndCharts!$A888+$A$11,IF($C$5,8,0),1,1))","v":1536949},{"$f":"IF(A888>$A$8,\"\",OFFSET(InputPriceData!C$15,CalculationsAndCharts!$A888+$A$11,IF($C$5,8,0),1,1))","v":3928.25},{"$f":"IF(A888>$A$8,\"\",OFFSET(InputPriceData!D$15,CalculationsAndCharts!$A888+$A$11,IF($C$5,8,0),1,1))","v":3936},{"$f":"IF(A888>$A$8,\"\",OFFSET(InputPriceData!E$15,CalculationsAndCharts!$A888+$A$11,IF($C$5,8,0),1,1))","v":3880.5},{"$f":"IF(A888>$A$8,\"\",OFFSET(InputPriceData!F$15,CalculationsAndCharts!$A888+$A$11,IF($C$5,8,0),1,1))","v":3909.5},0,18.5,{"$f":"IF($A888>$J$30,NA(),AVERAGE(H888:H891))","v":4.8125},5.4375,null,null,{"$f":"IF($A888>$J$30,NA(),IF($A888>$N$30,0,(1-$M$35)*J888+(2*$M$35-$M$36)*J889-($M$35+$M$37)*J890+$M$36*N889+$M$37*N890))","v":15.73926961341202},9.4934520516606309,0.24752849275062161,0.2345320064298497,null,null,8.5554964990344455,-1.7257519419380105,1.5053635395909124,1.0983752127530015,null,null,null,null,null,null,null,null,null,null,null,null,null,null,null,null,null,null,null,null,null,null,null,null,null,null,null,null,null,null,null,{"$error":"#N/A"},1536949]
[857,{"$f":"IF(A889>$A$8,\"\",OFFSET(InputPriceData!B$15,$A889+$A$11,0,1,1))","v":"2021-02-17T05:00:00"},{"$f":"IF(A889>$A$8,\"\",OFFSET(InputPriceData!G$15,CalculationsAndCharts!$A889+$A$11,IF($C$5,8,0),1,1))","v":1382825},{"$f":"IF(A889>$A$8,\"\",OFFSET(InputPriceData!C$15,CalculationsAndCharts!$A889+$A$11,IF($C$5,8,0),1,1))","v":3929},{"$f":"IF(A889>$A$8,\"\",OFFSET(InputPriceData!D$15,CalculationsAndCharts!$A889+$A$11,IF($C$5,8,0),1,1))","v":3932.25},{"$f":"IF(A889>$A$8,\"\",OFFSET(InputPriceData!E$15,CalculationsAndCharts!$A889+$A$11,IF($C$5,8,0),1,1))","v":3896.5},{"$f":"IF(A889>$A$8,\"\",OFFSET(InputPriceData!F$15,CalculationsAndCharts!$A889+$A$11,IF($C$5,8,0),1,1))","v":3928},0.25,0,{"$f":"IF($A889>$J$30,NA(),AVERAGE(H889:H892))","v":7.0625},0.8125,null,null,{"$f":"IF($A889>$J$30,NA(),IF($A889>$N$30,0,(1-$M$35)*J889+(2*$M$35-$M$36)*J890-($M$35+$M$37)*J891+$M$36*N890+$M$37*N891))","v":16.519565980175603},10.001257679347054,0.24578076399554294,0.22479382585408425,null,null,11.309181393218338,-1.692594181248217,1.3520155630973498,0.92055622785951863,null,null,null,null,null,null,null,null,null,null,null,null,null,null,null,null,null,null,null,null,null,null,null,null,null,null,null,null,null,null,null,1382825,{"$error":"#N/A"}]
[858,{"$f":"IF(A890>$A$8,\"\",OFFSET(InputPriceData!B$15,$A890+$A$11,0,1,1))","v":"2021-02-16T05:00:00"},{"$f":"IF(A890>$A$8,\"\",OFFSET(InputPriceData!G$15,CalculationsAndCharts!$A890+$A$11,IF($C$5,8,0),1,1))","v":1450425},{"$f":"IF(A890>$A$8,\"\",OFFSET(InputPriceData!C$15,CalculationsAndCharts!$A890+$A$11,IF($C$5,8,0),1,1))","v":3936.5},{"$f":"IF(A890>$A$8,\"\",OFFSET(InputPriceData!D$15,CalculationsAndCharts!$A890+$A$11,IF($C$5,8,0),1,1))","v":3959.25},{"$f":"IF(A890>$A$8,\"\",OFFSET(InputPriceData!E$15,CalculationsAndCharts!$A890+$A$11,IF($C$5,8,0),1,1))","v":3918.75},{"$f":"IF(A890>$A$8,\"\",OFFSET(InputPriceData!F$15,CalculationsAndCharts!$A890+$A$11,IF($C$5,8,0),1,1))","v":3927.75},0,3.25,{"$f":"IF($A890>$J$30,NA(),AVERAGE(H890:H893))","v":7},1.4375,null,null,{"$f":"IF($A890>$J$30,NA(),IF($A890>$N$30,0,(1-$M$35)*J890+(2*$M$35-$M$36)*J891-($M$35+$M$37)*J892+$M$36*N891+$M$37*N892))","v":17.241134158092368},10.690315279094934,0.2345320064298497,0.21310436675825836,null,null,14.398073220901772,-0.67500488365053513,1.0983752127530015,0.7792109579922788,null,null,null,null,null,null,null,null,null,null,null,null,null,null,null,null,null,null,null,null,null,null,null,null,null,null,null,null,null,null,null,{"$error":"#N/A"},1450425]
[859,{"$f":"IF(A891>$A$8,\"\",OFFSET(InputPriceData!B$15,$A891+$A$11,0,1,1))","v":"2021-02-12T05:00:00"},{"$f":"IF(A891>$A$8,\"\",OFFSET(InputPriceData!G$15,CalculationsAndCharts!$A891+$A$11,IF($C$5,8,0),1,1))","v":1050298},{"$f":"IF(A891>$A$8,\"\",OFFSET(InputPriceData!C$15,CalculationsAndCharts!$A891+$A$11,IF($C$5,8,0),1,1))","v":3905.25},{"$f":"IF(A891>$A$8,\"\",OFFSET(InputPriceData!D$15,CalculationsAndCharts!$A891+$A$11,IF($C$5,8,0),1,1))","v":3936.25},{"$f":"IF(A891>$A$8,\"\",OFFSET(InputPriceData!E$15,CalculationsAndCharts!$A891+$A$11,IF($C$5,8,0),1,1))","v":3890.25},{"$f":"IF(A891>$A$8,\"\",OFFSET(InputPriceData!F$15,CalculationsAndCharts!$A891+$A$11,IF($C$5,8,0),1,1))","v":3931},19,0,{"$f":"IF($A891>$J$30,NA(),AVERAGE(H891:H894))","v":7},1.25,null,null,{"$f":"IF($A891>$J$30,NA(),IF($A891>$N$30,0,(1-$M$35)*J891+(2*$M$35-$M$36)*J892-($M$35+$M$37)*J893+$M$36*N892+$M$37*N893))","v":17.991378618041605},11.387245340151024,0.22479382585408425,0.19817531088926577,null,null,18.216548441413106,0.75352718268424512,0.92055622785951863,0.65935415847230316,null,null,null,null,null,null,null,null,null,null,null,null,null,null,null,null,null,null,null,null,null,null,null,null,null,null,null,null,null,null,null,1050298,{"$error":"#N/A"}]
[860,{"$f":"IF(A892>$A$8,\"\",OFFSET(InputPriceData!B$15,$A892+$A$11,0,1,1))","v":"2021-02-11T05:00:00"},{"$f":"IF(A892>$A$8,\"\",OFFSET(InputPriceData!G$15,CalculationsAndCharts!$A892+$A$11,IF($C$5,8,0),1,1))","v":1296054},{"$f":"IF(A892>$A$8,\"\",OFFSET(InputPriceData!C$15,CalculationsAndCharts!$A892+$A$11,IF($C$5,8,0),1,1))","v":3907},{"$f":"IF(A892>$A$8,\"\",OFFSET(InputPriceData!D$15,CalculationsAndCharts!$A892+$A$11,IF($C$5,8,0),1,1))","v":3920.5},{"$f":"IF(A892>$A$8,\"\",OFFSET(InputPriceData!E$15,CalculationsAndCharts!$A892+$A$11,IF($C$5,8,0),1,1))","v":3884.5},{"$f":"IF(A892>$A$8,\"\",OFFSET(InputPriceData!F$15,CalculationsAndCharts!$A892+$A$11,IF($C$5,8,0),1,1))","v":3912},9,0,{"$f":"IF($A892>$J$30,NA(),AVERAGE(H892:H895))","v":9.1875},1.25,null,null,{"$f":"IF($A892>$J$30,NA(),IF($A892>$N$30,0,(1-$M$35)*J892+(2*$M$35-$M$36)*J893-($M$35+$M$37)*J894+$M$36*N893+$M$37*N894))","v":18.679074012418891},12.116419803722268,0.21310436675825836,0.17108182808542202,null,null,22.423022847481043,2.782558027294967,0.7792109579922788,0.53101783796888935,null,null,null,null,null,null,null,null,null,null,null,null,null,null,null,null,null,null,null,null,null,null,null,null,null,null,null,null,null,null,null,1296054,{"$error":"#N/A"}]
[861,{"$f":"IF(A893>$A$8,\"\",OFFSET(InputPriceData!B$15,$A893+$A$11,0,1,1))","v":"2021-02-10T05:00:00"},{"$f":"IF(A893>$A$8,\"\",OFFSET(InputPriceData!G$15,CalculationsAndCharts!$A893+$A$11,IF($C$5,8,0),1,1))","v":1560824},{"$f":"IF(A893>$A$8,\"\",OFFSET(InputPriceData!C$15,CalculationsAndCharts!$A893+$A$11,IF($C$5,8,0),1,1))","v":3912.25},{"$f":"IF(A893>$A$8,\"\",OFFSET(InputPriceData!D$15,CalculationsAndCharts!$A893+$A$11,IF($C$5,8,0),1,1))","v":3928.5},{"$f":"IF(A893>$A$8,\"\",OFFSET(InputPriceData!E$15,CalculationsAndCharts!$A893+$A$11,IF($C$5,8,0),1,1))","v":3878.25},{"$f":"IF(A893>$A$8,\"\",OFFSET(InputPriceData!F$15,CalculationsAndCharts!$A893+$A$11,IF($C$5,8,0),1,1))","v":3903},0,2.5,{"$f":"IF($A893>$J$30,NA(),AVERAGE(H893:H896))","v":10.875},1.25,null,null,{"$f":"IF($A893>$J$30,NA(),IF($A893>$N$30,0,(1-$M$35)*J893+(2*$M$35-$M$36)*J894-($M$35+$M$37)*J895+$M$36*N894+$M$37*N895))","v":19.232109879851393},12.870220563892506,0.19817531088926577,0.13080082238783777,null,null,26.688565605994679,5.4788478056976242,0.65935415847230316,0.3825376713445176,null,null,null,null,null,null,null,null,null,null,null,null,null,null,null,null,null,null,null,null,null,null,null,null,null,null,null,null,null,null,null,{"$error":"#N/A"},1560824]
[862,{"$f":"IF(A894>$A$8,\"\",OFFSET(InputPriceData!B$15,$A894+$A$11,0,1,1))","v":"2021-02-09T05:00:00"},{"$f":"IF(A894>$A$8,\"\",OFFSET(InputPriceData!G$15,CalculationsAndCharts!$A894+$A$11,IF($C$5,8,0),1,1))","v":881922},{"$f":"IF(A894>$A$8,\"\",OFFSET(InputPriceData!C$15,CalculationsAndCharts!$A894+$A$11,IF($C$5,8,0),1,1))","v":3910.5},{"$f":"IF(A894>$A$8,\"\",OFFSET(InputPriceData!D$15,CalculationsAndCharts!$A894+$A$11,IF($C$5,8,0),1,1))","v":3913.25},{"$f":"IF(A894>$A$8,\"\",OFFSET(InputPriceData!E$15,CalculationsAndCharts!$A894+$A$11,IF($C$5,8,0),1,1))","v":3895},{"$f":"IF(A894>$A$8,\"\",OFFSET(InputPriceData!F$15,CalculationsAndCharts!$A894+$A$11,IF($C$5,8,0),1,1))","v":3905.5},0,2.5,{"$f":"IF($A894>$J$30,NA(),AVERAGE(H894:H897))","v":21.125},0.625,null,null,{"$f":"IF($A894>$J$30,NA(),IF($A894>$N$30,0,(1-$M$35)*J894+(2*$M$35-$M$36)*J895-($M$35+$M$37)*J896+$M$36*N895+$M$37*N896))","v":19.317694358431883},13.673500441361041,0.17108182808542202,8.1243027629067821E-2,null,null,29.51147062942697,9.0399686778747537,0.53101783796888935,0.2205855844421003,null,null,null,null,null,null,null,null,null,null,null,null,null,null,null,null,null,null,null,null,null,null,null,null,null,null,null,null,null,null,null,{"$error":"#N/A"},881922]
[863,{"$f":"IF(A895>$A$8,\"\",OFFSET(InputPriceData!B$15,$A895+$A$11,0,1,1))","v":"2021-02-08T05:00:00"},{"$f":"IF(A895>$A$8,\"\",OFFSET(InputPriceData!G$15,CalculationsAndCharts!$A895+$A$11,IF($C$5,8,0),1,1))","v":972437},{"$f":"IF(A895>$A$8,\"\",OFFSET(InputPriceData!C$15,CalculationsAndCharts!$A895+$A$11,IF($C$5,8,0),1,1))","v":3889},{"$f":"IF(A895>$A$8,\"\",OFFSET(InputPriceData!D$15,CalculationsAndCharts!$A895+$A$11,IF($C$5,8,0),1,1))","v":3911.25},{"$f":"IF(A895>$A$8,\"\",OFFSET(InputPriceData!E$15,CalculationsAndCharts!$A895+$A$11,IF($C$5,8,0),1,1))","v":3885.5},{"$f":"IF(A895>$A$8,\"\",OFFSET(InputPriceData!F$15,CalculationsAndCharts!$A895+$A$11,IF($C$5,8,0),1,1))","v":3908},27.75,0,{"$f":"IF($A895>$J$30,NA(),AVERAGE(H895:H898))","v":22.4375},0,null,null,{"$f":"IF($A895>$J$30,NA(),IF($A895>$N$30,0,(1-$M$35)*J895+(2*$M$35-$M$36)*J896-($M$35+$M$37)*J897+$M$36*N896+$M$37*N897))","v":18.93166757791586},14.551979061001685,0.13080082238783777,1.0009811833175983E-2,null,null,30.603107719883187,13.667812854919916,0.3825376713445176,1.140010925070389E-2,null,null,null,null,null,null,null,null,null,null,null,null,null,null,null,null,null,null,null,null,null,null,null,null,null,null,null,null,null,null,null,972437,{"$error":"#N/A"}]
[864,{"$f":"IF(A896>$A$8,\"\",OFFSET(InputPriceData!B$15,$A896+$A$11,0,1,1))","v":"2021-02-05T05:00:00"},{"$f":"IF(A896>$A$8,\"\",OFFSET(InputPriceData!G$15,CalculationsAndCharts!$A896+$A$11,IF($C$5,8,0),1,1))","v":1138874},{"$f":"IF(A896>$A$8,\"\",OFFSET(InputPriceData!C$15,CalculationsAndCharts!$A896+$A$11,IF($C$5,8,0),1,1))","v":3864.25},{"$f":"IF(A896>$A$8,\"\",OFFSET(InputPriceData!D$15,CalculationsAndCharts!$A896+$A$11,IF($C$5,8,0),1,1))","v":3888.25},{"$f":"IF(A896>$A$8,\"\",OFFSET(InputPriceData!E$15,CalculationsAndCharts!$A896+$A$11,IF($C$5,8,0),1,1))","v":3860},{"$f":"IF(A896>$A$8,\"\",OFFSET(InputPriceData!F$15,CalculationsAndCharts!$A896+$A$11,IF($C$5,8,0),1,1))","v":3880.25},15.75,0,{"$f":"IF($A896>$J$30,NA(),AVERAGE(H896:H899))","v":28.625},0,null,null,{"$f":"IF($A896>$J$30,NA(),IF($A896>$N$30,0,(1-$M$35)*J896+(2*$M$35-$M$36)*J897-($M$35+$M$37)*J898+$M$36*N897+$M$37*N898))","v":18.219651728235487},15.481655494410367,8.1243027629067821E-2,-4.5479204803147912E-2,null,null,30.292241343347012,19.343346245855678,0.2205855844421003,-0.16486641137164454,null,null,null,null,null,null,null,null,null,null,null,null,null,null,null,null,null,null,null,null,null,null,null,null,null,null,null,null,null,null,null,1138874,{"$error":"#N/A"}]
[865,{"$f":"IF(A897>$A$8,\"\",OFFSET(InputPriceData!B$15,$A897+$A$11,0,1,1))","v":"2021-02-04T05:00:00"},{"$f":"IF(A897>$A$8,\"\",OFFSET(InputPriceData!G$15,CalculationsAndCharts!$A897+$A$11,IF($C$5,8,0),1,1))","v":1136404},{"$f":"IF(A897>$A$8,\"\",OFFSET(InputPriceData!C$15,CalculationsAndCharts!$A897+$A$11,IF($C$5,8,0),1,1))","v":3832.75},{"$f":"IF(A897>$A$8,\"\",OFFSET(InputPriceData!D$15,CalculationsAndCharts!$A897+$A$11,IF($C$5,8,0),1,1))","v":3869.75},{"$f":"IF(A897>$A$8,\"\",OFFSET(InputPriceData!E$15,CalculationsAndCharts!$A897+$A$11,IF($C$5,8,0),1,1))","v":3811.25},{"$f":"IF(A897>$A$8,\"\",OFFSET(InputPriceData!F$15,CalculationsAndCharts!$A897+$A$11,IF($C$5,8,0),1,1))","v":3864.5},41,0,{"$f":"IF($A897>$J$30,NA(),AVERAGE(H897:H900))","v":39.8125},0,null,null,{"$f":"IF($A897>$J$30,NA(),IF($A897>$N$30,0,(1-$M$35)*J897+(2*$M$35-$M$36)*J898-($M$35+$M$37)*J899+$M$36*N898+$M$37*N899))","v":16.769800625534227},16.437402768058362,1.0009811833175983E-2,-8.1355208363748002E-2,null,null,26.596628471534984,25.99705473706009,1.140010925070389E-2,-0.32109952547075682,null,null,null,null,null,null,null,null,null,null,null,null,null,null,null,null,null,null,null,null,null,null,null,null,null,null,null,null,null,null,null,1136404,{"$error":"#N/A"}]
[866,{"$f":"IF(A898>$A$8,\"\",OFFSET(InputPriceData!B$15,$A898+$A$11,0,1,1))","v":"2021-02-03T05:00:00"},{"$f":"IF(A898>$A$8,\"\",OFFSET(InputPriceData!G$15,CalculationsAndCharts!$A898+$A$11,IF($C$5,8,0),1,1))","v":1285692},{"$f":"IF(A898>$A$8,\"\",OFFSET(InputPriceData!C$15,CalculationsAndCharts!$A898+$A$11,IF($C$5,8,0),1,1))","v":3829.5},{"$f":"IF(A898>$A$8,\"\",OFFSET(InputPriceData!D$15,CalculationsAndCharts!$A898+$A$11,IF($C$5,8,0),1,1))","v":3843.5},{"$f":"IF(A898>$A$8,\"\",OFFSET(InputPriceData!E$15,CalculationsAndCharts!$A898+$A$11,IF($C$5,8,0),1,1))","v":3807.75},{"$f":"IF(A898>$A$8,\"\",OFFSET(InputPriceData!F$15,CalculationsAndCharts!$A898+$A$11,IF($C$5,8,0),1,1))","v":3823.5},5.25,0,{"$f":"IF($A898>$J$30,NA(),AVERAGE(H898:H901))","v":29.5625},18.5,null,null,{"$f":"IF($A898>$J$30,NA(),IF($A898>$N$30,0,(1-$M$35)*J898+(2*$M$35-$M$36)*J899-($M$35+$M$37)*J900+$M$36*N899+$M$37*N900))","v":15.219443946468171},16.669738611004441,-4.5479204803147912E-2,-8.1894339324213583E-2,null,null,21.80947008078067,30.420425537718152,-0.16486641137164454,-0.44959802492169476,null,null,null,null,null,null,null,null,null,null,null,null,null,null,null,null,null,null,null,null,null,null,null,null,null,null,null,null,null,null,null,1285692,{"$error":"#N/A"}]
[867,{"$f":"IF(A899>$A$8,\"\",OFFSET(InputPriceData!B$15,$A899+$A$11,0,1,1))","v":"2021-02-02T05:00:00"},{"$f":"IF(A899>$A$8,\"\",OFFSET(InputPriceData!G$15,CalculationsAndCharts!$A899+$A$11,IF($C$5,8,0),1,1))","v":1419765},{"$f":"IF(A899>$A$8,\"\",OFFSET(InputPriceData!C$15,CalculationsAndCharts!$A899+$A$11,IF($C$5,8,0),1,1))","v":3764.75},{"$f":"IF(A899>$A$8,\"\",OFFSET(InputPriceData!D$15,CalculationsAndCharts!$A899+$A$11,IF($C$5,8,0),1,1))","v":3835.75},{"$f":"IF(A899>$A$8,\"\",OFFSET(InputPriceData!E$15,CalculationsAndCharts!$A899+$A$11,IF($C$5,8,0),1,1))","v":3760},{"$f":"IF(A899>$A$8,\"\",OFFSET(InputPriceData!F$15,CalculationsAndCharts!$A899+$A$11,IF($C$5,8,0),1,1))","v":3818.25},52.5,0,{"$f":"IF($A899>$J$30,NA(),AVERAGE(H899:H902))","v":37},18.5,null,null,{"$f":"IF($A899>$J$30,NA(),IF($A899>$N$30,0,(1-$M$35)*J899+(2*$M$35-$M$36)*J900-($M$35+$M$37)*J901+$M$36*N900+$M$37*N901))","v":13.718618118119904},16.148460524289575,-8.1355208363748002E-2,9.6209352993061655E-3,null,null,16.478084337394115,32.065361883703886,-0.32109952547075682,-0.36717769919921278,null,null,null,null,null,null,null,null,null,null,null,null,null,null,null,null,null,null,null,null,null,null,null,null,null,null,null,null,null,null,null,1419765,{"$error":"#N/A"}]
[868,{"$f":"IF(A900>$A$8,\"\",OFFSET(InputPriceData!B$15,$A900+$A$11,0,1,1))","v":"2021-02-01T05:00:00"},{"$f":"IF(A900>$A$8,\"\",OFFSET(InputPriceData!G$15,CalculationsAndCharts!$A900+$A$11,IF($C$5,8,0),1,1))","v":1687396},{"$f":"IF(A900>$A$8,\"\",OFFSET(InputPriceData!C$15,CalculationsAndCharts!$A900+$A$11,IF($C$5,8,0),1,1))","v":3692.25},{"$f":"IF(A900>$A$8,\"\",OFFSET(InputPriceData!D$15,CalculationsAndCharts!$A900+$A$11,IF($C$5,8,0),1,1))","v":3777},{"$f":"IF(A900>$A$8,\"\",OFFSET(InputPriceData!E$15,CalculationsAndCharts!$A900+$A$11,IF($C$5,8,0),1,1))","v":3656.5},{"$f":"IF(A900>$A$8,\"\",OFFSET(InputPriceData!F$15,CalculationsAndCharts!$A900+$A$11,IF($C$5,8,0),1,1))","v":3765.75},60.5,0,{"$f":"IF($A900>$J$30,NA(),AVERAGE(H900:H903))","v":23.875},43.0625,null,null,{"$f":"IF($A900>$J$30,NA(),IF($A900>$N$30,0,(1-$M$35)*J900+(2*$M$35-$M$36)*J901-($M$35+$M$37)*J902+$M$36*N901+$M$37*N902))","v":12.388043687250939},14.598052179171495,-8.1894339324213583E-2,0.11558322917135519,null,null,11.125193602163645,29.300510177627018,-0.44959802492169476,-0.15720389649076694,null,null,null,null,null,null,null,null,null,null,null,null,null,null,null,null,null,null,null,null,null,null,null,null,null,null,null,null,null,null,null,1687396,{"$error":"#N/A"}]
[869,{"$f":"IF(A901>$A$8,\"\",OFFSET(InputPriceData!B$15,$A901+$A$11,0,1,1))","v":"2021-01-29T05:00:00"},{"$f":"IF(A901>$A$8,\"\",OFFSET(InputPriceData!G$15,CalculationsAndCharts!$A901+$A$11,IF($C$5,8,0),1,1))","v":2691820},{"$f":"IF(A901>$A$8,\"\",OFFSET(InputPriceData!C$15,CalculationsAndCharts!$A901+$A$11,IF($C$5,8,0),1,1))","v":3770.25},{"$f":"IF(A901>$A$8,\"\",OFFSET(InputPriceData!D$15,CalculationsAndCharts!$A901+$A$11,IF($C$5,8,0),1,1))","v":3777.25},{"$f":"IF(A901>$A$8,\"\",OFFSET(InputPriceData!E$15,CalculationsAndCharts!$A901+$A$11,IF($C$5,8,0),1,1))","v":3685.5},{"$f":"IF(A901>$A$8,\"\",OFFSET(InputPriceData!F$15,CalculationsAndCharts!$A901+$A$11,IF($C$5,8,0),1,1))","v":3705.25},0,74,{"$f":"IF($A901>$J$30,NA(),AVERAGE(H901:H904))","v":8.75},44.5625,null,null,{"$f":"IF($A901>$J$30,NA(),IF($A901>$N$30,0,(1-$M$35)*J901+(2*$M$35-$M$36)*J902-($M$35+$M$37)*J903+$M$36*N902+$M$37*N903))","v":12.149696298941931},11.918141191650724,9.6209352993061655E-3,0.21747015541043629,null,null,9.7706220691600212,21.108890415769988,-0.36717769919921278,0.16938629286049839,null,null,null,null,null,null,null,null,null,null,null,null,null,null,null,null,null,null,null,null,null,null,null,null,null,null,null,null,null,null,null,{"$error":"#N/A"},2691820]
[870,{"$f":"IF(A902>$A$8,\"\",OFFSET(InputPriceData!B$15,$A902+$A$11,0,1,1))","v":"2021-01-28T05:00:00"},{"$f":"IF(A902>$A$8,\"\",OFFSET(InputPriceData!G$15,CalculationsAndCharts!$A902+$A$11,IF($C$5,8,0),1,1))","v":2149910},{"$f":"IF(A902>$A$8,\"\",OFFSET(InputPriceData!C$15,CalculationsAndCharts!$A902+$A$11,IF($C$5,8,0),1,1))","v":3735.25},{"$f":"IF(A902>$A$8,\"\",OFFSET(InputPriceData!D$15,CalculationsAndCharts!$A902+$A$11,IF($C$5,8,0),1,1))","v":3823.5},{"$f":"IF(A902>$A$8,\"\",OFFSET(InputPriceData!E$15,CalculationsAndCharts!$A902+$A$11,IF($C$5,8,0),1,1))","v":3703.5},{"$f":"IF(A902>$A$8,\"\",OFFSET(InputPriceData!F$15,CalculationsAndCharts!$A902+$A$11,IF($C$5,8,0),1,1))","v":3779.25},35,0,{"$f":"IF($A902>$J$30,NA(),AVERAGE(H902:H905))","v":12.3125},26.0625,null,null,{"$f":"IF($A902>$J$30,NA(),IF($A902>$N$30,0,(1-$M$35)*J902+(2*$M$35-$M$36)*J903-($M$35+$M$37)*J904+$M$36*N903+$M$37*N904))","v":12.373115124854266},9.8092103194694182,0.11558322917135519,0.29143472644876389,null,null,10.284447033068547,14.121093026374497,-0.15720389649076694,0.47171693511545104,null,null,null,null,null,null,null,null,null,null,null,null,null,null,null,null,null,null,null,null,null,null,null,null,null,null,null,null,null,null,null,2149910,{"$error":"#N/A"}]
[871,{"$f":"IF(A903>$A$8,\"\",OFFSET(InputPriceData!B$15,$A903+$A$11,0,1,1))","v":"2021-01-27T05:00:00"},{"$f":"IF(A903>$A$8,\"\",OFFSET(InputPriceData!G$15,CalculationsAndCharts!$A903+$A$11,IF($C$5,8,0),1,1))","v":2572020},{"$f":"IF(A903>$A$8,\"\",OFFSET(InputPriceData!C$15,CalculationsAndCharts!$A903+$A$11,IF($C$5,8,0),1,1))","v":3845.25},{"$f":"IF(A903>$A$8,\"\",OFFSET(InputPriceData!D$15,CalculationsAndCharts!$A903+$A$11,IF($C$5,8,0),1,1))","v":3853},{"$f":"IF(A903>$A$8,\"\",OFFSET(InputPriceData!E$15,CalculationsAndCharts!$A903+$A$11,IF($C$5,8,0),1,1))","v":3706.5},{"$f":"IF(A903>$A$8,\"\",OFFSET(InputPriceData!F$15,CalculationsAndCharts!$A903+$A$11,IF($C$5,8,0),1,1))","v":3744.25},0,98.25,{"$f":"IF($A903>$J$30,NA(),AVERAGE(H903:H906))","v":3.5625},29,null,null,{"$f":"IF($A903>$J$30,NA(),IF($A903>$N$30,0,(1-$M$35)*J903+(2*$M$35-$M$36)*J904-($M$35+$M$37)*J905+$M$36*N904+$M$37*N905))","v":12.818834269840389},8.2393152262659441,0.21747015541043629,0.28517392797953217,null,null,11.896740451715322,8.450240737219378,0.16938629286049839,0.4401784709875835,null,null,null,null,null,null,null,null,null,null,null,null,null,null,null,null,null,null,null,null,null,null,null,null,null,null,null,null,null,null,null,{"$error":"#N/A"},2572020]
[872,{"$f":"IF(A904>$A$8,\"\",OFFSET(InputPriceData!B$15,$A904+$A$11,0,1,1))","v":"2021-01-26T05:00:00"},{"$f":"IF(A904>$A$8,\"\",OFFSET(InputPriceData!G$15,CalculationsAndCharts!$A904+$A$11,IF($C$5,8,0),1,1))","v":1172461},{"$f":"IF(A904>$A$8,\"\",OFFSET(InputPriceData!C$15,CalculationsAndCharts!$A904+$A$11,IF($C$5,8,0),1,1))","v":3845},{"$f":"IF(A904>$A$8,\"\",OFFSET(InputPriceData!D$15,CalculationsAndCharts!$A904+$A$11,IF($C$5,8,0),1,1))","v":3862.25},{"$f":"IF(A904>$A$8,\"\",OFFSET(InputPriceData!E$15,CalculationsAndCharts!$A904+$A$11,IF($C$5,8,0),1,1))","v":3821.5},{"$f":"IF(A904>$A$8,\"\",OFFSET(InputPriceData!F$15,CalculationsAndCharts!$A904+$A$11,IF($C$5,8,0),1,1))","v":3842.5},0,6,{"$f":"IF($A904>$J$30,NA(),AVERAGE(H904:H907))","v":3.8125},4.4375,null,null,{"$f":"IF($A904>$J$30,NA(),IF($A904>$N$30,0,(1-$M$35)*J904+(2*$M$35-$M$36)*J905-($M$35+$M$37)*J906+$M$36*N905+$M$37*N906))","v":13.629279222368224},7.4779110106937781,0.29143472644876389,0.25241819075360744,null,null,15.339167356318422,5.5061011736861181,0.47171693511545104,0.32068918608694513,null,null,null,null,null,null,null,null,null,null,null,null,null,null,null,null,null,null,null,null,null,null,null,null,null,null,null,null,null,null,null,{"$error":"#N/A"},1172461]
[873,{"$f":"IF(A905>$A$8,\"\",OFFSET(InputPriceData!B$15,$A905+$A$11,0,1,1))","v":"2021-01-25T05:00:00"},{"$f":"IF(A905>$A$8,\"\",OFFSET(InputPriceData!G$15,CalculationsAndCharts!$A905+$A$11,IF($C$5,8,0),1,1))","v":1763898},{"$f":"IF(A905>$A$8,\"\",OFFSET(InputPriceData!C$15,CalculationsAndCharts!$A905+$A$11,IF($C$5,8,0),1,1))","v":3835.5},{"$f":"IF(A905>$A$8,\"\",OFFSET(InputPriceData!D$15,CalculationsAndCharts!$A905+$A$11,IF($C$5,8,0),1,1))","v":3853.25},{"$f":"IF(A905>$A$8,\"\",OFFSET(InputPriceData!E$15,CalculationsAndCharts!$A905+$A$11,IF($C$5,8,0),1,1))","v":3788.5},{"$f":"IF(A905>$A$8,\"\",OFFSET(InputPriceData!F$15,CalculationsAndCharts!$A905+$A$11,IF($C$5,8,0),1,1))","v":3848.5},14.25,0,{"$f":"IF($A905>$J$30,NA(),AVERAGE(H905:H908))","v":17.4375},2.9375,null,null,{"$f":"IF($A905>$J$30,NA(),IF($A905>$N$30,0,(1-$M$35)*J905+(2*$M$35-$M$36)*J906-($M$35+$M$37)*J907+$M$36*N906+$M$37*N907))","v":13.912707283868951},7.7383813057379278,0.28517392797953217,0.22315981171181765,null,null,16.993728882643566,6.6057474669651599,0.4401784709875835,0.2028316458362254,null,null,null,null,null,null,null,null,null,null,null,null,null,null,null,null,null,null,null,null,null,null,null,null,null,null,null,null,null,null,null,1763898,{"$error":"#N/A"}]
[874,{"$f":"IF(A906>$A$8,\"\",OFFSET(InputPriceData!B$15,$A906+$A$11,0,1,1))","v":"2021-01-22T05:00:00"},{"$f":"IF(A906>$A$8,\"\",OFFSET(InputPriceData!G$15,CalculationsAndCharts!$A906+$A$11,IF($C$5,8,0),1,1))","v":1186856},{"$f":"IF(A906>$A$8,\"\",OFFSET(InputPriceData!C$15,CalculationsAndCharts!$A906+$A$11,IF($C$5,8,0),1,1))","v":3846.75},{"$f":"IF(A906>$A$8,\"\",OFFSET(InputPriceData!D$15,CalculationsAndCharts!$A906+$A$11,IF($C$5,8,0),1,1))","v":3849},{"$f":"IF(A906>$A$8,\"\",OFFSET(InputPriceData!E$15,CalculationsAndCharts!$A906+$A$11,IF($C$5,8,0),1,1))","v":3813.25},{"$f":"IF(A906>$A$8,\"\",OFFSET(InputPriceData!F$15,CalculationsAndCharts!$A906+$A$11,IF($C$5,8,0),1,1))","v":3834.25},0,11.75,{"$f":"IF($A906>$J$30,NA(),AVERAGE(H906:H909))","v":20.9375},2.9375,null,null,{"$f":"IF($A906>$J$30,NA(),IF($A906>$N$30,0,(1-$M$35)*J906+(2*$M$35-$M$36)*J907-($M$35+$M$37)*J908+$M$36*N907+$M$37*N908))","v":13.515897970847345},8.0677840143440918,0.25241819075360744,0.2097534625030201,null,null,15.945607088494253,8.2017960347785426,0.32068918608694513,0.122713190603001,null,null,null,null,null,null,null,null,null,null,null,null,null,null,null,null,null,null,null,null,null,null,null,null,null,null,null,null,null,null,null,{"$error":"#N/A"},1186856]
[875,{"$f":"IF(A907>$A$8,\"\",OFFSET(InputPriceData!B$15,$A907+$A$11,0,1,1))","v":"2021-01-21T05:00:00"},{"$f":"IF(A907>$A$8,\"\",OFFSET(InputPriceData!G$15,CalculationsAndCharts!$A907+$A$11,IF($C$5,8,0),1,1))","v":1068271},{"$f":"IF(A907>$A$8,\"\",OFFSET(InputPriceData!C$15,CalculationsAndCharts!$A907+$A$11,IF($C$5,8,0),1,1))","v":3841.5},{"$f":"IF(A907>$A$8,\"\",OFFSET(InputPriceData!D$15,CalculationsAndCharts!$A907+$A$11,IF($C$5,8,0),1,1))","v":3859.75},{"$f":"IF(A907>$A$8,\"\",OFFSET(InputPriceData!E$15,CalculationsAndCharts!$A907+$A$11,IF($C$5,8,0),1,1))","v":3836.5},{"$f":"IF(A907>$A$8,\"\",OFFSET(InputPriceData!F$15,CalculationsAndCharts!$A907+$A$11,IF($C$5,8,0),1,1))","v":3846},1,0,{"$f":"IF($A907>$J$30,NA(),AVERAGE(H907:H910))","v":20.9375},7.25,null,null,{"$f":"IF($A907>$J$30,NA(),IF($A907>$N$30,0,(1-$M$35)*J907+(2*$M$35-$M$36)*J908-($M$35+$M$37)*J909+$M$36*N908+$M$37*N909))","v":12.963286533738769},8.2331040108403428,0.22315981171181765,0.2213807539916248,null,null,14.09549822253758,9.3416939586478307,0.2028316458362254,0.1355072305271447,null,null,null,null,null,null,null,null,null,null,null,null,null,null,null,null,null,null,null,null,null,null,null,null,null,null,null,null,null,null,null,1068271,{"$error":"#N/A"}]
[876,{"$f":"IF(A908>$A$8,\"\",OFFSET(InputPriceData!B$15,$A908+$A$11,0,1,1))","v":"2021-01-20T05:00:00"},{"$f":"IF(A908>$A$8,\"\",OFFSET(InputPriceData!G$15,CalculationsAndCharts!$A908+$A$11,IF($C$5,8,0),1,1))","v":1248787},{"$f":"IF(A908>$A$8,\"\",OFFSET(InputPriceData!C$15,CalculationsAndCharts!$A908+$A$11,IF($C$5,8,0),1,1))","v":3796.75},{"$f":"IF(A908>$A$8,\"\",OFFSET(InputPriceData!D$15,CalculationsAndCharts!$A908+$A$11,IF($C$5,8,0),1,1))","v":3852.5},{"$f":"IF(A908>$A$8,\"\",OFFSET(InputPriceData!E$15,CalculationsAndCharts!$A908+$A$11,IF($C$5,8,0),1,1))","v":3788.5},{"$f":"IF(A908>$A$8,\"\",OFFSET(InputPriceData!F$15,CalculationsAndCharts!$A908+$A$11,IF($C$5,8,0),1,1))","v":3845},54.5,0,{"$f":"IF($A908>$J$30,NA(),AVERAGE(H908:H911))","v":20.6875},10.375,null,null,{"$f":"IF($A908>$J$30,NA(),IF($A908>$N$30,0,(1-$M$35)*J908+(2*$M$35-$M$36)*J909-($M$35+$M$37)*J910+$M$36*N909+$M$37*N910))","v":12.401272384119077},8.1008758113660306,0.2097534625030201,0.26119713414962953,null,null,12.001162443068333,9.3776946747011607,0.122713190603001,0.27199257685529088,null,null,null,null,null,null,null,null,null,null,null,null,null,null,null,null,null,null,null,null,null,null,null,null,null,null,null,null,null,null,null,1248787,{"$error":"#N/A"}]
[877,{"$f":"IF(A909>$A$8,\"\",OFFSET(InputPriceData!B$15,$A909+$A$11,0,1,1))","v":"2021-01-19T05:00:00"},{"$f":"IF(A909>$A$8,\"\",OFFSET(InputPriceData!G$15,CalculationsAndCharts!$A909+$A$11,IF($C$5,8,0),1,1))","v":1315580},{"$f":"IF(A909>$A$8,\"\",OFFSET(InputPriceData!C$15,CalculationsAndCharts!$A909+$A$11,IF($C$5,8,0),1,1))","v":3750},{"$f":"IF(A909>$A$8,\"\",OFFSET(InputPriceData!D$15,CalculationsAndCharts!$A909+$A$11,IF($C$5,8,0),1,1))","v":3797},{"$f":"IF(A909>$A$8,\"\",OFFSET(InputPriceData!E$15,CalculationsAndCharts!$A909+$A$11,IF($C$5,8,0),1,1))","v":3740.5},{"$f":"IF(A909>$A$8,\"\",OFFSET(InputPriceData!F$15,CalculationsAndCharts!$A909+$A$11,IF($C$5,8,0),1,1))","v":3790.5},28.25,0,{"$f":"IF($A909>$J$30,NA(),AVERAGE(H909:H912))","v":9.375},10.375,null,null,{"$f":"IF($A909>$J$30,NA(),IF($A909>$N$30,0,(1-$M$35)*J909+(2*$M$35-$M$36)*J910-($M$35+$M$37)*J911+$M$36*N910+$M$37*N911))","v":12.288211098831903},7.8336240597335074,0.2213807539916248,0.30802809859607372,null,null,11.632870048500559,8.8564227287900756,0.1355072305271447,0.42115670994559457,null,null,null,null,null,null,null,null,null,null,null,null,null,null,null,null,null,null,null,null,null,null,null,null,null,null,null,null,null,null,null,1315580,{"$error":"#N/A"}]
[878,{"$f":"IF(A910>$A$8,\"\",OFFSET(InputPriceData!B$15,$A910+$A$11,0,1,1))","v":"2021-01-15T05:00:00"},{"$f":"IF(A910>$A$8,\"\",OFFSET(InputPriceData!G$15,CalculationsAndCharts!$A910+$A$11,IF($C$5,8,0),1,1))","v":1781463},{"$f":"IF(A910>$A$8,\"\",OFFSET(InputPriceData!C$15,CalculationsAndCharts!$A910+$A$11,IF($C$5,8,0),1,1))","v":3793},{"$f":"IF(A910>$A$8,\"\",OFFSET(InputPriceData!D$15,CalculationsAndCharts!$A910+$A$11,IF($C$5,8,0),1,1))","v":3797.75},{"$f":"IF(A910>$A$8,\"\",OFFSET(InputPriceData!E$15,CalculationsAndCharts!$A910+$A$11,IF($C$5,8,0),1,1))","v":3741.5},{"$f":"IF(A910>$A$8,\"\",OFFSET(InputPriceData!F$15,CalculationsAndCharts!$A910+$A$11,IF($C$5,8,0),1,1))","v":3762.25},0,29,{"$f":"IF($A910>$J$30,NA(),AVERAGE(H910:H913))","v":2.9375},10.375,null,null,{"$f":"IF($A910>$J$30,NA(),IF($A910>$N$30,0,(1-$M$35)*J910+(2*$M$35-$M$36)*J911-($M$35+$M$37)*J912+$M$36*N911+$M$37*N912))","v":12.892956410969459},7.5526282829136582,0.26119713414962953,0.33731954059732472,null,null,14.379813183958472,8.2300879201961656,0.27199257685529088,0.49874596465050725,null,null,null,null,null,null,null,null,null,null,null,null,null,null,null,null,null,null,null,null,null,null,null,null,null,null,null,null,null,null,null,{"$error":"#N/A"},1781463]
[879,{"$f":"IF(A911>$A$8,\"\",OFFSET(InputPriceData!B$15,$A911+$A$11,0,1,1))","v":"2021-01-14T05:00:00"},{"$f":"IF(A911>$A$8,\"\",OFFSET(InputPriceData!G$15,CalculationsAndCharts!$A911+$A$11,IF($C$5,8,0),1,1))","v":1170812},{"$f":"IF(A911>$A$8,\"\",OFFSET(InputPriceData!C$15,CalculationsAndCharts!$A911+$A$11,IF($C$5,8,0),1,1))","v":3808.5},{"$f":"IF(A911>$A$8,\"\",OFFSET(InputPriceData!D$15,CalculationsAndCharts!$A911+$A$11,IF($C$5,8,0),1,1))","v":3817.75},{"$f":"IF(A911>$A$8,\"\",OFFSET(InputPriceData!E$15,CalculationsAndCharts!$A911+$A$11,IF($C$5,8,0),1,1))","v":3786.25},{"$f":"IF(A911>$A$8,\"\",OFFSET(InputPriceData!F$15,CalculationsAndCharts!$A911+$A$11,IF($C$5,8,0),1,1))","v":3791.25},0,12.5,{"$f":"IF($A911>$J$30,NA(),AVERAGE(H911:H914))","v":2.9375},9.5,null,null,{"$f":"IF($A911>$J$30,NA(),IF($A911>$N$30,0,(1-$M$35)*J911+(2*$M$35-$M$36)*J912-($M$35+$M$37)*J913+$M$36*N912+$M$37*N913))","v":13.786034216909682},7.2930759821853384,0.30802809859607372,0.3383677200211862,null,null,18.774346939298624,7.6468729133907427,0.42115670994559457,0.49924830872234305,null,null,null,null,null,null,null,null,null,null,null,null,null,null,null,null,null,null,null,null,null,null,null,null,null,null,null,null,null,null,null,{"$error":"#N/A"},1170812]
[880,{"$f":"IF(A912>$A$8,\"\",OFFSET(InputPriceData!B$15,$A912+$A$11,0,1,1))","v":"2021-01-13T05:00:00"},{"$f":"IF(A912>$A$8,\"\",OFFSET(InputPriceData!G$15,CalculationsAndCharts!$A912+$A$11,IF($C$5,8,0),1,1))","v":1049186},{"$f":"IF(A912>$A$8,\"\",OFFSET(InputPriceData!C$15,CalculationsAndCharts!$A912+$A$11,IF($C$5,8,0),1,1))","v":3792},{"$f":"IF(A912>$A$8,\"\",OFFSET(InputPriceData!D$15,CalculationsAndCharts!$A912+$A$11,IF($C$5,8,0),1,1))","v":3813.5},{"$f":"IF(A912>$A$8,\"\",OFFSET(InputPriceData!E$15,CalculationsAndCharts!$A912+$A$11,IF($C$5,8,0),1,1))","v":3776.5},{"$f":"IF(A912>$A$8,\"\",OFFSET(InputPriceData!F$15,CalculationsAndCharts!$A912+$A$11,IF($C$5,8,0),1,1))","v":3803.75},9.25,0,{"$f":"IF($A912>$J$30,NA(),AVERAGE(H912:H915))","v":8.4375},6.375,null,null,{"$f":"IF($A912>$J$30,NA(),IF($A912>$N$30,0,(1-$M$35)*J912+(2*$M$35-$M$36)*J913-($M$35+$M$37)*J914+$M$36*N913+$M$37*N914))","v":14.494799343850964},7.18259174156867,0.33731954059732472,0.31892575710663151,null,null,22.929800621869994,7.6688480653569924,0.49874596465050725,0.45225151452172579,null,null,null,null,null,null,null,null,null,null,null,null,null,null,null,null,null,null,null,null,null,null,null,null,null,null,null,null,null,null,null,1049186,{"$error":"#N/A"}]
[881,{"$f":"IF(A913>$A$8,\"\",OFFSET(InputPriceData!B$15,$A913+$A$11,0,1,1))","v":"2021-01-12T05:00:00"},{"$f":"IF(A913>$A$8,\"\",OFFSET(InputPriceData!G$15,CalculationsAndCharts!$A913+$A$11,IF($C$5,8,0),1,1))","v":1216214},{"$f":"IF(A913>$A$8,\"\",OFFSET(InputPriceData!C$15,CalculationsAndCharts!$A913+$A$11,IF($C$5,8,0),1,1))","v":3794.25},{"$f":"IF(A913>$A$8,\"\",OFFSET(InputPriceData!D$15,CalculationsAndCharts!$A913+$A$11,IF($C$5,8,0),1,1))","v":3806.75},{"$f":"IF(A913>$A$8,\"\",OFFSET(InputPriceData!E$15,CalculationsAndCharts!$A913+$A$11,IF($C$5,8,0),1,1))","v":3768},{"$f":"IF(A913>$A$8,\"\",OFFSET(InputPriceData!F$15,CalculationsAndCharts!$A913+$A$11,IF($C$5,8,0),1,1))","v":3794.5},2.5,0,{"$f":"IF($A913>$J$30,NA(),AVERAGE(H913:H916))","v":19.875},6.375,null,null,{"$f":"IF($A913>$J$30,NA(),IF($A913>$N$30,0,(1-$M$35)*J913+(2*$M$35-$M$36)*J914-($M$35+$M$37)*J915+$M$36*N914+$M$37*N915))","v":14.547958960733917},7.1918943592544409,0.3383677200211862,0.26523349394599866,null,null,24.707200770595275,8.2522504782118169,0.49924830872234305,0.30380845064672385,null,null,null,null,null,null,null,null,null,null,null,null,null,null,null,null,null,null,null,null,null,null,null,null,null,null,null,null,null,null,null,1216214,{"$error":"#N/A"}]
[882,{"$f":"IF(A914>$A$8,\"\",OFFSET(InputPriceData!B$15,$A914+$A$11,0,1,1))","v":"2021-01-11T05:00:00"},{"$f":"IF(A914>$A$8,\"\",OFFSET(InputPriceData!G$15,CalculationsAndCharts!$A914+$A$11,IF($C$5,8,0),1,1))","v":1292422},{"$f":"IF(A914>$A$8,\"\",OFFSET(InputPriceData!C$15,CalculationsAndCharts!$A914+$A$11,IF($C$5,8,0),1,1))","v":3815.5},{"$f":"IF(A914>$A$8,\"\",OFFSET(InputPriceData!D$15,CalculationsAndCharts!$A914+$A$11,IF($C$5,8,0),1,1))","v":3820.75},{"$f":"IF(A914>$A$8,\"\",OFFSET(InputPriceData!E$15,CalculationsAndCharts!$A914+$A$11,IF($C$5,8,0),1,1))","v":3776.5},{"$f":"IF(A914>$A$8,\"\",OFFSET(InputPriceData!F$15,CalculationsAndCharts!$A914+$A$11,IF($C$5,8,0),1,1))","v":3792},0,25.5,{"$f":"IF($A914>$J$30,NA(),AVERAGE(H914:H917))","v":24.8125},6.375,null,null,{"$f":"IF($A914>$J$30,NA(),IF($A914>$N$30,0,(1-$M$35)*J914+(2*$M$35-$M$36)*J915-($M$35+$M$37)*J916+$M$36*N915+$M$37*N916))","v":13.941696088821219},7.1992908298140676,0.31892575710663151,0.22294998077856415,null,null,23.710027176963596,8.9427563662122402,0.45225151452172579,0.15377168986406661,null,null,null,null,null,null,null,null,null,null,null,null,null,null,null,null,null,null,null,null,null,null,null,null,null,null,null,null,null,null,null,{"$error":"#N/A"},1292422]
[883,{"$f":"IF(A915>$A$8,\"\",OFFSET(InputPriceData!B$15,$A915+$A$11,0,1,1))","v":"2021-01-08T05:00:00"},{"$f":"IF(A915>$A$8,\"\",OFFSET(InputPriceData!G$15,CalculationsAndCharts!$A915+$A$11,IF($C$5,8,0),1,1))","v":1619438},{"$f":"IF(A915>$A$8,\"\",OFFSET(InputPriceData!C$15,CalculationsAndCharts!$A915+$A$11,IF($C$5,8,0),1,1))","v":3797.75},{"$f":"IF(A915>$A$8,\"\",OFFSET(InputPriceData!D$15,CalculationsAndCharts!$A915+$A$11,IF($C$5,8,0),1,1))","v":3824.5},{"$f":"IF(A915>$A$8,\"\",OFFSET(InputPriceData!E$15,CalculationsAndCharts!$A915+$A$11,IF($C$5,8,0),1,1))","v":3775},{"$f":"IF(A915>$A$8,\"\",OFFSET(InputPriceData!F$15,CalculationsAndCharts!$A915+$A$11,IF($C$5,8,0),1,1))","v":3817.5},22,0,{"$f":"IF($A915>$J$30,NA(),AVERAGE(H915:H918))","v":31.3125},0,null,null,{"$f":"IF($A915>$J$30,NA(),IF($A915>$N$30,0,(1-$M$35)*J915+(2*$M$35-$M$36)*J916-($M$35+$M$37)*J917+$M$36*N916+$M$37*N917))","v":12.850128128554942},7.4625306653220367,0.26523349394599866,0.23565682528247908,null,null,20.293107302676248,10.835863049694645,0.30380845064672385,0.12073386792921796,null,null,null,null,null,null,null,null,null,null,null,null,null,null,null,null,null,null,null,null,null,null,null,null,null,null,null,null,null,null,null,1619438,{"$error":"#N/A"}]
[884,{"$f":"IF(A916>$A$8,\"\",OFFSET(InputPriceData!B$15,$A916+$A$11,0,1,1))","v":"2021-01-07T05:00:00"},{"$f":"IF(A916>$A$8,\"\",OFFSET(InputPriceData!G$15,CalculationsAndCharts!$A916+$A$11,IF($C$5,8,0),1,1))","v":1302021},{"$f":"IF(A916>$A$8,\"\",OFFSET(InputPriceData!C$15,CalculationsAndCharts!$A916+$A$11,IF($C$5,8,0),1,1))","v":3752.5},{"$f":"IF(A916>$A$8,\"\",OFFSET(InputPriceData!D$15,CalculationsAndCharts!$A916+$A$11,IF($C$5,8,0),1,1))","v":3804},{"$f":"IF(A916>$A$8,\"\",OFFSET(InputPriceData!E$15,CalculationsAndCharts!$A916+$A$11,IF($C$5,8,0),1,1))","v":3742},{"$f":"IF(A916>$A$8,\"\",OFFSET(InputPriceData!F$15,CalculationsAndCharts!$A916+$A$11,IF($C$5,8,0),1,1))","v":3795.5},55,0,{"$f":"IF($A916>$J$30,NA(),AVERAGE(H916:H919))","v":25.8125},14.125,null,null,{"$f":"IF($A916>$J$30,NA(),IF($A916>$N$30,0,(1-$M$35)*J916+(2*$M$35-$M$36)*J917-($M$35+$M$37)*J918+$M$36*N917+$M$37*N918))","v":11.677782868430938},7.4199448423893113,0.22294998077856415,0.27318173573370386,null,null,15.886651051493324,11.651987989589465,0.15377168986406661,0.16145672739678646,null,null,null,null,null,null,null,null,null,null,null,null,null,null,null,null,null,null,null,null,null,null,null,null,null,null,null,null,null,null,null,1302021,{"$error":"#N/A"}]
[885,{"$f":"IF(A917>$A$8,\"\",OFFSET(InputPriceData!B$15,$A917+$A$11,0,1,1))","v":"2021-01-06T05:00:00"},{"$f":"IF(A917>$A$8,\"\",OFFSET(InputPriceData!G$15,CalculationsAndCharts!$A917+$A$11,IF($C$5,8,0),1,1))","v":2127155},{"$f":"IF(A917>$A$8,\"\",OFFSET(InputPriceData!C$15,CalculationsAndCharts!$A917+$A$11,IF($C$5,8,0),1,1))","v":3717.5},{"$f":"IF(A917>$A$8,\"\",OFFSET(InputPriceData!D$15,CalculationsAndCharts!$A917+$A$11,IF($C$5,8,0),1,1))","v":3774.75},{"$f":"IF(A917>$A$8,\"\",OFFSET(InputPriceData!E$15,CalculationsAndCharts!$A917+$A$11,IF($C$5,8,0),1,1))","v":3685.5},{"$f":"IF(A917>$A$8,\"\",OFFSET(InputPriceData!F$15,CalculationsAndCharts!$A917+$A$11,IF($C$5,8,0),1,1))","v":3740.5},22.25,0,{"$f":"IF($A917>$J$30,NA(),AVERAGE(H917:H920))","v":18.1875},14.125,null,null,{"$f":"IF($A917>$J$30,NA(),IF($A917>$N$30,0,(1-$M$35)*J917+(2*$M$35-$M$36)*J918-($M$35+$M$37)*J919+$M$36*N918+$M$37*N919))","v":10.994960495955103},6.8011788058151676,0.23565682528247908,0.34151348608611898,null,null,12.839528581680955,10.073187718049642,0.12073386792921796,0.34344659993506582,null,null,null,null,null,null,null,null,null,null,null,null,null,null,null,null,null,null,null,null,null,null,null,null,null,null,null,null,null,null,null,2127155,{"$error":"#N/A"}]
[886,{"$f":"IF(A918>$A$8,\"\",OFFSET(InputPriceData!B$15,$A918+$A$11,0,1,1))","v":"2021-01-05T05:00:00"},{"$f":"IF(A918>$A$8,\"\",OFFSET(InputPriceData!G$15,CalculationsAndCharts!$A918+$A$11,IF($C$5,8,0),1,1))","v":1414022},{"$f":"IF(A918>$A$8,\"\",OFFSET(InputPriceData!C$15,CalculationsAndCharts!$A918+$A$11,IF($C$5,8,0),1,1))","v":3695},{"$f":"IF(A918>$A$8,\"\",OFFSET(InputPriceData!D$15,CalculationsAndCharts!$A918+$A$11,IF($C$5,8,0),1,1))","v":3730},{"$f":"IF(A918>$A$8,\"\",OFFSET(InputPriceData!E$15,CalculationsAndCharts!$A918+$A$11,IF($C$5,8,0),1,1))","v":3673.25},{"$f":"IF(A918>$A$8,\"\",OFFSET(InputPriceData!F$15,CalculationsAndCharts!$A918+$A$11,IF($C$5,8,0),1,1))","v":3718.25},26,0,{"$f":"IF($A918>$J$30,NA(),AVERAGE(H918:H921))","v":13.6875},14.125,null,null,{"$f":"IF($A918>$J$30,NA(),IF($A918>$N$30,0,(1-$M$35)*J918+(2*$M$35-$M$36)*J919-($M$35+$M$37)*J920+$M$36*N919+$M$37*N920))","v":10.782367079336639},6.1553045455598987,0.27318173573370386,0.37221715768029962,null,null,11.279988098518475,8.1438747668690397,0.16145672739678646,0.41086622261372807,null,null,null,null,null,null,null,null,null,null,null,null,null,null,null,null,null,null,null,null,null,null,null,null,null,null,null,null,null,null,null,1414022,{"$error":"#N/A"}]
[887,{"$f":"IF(A919>$A$8,\"\",OFFSET(InputPriceData!B$15,$A919+$A$11,0,1,1))","v":"2021-01-04T05:00:00"},{"$f":"IF(A919>$A$8,\"\",OFFSET(InputPriceData!G$15,CalculationsAndCharts!$A919+$A$11,IF($C$5,8,0),1,1))","v":2037616},{"$f":"IF(A919>$A$8,\"\",OFFSET(InputPriceData!C$15,CalculationsAndCharts!$A919+$A$11,IF($C$5,8,0),1,1))","v":3748.75},{"$f":"IF(A919>$A$8,\"\",OFFSET(InputPriceData!D$15,CalculationsAndCharts!$A919+$A$11,IF($C$5,8,0),1,1))","v":3773.25},{"$f":"IF(A919>$A$8,\"\",OFFSET(InputPriceData!E$15,CalculationsAndCharts!$A919+$A$11,IF($C$5,8,0),1,1))","v":3652.5},{"$f":"IF(A919>$A$8,\"\",OFFSET(InputPriceData!F$15,CalculationsAndCharts!$A919+$A$11,IF($C$5,8,0),1,1))","v":3692.25},0,56.5,{"$f":"IF($A919>$J$30,NA(),AVERAGE(H919:H922))","v":7.1875},16,null,null,{"$f":"IF($A919>$J$30,NA(),IF($A919>$N$30,0,(1-$M$35)*J919+(2*$M$35-$M$36)*J920-($M$35+$M$37)*J921+$M$36*N920+$M$37*N921))","v":11.01415583501864},5.4063363169500533,0.34151348608611898,0.34857337534604255,null,null,11.304410536538267,5.5245583812953925,0.34344659993506582,0.23464108677798584,null,null,null,null,null,null,null,null,null,null,null,null,null,null,null,null,null,null,null,null,null,null,null,null,null,null,null,null,null,null,null,{"$error":"#N/A"},2037616]
[888,{"$f":"IF(A920>$A$8,\"\",OFFSET(InputPriceData!B$15,$A920+$A$11,0,1,1))","v":"2020-12-31T05:00:00"},{"$f":"IF(A920>$A$8,\"\",OFFSET(InputPriceData!G$15,CalculationsAndCharts!$A920+$A$11,IF($C$5,8,0),1,1))","v":993343},{"$f":"IF(A920>$A$8,\"\",OFFSET(InputPriceData!C$15,CalculationsAndCharts!$A920+$A$11,IF($C$5,8,0),1,1))","v":3725},{"$f":"IF(A920>$A$8,\"\",OFFSET(InputPriceData!D$15,CalculationsAndCharts!$A920+$A$11,IF($C$5,8,0),1,1))","v":3753},{"$f":"IF(A920>$A$8,\"\",OFFSET(InputPriceData!E$15,CalculationsAndCharts!$A920+$A$11,IF($C$5,8,0),1,1))","v":3715},{"$f":"IF(A920>$A$8,\"\",OFFSET(InputPriceData!F$15,CalculationsAndCharts!$A920+$A$11,IF($C$5,8,0),1,1))","v":3748.75},24.5,0,{"$f":"IF($A920>$J$30,NA(),AVERAGE(H920:H923))","v":15.3125},1.875,null,null,{"$f":"IF($A920>$J$30,NA(),IF($A920>$N$30,0,(1-$M$35)*J920+(2*$M$35-$M$36)*J921-($M$35+$M$37)*J922+$M$36*N921+$M$37*N922))","v":11.197445372362859},5.1227781574053788,0.37221715768029962,0.32948857713760965,null,null,11.007375820280107,4.5963371949598146,0.41086622261372807,5.5410468832011506E-2,null,null,null,null,null,null,null,null,null,null,null,null,null,null,null,null,null,null,null,null,null,null,null,null,null,null,null,null,null,null,null,993343,{"$error":"#N/A"}]
[889,{"$f":"IF(A921>$A$8,\"\",OFFSET(InputPriceData!B$15,$A921+$A$11,0,1,1))","v":"2020-12-30T05:00:00"},{"$f":"IF(A921>$A$8,\"\",OFFSET(InputPriceData!G$15,CalculationsAndCharts!$A921+$A$11,IF($C$5,8,0),1,1))","v":769995},{"$f":"IF(A921>$A$8,\"\",OFFSET(InputPriceData!C$15,CalculationsAndCharts!$A921+$A$11,IF($C$5,8,0),1,1))","v":3724.5},{"$f":"IF(A921>$A$8,\"\",OFFSET(InputPriceData!D$15,CalculationsAndCharts!$A921+$A$11,IF($C$5,8,0),1,1))","v":3738.25},{"$f":"IF(A921>$A$8,\"\",OFFSET(InputPriceData!E$15,CalculationsAndCharts!$A921+$A$11,IF($C$5,8,0),1,1))","v":3716.5},{"$f":"IF(A921>$A$8,\"\",OFFSET(InputPriceData!F$15,CalculationsAndCharts!$A921+$A$11,IF($C$5,8,0),1,1))","v":3724.25},4.25,0,{"$f":"IF($A921>$J$30,NA(),AVERAGE(H921:H924))","v":12.5625},1.875,null,null,{"$f":"IF($A921>$J$30,NA(),IF($A921>$N$30,0,(1-$M$35)*J921+(2*$M$35-$M$36)*J922-($M$35+$M$37)*J923+$M$36*N922+$M$37*N923))","v":11.178567350037564},5.3997924995615056,0.34857337534604255,0.31166004093225647,null,null,9.6894568878789649,6.0065328076613245,0.23464108677798584,-0.13508107423407936,null,null,null,null,null,null,null,null,null,null,null,null,null,null,null,null,null,null,null,null,null,null,null,null,null,null,null,null,null,null,null,769995,{"$error":"#N/A"}]
[890,{"$f":"IF(A922>$A$8,\"\",OFFSET(InputPriceData!B$15,$A922+$A$11,0,1,1))","v":"2020-12-29T05:00:00"},{"$f":"IF(A922>$A$8,\"\",OFFSET(InputPriceData!G$15,CalculationsAndCharts!$A922+$A$11,IF($C$5,8,0),1,1))","v":992636},{"$f":"IF(A922>$A$8,\"\",OFFSET(InputPriceData!C$15,CalculationsAndCharts!$A922+$A$11,IF($C$5,8,0),1,1))","v":3731},{"$f":"IF(A922>$A$8,\"\",OFFSET(InputPriceData!D$15,CalculationsAndCharts!$A922+$A$11,IF($C$5,8,0),1,1))","v":3747.75},{"$f":"IF(A922>$A$8,\"\",OFFSET(InputPriceData!E$15,CalculationsAndCharts!$A922+$A$11,IF($C$5,8,0),1,1))","v":3714.5},{"$f":"IF(A922>$A$8,\"\",OFFSET(InputPriceData!F$15,CalculationsAndCharts!$A922+$A$11,IF($C$5,8,0),1,1))","v":3720},0,7.5,{"$f":"IF($A922>$J$30,NA(),AVERAGE(H922:H925))","v":12.5625},1.875,null,null,{"$f":"IF($A922>$J$30,NA(),IF($A922>$N$30,0,(1-$M$35)*J922+(2*$M$35-$M$36)*J923-($M$35+$M$37)*J924+$M$36*N923+$M$37*N924))","v":11.278426697766287},5.6881375762175512,0.32948857713760965,0.33816004957814499,null,null,8.6029067102297105,7.6995783688699273,5.5410468832011506E-2,-0.1579123695015526,null,null,null,null,null,null,null,null,null,null,null,null,null,null,null,null,null,null,null,null,null,null,null,null,null,null,null,null,null,null,null,{"$error":"#N/A"},992636]
[891,{"$f":"IF(A923>$A$8,\"\",OFFSET(InputPriceData!B$15,$A923+$A$11,0,1,1))","v":"2020-12-28T05:00:00"},{"$f":"IF(A923>$A$8,\"\",OFFSET(InputPriceData!G$15,CalculationsAndCharts!$A923+$A$11,IF($C$5,8,0),1,1))","v":760654},{"$f":"IF(A923>$A$8,\"\",OFFSET(InputPriceData!C$15,CalculationsAndCharts!$A923+$A$11,IF($C$5,8,0),1,1))","v":3682},{"$f":"IF(A923>$A$8,\"\",OFFSET(InputPriceData!D$15,CalculationsAndCharts!$A923+$A$11,IF($C$5,8,0),1,1))","v":3732.25},{"$f":"IF(A923>$A$8,\"\",OFFSET(InputPriceData!E$15,CalculationsAndCharts!$A923+$A$11,IF($C$5,8,0),1,1))","v":3676},{"$f":"IF(A923>$A$8,\"\",OFFSET(InputPriceData!F$15,CalculationsAndCharts!$A923+$A$11,IF($C$5,8,0),1,1))","v":3727.5},32.5,0,{"$f":"IF($A923>$J$30,NA(),AVERAGE(H923:H926))","v":12.5625},2.125,null,null,{"$f":"IF($A923>$J$30,NA(),IF($A923>$N$30,0,(1-$M$35)*J923+(2*$M$35-$M$36)*J924-($M$35+$M$37)*J925+$M$36*N924+$M$37*N925))","v":11.390733532995569},5.9776899571332551,0.31166004093225647,0.41056031360560902,null,null,7.34421732498007,9.6382237020247885,-0.13508107423407936,2.1123646128661418E-2,null,null,null,null,null,null,null,null,null,null,null,null,null,null,null,null,null,null,null,null,null,null,null,null,null,null,null,null,null,null,null,760654,{"$error":"#N/A"}]
[892,{"$f":"IF(A924>$A$8,\"\",OFFSET(InputPriceData!B$15,$A924+$A$11,0,1,1))","v":"2020-12-24T14:30:00"},{"$f":"IF(A924>$A$8,\"\",OFFSET(InputPriceData!G$15,CalculationsAndCharts!$A924+$A$11,IF($C$5,8,0),1,1))","v":369650},{"$f":"IF(A924>$A$8,\"\",OFFSET(InputPriceData!C$15,CalculationsAndCharts!$A924+$A$11,IF($C$5,8,0),1,1))","v":3685.25},{"$f":"IF(A924>$A$8,\"\",OFFSET(InputPriceData!D$15,CalculationsAndCharts!$A924+$A$11,IF($C$5,8,0),1,1))","v":3696},{"$f":"IF(A924>$A$8,\"\",OFFSET(InputPriceData!E$15,CalculationsAndCharts!$A924+$A$11,IF($C$5,8,0),1,1))","v":3678.5},{"$f":"IF(A924>$A$8,\"\",OFFSET(InputPriceData!F$15,CalculationsAndCharts!$A924+$A$11,IF($C$5,8,0),1,1))","v":3695},13.5,0,{"$f":"IF($A924>$J$30,NA(),AVERAGE(H924:H927))","v":4.4375},12.25,null,null,{"$f":"IF($A924>$J$30,NA(),IF($A924>$N$30,0,(1-$M$35)*J924+(2*$M$35-$M$36)*J925-($M$35+$M$37)*J926+$M$36*N925+$M$37*N926))","v":11.844883535528082},5.8583553846028575,0.33816004957814499,0.480858638232391,null,null,7.3205334658211161,10.066097570400032,-0.1579123695015526,0.20980174789909656,null,null,null,null,null,null,null,null,null,null,null,null,null,null,null,null,null,null,null,null,null,null,null,null,null,null,null,null,null,null,null,369650,{"$error":"#N/A"}]
[893,{"$f":"IF(A925>$A$8,\"\",OFFSET(InputPriceData!B$15,$A925+$A$11,0,1,1))","v":"2020-12-23T05:00:00"},{"$f":"IF(A925>$A$8,\"\",OFFSET(InputPriceData!G$15,CalculationsAndCharts!$A925+$A$11,IF($C$5,8,0),1,1))","v":1021819},{"$f":"IF(A925>$A$8,\"\",OFFSET(InputPriceData!C$15,CalculationsAndCharts!$A925+$A$11,IF($C$5,8,0),1,1))","v":3674.25},{"$f":"IF(A925>$A$8,\"\",OFFSET(InputPriceData!D$15,CalculationsAndCharts!$A925+$A$11,IF($C$5,8,0),1,1))","v":3701.75},{"$f":"IF(A925>$A$8,\"\",OFFSET(InputPriceData!E$15,CalculationsAndCharts!$A925+$A$11,IF($C$5,8,0),1,1))","v":3651},{"$f":"IF(A925>$A$8,\"\",OFFSET(InputPriceData!F$15,CalculationsAndCharts!$A925+$A$11,IF($C$5,8,0),1,1))","v":3681.5},4.25,0,{"$f":"IF($A925>$J$30,NA(),AVERAGE(H925:H928))","v":2.3125},12.25,null,null,{"$f":"IF($A925>$J$30,NA(),IF($A925>$N$30,0,(1-$M$35)*J925+(2*$M$35-$M$36)*J926-($M$35+$M$37)*J927+$M$36*N926+$M$37*N927))","v":12.740289613264435},5.3238647378505428,0.41056031360560902,0.53892949644052712,null,null,9.1201693270162956,8.742837492173857,2.1123646128661418E-2,0.36587886808966114,null,null,null,null,null,null,null,null,null,null,null,null,null,null,null,null,null,null,null,null,null,null,null,null,null,null,null,null,null,null,null,1021819,{"$error":"#N/A"}]
[894,{"$f":"IF(A926>$A$8,\"\",OFFSET(InputPriceData!B$15,$A926+$A$11,0,1,1))","v":"2020-12-22T05:00:00"},{"$f":"IF(A926>$A$8,\"\",OFFSET(InputPriceData!G$15,CalculationsAndCharts!$A926+$A$11,IF($C$5,8,0),1,1))","v":1104998},{"$f":"IF(A926>$A$8,\"\",OFFSET(InputPriceData!C$15,CalculationsAndCharts!$A926+$A$11,IF($C$5,8,0),1,1))","v":3685},{"$f":"IF(A926>$A$8,\"\",OFFSET(InputPriceData!D$15,CalculationsAndCharts!$A926+$A$11,IF($C$5,8,0),1,1))","v":3695},{"$f":"IF(A926>$A$8,\"\",OFFSET(InputPriceData!E$15,CalculationsAndCharts!$A926+$A$11,IF($C$5,8,0),1,1))","v":3663.75},{"$f":"IF(A926>$A$8,\"\",OFFSET(InputPriceData!F$15,CalculationsAndCharts!$A926+$A$11,IF($C$5,8,0),1,1))","v":3677.25},0,8.5,{"$f":"IF($A926>$J$30,NA(),AVERAGE(H926:H929))","v":6.375},12.25,null,null,{"$f":"IF($A926>$J$30,NA(),IF($A926>$N$30,0,(1-$M$35)*J926+(2*$M$35-$M$36)*J927-($M$35+$M$37)*J928+$M$36*N927+$M$37*N928))","v":13.600568649048945},4.7679214929717677,0.480858638232391,0.54392724434918394,null,null,10.91971113343282,7.1323559137435373,0.20980174789909656,0.29940366397177925,null,null,null,null,null,null,null,null,null,null,null,null,null,null,null,null,null,null,null,null,null,null,null,null,null,null,null,null,null,null,null,{"$error":"#N/A"},1104998]
[895,{"$f":"IF(A927>$A$8,\"\",OFFSET(InputPriceData!B$15,$A927+$A$11,0,1,1))","v":"2020-12-21T05:00:00"},{"$f":"IF(A927>$A$8,\"\",OFFSET(InputPriceData!G$15,CalculationsAndCharts!$A927+$A$11,IF($C$5,8,0),1,1))","v":1837575},{"$f":"IF(A927>$A$8,\"\",OFFSET(InputPriceData!C$15,CalculationsAndCharts!$A927+$A$11,IF($C$5,8,0),1,1))","v":3718.25},{"$f":"IF(A927>$A$8,\"\",OFFSET(InputPriceData!D$15,CalculationsAndCharts!$A927+$A$11,IF($C$5,8,0),1,1))","v":3724},{"$f":"IF(A927>$A$8,\"\",OFFSET(InputPriceData!E$15,CalculationsAndCharts!$A927+$A$11,IF($C$5,8,0),1,1))","v":3596},{"$f":"IF(A927>$A$8,\"\",OFFSET(InputPriceData!F$15,CalculationsAndCharts!$A927+$A$11,IF($C$5,8,0),1,1))","v":3685.75},0,40.5,{"$f":"IF($A927>$J$30,NA(),AVERAGE(H927:H930))","v":7.9375},10.125,null,null,{"$f":"IF($A927>$J$30,NA(),IF($A927>$N$30,0,(1-$M$35)*J927+(2*$M$35-$M$36)*J928-($M$35+$M$37)*J929+$M$36*N928+$M$37*N929))","v":14.273980333459305},4.2765515349262992,0.53892949644052712,0.51689123879650845,null,null,12.036011984286176,5.5878231382528005,0.36587886808966114,2.5684275937846224E-2,null,null,null,null,null,null,null,null,null,null,null,null,null,null,null,null,null,null,null,null,null,null,null,null,null,null,null,null,null,null,null,{"$error":"#N/A"},1837575]
[896,{"$f":"IF(A928>$A$8,\"\",OFFSET(InputPriceData!B$15,$A928+$A$11,0,1,1))","v":"2020-12-18T05:00:00"},{"$f":"IF(A928>$A$8,\"\",OFFSET(InputPriceData!G$15,CalculationsAndCharts!$A928+$A$11,IF($C$5,8,0),1,1))","v":1731161},{"$f":"IF(A928>$A$8,\"\",OFFSET(InputPriceData!C$15,CalculationsAndCharts!$A928+$A$11,IF($C$5,8,0),1,1))","v":3721.5},{"$f":"IF(A928>$A$8,\"\",OFFSET(InputPriceData!D$15,CalculationsAndCharts!$A928+$A$11,IF($C$5,8,0),1,1))","v":3733.25},{"$f":"IF(A928>$A$8,\"\",OFFSET(InputPriceData!E$15,CalculationsAndCharts!$A928+$A$11,IF($C$5,8,0),1,1))","v":3707.75},{"$f":"IF(A928>$A$8,\"\",OFFSET(InputPriceData!F$15,CalculationsAndCharts!$A928+$A$11,IF($C$5,8,0),1,1))","v":3726.25},5,0,{"$f":"IF($A928>$J$30,NA(),AVERAGE(H928:H931))","v":19.9375},0,null,null,{"$f":"IF($A928>$J$30,NA(),IF($A928>$N$30,0,(1-$M$35)*J928+(2*$M$35-$M$36)*J929-($M$35+$M$37)*J930+$M$36*N929+$M$37*N930))","v":14.430950483770374},4.2628714389763722,0.54392724434918394,0.51349091053290652,null,null,10.949080363456195,5.9033892224599329,0.29940366397177925,-0.22082138309415292,null,null,null,null,null,null,null,null,null,null,null,null,null,null,null,null,null,null,null,null,null,null,null,null,null,null,null,null,null,null,null,1731161,{"$error":"#N/A"}]
[897,{"$f":"IF(A929>$A$8,\"\",OFFSET(InputPriceData!B$15,$A929+$A$11,0,1,1))","v":"2020-12-17T05:00:00"},{"$f":"IF(A929>$A$8,\"\",OFFSET(InputPriceData!G$15,CalculationsAndCharts!$A929+$A$11,IF($C$5,8,0),1,1))","v":292916},{"$f":"IF(A929>$A$8,\"\",OFFSET(InputPriceData!C$15,CalculationsAndCharts!$A929+$A$11,IF($C$5,8,0),1,1))","v":3704.5},{"$f":"IF(A929>$A$8,\"\",OFFSET(InputPriceData!D$15,CalculationsAndCharts!$A929+$A$11,IF($C$5,8,0),1,1))","v":3724.75},{"$f":"IF(A929>$A$8,\"\",OFFSET(InputPriceData!E$15,CalculationsAndCharts!$A929+$A$11,IF($C$5,8,0),1,1))","v":3699.5},{"$f":"IF(A929>$A$8,\"\",OFFSET(InputPriceData!F$15,CalculationsAndCharts!$A929+$A$11,IF($C$5,8,0),1,1))","v":3721.25},20.5,0,{"$f":"IF($A929>$J$30,NA(),AVERAGE(H929:H932))","v":18.6875},3.6875,null,null,{"$f":"IF($A929>$J$30,NA(),IF($A929>$N$30,0,(1-$M$35)*J929+(2*$M$35-$M$36)*J930-($M$35+$M$37)*J931+$M$36*N930+$M$37*N931))","v":14.164321561885561},4.5111394067247401,0.51689123879650845,0.52609344281955395,null,null,{"$f":"IF($A929>$J$30,NA(),IF($A929>$N$30,0,(1-S$35)*$J929+(2*S$35-S$36)*$J930-(S$35+S$37)*$J931+S$36*T930+S$37*T931))","v":7.7840120954608629},{"$f":"IF($A929>$J$30,NA(),IF($A929>$N$30,0,(1-S$35)*$K929+(2*S$35-S$36)*$K930-(S$35+S$37)*$K931+S$36*U930+S$37*U931))","v":7.394171441268238},{"$f":"IF($A929>$N$30,NA(),(T929-U929)/(T929+U929))","v":2.5684275937846224E-2},{"$f":"IF($A929>$N$30,NA(),OFFSET(V929,$C$18,0,1,1))","v":-0.42123104857489468},null,null,null,null,null,null,null,null,null,null,null,null,null,null,null,null,null,null,null,null,null,null,null,null,null,null,null,null,null,null,null,292916,{"$error":"#N/A"}]
[898,{"$f":"IF(A930>$A$8,\"\",OFFSET(InputPriceData!B$15,$A930+$A$11,0,1,1))","v":"2020-12-16T05:00:00"},{"$f":"IF(A930>$A$8,\"\",OFFSET(InputPriceData!G$15,CalculationsAndCharts!$A930+$A$11,IF($C$5,8,0),1,1))","v":584711},{"$f":"IF(A930>$A$8,\"\",OFFSET(InputPriceData!C$15,CalculationsAndCharts!$A930+$A$11,IF($C$5,8,0),1,1))","v":3697.75},{"$f":"IF(A930>$A$8,\"\",OFFSET(InputPriceData!D$15,CalculationsAndCharts!$A930+$A$11,IF($C$5,8,0),1,1))","v":3711.5},{"$f":"IF(A930>$A$8,\"\",OFFSET(InputPriceData!E$15,CalculationsAndCharts!$A930+$A$11,IF($C$5,8,0),1,1))","v":3687},{"$f":"IF(A930>$A$8,\"\",OFFSET(InputPriceData!F$15,CalculationsAndCharts!$A930+$A$11,IF($C$5,8,0),1,1))","v":3700.75},{"$f":"IF($A930>$H$30,NA(),IF($G930>$G931,$G930-$G931,0))","v":6.25},{"$f":"IF($A930>$H$30,NA(),IF(G930<G931,G931-G930,0))","v":0},{"$f":"IF($A930>$J$30,NA(),AVERAGE(H930:H933))","v":13.5625},5.5,null,null,{"$f":"IF($A930>$J$30,NA(),IF($A930>$N$30,0,(1-$M$35)*J930+(2*$M$35-$M$36)*J931-($M$35+$M$37)*J932+$M$36*N931+$M$37*N932))","v":14.150464597129709},4.5486428750747603,{"$f":"IF($A930>$N$30,NA(),(N930-O930)/(N930+O930))","v":0.51349091053290652},{"$f":"IF($A930>$N$30,NA(),OFFSET(P930,$C$17,0,1,1))","v":0.57904753918021512},null,null,5.2134187854196714,8.1684134987423072,-0.22082138309415292,-0.30469404244992432,null,null,null,null,null,null,null,null,null,null,null,null,null,null,null,null,null,null,null,null,null,null,null,null,null,null,null,null,null,null,null,584711,{"$error":"#N/A"}]
[899,{"$f":"IF(A931>$A$8,\"\",OFFSET(InputPriceData!B$15,$A931+$A$11,0,1,1))","v":"2020-12-15T05:00:00"},{"$f":"IF(A931>$A$8,\"\",OFFSET(InputPriceData!G$15,CalculationsAndCharts!$A931+$A$11,IF($C$5,8,0),1,1))","v":1029503},{"$f":"IF(A931>$A$8,\"\",OFFSET(InputPriceData!C$15,CalculationsAndCharts!$A931+$A$11,IF($C$5,8,0),1,1))","v":3653},{"$f":"IF(A931>$A$8,\"\",OFFSET(InputPriceData!D$15,CalculationsAndCharts!$A931+$A$11,IF($C$5,8,0),1,1))","v":3695.75},{"$f":"IF(A931>$A$8,\"\",OFFSET(InputPriceData!E$15,CalculationsAndCharts!$A931+$A$11,IF($C$5,8,0),1,1))","v":3642.75},{"$f":"IF(A931>$A$8,\"\",OFFSET(InputPriceData!F$15,CalculationsAndCharts!$A931+$A$11,IF($C$5,8,0),1,1))","v":3694.5},48,0,{"$f":"IF($A931>$J$30,NA(),AVERAGE(H931:H934))","v":12},6.5,null,null,{"$f":"IF($A931>$J$30,NA(),IF($A931>$N$30,0,(1-$M$35)*J931+(2*$M$35-$M$36)*J932-($M$35+$M$37)*J933+$M$36*N932+$M$37*N933))","v":14.412502144688551},4.4755970244691952,0.52609344281955395,0.65070294328407685,null,null,3.4766296227101776,8.5372478119713389,-0.42123104857489468,7.2554263431048344E-2,null,null,null,null,null,null,null,null,null,null,null,null,null,null,null,null,null,null,null,null,null,null,null,null,null,null,null,null,null,null,null,1029503,{"$error":"#N/A"}]
[900,{"$f":"IF(A932>$A$8,\"\",OFFSET(InputPriceData!B$15,$A932+$A$11,0,1,1))","v":"2020-12-14T05:00:00"},{"$f":"IF(A932>$A$8,\"\",OFFSET(InputPriceData!G$15,CalculationsAndCharts!$A932+$A$11,IF($C$5,8,0),1,1))","v":1486250},{"$f":"IF(A932>$A$8,\"\",OFFSET(InputPriceData!C$15,CalculationsAndCharts!$A932+$A$11,IF($C$5,8,0),1,1))","v":3677.75},{"$f":"IF(A932>$A$8,\"\",OFFSET(InputPriceData!D$15,CalculationsAndCharts!$A932+$A$11,IF($C$5,8,0),1,1))","v":3698},{"$f":"IF(A932>$A$8,\"\",OFFSET(InputPriceData!E$15,CalculationsAndCharts!$A932+$A$11,IF($C$5,8,0),1,1))","v":3642.75},{"$f":"IF(A932>$A$8,\"\",OFFSET(InputPriceData!F$15,CalculationsAndCharts!$A932+$A$11,IF($C$5,8,0),1,1))","v":3646.5},0,14.75,{"$f":"IF($A932>$J$30,NA(),AVERAGE(H932:H935))","v":0},13.875,null,null,{"$f":"IF($A932>$J$30,NA(),IF($A932>$N$30,0,(1-$M$35)*J932+(2*$M$35-$M$36)*J933-($M$35+$M$37)*J934+$M$36*N933+$M$37*N934))","v":15.239568328003308},4.0626603254989746,0.57904753918021512,0.70617643807890418,null,null,3.9724168034316989,7.4539682585591063,-0.30469404244992432,0.39679977685382728,null,null,null,null,null,null,null,null,null,null,null,null,null,null,null,null,null,null,null,null,null,null,null,null,null,null,null,null,null,null,null,{"$error":"#N/A"},1486250]
[901,{"$f":"IF(A933>$A$8,\"\",OFFSET(InputPriceData!B$15,$A933+$A$11,0,1,1))","v":"2020-12-11T05:00:00"},{"$f":"IF(A933>$A$8,\"\",OFFSET(InputPriceData!G$15,CalculationsAndCharts!$A933+$A$11,IF($C$5,8,0),1,1))","v":1538362},{"$f":"IF(A933>$A$8,\"\",OFFSET(InputPriceData!C$15,CalculationsAndCharts!$A933+$A$11,IF($C$5,8,0),1,1))","v":3670},{"$f":"IF(A933>$A$8,\"\",OFFSET(InputPriceData!D$15,CalculationsAndCharts!$A933+$A$11,IF($C$5,8,0),1,1))","v":3674.75},{"$f":"IF(A933>$A$8,\"\",OFFSET(InputPriceData!E$15,CalculationsAndCharts!$A933+$A$11,IF($C$5,8,0),1,1))","v":3628.25},{"$f":"IF(A933>$A$8,\"\",OFFSET(InputPriceData!F$15,CalculationsAndCharts!$A933+$A$11,IF($C$5,8,0),1,1))","v":3661.25},0,7.25,{"$f":"IF($A933>$J$30,NA(),AVERAGE(H933:H936))","v":2.8125},10.1875,null,null,{"$f":"IF($A933>$J$30,NA(),IF($A933>$N$30,0,(1-$M$35)*J933+(2*$M$35-$M$36)*J934-($M$35+$M$37)*J935+$M$36*N934+$M$37*N935))","v":16.476392170473027},3.4864875681348315,0.65070294328407685,0.75230779454689922,null,null,6.3528303031726088,5.4933401327179112,7.2554263431048344E-2,0.66996286046891573,null,null,null,null,null,null,null,null,null,null,null,null,null,null,null,null,null,null,null,null,null,null,null,null,null,null,null,null,null,null,null,{"$error":"#N/A"},1538362]
[902,{"$f":"IF(A934>$A$8,\"\",OFFSET(InputPriceData!B$15,$A934+$A$11,0,1,1))","v":"2020-12-10T05:00:00"},{"$f":"IF(A934>$A$8,\"\",OFFSET(InputPriceData!G$15,CalculationsAndCharts!$A934+$A$11,IF($C$5,8,0),1,1))","v":1601203},{"$f":"IF(A934>$A$8,\"\",OFFSET(InputPriceData!C$15,CalculationsAndCharts!$A934+$A$11,IF($C$5,8,0),1,1))","v":3669.5},{"$f":"IF(A934>$A$8,\"\",OFFSET(InputPriceData!D$15,CalculationsAndCharts!$A934+$A$11,IF($C$5,8,0),1,1))","v":3681.25},{"$f":"IF(A934>$A$8,\"\",OFFSET(InputPriceData!E$15,CalculationsAndCharts!$A934+$A$11,IF($C$5,8,0),1,1))","v":3644},{"$f":"IF(A934>$A$8,\"\",OFFSET(InputPriceData!F$15,CalculationsAndCharts!$A934+$A$11,IF($C$5,8,0),1,1))","v":3668.5},0,4,{"$f":"IF($A934>$J$30,NA(),AVERAGE(H934:H937))","v":2.8125},10.1875,null,null,{"$f":"IF($A934>$J$30,NA(),IF($A934>$N$30,0,(1-$M$35)*J934+(2*$M$35-$M$36)*J935-($M$35+$M$37)*J936+$M$36*N935+$M$37*N936))","v":17.65219779346976},3.0399151668352427,0.70617643807890418,0.7687050744571986,null,null,8.8466696557528834,3.820385139572549,0.39679977685382728,0.77001791309946255,null,null,null,null,null,null,null,null,null,null,null,null,null,null,null,null,null,null,null,null,null,null,null,null,null,null,null,null,null,null,null,{"$error":"#N/A"},1601203]
[903,{"$f":"IF(A935>$A$8,\"\",OFFSET(InputPriceData!B$15,$A935+$A$11,0,1,1))","v":"2020-12-09T05:00:00"},{"$f":"IF(A935>$A$8,\"\",OFFSET(InputPriceData!G$15,CalculationsAndCharts!$A935+$A$11,IF($C$5,8,0),1,1))","v":1792176},{"$f":"IF(A935>$A$8,\"\",OFFSET(InputPriceData!C$15,CalculationsAndCharts!$A935+$A$11,IF($C$5,8,0),1,1))","v":3707.75},{"$f":"IF(A935>$A$8,\"\",OFFSET(InputPriceData!D$15,CalculationsAndCharts!$A935+$A$11,IF($C$5,8,0),1,1))","v":3714.75},{"$f":"IF(A935>$A$8,\"\",OFFSET(InputPriceData!E$15,CalculationsAndCharts!$A935+$A$11,IF($C$5,8,0),1,1))","v":3659.5},{"$f":"IF(A935>$A$8,\"\",OFFSET(InputPriceData!F$15,CalculationsAndCharts!$A935+$A$11,IF($C$5,8,0),1,1))","v":3672.5},0,29.5,{"$f":"IF($A935>$J$30,NA(),AVERAGE(H935:H938))","v":11.1875},9.1875,null,null,{"$f":"IF($A935>$J$30,NA(),IF($A935>$N$30,0,(1-$M$35)*J935+(2*$M$35-$M$36)*J936-($M$35+$M$37)*J937+$M$36*N936+$M$37*N937))","v":18.537644606917013},2.6203330778314138,0.75230779454689922,0.76344978446238965,null,null,10.475604954785556,2.0703087331919932,0.66996286046891573,0.71842818111709816,null,null,null,null,null,null,null,null,null,null,null,null,null,null,null,null,null,null,null,null,null,null,null,null,null,null,null,null,null,null,null,{"$error":"#N/A"},1792176]
[904,{"$f":"IF(A936>$A$8,\"\",OFFSET(InputPriceData!B$15,$A936+$A$11,0,1,1))","v":"2020-12-08T05:00:00"},{"$f":"IF(A936>$A$8,\"\",OFFSET(InputPriceData!G$15,CalculationsAndCharts!$A936+$A$11,IF($C$5,8,0),1,1))","v":1119000},{"$f":"IF(A936>$A$8,\"\",OFFSET(InputPriceData!C$15,CalculationsAndCharts!$A936+$A$11,IF($C$5,8,0),1,1))","v":3682.75},{"$f":"IF(A936>$A$8,\"\",OFFSET(InputPriceData!D$15,CalculationsAndCharts!$A936+$A$11,IF($C$5,8,0),1,1))","v":3708},{"$f":"IF(A936>$A$8,\"\",OFFSET(InputPriceData!E$15,CalculationsAndCharts!$A936+$A$11,IF($C$5,8,0),1,1))","v":3664.25},{"$f":"IF(A936>$A$8,\"\",OFFSET(InputPriceData!F$15,CalculationsAndCharts!$A936+$A$11,IF($C$5,8,0),1,1))","v":3702},11.25,0,{"$f":"IF($A936>$J$30,NA(),AVERAGE(H936:H939))","v":11.1875},2.5,null,null,{"$f":"IF($A936>$J$30,NA(),IF($A936>$N$30,0,(1-$M$35)*J936+(2*$M$35-$M$36)*J937-($M$35+$M$37)*J938+$M$36*N937+$M$37*N938))","v":19.119571059842546},2.50028104094954,0.7687050744571986,0.74880254867394436,null,null,11.06760963504021,1.4380374017853308,0.77001791309946255,0.59247053220523171,null,null,null,null,null,null,null,null,null,null,null,null,null,null,null,null,null,null,null,null,null,null,null,null,null,null,null,null,null,null,null,1119000,{"$error":"#N/A"}]
[905,{"$f":"IF(A937>$A$8,\"\",OFFSET(InputPriceData!B$15,$A937+$A$11,0,1,1))","v":"2020-12-07T05:00:00"},{"$f":"IF(A937>$A$8,\"\",OFFSET(InputPriceData!G$15,CalculationsAndCharts!$A937+$A$11,IF($C$5,8,0),1,1))","v":1078372},{"$f":"IF(A937>$A$8,\"\",OFFSET(InputPriceData!C$15,CalculationsAndCharts!$A937+$A$11,IF($C$5,8,0),1,1))","v":3694.75},{"$f":"IF(A937>$A$8,\"\",OFFSET(InputPriceData!D$15,CalculationsAndCharts!$A937+$A$11,IF($C$5,8,0),1,1))","v":3705},{"$f":"IF(A937>$A$8,\"\",OFFSET(InputPriceData!E$15,CalculationsAndCharts!$A937+$A$11,IF($C$5,8,0),1,1))","v":3672.25},{"$f":"IF(A937>$A$8,\"\",OFFSET(InputPriceData!F$15,CalculationsAndCharts!$A937+$A$11,IF($C$5,8,0),1,1))","v":3690.75},0,7.25,{"$f":"IF($A937>$J$30,NA(),AVERAGE(H937:H940))","v":10.0625},2.5,null,null,{"$f":"IF($A937>$J$30,NA(),IF($A937>$N$30,0,(1-$M$35)*J937+(2*$M$35-$M$36)*J938-($M$35+$M$37)*J939+$M$36*N938+$M$37*N939))","v":19.769090515942455},2.6518377011536938,0.76344978446238965,0.73791460187588509,null,null,12.081205112405518,1.9795572111637938,0.71842818111709816,0.47515703176077756,null,null,null,null,null,null,null,null,null,null,null,null,null,null,null,null,null,null,null,null,null,null,null,null,null,null,null,null,null,null,null,{"$error":"#N/A"},1078372]
[906,{"$f":"IF(A938>$A$8,\"\",OFFSET(InputPriceData!B$15,$A938+$A$11,0,1,1))","v":"2020-12-04T05:00:00"},{"$f":"IF(A938>$A$8,\"\",OFFSET(InputPriceData!G$15,CalculationsAndCharts!$A938+$A$11,IF($C$5,8,0),1,1))","v":991860},{"$f":"IF(A938>$A$8,\"\",OFFSET(InputPriceData!C$15,CalculationsAndCharts!$A938+$A$11,IF($C$5,8,0),1,1))","v":3668.25},{"$f":"IF(A938>$A$8,\"\",OFFSET(InputPriceData!D$15,CalculationsAndCharts!$A938+$A$11,IF($C$5,8,0),1,1))","v":3700},{"$f":"IF(A938>$A$8,\"\",OFFSET(InputPriceData!E$15,CalculationsAndCharts!$A938+$A$11,IF($C$5,8,0),1,1))","v":3665.5},{"$f":"IF(A938>$A$8,\"\",OFFSET(InputPriceData!F$15,CalculationsAndCharts!$A938+$A$11,IF($C$5,8,0),1,1))","v":3698},33.5,0,{"$f":"IF($A938>$J$30,NA(),AVERAGE(H938:H941))","v":19.375},0.6875,null,null,{"$f":"IF($A938>$J$30,NA(),IF($A938>$N$30,0,(1-$M$35)*J938+(2*$M$35-$M$36)*J939-($M$35+$M$37)*J940+$M$36*N939+$M$37*N940))","v":20.111033920937331},2.8887426246616239,0.74880254867394436,0.73698245235760196,null,null,11.979468987625291,3.0656684203947915,0.59247053220523171,0.42300273249488907,null,null,null,null,null,null,null,null,null,null,null,null,null,null,null,null,null,null,null,null,null,null,null,null,null,null,null,null,null,null,null,991860,{"$error":"#N/A"}]
[907,{"$f":"IF(A939>$A$8,\"\",OFFSET(InputPriceData!B$15,$A939+$A$11,0,1,1))","v":"2020-12-03T05:00:00"},{"$f":"IF(A939>$A$8,\"\",OFFSET(InputPriceData!G$15,CalculationsAndCharts!$A939+$A$11,IF($C$5,8,0),1,1))","v":1124033},{"$f":"IF(A939>$A$8,\"\",OFFSET(InputPriceData!C$15,CalculationsAndCharts!$A939+$A$11,IF($C$5,8,0),1,1))","v":3671},{"$f":"IF(A939>$A$8,\"\",OFFSET(InputPriceData!D$15,CalculationsAndCharts!$A939+$A$11,IF($C$5,8,0),1,1))","v":3682},{"$f":"IF(A939>$A$8,\"\",OFFSET(InputPriceData!E$15,CalculationsAndCharts!$A939+$A$11,IF($C$5,8,0),1,1))","v":3655.25},{"$f":"IF(A939>$A$8,\"\",OFFSET(InputPriceData!F$15,CalculationsAndCharts!$A939+$A$11,IF($C$5,8,0),1,1))","v":3664.5},0,2.75,{"$f":"IF($A939>$J$30,NA(),AVERAGE(H939:H942))","v":11},4,null,null,{"$f":"IF($A939>$J$30,NA(),IF($A939>$N$30,0,(1-$M$35)*J939+(2*$M$35-$M$36)*J940-($M$35+$M$37)*J941+$M$36*N940+$M$37*N941))","v":20.425624013381295},3.0802766693497312,0.73791460187588509,0.7372895973100636,null,null,11.840134837398574,4.2125762739953743,0.47515703176077756,0.37749626251265317,null,null,null,null,null,null,null,null,null,null,null,null,null,null,null,null,null,null,null,null,null,null,null,null,null,null,null,null,null,null,null,{"$error":"#N/A"},1124033]
[908,{"$f":"IF(A940>$A$8,\"\",OFFSET(InputPriceData!B$15,$A940+$A$11,0,1,1))","v":"2020-12-02T05:00:00"},{"$f":"IF(A940>$A$8,\"\",OFFSET(InputPriceData!G$15,CalculationsAndCharts!$A940+$A$11,IF($C$5,8,0),1,1))","v":1106696},{"$f":"IF(A940>$A$8,\"\",OFFSET(InputPriceData!C$15,CalculationsAndCharts!$A940+$A$11,IF($C$5,8,0),1,1))","v":3661.25},{"$f":"IF(A940>$A$8,\"\",OFFSET(InputPriceData!D$15,CalculationsAndCharts!$A940+$A$11,IF($C$5,8,0),1,1))","v":3672.75},{"$f":"IF(A940>$A$8,\"\",OFFSET(InputPriceData!E$15,CalculationsAndCharts!$A940+$A$11,IF($C$5,8,0),1,1))","v":3642.25},{"$f":"IF(A940>$A$8,\"\",OFFSET(InputPriceData!F$15,CalculationsAndCharts!$A940+$A$11,IF($C$5,8,0),1,1))","v":3667.25},6.75,0,{"$f":"IF($A940>$J$30,NA(),AVERAGE(H940:H943))","v":13.3125},3.3125,null,null,{"$f":"IF($A940>$J$30,NA(),IF($A940>$N$30,0,(1-$M$35)*J940+(2*$M$35-$M$36)*J941-($M$35+$M$37)*J942+$M$36*N941+$M$37*N942))","v":20.994325703915084},3.1790050921669817,0.73698245235760196,0.73961309208040082,null,null,12.888750783334885,5.2261136354250093,0.42300273249488907,0.33327995137096622,null,null,null,null,null,null,null,null,null,null,null,null,null,null,null,null,null,null,null,null,null,null,null,null,null,null,null,null,null,null,null,1106696,{"$error":"#N/A"}]
[909,{"$f":"IF(A941>$A$8,\"\",OFFSET(InputPriceData!B$15,$A941+$A$11,0,1,1))","v":"2020-12-01T05:00:00"},{"$f":"IF(A941>$A$8,\"\",OFFSET(InputPriceData!G$15,CalculationsAndCharts!$A941+$A$11,IF($C$5,8,0),1,1))","v":1365328},{"$f":"IF(A941>$A$8,\"\",OFFSET(InputPriceData!C$15,CalculationsAndCharts!$A941+$A$11,IF($C$5,8,0),1,1))","v":3631},{"$f":"IF(A941>$A$8,\"\",OFFSET(InputPriceData!D$15,CalculationsAndCharts!$A941+$A$11,IF($C$5,8,0),1,1))","v":3677.5},{"$f":"IF(A941>$A$8,\"\",OFFSET(InputPriceData!E$15,CalculationsAndCharts!$A941+$A$11,IF($C$5,8,0),1,1))","v":3626},{"$f":"IF(A941>$A$8,\"\",OFFSET(InputPriceData!F$15,CalculationsAndCharts!$A941+$A$11,IF($C$5,8,0),1,1))","v":3660.5},37.25,0,{"$f":"IF($A941>$J$30,NA(),AVERAGE(H941:H944))","v":11.625},4.6875,null,null,{"$f":"IF($A941>$J$30,NA(),IF($A941>$N$30,0,(1-$M$35)*J941+(2*$M$35-$M$36)*J942-($M$35+$M$37)*J943+$M$36*N942+$M$37*N943))","v":21.555758153831597},3.2596303538846811,0.7372895973100636,0.72808814031350144,null,null,14.178248148462176,6.407285960501607,0.37749626251265317,0.21176184943397455,null,null,null,null,null,null,null,null,null,null,null,null,null,null,null,null,null,null,null,null,null,null,null,null,null,null,null,null,null,null,null,{"$f":"IF(G941>=G942,C941,NA())","v":1365328},{"$f":"IF(G941<G942,C941,NA())","v":{"$error":"#N/A"}}]
[910,{"$f":"IF(A942>$A$8,\"\",OFFSET(InputPriceData!B$15,$A942+$A$11,0,1,1))","v":"2020-11-30T05:00:00"},{"$f":"IF(A942>$A$8,\"\",OFFSET(InputPriceData!G$15,CalculationsAndCharts!$A942+$A$11,IF($C$5,8,0),1,1))","v":1712274},{"$f":"IF(A942>$A$8,\"\",OFFSET(InputPriceData!C$15,CalculationsAndCharts!$A942+$A$11,IF($C$5,8,0),1,1))","v":3643.75},{"$f":"IF(A942>$A$8,\"\",OFFSET(InputPriceData!D$15,CalculationsAndCharts!$A942+$A$11,IF($C$5,8,0),1,1))","v":3652},{"$f":"IF(A942>$A$8,\"\",OFFSET(InputPriceData!E$15,CalculationsAndCharts!$A942+$A$11,IF($C$5,8,0),1,1))","v":3592.25},{"$f":"IF(A942>$A$8,\"\",OFFSET(InputPriceData!F$15,CalculationsAndCharts!$A942+$A$11,IF($C$5,8,0),1,1))","v":3623.25},0,13.25,{"$f":"IF($A942>$J$30,NA(),AVERAGE(H942:H945))","v":16.5},4.6875,null,null,{"$f":"IF($A942>$J$30,NA(),IF($A942>$N$30,0,(1-$M$35)*J942+(2*$M$35-$M$36)*J943-($M$35+$M$37)*J944+$M$36*N943+$M$37*N944))","v":22.004828167841566},3.2937031757298056,0.73961309208040082,0.72292679504973689,null,null,15.300292712684454,7.6510652477374155,0.33327995137096622,9.9210742420480974E-2,null,null,null,null,null,null,null,null,null,null,null,null,null,null,null,null,null,null,null,null,null,null,null,null,null,null,null,null,null,null,null,{"$error":"#N/A"},1712274]
[911,{"$f":"IF(A943>$A$8,\"\",OFFSET(InputPriceData!B$15,$A943+$A$11,0,1,1))","v":"2020-11-27T14:30:00"},{"$f":"IF(A943>$A$8,\"\",OFFSET(InputPriceData!G$15,CalculationsAndCharts!$A943+$A$11,IF($C$5,8,0),1,1))","v":639268},{"$f":"IF(A943>$A$8,\"\",OFFSET(InputPriceData!C$15,CalculationsAndCharts!$A943+$A$11,IF($C$5,8,0),1,1))","v":3630.25},{"$f":"IF(A943>$A$8,\"\",OFFSET(InputPriceData!D$15,CalculationsAndCharts!$A943+$A$11,IF($C$5,8,0),1,1))","v":3642.75},{"$f":"IF(A943>$A$8,\"\",OFFSET(InputPriceData!E$15,CalculationsAndCharts!$A943+$A$11,IF($C$5,8,0),1,1))","v":3612.75},{"$f":"IF(A943>$A$8,\"\",OFFSET(InputPriceData!F$15,CalculationsAndCharts!$A943+$A$11,IF($C$5,8,0),1,1))","v":3636.5},9.25,0,{"$f":"IF($A943>$J$30,NA(),AVERAGE(H943:H946))","v":21.9375},1.375,null,null,{"$f":"IF($A943>$J$30,NA(),IF($A943>$N$30,0,(1-$M$35)*J943+(2*$M$35-$M$36)*J944-($M$35+$M$37)*J945+$M$36*N944+$M$37*N945))","v":22.047730749322643},3.4691745924648982,0.72808814031350144,0.73035441739011464,null,null,14.994974310637737,9.7540707556713429,0.21176184943397455,1.3159592428562164E-2,null,null,null,null,null,null,null,null,null,null,null,null,null,null,null,null,null,null,null,null,null,null,null,null,null,null,null,null,null,null,null,639268,{"$error":"#N/A"}]
[912,{"$f":"IF(A944>$A$8,\"\",OFFSET(InputPriceData!B$15,$A944+$A$11,0,1,1))","v":"2020-11-25T05:00:00"},{"$f":"IF(A944>$A$8,\"\",OFFSET(InputPriceData!G$15,CalculationsAndCharts!$A944+$A$11,IF($C$5,8,0),1,1))","v":1016343},{"$f":"IF(A944>$A$8,\"\",OFFSET(InputPriceData!C$15,CalculationsAndCharts!$A944+$A$11,IF($C$5,8,0),1,1))","v":3635.5},{"$f":"IF(A944>$A$8,\"\",OFFSET(InputPriceData!D$15,CalculationsAndCharts!$A944+$A$11,IF($C$5,8,0),1,1))","v":3655},{"$f":"IF(A944>$A$8,\"\",OFFSET(InputPriceData!E$15,CalculationsAndCharts!$A944+$A$11,IF($C$5,8,0),1,1))","v":3615.25},{"$f":"IF(A944>$A$8,\"\",OFFSET(InputPriceData!F$15,CalculationsAndCharts!$A944+$A$11,IF($C$5,8,0),1,1))","v":3627.25},0,5.5,{"$f":"IF($A944>$J$30,NA(),AVERAGE(H944:H947))","v":19.625},7.8125,null,null,{"$f":"IF($A944>$J$30,NA(),IF($A944>$N$30,0,(1-$M$35)*J944+(2*$M$35-$M$36)*J945-($M$35+$M$37)*J946+$M$36*N945+$M$37*N946))","v":21.958477617801201},3.5312619125046267,0.72292679504973689,0.76771027710632134,null,null,14.287454021215391,11.708387303541263,9.9210742420480974E-2,5.3032170241299109E-2,null,null,null,null,null,null,null,null,null,null,null,null,null,null,null,null,null,null,null,null,null,null,null,null,null,null,null,null,null,null,null,{"$error":"#N/A"},1016343]
[913,{"$f":"IF(A945>$A$8,\"\",OFFSET(InputPriceData!B$15,$A945+$A$11,0,1,1))","v":"2020-11-24T05:00:00"},{"$f":"IF(A945>$A$8,\"\",OFFSET(InputPriceData!G$15,CalculationsAndCharts!$A945+$A$11,IF($C$5,8,0),1,1))","v":1288993},{"$f":"IF(A945>$A$8,\"\",OFFSET(InputPriceData!C$15,CalculationsAndCharts!$A945+$A$11,IF($C$5,8,0),1,1))","v":3576},{"$f":"IF(A945>$A$8,\"\",OFFSET(InputPriceData!D$15,CalculationsAndCharts!$A945+$A$11,IF($C$5,8,0),1,1))","v":3640},{"$f":"IF(A945>$A$8,\"\",OFFSET(InputPriceData!E$15,CalculationsAndCharts!$A945+$A$11,IF($C$5,8,0),1,1))","v":3575.25},{"$f":"IF(A945>$A$8,\"\",OFFSET(InputPriceData!F$15,CalculationsAndCharts!$A945+$A$11,IF($C$5,8,0),1,1))","v":3632.75},56.75,0,{"$f":"IF($A945>$J$30,NA(),AVERAGE(H945:H948))","v":23.375},6.4375,null,null,{"$f":"IF($A945>$J$30,NA(),IF($A945>$N$30,0,(1-$M$35)*J945+(2*$M$35-$M$36)*J946-($M$35+$M$37)*J947+$M$36*N946+$M$37*N947))","v":21.799841440872459},3.3971254022012927,0.73035441739011464,0.85550063454209868,null,null,13.45164394352258,13.102206099546631,1.3159592428562164E-2,0.30073532460928859,null,null,null,null,null,null,null,null,null,null,null,null,null,null,null,null,null,null,null,null,null,null,null,null,null,null,null,null,null,null,null,1288993,{"$error":"#N/A"}]
[914,{"$f":"IF(A946>$A$8,\"\",OFFSET(InputPriceData!B$15,$A946+$A$11,0,1,1))","v":"2020-11-23T05:00:00"},{"$f":"IF(A946>$A$8,\"\",OFFSET(InputPriceData!G$15,CalculationsAndCharts!$A946+$A$11,IF($C$5,8,0),1,1))","v":1204848},{"$f":"IF(A946>$A$8,\"\",OFFSET(InputPriceData!C$15,CalculationsAndCharts!$A946+$A$11,IF($C$5,8,0),1,1))","v":3546.5},{"$f":"IF(A946>$A$8,\"\",OFFSET(InputPriceData!D$15,CalculationsAndCharts!$A946+$A$11,IF($C$5,8,0),1,1))","v":3588},{"$f":"IF(A946>$A$8,\"\",OFFSET(InputPriceData!E$15,CalculationsAndCharts!$A946+$A$11,IF($C$5,8,0),1,1))","v":3545.5},{"$f":"IF(A946>$A$8,\"\",OFFSET(InputPriceData!F$15,CalculationsAndCharts!$A946+$A$11,IF($C$5,8,0),1,1))","v":3576},21.75,0,{"$f":"IF($A946>$J$30,NA(),AVERAGE(H946:H949))","v":9.1875},16.875,null,null,{"$f":"IF($A946>$J$30,NA(),IF($A946>$N$30,0,(1-$M$35)*J946+(2*$M$35-$M$36)*J947-($M$35+$M$37)*J948+$M$36*N947+$M$37*N948))","v":22.049426240708307},2.897451679583507,0.76771027710632134,0.9384770260038553,null,null,14.573364495868635,13.105494531826963,5.3032170241299109E-2,0.5180510273994724,null,null,null,null,null,null,null,null,null,null,null,null,null,null,null,null,null,null,null,null,null,null,null,null,null,null,null,null,null,null,null,1204848,{"$error":"#N/A"}]
[915,{"$f":"IF(A947>$A$8,\"\",OFFSET(InputPriceData!B$15,$A947+$A$11,0,1,1))","v":"2020-11-20T05:00:00"},{"$f":"IF(A947>$A$8,\"\",OFFSET(InputPriceData!G$15,CalculationsAndCharts!$A947+$A$11,IF($C$5,8,0),1,1))","v":1189621},{"$f":"IF(A947>$A$8,\"\",OFFSET(InputPriceData!C$15,CalculationsAndCharts!$A947+$A$11,IF($C$5,8,0),1,1))","v":3560},{"$f":"IF(A947>$A$8,\"\",OFFSET(InputPriceData!D$15,CalculationsAndCharts!$A947+$A$11,IF($C$5,8,0),1,1))","v":3582.5},{"$f":"IF(A947>$A$8,\"\",OFFSET(InputPriceData!E$15,CalculationsAndCharts!$A947+$A$11,IF($C$5,8,0),1,1))","v":3542.75},{"$f":"IF(A947>$A$8,\"\",OFFSET(InputPriceData!F$15,CalculationsAndCharts!$A947+$A$11,IF($C$5,8,0),1,1))","v":3554.25},0,25.75,{"$f":"IF($A947>$J$30,NA(),AVERAGE(H947:H950))","v":3.75},20.9375,null,null,{"$f":"IF($A947>$J$30,NA(),IF($A947>$N$30,0,(1-$M$35)*J947+(2*$M$35-$M$36)*J948-($M$35+$M$37)*J949+$M$36*N948+$M$37*N949))","v":23.094756641406331},1.7985322224971492,0.85550063454209868,1.0038421905769714,null,null,19.589407704842593,10.531105414499049,0.30073532460928859,0.64809462254933181,null,null,null,null,null,null,null,null,null,null,null,null,null,null,null,null,null,null,null,null,null,null,null,null,null,null,null,null,null,null,null,{"$error":"#N/A"},1189621]
[916,{"$f":"IF(A948>$A$8,\"\",OFFSET(InputPriceData!B$15,$A948+$A$11,0,1,1))","v":"2020-11-19T05:00:00"},{"$f":"IF(A948>$A$8,\"\",OFFSET(InputPriceData!G$15,CalculationsAndCharts!$A948+$A$11,IF($C$5,8,0),1,1))","v":1291117},{"$f":"IF(A948>$A$8,\"\",OFFSET(InputPriceData!C$15,CalculationsAndCharts!$A948+$A$11,IF($C$5,8,0),1,1))","v":3562},{"$f":"IF(A948>$A$8,\"\",OFFSET(InputPriceData!D$15,CalculationsAndCharts!$A948+$A$11,IF($C$5,8,0),1,1))","v":3582.75},{"$f":"IF(A948>$A$8,\"\",OFFSET(InputPriceData!E$15,CalculationsAndCharts!$A948+$A$11,IF($C$5,8,0),1,1))","v":3542.25},{"$f":"IF(A948>$A$8,\"\",OFFSET(InputPriceData!F$15,CalculationsAndCharts!$A948+$A$11,IF($C$5,8,0),1,1))","v":3580},15,0,{"$f":"IF($A948>$J$30,NA(),AVERAGE(H948:H951))","v":14},14.5,null,null,{"$f":"IF($A948>$J$30,NA(),IF($A948>$N$30,0,(1-$M$35)*J948+(2*$M$35-$M$36)*J949-($M$35+$M$37)*J950+$M$36*N949+$M$37*N950))","v":23.977247083913241},0.76098479840317457,0.9384770260038553,1.0700795019078484,null,null,24.876915382111346,7.8978924907534322,0.5180510273994724,0.76092112311561388,null,null,null,null,null,null,null,null,null,null,null,null,null,null,null,null,null,null,null,null,null,null,null,null,null,null,null,null,null,null,null,1291117,{"$error":"#N/A"}]
[917,{"$f":"IF(A949>$A$8,\"\",OFFSET(InputPriceData!B$15,$A949+$A$11,0,1,1))","v":"2020-11-18T05:00:00"},{"$f":"IF(A949>$A$8,\"\",OFFSET(InputPriceData!G$15,CalculationsAndCharts!$A949+$A$11,IF($C$5,8,0),1,1))","v":1325309},{"$f":"IF(A949>$A$8,\"\",OFFSET(InputPriceData!C$15,CalculationsAndCharts!$A949+$A$11,IF($C$5,8,0),1,1))","v":3604.5},{"$f":"IF(A949>$A$8,\"\",OFFSET(InputPriceData!D$15,CalculationsAndCharts!$A949+$A$11,IF($C$5,8,0),1,1))","v":3623.25},{"$f":"IF(A949>$A$8,\"\",OFFSET(InputPriceData!E$15,CalculationsAndCharts!$A949+$A$11,IF($C$5,8,0),1,1))","v":3556.5},{"$f":"IF(A949>$A$8,\"\",OFFSET(InputPriceData!F$15,CalculationsAndCharts!$A949+$A$11,IF($C$5,8,0),1,1))","v":3565},0,41.75,{"$f":"IF($A949>$J$30,NA(),AVERAGE(H949:H952))","v":22.625},14.5,null,null,{"$f":"IF($A949>$J$30,NA(),IF($A949>$N$30,0,(1-$M$35)*J949+(2*$M$35-$M$36)*J950-($M$35+$M$37)*J951+$M$36*N950+$M$37*N951))","v":24.119476550452443},-4.6246967929620464E-2,1.0038421905769714,1.1234480787259458,null,null,27.949101813701695,5.9677636760588646,0.64809462254933181,0.82372144551889126,null,null,null,null,null,null,null,null,null,null,null,null,null,null,null,null,null,null,null,null,null,null,null,null,null,null,null,null,null,null,null,{"$error":"#N/A"},1325309]
[918,{"$f":"IF(A950>$A$8,\"\",OFFSET(InputPriceData!B$15,$A950+$A$11,0,1,1))","v":"2020-11-17T05:00:00"},{"$f":"IF(A950>$A$8,\"\",OFFSET(InputPriceData!G$15,CalculationsAndCharts!$A950+$A$11,IF($C$5,8,0),1,1))","v":1268206},{"$f":"IF(A950>$A$8,\"\",OFFSET(InputPriceData!C$15,CalculationsAndCharts!$A950+$A$11,IF($C$5,8,0),1,1))","v":3625.5},{"$f":"IF(A950>$A$8,\"\",OFFSET(InputPriceData!D$15,CalculationsAndCharts!$A950+$A$11,IF($C$5,8,0),1,1))","v":3630},{"$f":"IF(A950>$A$8,\"\",OFFSET(InputPriceData!E$15,CalculationsAndCharts!$A950+$A$11,IF($C$5,8,0),1,1))","v":3584.25},{"$f":"IF(A950>$A$8,\"\",OFFSET(InputPriceData!F$15,CalculationsAndCharts!$A950+$A$11,IF($C$5,8,0),1,1))","v":3606.75},0,16.25,{"$f":"IF($A950>$J$30,NA(),AVERAGE(H950:H953))","v":22.625},12.9375,null,null,{"$f":"IF($A950>$J$30,NA(),IF($A950>$N$30,0,(1-$M$35)*J950+(2*$M$35-$M$36)*J951-($M$35+$M$37)*J952+$M$36*N951+$M$37*N952))","v":23.905472993007919},-0.80928468625360894,1.0700795019078484,1.1680418046565124,null,null,30.116833267855657,4.088938782365048,0.76092112311561388,0.85442576244170787,null,null,null,null,null,null,null,null,null,null,null,null,null,null,null,null,null,null,null,null,null,null,null,null,null,null,null,null,null,null,null,{"$error":"#N/A"},1268206]
[919,{"$f":"IF(A951>$A$8,\"\",OFFSET(InputPriceData!B$15,$A951+$A$11,0,1,1))","v":"2020-11-16T05:00:00"},{"$f":"IF(A951>$A$8,\"\",OFFSET(InputPriceData!G$15,CalculationsAndCharts!$A951+$A$11,IF($C$5,8,0),1,1))","v":1303941},{"$f":"IF(A951>$A$8,\"\",OFFSET(InputPriceData!C$15,CalculationsAndCharts!$A951+$A$11,IF($C$5,8,0),1,1))","v":3587},{"$f":"IF(A951>$A$8,\"\",OFFSET(InputPriceData!D$15,CalculationsAndCharts!$A951+$A$11,IF($C$5,8,0),1,1))","v":3637},{"$f":"IF(A951>$A$8,\"\",OFFSET(InputPriceData!E$15,CalculationsAndCharts!$A951+$A$11,IF($C$5,8,0),1,1))","v":3586.5},{"$f":"IF(A951>$A$8,\"\",OFFSET(InputPriceData!F$15,CalculationsAndCharts!$A951+$A$11,IF($C$5,8,0),1,1))","v":3623},41,0,{"$f":"IF($A951>$J$30,NA(),AVERAGE(H951:H954))","v":29.375},8.875,null,null,{"$f":"IF($A951>$J$30,NA(),IF($A951>$N$30,0,(1-$M$35)*J951+(2*$M$35-$M$36)*J952-($M$35+$M$37)*J953+$M$36*N952+$M$37*N953))","v":23.396506900779293},-1.360171625921021,1.1234480787259458,1.214668019920871,null,null,31.491325775778996,3.0439107902624598,0.82372144551889126,0.88377678997379749,null,null,null,null,null,null,null,null,null,null,null,null,null,null,null,null,null,null,null,null,null,null,null,null,null,null,null,null,null,null,null,1303941,{"$error":"#N/A"}]
[920,{"$f":"IF(A952>$A$8,\"\",OFFSET(InputPriceData!B$15,$A952+$A$11,0,1,1))","v":"2020-11-13T05:00:00"},{"$f":"IF(A952>$A$8,\"\",OFFSET(InputPriceData!G$15,CalculationsAndCharts!$A952+$A$11,IF($C$5,8,0),1,1))","v":1334530},{"$f":"IF(A952>$A$8,\"\",OFFSET(InputPriceData!C$15,CalculationsAndCharts!$A952+$A$11,IF($C$5,8,0),1,1))","v":3537.5},{"$f":"IF(A952>$A$8,\"\",OFFSET(InputPriceData!D$15,CalculationsAndCharts!$A952+$A$11,IF($C$5,8,0),1,1))","v":3590},{"$f":"IF(A952>$A$8,\"\",OFFSET(InputPriceData!E$15,CalculationsAndCharts!$A952+$A$11,IF($C$5,8,0),1,1))","v":3518},{"$f":"IF(A952>$A$8,\"\",OFFSET(InputPriceData!F$15,CalculationsAndCharts!$A952+$A$11,IF($C$5,8,0),1,1))","v":3582},49.5,0,{"$f":"IF($A952>$J$30,NA(),AVERAGE(H952:H955))","v":19.125},9.625,null,null,{"$f":"IF($A952>$J$30,NA(),IF($A952>$N$30,0,(1-$M$35)*J952+(2*$M$35-$M$36)*J953-($M$35+$M$37)*J954+$M$36*N953+$M$37*N954))","v":22.995654303534938},-1.7823601187595761,1.1680418046565124,1.2276076510262757,null,null,33.65697230306543,2.6421052709535564,0.85442576244170787,0.84126799595617718,null,null,null,null,null,null,null,null,null,null,null,null,null,null,null,null,null,null,null,null,null,null,null,null,null,null,null,null,null,null,null,1334530,{"$error":"#N/A"}]
[921,{"$f":"IF(A953>$A$8,\"\",OFFSET(InputPriceData!B$15,$A953+$A$11,0,1,1))","v":"2020-11-12T05:00:00"},{"$f":"IF(A953>$A$8,\"\",OFFSET(InputPriceData!G$15,CalculationsAndCharts!$A953+$A$11,IF($C$5,8,0),1,1))","v":1685890},{"$f":"IF(A953>$A$8,\"\",OFFSET(InputPriceData!C$15,CalculationsAndCharts!$A953+$A$11,IF($C$5,8,0),1,1))","v":3574.5},{"$f":"IF(A953>$A$8,\"\",OFFSET(InputPriceData!D$15,CalculationsAndCharts!$A953+$A$11,IF($C$5,8,0),1,1))","v":3574.5},{"$f":"IF(A953>$A$8,\"\",OFFSET(InputPriceData!E$15,CalculationsAndCharts!$A953+$A$11,IF($C$5,8,0),1,1))","v":3513},{"$f":"IF(A953>$A$8,\"\",OFFSET(InputPriceData!F$15,CalculationsAndCharts!$A953+$A$11,IF($C$5,8,0),1,1))","v":3532.5},0,35.5,{"$f":"IF($A953>$J$30,NA(),AVERAGE(H953:H956))","v":17.5625},9.625,null,null,{"$f":"IF($A953>$J$30,NA(),IF($A953>$N$30,0,(1-$M$35)*J953+(2*$M$35-$M$36)*J954-($M$35+$M$37)*J955+$M$36*N954+$M$37*N955))","v":23.04374607569908},-2.2336328953747264,1.214668019920871,1.2094678504450607,null,null,38.107609461085765,2.351121811015557,0.88377678997379749,0.73799913462842159,null,null,null,null,null,null,null,null,null,null,null,null,null,null,null,null,null,null,null,null,null,null,null,null,null,null,null,null,null,null,null,{"$error":"#N/A"},1685890]
[922,{"$f":"IF(A954>$A$8,\"\",OFFSET(InputPriceData!B$15,$A954+$A$11,0,1,1))","v":"2020-11-11T05:00:00"},{"$f":"IF(A954>$A$8,\"\",OFFSET(InputPriceData!G$15,CalculationsAndCharts!$A954+$A$11,IF($C$5,8,0),1,1))","v":1324983},{"$f":"IF(A954>$A$8,\"\",OFFSET(InputPriceData!C$15,CalculationsAndCharts!$A954+$A$11,IF($C$5,8,0),1,1))","v":3546.25},{"$f":"IF(A954>$A$8,\"\",OFFSET(InputPriceData!D$15,CalculationsAndCharts!$A954+$A$11,IF($C$5,8,0),1,1))","v":3576.75},{"$f":"IF(A954>$A$8,\"\",OFFSET(InputPriceData!E$15,CalculationsAndCharts!$A954+$A$11,IF($C$5,8,0),1,1))","v":3531},{"$f":"IF(A954>$A$8,\"\",OFFSET(InputPriceData!F$15,CalculationsAndCharts!$A954+$A$11,IF($C$5,8,0),1,1))","v":3568},27,0,{"$f":"IF($A954>$J$30,NA(),AVERAGE(H954:H957))","v":17.5625},1.75,null,null,{"$f":"IF($A954>$J$30,NA(),IF($A954>$N$30,0,(1-$M$35)*J954+(2*$M$35-$M$36)*J955-($M$35+$M$37)*J956+$M$36*N955+$M$37*N956))","v":23.143640902894809},-2.3647206184072256,1.2276076510262757,1.1961827391444448,null,null,43.322904249387918,3.7347802859805164,0.84126799595617718,0.59822767953443634,null,null,null,null,null,null,null,null,null,null,null,null,null,null,null,null,null,null,null,null,null,null,null,null,null,null,null,null,null,null,null,1324983,{"$error":"#N/A"}]
[923,{"$f":"IF(A955>$A$8,\"\",OFFSET(InputPriceData!B$15,$A955+$A$11,0,1,1))","v":"2020-11-10T05:00:00"},{"$f":"IF(A955>$A$8,\"\",OFFSET(InputPriceData!G$15,CalculationsAndCharts!$A955+$A$11,IF($C$5,8,0),1,1))","v":2160319},{"$f":"IF(A955>$A$8,\"\",OFFSET(InputPriceData!C$15,CalculationsAndCharts!$A955+$A$11,IF($C$5,8,0),1,1))","v":3549.5},{"$f":"IF(A955>$A$8,\"\",OFFSET(InputPriceData!D$15,CalculationsAndCharts!$A955+$A$11,IF($C$5,8,0),1,1))","v":3562.75},{"$f":"IF(A955>$A$8,\"\",OFFSET(InputPriceData!E$15,CalculationsAndCharts!$A955+$A$11,IF($C$5,8,0),1,1))","v":3506.5},{"$f":"IF(A955>$A$8,\"\",OFFSET(InputPriceData!F$15,CalculationsAndCharts!$A955+$A$11,IF($C$5,8,0),1,1))","v":3541},0,3,{"$f":"IF($A955>$J$30,NA(),AVERAGE(H955:H958))","v":28.25},1.75,null,null,{"$f":"IF($A955>$J$30,NA(),IF($A955>$N$30,0,(1-$M$35)*J955+(2*$M$35-$M$36)*J956-($M$35+$M$37)*J957+$M$36*N956+$M$37*N957))","v":22.801098702392373},-2.1616504318058869,1.2094678504450607,1.1835597612372522,null,null,47.128127002199463,7.1044972416271026,0.73799913462842159,0.39771359622256786,null,null,null,null,null,null,null,null,null,null,null,null,null,null,null,null,null,null,null,null,null,null,null,null,null,null,null,null,null,null,null,{"$error":"#N/A"},2160319]
[924,{"$f":"IF(A956>$A$8,\"\",OFFSET(InputPriceData!B$15,$A956+$A$11,0,1,1))","v":"2020-11-09T05:00:00"},{"$f":"IF(A956>$A$8,\"\",OFFSET(InputPriceData!G$15,CalculationsAndCharts!$A956+$A$11,IF($C$5,8,0),1,1))","v":2605322},{"$f":"IF(A956>$A$8,\"\",OFFSET(InputPriceData!C$15,CalculationsAndCharts!$A956+$A$11,IF($C$5,8,0),1,1))","v":3522.5},{"$f":"IF(A956>$A$8,\"\",OFFSET(InputPriceData!D$15,CalculationsAndCharts!$A956+$A$11,IF($C$5,8,0),1,1))","v":3668},{"$f":"IF(A956>$A$8,\"\",OFFSET(InputPriceData!E$15,CalculationsAndCharts!$A956+$A$11,IF($C$5,8,0),1,1))","v":3515.75},{"$f":"IF(A956>$A$8,\"\",OFFSET(InputPriceData!F$15,CalculationsAndCharts!$A956+$A$11,IF($C$5,8,0),1,1))","v":3544},43.25,0,{"$f":"IF($A956>$J$30,NA(),AVERAGE(H956:H959))","v":46.625},1,null,null,{"$f":"IF($A956>$J$30,NA(),IF($A956>$N$30,0,(1-$M$35)*J956+(2*$M$35-$M$36)*J957-($M$35+$M$37)*J958+$M$36*N957+$M$37*N958))","v":21.254759374205456},-1.8986657346701947,1.1961827391444448,1.1633396551592321,null,null,45.927750717723157,11.545600927771947,0.59822767953443634,0.10440232701561533,null,null,null,null,null,null,null,null,null,null,null,null,null,null,null,null,null,null,null,null,null,null,null,null,null,null,null,null,null,null,null,2605322,{"$error":"#N/A"}]
[925,{"$f":"IF(A957>$A$8,\"\",OFFSET(InputPriceData!B$15,$A957+$A$11,0,1,1))","v":"2020-11-06T05:00:00"},{"$f":"IF(A957>$A$8,\"\",OFFSET(InputPriceData!G$15,CalculationsAndCharts!$A957+$A$11,IF($C$5,8,0),1,1))","v":1640000},{"$f":"IF(A957>$A$8,\"\",OFFSET(InputPriceData!C$15,CalculationsAndCharts!$A957+$A$11,IF($C$5,8,0),1,1))","v":3508.75},{"$f":"IF(A957>$A$8,\"\",OFFSET(InputPriceData!D$15,CalculationsAndCharts!$A957+$A$11,IF($C$5,8,0),1,1))","v":3519},{"$f":"IF(A957>$A$8,\"\",OFFSET(InputPriceData!E$15,CalculationsAndCharts!$A957+$A$11,IF($C$5,8,0),1,1))","v":3456.75},{"$f":"IF(A957>$A$8,\"\",OFFSET(InputPriceData!F$15,CalculationsAndCharts!$A957+$A$11,IF($C$5,8,0),1,1))","v":3500.75},0,4,{"$f":"IF($A957>$J$30,NA(),AVERAGE(H957:H960))","v":51.0625},1,null,null,{"$f":"IF($A957>$J$30,NA(),IF($A957>$N$30,0,(1-$M$35)*J957+(2*$M$35-$M$36)*J958-($M$35+$M$37)*J959+$M$36*N958+$M$37*N959))","v":18.710746110849087},-1.5729086740141323,1.1835597612372522,1.1867722698144432,null,null,39.85543596544769,17.174038560893294,0.39771359622256786,-0.24129788721284737,null,null,null,null,null,null,null,null,null,null,null,null,null,null,null,null,null,null,null,null,null,null,null,null,null,null,null,null,null,null,null,{"$error":"#N/A"},1640000]
[926,{"$f":"IF(A958>$A$8,\"\",OFFSET(InputPriceData!B$15,$A958+$A$11,0,1,1))","v":"2020-11-05T05:00:00"},{"$f":"IF(A958>$A$8,\"\",OFFSET(InputPriceData!G$15,CalculationsAndCharts!$A958+$A$11,IF($C$5,8,0),1,1))","v":1671417},{"$f":"IF(A958>$A$8,\"\",OFFSET(InputPriceData!C$15,CalculationsAndCharts!$A958+$A$11,IF($C$5,8,0),1,1))","v":3448},{"$f":"IF(A958>$A$8,\"\",OFFSET(InputPriceData!D$15,CalculationsAndCharts!$A958+$A$11,IF($C$5,8,0),1,1))","v":3522.5},{"$f":"IF(A958>$A$8,\"\",OFFSET(InputPriceData!E$15,CalculationsAndCharts!$A958+$A$11,IF($C$5,8,0),1,1))","v":3428.25},{"$f":"IF(A958>$A$8,\"\",OFFSET(InputPriceData!F$15,CalculationsAndCharts!$A958+$A$11,IF($C$5,8,0),1,1))","v":3504.75},69.75,0,{"$f":"IF($A958>$J$30,NA(),AVERAGE(H958:H961))","v":60},0,null,null,{"$f":"IF($A958>$J$30,NA(),IF($A958>$N$30,0,(1-$M$35)*J958+(2*$M$35-$M$36)*J959-($M$35+$M$37)*J960+$M$36*N959+$M$37*N960))","v":15.514200534468063},-1.171376006226202,1.1633396551592321,1.2884106167584113,null,null,29.745934437353132,24.121997039637588,0.10440232701561533,-0.56420589232288054,null,null,null,null,null,null,null,null,null,null,null,null,null,null,null,null,null,null,null,null,null,null,null,null,null,null,null,null,null,null,null,1671417,{"$error":"#N/A"}]
[927,{"$f":"IF(A959>$A$8,\"\",OFFSET(InputPriceData!B$15,$A959+$A$11,0,1,1))","v":"2020-11-04T05:00:00"},{"$f":"IF(A959>$A$8,\"\",OFFSET(InputPriceData!G$15,CalculationsAndCharts!$A959+$A$11,IF($C$5,8,0),1,1))","v":2813083},{"$f":"IF(A959>$A$8,\"\",OFFSET(InputPriceData!C$15,CalculationsAndCharts!$A959+$A$11,IF($C$5,8,0),1,1))","v":3362.75},{"$f":"IF(A959>$A$8,\"\",OFFSET(InputPriceData!D$15,CalculationsAndCharts!$A959+$A$11,IF($C$5,8,0),1,1))","v":3480},{"$f":"IF(A959>$A$8,\"\",OFFSET(InputPriceData!E$15,CalculationsAndCharts!$A959+$A$11,IF($C$5,8,0),1,1))","v":3319},{"$f":"IF(A959>$A$8,\"\",OFFSET(InputPriceData!F$15,CalculationsAndCharts!$A959+$A$11,IF($C$5,8,0),1,1))","v":3435},73.5,0,{"$f":"IF($A959>$J$30,NA(),AVERAGE(H959:H962))","v":42.5625},9.375,null,null,{"$f":"IF($A959>$J$30,NA(),IF($A959>$N$30,0,(1-$M$35)*J959+(2*$M$35-$M$36)*J960-($M$35+$M$37)*J961+$M$36*N960+$M$37*N961))","v":12.528665459899402},-1.0700736048247887,1.1867722698144432,1.8437705196507654,null,null,18.84424027066208,30.830697898249202,-0.24129788721284737,-0.79980631785121314,null,null,null,null,null,null,null,null,null,null,null,null,null,null,null,null,null,null,null,null,null,null,null,null,null,null,null,null,null,null,null,2813083,{"$error":"#N/A"}]
[928,{"$f":"IF(A960>$A$8,\"\",OFFSET(InputPriceData!B$15,$A960+$A$11,0,1,1))","v":"2020-11-03T05:00:00"},{"$f":"IF(A960>$A$8,\"\",OFFSET(InputPriceData!G$15,CalculationsAndCharts!$A960+$A$11,IF($C$5,8,0),1,1))","v":1664690},{"$f":"IF(A960>$A$8,\"\",OFFSET(InputPriceData!C$15,CalculationsAndCharts!$A960+$A$11,IF($C$5,8,0),1,1))","v":3304},{"$f":"IF(A960>$A$8,\"\",OFFSET(InputPriceData!D$15,CalculationsAndCharts!$A960+$A$11,IF($C$5,8,0),1,1))","v":3382.75},{"$f":"IF(A960>$A$8,\"\",OFFSET(InputPriceData!E$15,CalculationsAndCharts!$A960+$A$11,IF($C$5,8,0),1,1))","v":3301.25},{"$f":"IF(A960>$A$8,\"\",OFFSET(InputPriceData!F$15,CalculationsAndCharts!$A960+$A$11,IF($C$5,8,0),1,1))","v":3361.5},61,0,{"$f":"IF($A960>$J$30,NA(),AVERAGE(H960:H963))","v":33.875},9.375,null,null,{"$f":"IF($A960>$J$30,NA(),IF($A960>$N$30,0,(1-$M$35)*J960+(2*$M$35-$M$36)*J961-($M$35+$M$37)*J962+$M$36*N961+$M$37*N962))","v":10.480525461318816},-1.3208708219213348,1.2884106167584113,4.1340249525388773,null,null,10.277731948867109,36.890101520243931,-0.56420589232288054,-0.91638398121895281,null,null,null,null,null,null,null,null,null,null,null,null,null,null,null,null,null,null,null,null,null,null,null,null,null,null,null,null,null,null,null,1664690,{"$error":"#N/A"}]
[929,{"$f":"IF(A961>$A$8,\"\",OFFSET(InputPriceData!B$15,$A961+$A$11,0,1,1))","v":"2020-11-02T05:00:00"},{"$f":"IF(A961>$A$8,\"\",OFFSET(InputPriceData!G$15,CalculationsAndCharts!$A961+$A$11,IF($C$5,8,0),1,1))","v":1849320},{"$f":"IF(A961>$A$8,\"\",OFFSET(InputPriceData!C$15,CalculationsAndCharts!$A961+$A$11,IF($C$5,8,0),1,1))","v":3260},{"$f":"IF(A961>$A$8,\"\",OFFSET(InputPriceData!D$15,CalculationsAndCharts!$A961+$A$11,IF($C$5,8,0),1,1))","v":3323.5},{"$f":"IF(A961>$A$8,\"\",OFFSET(InputPriceData!E$15,CalculationsAndCharts!$A961+$A$11,IF($C$5,8,0),1,1))","v":3243.25},{"$f":"IF(A961>$A$8,\"\",OFFSET(InputPriceData!F$15,CalculationsAndCharts!$A961+$A$11,IF($C$5,8,0),1,1))","v":3300.5},35.75,0,{"$f":"IF($A961>$J$30,NA(),AVERAGE(H961:H964))","v":18.625},39.25,null,null,{"$f":"IF($A961>$J$30,NA(),IF($A961>$N$30,0,(1-$M$35)*J961+(2*$M$35-$M$36)*J962-($M$35+$M$37)*J963+$M$36*N962+$M$37*N963))","v":9.3226067102707653},-2.7660954546328487,1.8437705196507654,35.945783479241626,null,null,4.2770034877852394,38.451652500534166,-0.79980631785121314,-1.0037479241760963,null,null,null,null,null,null,null,null,null,null,null,null,null,null,null,null,null,null,null,null,null,null,null,null,null,null,null,null,null,null,null,1849320,{"$error":"#N/A"}]
[930,{"$f":"IF(A962>$A$8,\"\",OFFSET(InputPriceData!B$15,$A962+$A$11,0,1,1))","v":"2020-10-30T04:00:00"},{"$f":"IF(A962>$A$8,\"\",OFFSET(InputPriceData!G$15,CalculationsAndCharts!$A962+$A$11,IF($C$5,8,0),1,1))","v":2494925},{"$f":"IF(A962>$A$8,\"\",OFFSET(InputPriceData!C$15,CalculationsAndCharts!$A962+$A$11,IF($C$5,8,0),1,1))","v":3268},{"$f":"IF(A962>$A$8,\"\",OFFSET(InputPriceData!D$15,CalculationsAndCharts!$A962+$A$11,IF($C$5,8,0),1,1))","v":3296.25},{"$f":"IF(A962>$A$8,\"\",OFFSET(InputPriceData!E$15,CalculationsAndCharts!$A962+$A$11,IF($C$5,8,0),1,1))","v":3225},{"$f":"IF(A962>$A$8,\"\",OFFSET(InputPriceData!F$15,CalculationsAndCharts!$A962+$A$11,IF($C$5,8,0),1,1))","v":3264.75},0,37.5,{"$f":"IF($A962>$J$30,NA(),AVERAGE(H962:H965))","v":9.6875},41.875,null,null,{"$f":"IF($A962>$J$30,NA(),IF($A962>$N$30,0,(1-$M$35)*J962+(2*$M$35-$M$36)*J963-($M$35+$M$37)*J964+$M$36*N963+$M$37*N964))","v":9.1031278505319566},-5.5569324445161445,4.1340249525388773,-8.9238863376646194,null,null,1.49106451759379,34.173501658373524,-0.91638398121895281,-1.0040269906743913,null,null,null,null,null,null,null,null,null,null,null,null,null,null,null,null,null,null,null,null,null,null,null,null,null,null,null,null,null,null,null,{"$error":"#N/A"},2494925]
[931,{"$f":"IF(A963>$A$8,\"\",OFFSET(InputPriceData!B$15,$A963+$A$11,0,1,1))","v":"2020-10-29T04:00:00"},{"$f":"IF(A963>$A$8,\"\",OFFSET(InputPriceData!G$15,CalculationsAndCharts!$A963+$A$11,IF($C$5,8,0),1,1))","v":1965277},{"$f":"IF(A963>$A$8,\"\",OFFSET(InputPriceData!C$15,CalculationsAndCharts!$A963+$A$11,IF($C$5,8,0),1,1))","v":3279},{"$f":"IF(A963>$A$8,\"\",OFFSET(InputPriceData!D$15,CalculationsAndCharts!$A963+$A$11,IF($C$5,8,0),1,1))","v":3333.75},{"$f":"IF(A963>$A$8,\"\",OFFSET(InputPriceData!E$15,CalculationsAndCharts!$A963+$A$11,IF($C$5,8,0),1,1))","v":3250.25},{"$f":"IF(A963>$A$8,\"\",OFFSET(InputPriceData!F$15,CalculationsAndCharts!$A963+$A$11,IF($C$5,8,0),1,1))","v":3302.25},38.75,0,{"$f":"IF($A963>$J$30,NA(),AVERAGE(H963:H966))","v":9.6875},47.0625,null,null,{"$f":"IF($A963>$J$30,NA(),IF($A963>$N$30,0,(1-$M$35)*J963+(2*$M$35-$M$36)*J964-($M$35+$M$37)*J965+$M$36*N964+$M$37*N965))","v":9.243680496189528},-8.7432888614373141,35.945783479241626,-6.1402434843792912,null,null,-5.1122036956896544E-2,27.331309444666847,-1.0037479241760963,-0.83010721058262449,null,null,null,null,null,null,null,null,null,null,null,null,null,null,null,null,null,null,null,null,null,null,null,null,null,null,null,null,null,null,null,1965277,{"$error":"#N/A"}]
[932,{"$f":"IF(A964>$A$8,\"\",OFFSET(InputPriceData!B$15,$A964+$A$11,0,1,1))","v":"2020-10-28T04:00:00"},{"$f":"IF(A964>$A$8,\"\",OFFSET(InputPriceData!G$15,CalculationsAndCharts!$A964+$A$11,IF($C$5,8,0),1,1))","v":2627180},{"$f":"IF(A964>$A$8,\"\",OFFSET(InputPriceData!C$15,CalculationsAndCharts!$A964+$A$11,IF($C$5,8,0),1,1))","v":3369},{"$f":"IF(A964>$A$8,\"\",OFFSET(InputPriceData!D$15,CalculationsAndCharts!$A964+$A$11,IF($C$5,8,0),1,1))","v":3370.25},{"$f":"IF(A964>$A$8,\"\",OFFSET(InputPriceData!E$15,CalculationsAndCharts!$A964+$A$11,IF($C$5,8,0),1,1))","v":3260.75},{"$f":"IF(A964>$A$8,\"\",OFFSET(InputPriceData!F$15,CalculationsAndCharts!$A964+$A$11,IF($C$5,8,0),1,1))","v":3263.5},0,119.5,{"$f":"IF($A964>$J$30,NA(),AVERAGE(H964:H967))","v":0.625},47.0625,null,null,{"$f":"IF($A964>$J$30,NA(),IF($A964>$N$30,0,(1-$M$35)*J964+(2*$M$35-$M$36)*J965-($M$35+$M$37)*J966+$M$36*N965+$M$37*N966))","v":9.7639562579259689},-12.228392480721075,-8.9238863376646194,-5.8581985490351309,null,null,-3.6276826176924848E-2,18.053118239601755,-1.0040269906743913,-0.67625121293784529,null,null,null,null,null,null,null,null,null,null,null,null,null,null,null,null,null,null,null,null,null,null,null,null,null,null,null,null,null,null,null,{"$error":"#N/A"},2627180]
[933,{"$f":"IF(A965>$A$8,\"\",OFFSET(InputPriceData!B$15,$A965+$A$11,0,1,1))","v":"2020-10-27T04:00:00"},{"$f":"IF(A965>$A$8,\"\",OFFSET(InputPriceData!G$15,CalculationsAndCharts!$A965+$A$11,IF($C$5,8,0),1,1))","v":1566246},{"$f":"IF(A965>$A$8,\"\",OFFSET(InputPriceData!C$15,CalculationsAndCharts!$A965+$A$11,IF($C$5,8,0),1,1))","v":3394.25},{"$f":"IF(A965>$A$8,\"\",OFFSET(InputPriceData!D$15,CalculationsAndCharts!$A965+$A$11,IF($C$5,8,0),1,1))","v":3410},{"$f":"IF(A965>$A$8,\"\",OFFSET(InputPriceData!E$15,CalculationsAndCharts!$A965+$A$11,IF($C$5,8,0),1,1))","v":3368.25},{"$f":"IF(A965>$A$8,\"\",OFFSET(InputPriceData!F$15,CalculationsAndCharts!$A965+$A$11,IF($C$5,8,0),1,1))","v":3383},0,10.5,{"$f":"IF($A965>$J$30,NA(),AVERAGE(H965:H968))","v":4.8125},17.1875,null,null,{"$f":"IF($A965>$J$30,NA(),IF($A965>$N$30,0,(1-$M$35)*J965+(2*$M$35-$M$36)*J966-($M$35+$M$37)*J967+$M$36*N966+$M$37*N967))","v":10.509341982385658},-14.598386407741206,-6.1402434843792912,-6.2681862221413303,null,null,1.1287450772595,12.158988688609906,-0.83010721058262449,-0.5903604200892022,null,null,null,null,null,null,null,null,null,null,null,null,null,null,null,null,null,null,null,null,null,null,null,null,null,null,null,null,null,null,null,{"$error":"#N/A"},1566246]
[934,{"$f":"IF(A966>$A$8,\"\",OFFSET(InputPriceData!B$15,$A966+$A$11,0,1,1))","v":"2020-10-26T04:00:00"},{"$f":"IF(A966>$A$8,\"\",OFFSET(InputPriceData!G$15,CalculationsAndCharts!$A966+$A$11,IF($C$5,8,0),1,1))","v":1957780},{"$f":"IF(A966>$A$8,\"\",OFFSET(InputPriceData!C$15,CalculationsAndCharts!$A966+$A$11,IF($C$5,8,0),1,1))","v":3445.75},{"$f":"IF(A966>$A$8,\"\",OFFSET(InputPriceData!D$15,CalculationsAndCharts!$A966+$A$11,IF($C$5,8,0),1,1))","v":3446.25},{"$f":"IF(A966>$A$8,\"\",OFFSET(InputPriceData!E$15,CalculationsAndCharts!$A966+$A$11,IF($C$5,8,0),1,1))","v":3356},{"$f":"IF(A966>$A$8,\"\",OFFSET(InputPriceData!F$15,CalculationsAndCharts!$A966+$A$11,IF($C$5,8,0),1,1))","v":3393.5},0,58.25,{"$f":"IF($A966>$J$30,NA(),AVERAGE(H966:H969))","v":4.875},14.5625,null,null,{"$f":"IF($A966>$J$30,NA(),IF($A966>$N$30,0,(1-$M$35)*J966+(2*$M$35-$M$36)*J967-($M$35+$M$37)*J968+$M$36*N967+$M$37*N968))","v":11.118807134246632},-15.696144606983269,-5.8581985490351309,-6.9500249720960321,null,null,2.0917802653281052,10.830462837479352,-0.67625121293784529,-0.53270627069615772,null,null,null,null,null,null,null,null,null,null,null,null,null,null,null,null,null,null,null,null,null,null,null,null,null,null,null,null,null,null,null,{"$error":"#N/A"},1957780]
[935,{"$f":"IF(A967>$A$8,\"\",OFFSET(InputPriceData!B$15,$A967+$A$11,0,1,1))","v":"2020-10-23T04:00:00"},{"$f":"IF(A967>$A$8,\"\",OFFSET(InputPriceData!G$15,CalculationsAndCharts!$A967+$A$11,IF($C$5,8,0),1,1))","v":1216313},{"$f":"IF(A967>$A$8,\"\",OFFSET(InputPriceData!C$15,CalculationsAndCharts!$A967+$A$11,IF($C$5,8,0),1,1))","v":3455.75},{"$f":"IF(A967>$A$8,\"\",OFFSET(InputPriceData!D$15,CalculationsAndCharts!$A967+$A$11,IF($C$5,8,0),1,1))","v":3462.5},{"$f":"IF(A967>$A$8,\"\",OFFSET(InputPriceData!E$15,CalculationsAndCharts!$A967+$A$11,IF($C$5,8,0),1,1))","v":3431.5},{"$f":"IF(A967>$A$8,\"\",OFFSET(InputPriceData!F$15,CalculationsAndCharts!$A967+$A$11,IF($C$5,8,0),1,1))","v":3451.75},2.5,0,{"$f":"IF($A967>$J$30,NA(),AVERAGE(H967:H970))","v":7.25},0,null,null,{"$f":"IF($A967>$J$30,NA(),IF($A967>$N$30,0,(1-$M$35)*J967+(2*$M$35-$M$36)*J968-($M$35+$M$37)*J969+$M$36*N968+$M$37*N969))","v":11.659425124339249},-16.085777812988173,-6.2681862221413303,-7.4288555391498194,null,null,3.157629628907956,12.258994075254394,-0.5903604200892022,-0.3538055084438298,null,null,null,null,null,null,null,null,null,null,null,null,null,null,null,null,null,null,null,null,null,null,null,null,null,null,null,null,null,null,null,1216313,{"$error":"#N/A"}]
[936,{"$f":"IF(A968>$A$8,\"\",OFFSET(InputPriceData!B$15,$A968+$A$11,0,1,1))","v":"2020-10-22T04:00:00"},{"$f":"IF(A968>$A$8,\"\",OFFSET(InputPriceData!G$15,CalculationsAndCharts!$A968+$A$11,IF($C$5,8,0),1,1))","v":1501259},{"$f":"IF(A968>$A$8,\"\",OFFSET(InputPriceData!C$15,CalculationsAndCharts!$A968+$A$11,IF($C$5,8,0),1,1))","v":3430.25},{"$f":"IF(A968>$A$8,\"\",OFFSET(InputPriceData!D$15,CalculationsAndCharts!$A968+$A$11,IF($C$5,8,0),1,1))","v":3453},{"$f":"IF(A968>$A$8,\"\",OFFSET(InputPriceData!E$15,CalculationsAndCharts!$A968+$A$11,IF($C$5,8,0),1,1))","v":3402.5},{"$f":"IF(A968>$A$8,\"\",OFFSET(InputPriceData!F$15,CalculationsAndCharts!$A968+$A$11,IF($C$5,8,0),1,1))","v":3449.25},16.75,0,{"$f":"IF($A968>$J$30,NA(),AVERAGE(H968:H971))","v":6.625},9.875,null,null,{"$f":"IF($A968>$J$30,NA(),IF($A968>$N$30,0,(1-$M$35)*J968+(2*$M$35-$M$36)*J969-($M$35+$M$37)*J970+$M$36*N969+$M$37*N970))","v":12.155548174521524},-16.241429572172013,-6.9500249720960321,-8.1311194925981205,null,null,4.4919278577896886,14.7333584069398,-0.53270627069615772,-0.12351786105246639,null,null,null,null,null,null,null,null,null,null,null,null,null,null,null,null,null,null,null,null,null,null,null,null,null,null,null,null,null,null,null,1501259,{"$error":"#N/A"}]
[937,{"$f":"IF(A969>$A$8,\"\",OFFSET(InputPriceData!B$15,$A969+$A$11,0,1,1))","v":"2020-10-21T04:00:00"},{"$f":"IF(A969>$A$8,\"\",OFFSET(InputPriceData!G$15,CalculationsAndCharts!$A969+$A$11,IF($C$5,8,0),1,1))","v":1681275},{"$f":"IF(A969>$A$8,\"\",OFFSET(InputPriceData!C$15,CalculationsAndCharts!$A969+$A$11,IF($C$5,8,0),1,1))","v":3437},{"$f":"IF(A969>$A$8,\"\",OFFSET(InputPriceData!D$15,CalculationsAndCharts!$A969+$A$11,IF($C$5,8,0),1,1))","v":3458},{"$f":"IF(A969>$A$8,\"\",OFFSET(InputPriceData!E$15,CalculationsAndCharts!$A969+$A$11,IF($C$5,8,0),1,1))","v":3420.5},{"$f":"IF(A969>$A$8,\"\",OFFSET(InputPriceData!F$15,CalculationsAndCharts!$A969+$A$11,IF($C$5,8,0),1,1))","v":3432.5},0.25,0,{"$f":"IF($A969>$J$30,NA(),AVERAGE(H969:H972))","v":2.4375},13.1875,null,null,{"$f":"IF($A969>$J$30,NA(),IF($A969>$N$30,0,(1-$M$35)*J969+(2*$M$35-$M$36)*J970-($M$35+$M$37)*J971+$M$36*N970+$M$37*N971))","v":12.870260512868432},-16.874164608859505,-7.4288555391498194,-8.7103894113865739,null,null,7.2963035810176518,15.286072704631708,-0.3538055084438298,0.13980415260122714,null,null,null,null,null,null,null,null,null,null,null,null,null,null,null,null,null,null,null,null,null,null,null,null,null,null,null,null,null,null,null,1681275,{"$error":"#N/A"}]
[938,{"$f":"IF(A970>$A$8,\"\",OFFSET(InputPriceData!B$15,$A970+$A$11,0,1,1))","v":"2020-10-20T04:00:00"},{"$f":"IF(A970>$A$8,\"\",OFFSET(InputPriceData!G$15,CalculationsAndCharts!$A970+$A$11,IF($C$5,8,0),1,1))","v":1702183},{"$f":"IF(A970>$A$8,\"\",OFFSET(InputPriceData!C$15,CalculationsAndCharts!$A970+$A$11,IF($C$5,8,0),1,1))","v":3436},{"$f":"IF(A970>$A$8,\"\",OFFSET(InputPriceData!D$15,CalculationsAndCharts!$A970+$A$11,IF($C$5,8,0),1,1))","v":3469.75},{"$f":"IF(A970>$A$8,\"\",OFFSET(InputPriceData!E$15,CalculationsAndCharts!$A970+$A$11,IF($C$5,8,0),1,1))","v":3418.75},{"$f":"IF(A970>$A$8,\"\",OFFSET(InputPriceData!F$15,CalculationsAndCharts!$A970+$A$11,IF($C$5,8,0),1,1))","v":3432.25},9.5,0,{"$f":"IF($A970>$J$30,NA(),AVERAGE(H970:H973))","v":2.375},14.5625,null,null,{"$f":"IF($A970>$J$30,NA(),IF($A970>$N$30,0,(1-$M$35)*J970+(2*$M$35-$M$36)*J971-($M$35+$M$37)*J972+$M$36*N971+$M$37*N972))","v":13.788632844990071},-17.655804853340861,-8.1311194925981205,-9.4718347813640147,null,null,11.715579618275211,15.017605458018757,-0.12351786105246639,0.4039502638937546,null,null,null,null,null,null,null,null,null,null,null,null,null,null,null,null,null,null,null,null,null,null,null,null,null,null,null,null,null,null,null,1702183,{"$error":"#N/A"}]
[939,{"$f":"IF(A971>$A$8,\"\",OFFSET(InputPriceData!B$15,$A971+$A$11,0,1,1))","v":"2020-10-19T04:00:00"},{"$f":"IF(A971>$A$8,\"\",OFFSET(InputPriceData!G$15,CalculationsAndCharts!$A971+$A$11,IF($C$5,8,0),1,1))","v":1645853},{"$f":"IF(A971>$A$8,\"\",OFFSET(InputPriceData!C$15,CalculationsAndCharts!$A971+$A$11,IF($C$5,8,0),1,1))","v":3471},{"$f":"IF(A971>$A$8,\"\",OFFSET(InputPriceData!D$15,CalculationsAndCharts!$A971+$A$11,IF($C$5,8,0),1,1))","v":3496.5},{"$f":"IF(A971>$A$8,\"\",OFFSET(InputPriceData!E$15,CalculationsAndCharts!$A971+$A$11,IF($C$5,8,0),1,1))","v":3410.75},{"$f":"IF(A971>$A$8,\"\",OFFSET(InputPriceData!F$15,CalculationsAndCharts!$A971+$A$11,IF($C$5,8,0),1,1))","v":3422.75},0,39.5,{"$f":"IF($A971>$J$30,NA(),AVERAGE(H971:H974))","v":0},20.5,null,null,{"$f":"IF($A971>$J$30,NA(),IF($A971>$N$30,0,(1-$M$35)*J971+(2*$M$35-$M$36)*J972-($M$35+$M$37)*J973+$M$36*N972+$M$37*N973))","v":14.844182639453319},-18.694619199124787,-8.7103894113865739,-9.3519195251216587,null,null,17.655030452484201,13.324029260875179,0.13980415260122714,0.56862273887474979,null,null,null,null,null,null,null,null,null,null,null,null,null,null,null,null,null,null,null,null,null,null,null,null,null,null,null,null,null,null,null,{"$error":"#N/A"},1645853]
[940,{"$f":"IF(A972>$A$8,\"\",OFFSET(InputPriceData!B$15,$A972+$A$11,0,1,1))","v":"2020-10-16T04:00:00"},{"$f":"IF(A972>$A$8,\"\",OFFSET(InputPriceData!G$15,CalculationsAndCharts!$A972+$A$11,IF($C$5,8,0),1,1))","v":1398947},{"$f":"IF(A972>$A$8,\"\",OFFSET(InputPriceData!C$15,CalculationsAndCharts!$A972+$A$11,IF($C$5,8,0),1,1))","v":3478.5},{"$f":"IF(A972>$A$8,\"\",OFFSET(InputPriceData!D$15,CalculationsAndCharts!$A972+$A$11,IF($C$5,8,0),1,1))","v":3508.5},{"$f":"IF(A972>$A$8,\"\",OFFSET(InputPriceData!E$15,CalculationsAndCharts!$A972+$A$11,IF($C$5,8,0),1,1))","v":3461.25},{"$f":"IF(A972>$A$8,\"\",OFFSET(InputPriceData!F$15,CalculationsAndCharts!$A972+$A$11,IF($C$5,8,0),1,1))","v":3462.25},0,13.25,{"$f":"IF($A972>$J$30,NA(),AVERAGE(H972:H975))","v":0},17.625,null,null,{"$f":"IF($A972>$J$30,NA(),IF($A972>$N$30,0,(1-$M$35)*J972+(2*$M$35-$M$36)*J973-($M$35+$M$37)*J974+$M$36*N973+$M$37*N974))","v":16.038261014287443},-19.824515451063697,-9.4718347813640147,-7.6806394366461799,null,null,25.249268646941498,10.719624691080998,0.4039502638937546,0.65939613674360287,null,null,null,null,null,null,null,null,null,null,null,null,null,null,null,null,null,null,null,null,null,null,null,null,null,null,null,null,null,null,null,{"$error":"#N/A"},1398947]
[941,{"$f":"IF(A973>$A$8,\"\",OFFSET(InputPriceData!B$15,$A973+$A$11,0,1,1))","v":"2020-10-15T04:00:00"},{"$f":"IF(A973>$A$8,\"\",OFFSET(InputPriceData!G$15,CalculationsAndCharts!$A973+$A$11,IF($C$5,8,0),1,1))","v":1650150},{"$f":"IF(A973>$A$8,\"\",OFFSET(InputPriceData!C$15,CalculationsAndCharts!$A973+$A$11,IF($C$5,8,0),1,1))","v":3479.25},{"$f":"IF(A973>$A$8,\"\",OFFSET(InputPriceData!D$15,CalculationsAndCharts!$A973+$A$11,IF($C$5,8,0),1,1))","v":3486.5},{"$f":"IF(A973>$A$8,\"\",OFFSET(InputPriceData!E$15,CalculationsAndCharts!$A973+$A$11,IF($C$5,8,0),1,1))","v":3431.5},{"$f":"IF(A973>$A$8,\"\",OFFSET(InputPriceData!F$15,CalculationsAndCharts!$A973+$A$11,IF($C$5,8,0),1,1))","v":3475.5},0,5.5,{"$f":"IF($A973>$J$30,NA(),AVERAGE(H973:H976))","v":14.875},14.3125,null,null,{"$f":"IF($A973>$J$30,NA(),IF($A973>$N$30,0,(1-$M$35)*J973+(2*$M$35-$M$36)*J974-($M$35+$M$37)*J975+$M$36*N974+$M$37*N975))","v":16.676577003591753},-20.670048672812328,-9.3519195251216587,-6.012379584287241,null,null,31.631845141944474,8.69887856621183,0.56862273887474979,0.68360544607313078,null,null,null,null,null,null,null,null,null,null,null,null,null,null,null,null,null,null,null,null,null,null,null,null,null,null,null,null,null,null,null,{"$error":"#N/A"},1650150]
[942,{"$f":"IF(A974>$A$8,\"\",OFFSET(InputPriceData!B$15,$A974+$A$11,0,1,1))","v":"2020-10-14T04:00:00"},{"$f":"IF(A974>$A$8,\"\",OFFSET(InputPriceData!G$15,CalculationsAndCharts!$A974+$A$11,IF($C$5,8,0),1,1))","v":1539718},{"$f":"IF(A974>$A$8,\"\",OFFSET(InputPriceData!C$15,CalculationsAndCharts!$A974+$A$11,IF($C$5,8,0),1,1))","v":3502},{"$f":"IF(A974>$A$8,\"\",OFFSET(InputPriceData!D$15,CalculationsAndCharts!$A974+$A$11,IF($C$5,8,0),1,1))","v":3524},{"$f":"IF(A974>$A$8,\"\",OFFSET(InputPriceData!E$15,CalculationsAndCharts!$A974+$A$11,IF($C$5,8,0),1,1))","v":3472},{"$f":"IF(A974>$A$8,\"\",OFFSET(InputPriceData!F$15,CalculationsAndCharts!$A974+$A$11,IF($C$5,8,0),1,1))","v":3481},0,23.75,{"$f":"IF($A974>$J$30,NA(),AVERAGE(H974:H977))","v":23.8125},12.9375,null,null,{"$f":"IF($A974>$J$30,NA(),IF($A974>$N$30,0,(1-$M$35)*J974+(2*$M$35-$M$36)*J975-($M$35+$M$37)*J976+$M$36*N975+$M$37*N976))","v":16.373897040331457},-21.275792194413143,-7.6806394366461799,-4.5236555040037985,null,null,34.875656699367269,7.1584976862241296,0.65939613674360287,0.58646843516125402,null,null,null,null,null,null,null,null,null,null,null,null,null,null,null,null,null,null,null,null,null,null,null,null,null,null,null,null,null,null,null,{"$error":"#N/A"},1539718]
[943,{"$f":"IF(A975>$A$8,\"\",OFFSET(InputPriceData!B$15,$A975+$A$11,0,1,1))","v":"2020-10-13T04:00:00"},{"$f":"IF(A975>$A$8,\"\",OFFSET(InputPriceData!G$15,CalculationsAndCharts!$A975+$A$11,IF($C$5,8,0),1,1))","v":1617226},{"$f":"IF(A975>$A$8,\"\",OFFSET(InputPriceData!C$15,CalculationsAndCharts!$A975+$A$11,IF($C$5,8,0),1,1))","v":3534},{"$f":"IF(A975>$A$8,\"\",OFFSET(InputPriceData!D$15,CalculationsAndCharts!$A975+$A$11,IF($C$5,8,0),1,1))","v":3535.75},{"$f":"IF(A975>$A$8,\"\",OFFSET(InputPriceData!E$15,CalculationsAndCharts!$A975+$A$11,IF($C$5,8,0),1,1))","v":3491.5},{"$f":"IF(A975>$A$8,\"\",OFFSET(InputPriceData!F$15,CalculationsAndCharts!$A975+$A$11,IF($C$5,8,0),1,1))","v":3504.75},0,28,{"$f":"IF($A975>$J$30,NA(),AVERAGE(H975:H978))","v":31.5},7,null,null,{"$f":"IF($A975>$J$30,NA(),IF($A975>$N$30,0,(1-$M$35)*J975+(2*$M$35-$M$36)*J976-($M$35+$M$37)*J977+$M$36*N976+$M$37*N977))","v":15.38330704493589},-21.521432374932576,-6.012379584287241,-3.5196379557102238,null,null,35.555634931108898,6.6818560606664636,0.68360544607313078,0.48004852025621703,null,null,null,null,null,null,null,null,null,null,null,null,null,null,null,null,null,null,null,null,null,null,null,null,null,null,null,null,null,null,null,{"$error":"#N/A"},1617226]
[944,{"$f":"IF(A976>$A$8,\"\",OFFSET(InputPriceData!B$15,$A976+$A$11,0,1,1))","v":"2020-10-12T04:00:00"},{"$f":"IF(A976>$A$8,\"\",OFFSET(InputPriceData!G$15,CalculationsAndCharts!$A976+$A$11,IF($C$5,8,0),1,1))","v":1401063},{"$f":"IF(A976>$A$8,\"\",OFFSET(InputPriceData!C$15,CalculationsAndCharts!$A976+$A$11,IF($C$5,8,0),1,1))","v":3467.5},{"$f":"IF(A976>$A$8,\"\",OFFSET(InputPriceData!D$15,CalculationsAndCharts!$A976+$A$11,IF($C$5,8,0),1,1))","v":3541},{"$f":"IF(A976>$A$8,\"\",OFFSET(InputPriceData!E$15,CalculationsAndCharts!$A976+$A$11,IF($C$5,8,0),1,1))","v":3464.25},{"$f":"IF(A976>$A$8,\"\",OFFSET(InputPriceData!F$15,CalculationsAndCharts!$A976+$A$11,IF($C$5,8,0),1,1))","v":3532.75},59.5,0,{"$f":"IF($A976>$J$30,NA(),AVERAGE(H976:H979))","v":44.875},0,null,null,{"$f":"IF($A976>$J$30,NA(),IF($A976>$N$30,0,(1-$M$35)*J976+(2*$M$35-$M$36)*J977-($M$35+$M$37)*J978+$M$36*N977+$M$37*N978))","v":13.498929468702167},-21.160818920360445,-4.5236555040037985,-2.8792837321573117,null,null,32.401615161044312,8.4458602036337123,0.58646843516125402,0.43027151629643223,null,null,null,null,null,null,null,null,null,null,null,null,null,null,null,null,null,null,null,null,null,null,null,null,null,null,null,null,null,null,null,1401063,{"$error":"#N/A"}]
[945,{"$f":"IF(A977>$A$8,\"\",OFFSET(InputPriceData!B$15,$A977+$A$11,0,1,1))","v":"2020-10-09T04:00:00"},{"$f":"IF(A977>$A$8,\"\",OFFSET(InputPriceData!G$15,CalculationsAndCharts!$A977+$A$11,IF($C$5,8,0),1,1))","v":1185272},{"$f":"IF(A977>$A$8,\"\",OFFSET(InputPriceData!C$15,CalculationsAndCharts!$A977+$A$11,IF($C$5,8,0),1,1))","v":3447.25},{"$f":"IF(A977>$A$8,\"\",OFFSET(InputPriceData!D$15,CalculationsAndCharts!$A977+$A$11,IF($C$5,8,0),1,1))","v":3480},{"$f":"IF(A977>$A$8,\"\",OFFSET(InputPriceData!E$15,CalculationsAndCharts!$A977+$A$11,IF($C$5,8,0),1,1))","v":3445.25},{"$f":"IF(A977>$A$8,\"\",OFFSET(InputPriceData!F$15,CalculationsAndCharts!$A977+$A$11,IF($C$5,8,0),1,1))","v":3473.25},35.75,0,{"$f":"IF($A977>$J$30,NA(),AVERAGE(H977:H980))","v":30},9.9375,null,null,{"$f":"IF($A977>$J$30,NA(),IF($A977>$N$30,0,(1-$M$35)*J977+(2*$M$35-$M$36)*J978-($M$35+$M$37)*J979+$M$36*N978+$M$37*N979))","v":11.600493312514834},-20.808556944216193,-3.5196379557102238,-2.3948788165387653,null,null,28.669111096324162,10.071660849937627,0.48004852025621703,0.41977721590076228,null,null,null,null,null,null,null,null,null,null,null,null,null,null,null,null,null,null,null,null,null,null,null,null,null,null,null,null,null,null,null,1185272,{"$error":"#N/A"}]
[946,{"$f":"IF(A978>$A$8,\"\",OFFSET(InputPriceData!B$15,$A978+$A$11,0,1,1))","v":"2020-10-08T04:00:00"},{"$f":"IF(A978>$A$8,\"\",OFFSET(InputPriceData!G$15,CalculationsAndCharts!$A978+$A$11,IF($C$5,8,0),1,1))","v":1104986},{"$f":"IF(A978>$A$8,\"\",OFFSET(InputPriceData!C$15,CalculationsAndCharts!$A978+$A$11,IF($C$5,8,0),1,1))","v":3406.25},{"$f":"IF(A978>$A$8,\"\",OFFSET(InputPriceData!D$15,CalculationsAndCharts!$A978+$A$11,IF($C$5,8,0),1,1))","v":3447.25},{"$f":"IF(A978>$A$8,\"\",OFFSET(InputPriceData!E$15,CalculationsAndCharts!$A978+$A$11,IF($C$5,8,0),1,1))","v":3405.5},{"$f":"IF(A978>$A$8,\"\",OFFSET(InputPriceData!F$15,CalculationsAndCharts!$A978+$A$11,IF($C$5,8,0),1,1))","v":3437.5},30.75,0,{"$f":"IF($A978>$J$30,NA(),AVERAGE(H978:H981))","v":34.5},9.9375,null,null,{"$f":"IF($A978>$J$30,NA(),IF($A978>$N$30,0,(1-$M$35)*J978+(2*$M$35-$M$36)*J979-($M$35+$M$37)*J980+$M$36*N979+$M$37*N980))","v":10.049677940333625},-20.744899495619652,-2.8792837321573117,-2.1524281945156476,null,null,25.844197411363325,10.294671491353412,0.43027151629643223,0.51684196548868466,null,null,null,null,null,null,null,null,null,null,null,null,null,null,null,null,null,null,null,null,null,null,null,null,null,null,null,null,null,null,null,1104986,{"$error":"#N/A"}]
[947,{"$f":"IF(A979>$A$8,\"\",OFFSET(InputPriceData!B$15,$A979+$A$11,0,1,1))","v":"2020-10-07T04:00:00"},{"$f":"IF(A979>$A$8,\"\",OFFSET(InputPriceData!G$15,CalculationsAndCharts!$A979+$A$11,IF($C$5,8,0),1,1))","v":1400616},{"$f":"IF(A979>$A$8,\"\",OFFSET(InputPriceData!C$15,CalculationsAndCharts!$A979+$A$11,IF($C$5,8,0),1,1))","v":3338},{"$f":"IF(A979>$A$8,\"\",OFFSET(InputPriceData!D$15,CalculationsAndCharts!$A979+$A$11,IF($C$5,8,0),1,1))","v":3416.75},{"$f":"IF(A979>$A$8,\"\",OFFSET(InputPriceData!E$15,CalculationsAndCharts!$A979+$A$11,IF($C$5,8,0),1,1))","v":3332.25},{"$f":"IF(A979>$A$8,\"\",OFFSET(InputPriceData!F$15,CalculationsAndCharts!$A979+$A$11,IF($C$5,8,0),1,1))","v":3406.75},53.5,0,{"$f":"IF($A979>$J$30,NA(),AVERAGE(H979:H982))","v":26.8125},17.0625,null,null,{"$f":"IF($A979>$J$30,NA(),IF($A979>$N$30,0,(1-$M$35)*J979+(2*$M$35-$M$36)*J980-($M$35+$M$37)*J981+$M$36*N980+$M$37*N981))","v":8.572472152337312},-20.863822555964397,-2.3948788165387653,-2.0193517674793733,null,null,22.890445829672153,9.3546776633817323,0.41977721590076228,0.55956182481975281,null,null,null,null,null,null,null,null,null,null,null,null,null,null,null,null,null,null,null,null,null,null,null,null,null,null,null,null,null,null,null,1400616,{"$error":"#N/A"}]
[948,{"$f":"IF(A980>$A$8,\"\",OFFSET(InputPriceData!B$15,$A980+$A$11,0,1,1))","v":"2020-10-06T04:00:00"},{"$f":"IF(A980>$A$8,\"\",OFFSET(InputPriceData!G$15,CalculationsAndCharts!$A980+$A$11,IF($C$5,8,0),1,1))","v":1701062},{"$f":"IF(A980>$A$8,\"\",OFFSET(InputPriceData!C$15,CalculationsAndCharts!$A980+$A$11,IF($C$5,8,0),1,1))","v":3392},{"$f":"IF(A980>$A$8,\"\",OFFSET(InputPriceData!D$15,CalculationsAndCharts!$A980+$A$11,IF($C$5,8,0),1,1))","v":3421.75},{"$f":"IF(A980>$A$8,\"\",OFFSET(InputPriceData!E$15,CalculationsAndCharts!$A980+$A$11,IF($C$5,8,0),1,1))","v":3330.5},{"$f":"IF(A980>$A$8,\"\",OFFSET(InputPriceData!F$15,CalculationsAndCharts!$A980+$A$11,IF($C$5,8,0),1,1))","v":3353.25},0,39.75,{"$f":"IF($A980>$J$30,NA(),AVERAGE(H980:H983))","v":17.375},17.0625,null,null,{"$f":"IF($A980>$J$30,NA(),IF($A980>$N$30,0,(1-$M$35)*J980+(2*$M$35-$M$36)*J981-($M$35+$M$37)*J982+$M$36*N981+$M$37*N982))","v":7.7384795389181331},-21.168348012711466,-2.1524281945156476,-1.994918763249067,null,null,22.236659866320114,7.0830192726415708,0.51684196548868466,0.55779215055488607,null,null,null,null,null,null,null,null,null,null,null,null,null,null,null,null,null,null,null,null,null,null,null,null,null,null,null,null,null,null,null,{"$error":"#N/A"},1701062]
[949,{"$f":"IF(A981>$A$8,\"\",OFFSET(InputPriceData!B$15,$A981+$A$11,0,1,1))","v":"2020-10-05T04:00:00"},{"$f":"IF(A981>$A$8,\"\",OFFSET(InputPriceData!G$15,CalculationsAndCharts!$A981+$A$11,IF($C$5,8,0),1,1))","v":1077474},{"$f":"IF(A981>$A$8,\"\",OFFSET(InputPriceData!C$15,CalculationsAndCharts!$A981+$A$11,IF($C$5,8,0),1,1))","v":3360},{"$f":"IF(A981>$A$8,\"\",OFFSET(InputPriceData!D$15,CalculationsAndCharts!$A981+$A$11,IF($C$5,8,0),1,1))","v":3400},{"$f":"IF(A981>$A$8,\"\",OFFSET(InputPriceData!E$15,CalculationsAndCharts!$A981+$A$11,IF($C$5,8,0),1,1))","v":3346.5},{"$f":"IF(A981>$A$8,\"\",OFFSET(InputPriceData!F$15,CalculationsAndCharts!$A981+$A$11,IF($C$5,8,0),1,1))","v":3393},53.75,0,{"$f":"IF($A981>$J$30,NA(),AVERAGE(H981:H984))","v":21.9375},7.125,null,null,{"$f":"IF($A981>$J$30,NA(),IF($A981>$N$30,0,(1-$M$35)*J981+(2*$M$35-$M$36)*J982-($M$35+$M$37)*J983+$M$36*N982+$M$37*N983))","v":7.0798695437925003},-20.970794678104909,-2.0193517674793733,-1.9812883516984752,null,null,22.168609801259496,6.2606700752489539,0.55956182481975281,0.50705099915178053,null,null,null,null,null,null,null,null,null,null,null,null,null,null,null,null,null,null,null,null,null,null,null,null,null,null,null,null,null,null,null,1077474,{"$error":"#N/A"}]
[950,{"$f":"IF(A982>$A$8,\"\",OFFSET(InputPriceData!B$15,$A982+$A$11,0,1,1))","v":"2020-10-02T04:00:00"},{"$f":"IF(A982>$A$8,\"\",OFFSET(InputPriceData!G$15,CalculationsAndCharts!$A982+$A$11,IF($C$5,8,0),1,1))","v":2028921},{"$f":"IF(A982>$A$8,\"\",OFFSET(InputPriceData!C$15,CalculationsAndCharts!$A982+$A$11,IF($C$5,8,0),1,1))","v":3367},{"$f":"IF(A982>$A$8,\"\",OFFSET(InputPriceData!D$15,CalculationsAndCharts!$A982+$A$11,IF($C$5,8,0),1,1))","v":3375.5},{"$f":"IF(A982>$A$8,\"\",OFFSET(InputPriceData!E$15,CalculationsAndCharts!$A982+$A$11,IF($C$5,8,0),1,1))","v":3300.25},{"$f":"IF(A982>$A$8,\"\",OFFSET(InputPriceData!F$15,CalculationsAndCharts!$A982+$A$11,IF($C$5,8,0),1,1))","v":3339.25},0,28.5,{"$f":"IF($A982>$J$30,NA(),AVERAGE(H982:H985))","v":8.5},10.1875,null,null,{"$f":"IF($A982>$J$30,NA(),IF($A982>$N$30,0,(1-$M$35)*J982+(2*$M$35-$M$36)*J983-($M$35+$M$37)*J984+$M$36*N983+$M$37*N984))","v":6.7671369575497691},-20.370532948294979,-1.994918763249067,-1.7870194285647909,null,null,23.453069778747377,6.657583648789009,0.55779215055488607,0.32175389914228819,null,null,null,null,null,null,null,null,null,null,null,null,null,null,null,null,null,null,null,null,null,null,null,null,null,null,null,null,null,null,null,{"$error":"#N/A"},2028921]
[951,{"$f":"IF(A983>$A$8,\"\",OFFSET(InputPriceData!B$15,$A983+$A$11,0,1,1))","v":"2020-10-01T04:00:00"},{"$f":"IF(A983>$A$8,\"\",OFFSET(InputPriceData!G$15,CalculationsAndCharts!$A983+$A$11,IF($C$5,8,0),1,1))","v":1517912},{"$f":"IF(A983>$A$8,\"\",OFFSET(InputPriceData!C$15,CalculationsAndCharts!$A983+$A$11,IF($C$5,8,0),1,1))","v":3344.75},{"$f":"IF(A983>$A$8,\"\",OFFSET(InputPriceData!D$15,CalculationsAndCharts!$A983+$A$11,IF($C$5,8,0),1,1))","v":3388},{"$f":"IF(A983>$A$8,\"\",OFFSET(InputPriceData!E$15,CalculationsAndCharts!$A983+$A$11,IF($C$5,8,0),1,1))","v":3343.25},{"$f":"IF(A983>$A$8,\"\",OFFSET(InputPriceData!F$15,CalculationsAndCharts!$A983+$A$11,IF($C$5,8,0),1,1))","v":3367.75},15.75,0,{"$f":"IF($A983>$J$30,NA(),AVERAGE(H983:H986))","v":23.1875},3.0625,null,null,{"$f":"IF($A983>$J$30,NA(),IF($A983>$N$30,0,(1-$M$35)*J983+(2*$M$35-$M$36)*J984-($M$35+$M$37)*J985+$M$36*N984+$M$37*N985))","v":6.4056782948272337},-19.461327602678253,-1.9812883516984752,-1.547957512184474,null,null,24.516435725436381,8.0192060534218825,0.50705099915178053,6.537411903979283E-2,null,null,null,null,null,null,null,null,null,null,null,null,null,null,null,null,null,null,null,null,null,null,null,null,null,null,null,null,null,null,null,1517912,{"$error":"#N/A"}]
[952,{"$f":"IF(A984>$A$8,\"\",OFFSET(InputPriceData!B$15,$A984+$A$11,0,1,1))","v":"2020-09-30T04:00:00"},{"$f":"IF(A984>$A$8,\"\",OFFSET(InputPriceData!G$15,CalculationsAndCharts!$A984+$A$11,IF($C$5,8,0),1,1))","v":2170601},{"$f":"IF(A984>$A$8,\"\",OFFSET(InputPriceData!C$15,CalculationsAndCharts!$A984+$A$11,IF($C$5,8,0),1,1))","v":3330},{"$f":"IF(A984>$A$8,\"\",OFFSET(InputPriceData!D$15,CalculationsAndCharts!$A984+$A$11,IF($C$5,8,0),1,1))","v":3384},{"$f":"IF(A984>$A$8,\"\",OFFSET(InputPriceData!E$15,CalculationsAndCharts!$A984+$A$11,IF($C$5,8,0),1,1))","v":3291.25},{"$f":"IF(A984>$A$8,\"\",OFFSET(InputPriceData!F$15,CalculationsAndCharts!$A984+$A$11,IF($C$5,8,0),1,1))","v":3352},18.25,0,{"$f":"IF($A984>$J$30,NA(),AVERAGE(H984:H987))","v":31.5625},3.0625,null,null,{"$f":"IF($A984>$J$30,NA(),IF($A984>$N$30,0,(1-$M$35)*J984+(2*$M$35-$M$36)*J985-($M$35+$M$37)*J986+$M$36*N985+$M$37*N986))","v":5.1121711994868644},-18.103391019331525,-1.7870194285647909,-1.313695825637734,null,null,21.499427608779627,11.032237510923858,0.32175389914228819,-0.18199296509821788,null,null,null,null,null,null,null,null,null,null,null,null,null,null,null,null,null,null,null,null,null,null,null,null,null,null,null,null,null,null,null,2170601,{"$error":"#N/A"}]
[953,{"$f":"IF(A985>$A$8,\"\",OFFSET(InputPriceData!B$15,$A985+$A$11,0,1,1))","v":"2020-09-29T04:00:00"},{"$f":"IF(A985>$A$8,\"\",OFFSET(InputPriceData!G$15,CalculationsAndCharts!$A985+$A$11,IF($C$5,8,0),1,1))","v":1326597},{"$f":"IF(A985>$A$8,\"\",OFFSET(InputPriceData!C$15,CalculationsAndCharts!$A985+$A$11,IF($C$5,8,0),1,1))","v":3348.75},{"$f":"IF(A985>$A$8,\"\",OFFSET(InputPriceData!D$15,CalculationsAndCharts!$A985+$A$11,IF($C$5,8,0),1,1))","v":3363},{"$f":"IF(A985>$A$8,\"\",OFFSET(InputPriceData!E$15,CalculationsAndCharts!$A985+$A$11,IF($C$5,8,0),1,1))","v":3316.5},{"$f":"IF(A985>$A$8,\"\",OFFSET(InputPriceData!F$15,CalculationsAndCharts!$A985+$A$11,IF($C$5,8,0),1,1))","v":3333.75},0,12.25,{"$f":"IF($A985>$J$30,NA(),AVERAGE(H985:H988))","v":28.6875},3.0625,null,null,{"$f":"IF($A985>$J$30,NA(),IF($A985>$N$30,0,(1-$M$35)*J985+(2*$M$35-$M$36)*J986-($M$35+$M$37)*J987+$M$36*N986+$M$37*N987))","v":3.5622264056830124},-16.564060768650055,-1.547957512184474,-1.1354910542621182,null,null,16.756674639290285,14.700208609183683,6.537411903979283E-2,-0.41531612665732115,null,null,null,null,null,null,null,null,null,null,null,null,null,null,null,null,null,null,null,null,null,null,null,null,null,null,null,null,null,null,null,{"$error":"#N/A"},1326597]
[954,{"$f":"IF(A986>$A$8,\"\",OFFSET(InputPriceData!B$15,$A986+$A$11,0,1,1))","v":"2020-09-28T04:00:00"},{"$f":"IF(A986>$A$8,\"\",OFFSET(InputPriceData!G$15,CalculationsAndCharts!$A986+$A$11,IF($C$5,8,0),1,1))","v":1495804},{"$f":"IF(A986>$A$8,\"\",OFFSET(InputPriceData!C$15,CalculationsAndCharts!$A986+$A$11,IF($C$5,8,0),1,1))","v":3291},{"$f":"IF(A986>$A$8,\"\",OFFSET(InputPriceData!D$15,CalculationsAndCharts!$A986+$A$11,IF($C$5,8,0),1,1))","v":3351.25},{"$f":"IF(A986>$A$8,\"\",OFFSET(InputPriceData!E$15,CalculationsAndCharts!$A986+$A$11,IF($C$5,8,0),1,1))","v":3287.5},{"$f":"IF(A986>$A$8,\"\",OFFSET(InputPriceData!F$15,CalculationsAndCharts!$A986+$A$11,IF($C$5,8,0),1,1))","v":3346},58.75,0,{"$f":"IF($A986>$J$30,NA(),AVERAGE(H986:H989))","v":28.6875},17,null,null,{"$f":"IF($A986>$J$30,NA(),IF($A986>$N$30,0,(1-$M$35)*J986+(2*$M$35-$M$36)*J987-($M$35+$M$37)*J988+$M$36*N987+$M$37*N988))","v":2.0876000504196579},-15.397308881741399,-1.313695825637734,-1.0858374438777243,null,null,11.525948362446204,16.654612123393925,-0.18199296509821788,-0.44352263050360752,null,null,null,null,null,null,null,null,null,null,null,null,null,null,null,null,null,null,null,null,null,null,null,null,null,null,null,null,null,null,null,1495804,{"$error":"#N/A"}]
[955,{"$f":"IF(A987>$A$8,\"\",OFFSET(InputPriceData!B$15,$A987+$A$11,0,1,1))","v":"2020-09-25T04:00:00"},{"$f":"IF(A987>$A$8,\"\",OFFSET(InputPriceData!G$15,CalculationsAndCharts!$A987+$A$11,IF($C$5,8,0),1,1))","v":1697090},{"$f":"IF(A987>$A$8,\"\",OFFSET(InputPriceData!C$15,CalculationsAndCharts!$A987+$A$11,IF($C$5,8,0),1,1))","v":3243.5},{"$f":"IF(A987>$A$8,\"\",OFFSET(InputPriceData!D$15,CalculationsAndCharts!$A987+$A$11,IF($C$5,8,0),1,1))","v":3296.25},{"$f":"IF(A987>$A$8,\"\",OFFSET(InputPriceData!E$15,CalculationsAndCharts!$A987+$A$11,IF($C$5,8,0),1,1))","v":3206.5},{"$f":"IF(A987>$A$8,\"\",OFFSET(InputPriceData!F$15,CalculationsAndCharts!$A987+$A$11,IF($C$5,8,0),1,1))","v":3287.25},49.25,0,{"$f":"IF($A987>$J$30,NA(),AVERAGE(H987:H990))","v":20.0625},17,null,null,{"$f":"IF($A987>$J$30,NA(),IF($A987>$N$30,0,(1-$M$35)*J987+(2*$M$35-$M$36)*J988-($M$35+$M$37)*J989+$M$36*N988+$M$37*N989))","v":0.92727540958470211},-14.614900982130832,-1.1354910542621182,-1.1191906989287821,null,null,6.8375778239095393,16.551395724543664,-0.41531612665732115,1.2459156047247569E-2,null,null,null,null,null,null,null,null,null,null,null,null,null,null,null,null,null,null,null,null,null,null,null,null,null,null,null,null,null,null,null,1697090,{"$error":"#N/A"}]
[956,{"$f":"IF(A988>$A$8,\"\",OFFSET(InputPriceData!B$15,$A988+$A$11,0,1,1))","v":"2020-09-24T04:00:00"},{"$f":"IF(A988>$A$8,\"\",OFFSET(InputPriceData!G$15,CalculationsAndCharts!$A988+$A$11,IF($C$5,8,0),1,1))","v":2277010},{"$f":"IF(A988>$A$8,\"\",OFFSET(InputPriceData!C$15,CalculationsAndCharts!$A988+$A$11,IF($C$5,8,0),1,1))","v":3228},{"$f":"IF(A988>$A$8,\"\",OFFSET(InputPriceData!D$15,CalculationsAndCharts!$A988+$A$11,IF($C$5,8,0),1,1))","v":3268.25},{"$f":"IF(A988>$A$8,\"\",OFFSET(InputPriceData!E$15,CalculationsAndCharts!$A988+$A$11,IF($C$5,8,0),1,1))","v":3198},{"$f":"IF(A988>$A$8,\"\",OFFSET(InputPriceData!F$15,CalculationsAndCharts!$A988+$A$11,IF($C$5,8,0),1,1))","v":3238},6.75,0,{"$f":"IF($A988>$J$30,NA(),AVERAGE(H988:H991))","v":7.75},36.649999999999977,null,null,{"$f":"IF($A988>$J$30,NA(),IF($A988>$N$30,0,(1-$M$35)*J988+(2*$M$35-$M$36)*J989-($M$35+$M$37)*J990+$M$36*N989+$M$37*N990))","v":0.59504232892866682},-14.459442340101088,-1.0858374438777243,-1.1727169409836495,null,null,5.0335085032355806,13.057104984931478,-0.44352263050360752,1.8582055921656238,null,null,null,null,null,null,null,null,null,null,null,null,null,null,null,null,null,null,null,null,null,null,null,null,null,null,null,null,null,null,null,2277010,{"$error":"#N/A"}]
[957,{"$f":"IF(A989>$A$8,\"\",OFFSET(InputPriceData!B$15,$A989+$A$11,0,1,1))","v":"2020-09-23T04:00:00"},{"$f":"IF(A989>$A$8,\"\",OFFSET(InputPriceData!G$15,CalculationsAndCharts!$A989+$A$11,IF($C$5,8,0),1,1))","v":1979661},{"$f":"IF(A989>$A$8,\"\",OFFSET(InputPriceData!C$15,CalculationsAndCharts!$A989+$A$11,IF($C$5,8,0),1,1))","v":3303.75},{"$f":"IF(A989>$A$8,\"\",OFFSET(InputPriceData!D$15,CalculationsAndCharts!$A989+$A$11,IF($C$5,8,0),1,1))","v":3319.75},{"$f":"IF(A989>$A$8,\"\",OFFSET(InputPriceData!E$15,CalculationsAndCharts!$A989+$A$11,IF($C$5,8,0),1,1))","v":3221},{"$f":"IF(A989>$A$8,\"\",OFFSET(InputPriceData!F$15,CalculationsAndCharts!$A989+$A$11,IF($C$5,8,0),1,1))","v":3231.25},0,68,{"$f":"IF($A989>$J$30,NA(),AVERAGE(H989:H992))","v":6.0625},38.625,null,null,{"$f":"IF($A989>$J$30,NA(),IF($A989>$N$30,0,(1-$M$35)*J989+(2*$M$35-$M$36)*J990-($M$35+$M$37)*J991+$M$36*N990+$M$37*N991))","v":0.84539298948931529},-15.030946008092698,-1.1191906989287821,-1.2847672980903244,null,null,5.4866455413255792,5.3516100239577646,1.2459156047247569E-2,442.73557182323844,null,null,null,null,null,null,null,null,null,null,null,null,null,null,null,null,null,null,null,null,null,null,null,null,null,null,null,null,null,null,null,{"$error":"#N/A"},1979661]
[958,{"$f":"IF(A990>$A$8,\"\",OFFSET(InputPriceData!B$15,$A990+$A$11,0,1,1))","v":"2020-09-22T04:00:00"},{"$f":"IF(A990>$A$8,\"\",OFFSET(InputPriceData!G$15,CalculationsAndCharts!$A990+$A$11,IF($C$5,8,0),1,1))","v":1576319},{"$f":"IF(A990>$A$8,\"\",OFFSET(InputPriceData!C$15,CalculationsAndCharts!$A990+$A$11,IF($C$5,8,0),1,1))","v":3271.5},{"$f":"IF(A990>$A$8,\"\",OFFSET(InputPriceData!D$15,CalculationsAndCharts!$A990+$A$11,IF($C$5,8,0),1,1))","v":3309.5},{"$f":"IF(A990>$A$8,\"\",OFFSET(InputPriceData!E$15,CalculationsAndCharts!$A990+$A$11,IF($C$5,8,0),1,1))","v":3256.5},{"$f":"IF(A990>$A$8,\"\",OFFSET(InputPriceData!F$15,CalculationsAndCharts!$A990+$A$11,IF($C$5,8,0),1,1))","v":3299.25},24.25,0,{"$f":"IF($A990>$J$30,NA(),AVERAGE(H990:H993))","v":6.0625},28.625,null,null,{"$f":"IF($A990>$J$30,NA(),IF($A990>$N$30,0,(1-$M$35)*J990+(2*$M$35-$M$36)*J991-($M$35+$M$37)*J992+$M$36*N991+$M$37*N992))","v":1.2045280210272979},-15.15252888495329,-1.1727169409836495,-1.4593239607571122,null,null,6.4829214995692492,-1.9465637810489191,1.8582055921656238,-18.101739719252858,null,null,null,null,null,null,null,null,null,null,null,null,null,null,null,null,null,null,null,null,null,null,null,null,null,null,null,null,null,null,null,1576319,{"$error":"#N/A"}]
[959,{"$f":"IF(A991>$A$8,\"\",OFFSET(InputPriceData!B$15,$A991+$A$11,0,1,1))","v":"2020-09-21T04:00:00"},{"$f":"IF(A991>$A$8,\"\",OFFSET(InputPriceData!G$15,CalculationsAndCharts!$A991+$A$11,IF($C$5,8,0),1,1))","v":2507980},{"$f":"IF(A991>$A$8,\"\",OFFSET(InputPriceData!C$15,CalculationsAndCharts!$A991+$A$11,IF($C$5,8,0),1,1))","v":3314.5},{"$f":"IF(A991>$A$8,\"\",OFFSET(InputPriceData!D$15,CalculationsAndCharts!$A991+$A$11,IF($C$5,8,0),1,1))","v":3326.25},{"$f":"IF(A991>$A$8,\"\",OFFSET(InputPriceData!E$15,CalculationsAndCharts!$A991+$A$11,IF($C$5,8,0),1,1))","v":3217.75},{"$f":"IF(A991>$A$8,\"\",OFFSET(InputPriceData!F$15,CalculationsAndCharts!$A991+$A$11,IF($C$5,8,0),1,1))","v":3275},0,78.599999999999909,{"$f":"IF($A991>$J$30,NA(),AVERAGE(H991:H994))","v":0},32.5625,null,null,{"$f":"IF($A991>$J$30,NA(),IF($A991>$N$30,0,(1-$M$35)*J991+(2*$M$35-$M$36)*J992-($M$35+$M$37)*J993+$M$36*N992+$M$37*N993))","v":1.854502100234757},-14.87918655432213,-1.2847672980903244,-1.5862035471601512,null,null,8.8689221181730318,-8.8289482117236027,442.73557182323844,-23.24732671245124,null,null,null,null,null,null,null,null,null,null,null,null,null,null,null,null,null,null,null,null,null,null,null,null,null,null,null,null,null,null,null,{"$error":"#N/A"},2507980]
[960,{"$f":"IF(A992>$A$8,\"\",OFFSET(InputPriceData!B$15,$A992+$A$11,0,1,1))","v":"2020-09-18T04:00:00"},{"$f":"IF(A992>$A$8,\"\",OFFSET(InputPriceData!G$15,CalculationsAndCharts!$A992+$A$11,IF($C$5,8,0),1,1))","v":2365554},{"$f":"IF(A992>$A$8,\"\",OFFSET(InputPriceData!C$15,CalculationsAndCharts!$A992+$A$11,IF($C$5,8,0),1,1))","v":3355.75},{"$f":"IF(A992>$A$8,\"\",OFFSET(InputPriceData!D$15,CalculationsAndCharts!$A992+$A$11,IF($C$5,8,0),1,1))","v":3374.25},{"$f":"IF(A992>$A$8,\"\",OFFSET(InputPriceData!E$15,CalculationsAndCharts!$A992+$A$11,IF($C$5,8,0),1,1))","v":3341.75},{"$f":"IF(A992>$A$8,\"\",OFFSET(InputPriceData!F$15,CalculationsAndCharts!$A992+$A$11,IF($C$5,8,0),1,1))","v":3353.6},0,7.9000000000000909,{"$f":"IF($A992>$J$30,NA(),AVERAGE(H992:H995))","v":5.6875},12.912500000000023,null,null,{"$f":"IF($A992>$J$30,NA(),IF($A992>$N$30,0,(1-$M$35)*J992+(2*$M$35-$M$36)*J993-($M$35+$M$37)*J994+$M$36*N993+$M$37*N994))","v":2.5771602019889333},-13.798696294906671,-1.4593239607571122,-1.6702557362375374,null,null,11.865984812853238,-13.253678112792157,-18.101739719252858,-194.40559731032496,null,null,null,null,null,null,null,null,null,null,null,null,null,null,null,null,null,null,null,null,null,null,null,null,null,null,null,null,null,null,null,{"$error":"#N/A"},2365554]
[961,{"$f":"IF(A993>$A$8,\"\",OFFSET(InputPriceData!B$15,$A993+$A$11,0,1,1))","v":"2020-09-17T04:00:00"},{"$f":"IF(A993>$A$8,\"\",OFFSET(InputPriceData!G$15,CalculationsAndCharts!$A993+$A$11,IF($C$5,8,0),1,1))","v":384917},{"$f":"IF(A993>$A$8,\"\",OFFSET(InputPriceData!C$15,CalculationsAndCharts!$A993+$A$11,IF($C$5,8,0),1,1))","v":3392.75},{"$f":"IF(A993>$A$8,\"\",OFFSET(InputPriceData!D$15,CalculationsAndCharts!$A993+$A$11,IF($C$5,8,0),1,1))","v":3396.5},{"$f":"IF(A993>$A$8,\"\",OFFSET(InputPriceData!E$15,CalculationsAndCharts!$A993+$A$11,IF($C$5,8,0),1,1))","v":3320.5},{"$f":"IF(A993>$A$8,\"\",OFFSET(InputPriceData!F$15,CalculationsAndCharts!$A993+$A$11,IF($C$5,8,0),1,1))","v":3361.5},0,28,{"$f":"IF($A993>$J$30,NA(),AVERAGE(H993:H996))","v":17.875},10.9375,null,null,{"$f":"IF($A993>$J$30,NA(),IF($A993>$N$30,0,(1-$M$35)*J993+(2*$M$35-$M$36)*J994-($M$35+$M$37)*J995+$M$36*N994+$M$37*N995))","v":2.637132451202838},-11.634459280691885,-1.5862035471601512,-1.8655473984930229,null,null,{"$f":"IF($A993>$J$30,NA(),IF($A993>$N$30,0,(1-S$35)*$J993+(2*S$35-S$36)*$J994-(S$35+S$37)*$J995+S$36*T994+S$37*T995))","v":12.376162619942935},{"$f":"IF($A993>$J$30,NA(),IF($A993>$N$30,0,(1-S$35)*$K993+(2*S$35-S$36)*$K994-(S$35+S$37)*$K995+S$36*U994+S$37*U995))","v":-13.488760351787842},{"$f":"IF($A993>$N$30,NA(),(T993-U993)/(T993+U993))","v":-23.24732671245124},{"$f":"IF($A993>$N$30,NA(),OFFSET(V993,$C$18,0,1,1))","v":9.2564595276216401},null,null,null,null,null,null,null,null,null,null,null,null,null,null,null,null,null,null,null,null,null,null,null,null,null,null,null,null,null,null,null,{"$error":"#N/A"},384917]
[962,{"$f":"IF(A994>$A$8,\"\",OFFSET(InputPriceData!B$15,$A994+$A$11,0,1,1))","v":"2020-09-16T04:00:00"},{"$f":"IF(A994>$A$8,\"\",OFFSET(InputPriceData!G$15,CalculationsAndCharts!$A994+$A$11,IF($C$5,8,0),1,1))","v":571749},{"$f":"IF(A994>$A$8,\"\",OFFSET(InputPriceData!C$15,CalculationsAndCharts!$A994+$A$11,IF($C$5,8,0),1,1))","v":3405},{"$f":"IF(A994>$A$8,\"\",OFFSET(InputPriceData!D$15,CalculationsAndCharts!$A994+$A$11,IF($C$5,8,0),1,1))","v":3429.75},{"$f":"IF(A994>$A$8,\"\",OFFSET(InputPriceData!E$15,CalculationsAndCharts!$A994+$A$11,IF($C$5,8,0),1,1))","v":3384},{"$f":"IF(A994>$A$8,\"\",OFFSET(InputPriceData!F$15,CalculationsAndCharts!$A994+$A$11,IF($C$5,8,0),1,1))","v":3389.5},{"$f":"IF($A994>$H$30,NA(),IF($G994>$G995,$G994-$G995,0))","v":0},{"$f":"IF($A994>$H$30,NA(),IF(G994<G995,G995-G994,0))","v":15.75},{"$f":"IF($A994>$J$30,NA(),AVERAGE(H994:H997))","v":17.875},5.625,null,null,{"$f":"IF($A994>$J$30,NA(),IF($A994>$N$30,0,(1-$M$35)*J994+(2*$M$35-$M$36)*J995-($M$35+$M$37)*J996+$M$36*N995+$M$37*N996))","v":2.2388858787739543},-8.9195773155735267,{"$f":"IF($A994>$N$30,NA(),(N994-O994)/(N994+O994))","v":-1.6702557362375374},{"$f":"IF($A994>$N$30,NA(),OFFSET(P994,$C$17,0,1,1))","v":-1.8691885819694731},null,null,10.946000044285114,-11.059192218622467,-194.40559731032496,3.9428100963608927,null,null,null,null,null,null,null,null,null,null,null,null,null,null,null,null,null,null,null,null,null,null,null,null,null,null,null,null,null,null,null,{"$error":"#N/A"},571749]
[963,{"$f":"IF(A995>$A$8,\"\",OFFSET(InputPriceData!B$15,$A995+$A$11,0,1,1))","v":"2020-09-15T04:00:00"},{"$f":"IF(A995>$A$8,\"\",OFFSET(InputPriceData!G$15,CalculationsAndCharts!$A995+$A$11,IF($C$5,8,0),1,1))","v":874366},{"$f":"IF(A995>$A$8,\"\",OFFSET(InputPriceData!C$15,CalculationsAndCharts!$A995+$A$11,IF($C$5,8,0),1,1))","v":3379.5},{"$f":"IF(A995>$A$8,\"\",OFFSET(InputPriceData!D$15,CalculationsAndCharts!$A995+$A$11,IF($C$5,8,0),1,1))","v":3419},{"$f":"IF(A995>$A$8,\"\",OFFSET(InputPriceData!E$15,CalculationsAndCharts!$A995+$A$11,IF($C$5,8,0),1,1))","v":3376},{"$f":"IF(A995>$A$8,\"\",OFFSET(InputPriceData!F$15,CalculationsAndCharts!$A995+$A$11,IF($C$5,8,0),1,1))","v":3405.25},22.75,0,{"$f":"IF($A995>$J$30,NA(),AVERAGE(H995:H998))","v":17.875},16.625,null,null,{"$f":"IF($A995>$J$30,NA(),IF($A995>$N$30,0,(1-$M$35)*J995+(2*$M$35-$M$36)*J996-($M$35+$M$37)*J997+$M$36*N996+$M$37*N997))","v":1.8589469905659106},-6.1543720448205121,-1.8655473984930229,-1.6527365435797909,null,null,9.3905677603490023,-7.5594158438305792,9.2564595276216401,1.3322472464578756,null,null,null,null,null,null,null,null,null,null,null,null,null,null,null,null,null,null,null,null,null,null,null,null,null,null,null,null,null,null,null,874366,{"$error":"#N/A"}]
[964,{"$f":"IF(A996>$A$8,\"\",OFFSET(InputPriceData!B$15,$A996+$A$11,0,1,1))","v":"2020-09-14T04:00:00"},{"$f":"IF(A996>$A$8,\"\",OFFSET(InputPriceData!G$15,CalculationsAndCharts!$A996+$A$11,IF($C$5,8,0),1,1))","v":1378626},{"$f":"IF(A996>$A$8,\"\",OFFSET(InputPriceData!C$15,CalculationsAndCharts!$A996+$A$11,IF($C$5,8,0),1,1))","v":3350},{"$f":"IF(A996>$A$8,\"\",OFFSET(InputPriceData!D$15,CalculationsAndCharts!$A996+$A$11,IF($C$5,8,0),1,1))","v":3402.75},{"$f":"IF(A996>$A$8,\"\",OFFSET(InputPriceData!E$15,CalculationsAndCharts!$A996+$A$11,IF($C$5,8,0),1,1))","v":3345.5},{"$f":"IF(A996>$A$8,\"\",OFFSET(InputPriceData!F$15,CalculationsAndCharts!$A996+$A$11,IF($C$5,8,0),1,1))","v":3382.5},48.75,0,{"$f":"IF($A996>$J$30,NA(),AVERAGE(H996:H999))","v":28.375},16.625,null,null,{"$f":"IF($A996>$J$30,NA(),IF($A996>$N$30,0,(1-$M$35)*J996+(2*$M$35-$M$36)*J997-($M$35+$M$37)*J998+$M$36*N997+$M$37*N998))","v":1.0752432708633819},-3.5493744160908416,-1.8691885819694731,-2.5501856091455122,null,null,5.9492796679150226,-3.5420337685448908,3.9428100963608927,0.37783223182150788,null,null,null,null,null,null,null,null,null,null,null,null,null,null,null,null,null,null,null,null,null,null,null,null,null,null,null,null,null,null,null,1378626,{"$error":"#N/A"}]
[965,{"$f":"IF(A997>$A$8,\"\",OFFSET(InputPriceData!B$15,$A997+$A$11,0,1,1))","v":"2020-09-11T04:00:00"},{"$f":"IF(A997>$A$8,\"\",OFFSET(InputPriceData!G$15,CalculationsAndCharts!$A997+$A$11,IF($C$5,8,0),1,1))","v":1876451},{"$f":"IF(A997>$A$8,\"\",OFFSET(InputPriceData!C$15,CalculationsAndCharts!$A997+$A$11,IF($C$5,8,0),1,1))","v":3345.25},{"$f":"IF(A997>$A$8,\"\",OFFSET(InputPriceData!D$15,CalculationsAndCharts!$A997+$A$11,IF($C$5,8,0),1,1))","v":3375},{"$f":"IF(A997>$A$8,\"\",OFFSET(InputPriceData!E$15,CalculationsAndCharts!$A997+$A$11,IF($C$5,8,0),1,1))","v":3308.75},{"$f":"IF(A997>$A$8,\"\",OFFSET(InputPriceData!F$15,CalculationsAndCharts!$A997+$A$11,IF($C$5,8,0),1,1))","v":3333.75},0,6.75,{"$f":"IF($A997>$J$30,NA(),AVERAGE(H997:H1000))","v":16.1875},37.125,null,null,{"$f":"IF($A997>$J$30,NA(),IF($A997>$N$30,0,(1-$M$35)*J997+(2*$M$35-$M$36)*J998-($M$35+$M$37)*J999+$M$36*N998+$M$37*N999))","v":0.36729650660372198},-1.4927015730624329,-1.6527365435797909,{"$error":"#N/A"},null,null,2.5264210074484375,-0.35990884945535562,1.3322472464578756,{"$error":"#N/A"},null,null,null,null,null,null,null,null,null,null,null,null,null,null,null,null,null,null,null,null,null,null,null,null,null,null,null,null,null,null,null,{"$error":"#N/A"},1876451]
[966,{"$f":"IF(A998>$A$8,\"\",OFFSET(InputPriceData!B$15,$A998+$A$11,0,1,1))","v":"2020-09-10T04:00:00"},{"$f":"IF(A998>$A$8,\"\",OFFSET(InputPriceData!G$15,CalculationsAndCharts!$A998+$A$11,IF($C$5,8,0),1,1))","v":2332667},{"$f":"IF(A998>$A$8,\"\",OFFSET(InputPriceData!C$15,CalculationsAndCharts!$A998+$A$11,IF($C$5,8,0),1,1))","v":3396},{"$f":"IF(A998>$A$8,\"\",OFFSET(InputPriceData!D$15,CalculationsAndCharts!$A998+$A$11,IF($C$5,8,0),1,1))","v":3424.25},{"$f":"IF(A998>$A$8,\"\",OFFSET(InputPriceData!E$15,CalculationsAndCharts!$A998+$A$11,IF($C$5,8,0),1,1))","v":3327.25},{"$f":"IF(A998>$A$8,\"\",OFFSET(InputPriceData!F$15,CalculationsAndCharts!$A998+$A$11,IF($C$5,8,0),1,1))","v":3340.5},0,59.75,{"$f":"IF($A998>$J$30,NA(),AVERAGE(H998:H1001))","v":16.1875},46.4375,null,null,{"$f":"IF($A998>$J$30,NA(),IF($A998>$N$30,0,(1-$M$35)*J998+(2*$M$35-$M$36)*J999-($M$35+$M$37)*J1000+$M$36*N999+$M$37*N1000))","v":0.16574403277233662},-0.37958169426849442,-2.5501856091455122,{"$error":"#N/A"},null,null,1.0865987574002818,0.49065968133400073,0.37783223182150788,{"$error":"#N/A"},null,null,null,null,null,null,null,null,null,null,null,null,null,null,null,null,null,null,null,null,null,null,null,null,null,null,null,null,null,null,null,{"$error":"#N/A"},2332667]
[967,{"$f":"IF(A999>$A$8,\"\",OFFSET(InputPriceData!B$15,$A999+$A$11,0,1,1))","v":"2020-09-09T04:00:00"},{"$f":"IF(A999>$A$8,\"\",OFFSET(InputPriceData!G$15,CalculationsAndCharts!$A999+$A$11,IF($C$5,8,0),1,1))","v":2011132},{"$f":"IF(A999>$A$8,\"\",OFFSET(InputPriceData!C$15,CalculationsAndCharts!$A999+$A$11,IF($C$5,8,0),1,1))","v":3315.25},{"$f":"IF(A999>$A$8,\"\",OFFSET(InputPriceData!D$15,CalculationsAndCharts!$A999+$A$11,IF($C$5,8,0),1,1))","v":3424},{"$f":"IF(A999>$A$8,\"\",OFFSET(InputPriceData!E$15,CalculationsAndCharts!$A999+$A$11,IF($C$5,8,0),1,1))","v":3295.5},{"$f":"IF(A999>$A$8,\"\",OFFSET(InputPriceData!F$15,CalculationsAndCharts!$A999+$A$11,IF($C$5,8,0),1,1))","v":3400.25},64.75,0,{"$f":"IF($A999>$J$30,NA(),AVERAGE(H999:H1002))","v":16.1875},60.9375,null,null,{"$f":"IF($A999>$J$30,NA(),IF($A999>$N$30,0,(1-$M$35)*J999+(2*$M$35-$M$36)*J1000-($M$35+$M$37)*J1001+$M$36*N1000+$M$37*N1001))","v":0},0,{"$error":"#N/A"},{"$error":"#N/A"},null,null,0,0,{"$error":"#N/A"},{"$error":"#N/A"},null,null,null,null,null,null,null,null,null,null,null,null,null,null,null,null,null,null,null,null,null,null,null,null,null,null,null,null,null,null,null,2011132,{"$error":"#N/A"}]
[968,{"$f":"IF(A1000>$A$8,\"\",OFFSET(InputPriceData!B$15,$A1000+$A$11,0,1,1))","v":"2020-09-08T04:00:00"},{"$f":"IF(A1000>$A$8,\"\",OFFSET(InputPriceData!G$15,CalculationsAndCharts!$A1000+$A$11,IF($C$5,8,0),1,1))","v":2732946},{"$f":"IF(A1000>$A$8,\"\",OFFSET(InputPriceData!C$15,CalculationsAndCharts!$A1000+$A$11,IF($C$5,8,0),1,1))","v":3420.5},{"$f":"IF(A1000>$A$8,\"\",OFFSET(InputPriceData!D$15,CalculationsAndCharts!$A1000+$A$11,IF($C$5,8,0),1,1))","v":3447},{"$f":"IF(A1000>$A$8,\"\",OFFSET(InputPriceData!E$15,CalculationsAndCharts!$A1000+$A$11,IF($C$5,8,0),1,1))","v":3327.5},{"$f":"IF(A1000>$A$8,\"\",OFFSET(InputPriceData!F$15,CalculationsAndCharts!$A1000+$A$11,IF($C$5,8,0),1,1))","v":3335.5},0,82,{"$f":"IF($A1000>$J$30,NA(),AVERAGE(H1000:H1003))","v":13.0625},60.9375,null,null,{"$f":"IF($A1000>$J$30,NA(),IF($A1000>$N$30,0,(1-$M$35)*J1000+(2*$M$35-$M$36)*J1001-($M$35+$M$37)*J1002+$M$36*N1001+$M$37*N1002))","v":0},0,{"$error":"#N/A"},{"$error":"#N/A"},null,null,0,0,{"$error":"#N/A"},{"$error":"#N/A"},null,null,null,null,null,null,null,null,null,null,null,null,null,null,null,null,null,null,null,null,null,null,null,null,null,null,null,null,null,null,null,{"$error":"#N/A"},2732946]
[969,{"$f":"IF(A1001>$A$8,\"\",OFFSET(InputPriceData!B$15,$A1001+$A$11,0,1,1))","v":"2020-09-04T04:00:00"},{"$f":"IF(A1001>$A$8,\"\",OFFSET(InputPriceData!G$15,CalculationsAndCharts!$A1001+$A$11,IF($C$5,8,0),1,1))","v":2994363},{"$f":"IF(A1001>$A$8,\"\",OFFSET(InputPriceData!C$15,CalculationsAndCharts!$A1001+$A$11,IF($C$5,8,0),1,1))","v":3454.75},{"$f":"IF(A1001>$A$8,\"\",OFFSET(InputPriceData!D$15,CalculationsAndCharts!$A1001+$A$11,IF($C$5,8,0),1,1))","v":3484.25},{"$f":"IF(A1001>$A$8,\"\",OFFSET(InputPriceData!E$15,CalculationsAndCharts!$A1001+$A$11,IF($C$5,8,0),1,1))","v":3347.75},{"$f":"IF(A1001>$A$8,\"\",OFFSET(InputPriceData!F$15,CalculationsAndCharts!$A1001+$A$11,IF($C$5,8,0),1,1))","v":3417.5},0,44,{"$f":"IF($A1001>$J$30,NA(),AVERAGE(H1001:H1004))","v":{"$error":"#N/A"}},{"$error":"#N/A"},null,null,{"$f":"IF($A1001>$J$30,NA(),IF($A1001>$N$30,0,(1-$M$35)*J1001+(2*$M$35-$M$36)*J1002-($M$35+$M$37)*J1003+$M$36*N1002+$M$37*N1003))","v":{"$error":"#N/A"}},{"$error":"#N/A"},{"$error":"#N/A"},{"$error":"#N/A"},null,null,{"$error":"#N/A"},{"$error":"#N/A"},{"$error":"#N/A"},{"$error":"#N/A"},null,null,null,null,null,null,null,null,null,null,null,null,null,null,null,null,null,null,null,null,null,null,null,null,null,null,null,null,null,null,null,{"$error":"#N/A"},2994363]
[970,{"$f":"IF(A1002>$A$8,\"\",OFFSET(InputPriceData!B$15,$A1002+$A$11,0,1,1))","v":"2020-09-03T04:00:00"},{"$f":"IF(A1002>$A$8,\"\",OFFSET(InputPriceData!G$15,CalculationsAndCharts!$A1002+$A$11,IF($C$5,8,0),1,1))","v":2872337},{"$f":"IF(A1002>$A$8,\"\",OFFSET(InputPriceData!C$15,CalculationsAndCharts!$A1002+$A$11,IF($C$5,8,0),1,1))","v":3578.75},{"$f":"IF(A1002>$A$8,\"\",OFFSET(InputPriceData!D$15,CalculationsAndCharts!$A1002+$A$11,IF($C$5,8,0),1,1))","v":3586.5},{"$f":"IF(A1002>$A$8,\"\",OFFSET(InputPriceData!E$15,CalculationsAndCharts!$A1002+$A$11,IF($C$5,8,0),1,1))","v":3424.5},{"$f":"IF(A1002>$A$8,\"\",OFFSET(InputPriceData!F$15,CalculationsAndCharts!$A1002+$A$11,IF($C$5,8,0),1,1))","v":3461.5},0,117.75,{"$f":"IF($A1002>$J$30,NA(),AVERAGE(H1002:H1005))","v":{"$error":"#N/A"}},{"$error":"#N/A"},null,null,{"$f":"IF($A1002>$J$30,NA(),IF($A1002>$N$30,0,(1-$M$35)*J1002+(2*$M$35-$M$36)*J1003-($M$35+$M$37)*J1004+$M$36*N1003+$M$37*N1004))","v":{"$error":"#N/A"}},{"$error":"#N/A"},{"$error":"#N/A"},{"$error":"#N/A"},null,null,{"$error":"#N/A"},{"$error":"#N/A"},{"$error":"#N/A"},{"$error":"#N/A"},null,null,null,null,null,null,null,null,null,null,null,null,null,null,null,null,null,null,null,null,null,null,null,null,null,null,null,null,null,null,null,{"$error":"#N/A"},2872337]
[971,{"$f":"IF(A1003>$A$8,\"\",OFFSET(InputPriceData!B$15,$A1003+$A$11,0,1,1))","v":"2020-09-02T04:00:00"},{"$f":"IF(A1003>$A$8,\"\",OFFSET(InputPriceData!G$15,CalculationsAndCharts!$A1003+$A$11,IF($C$5,8,0),1,1))","v":1853078},{"$f":"IF(A1003>$A$8,\"\",OFFSET(InputPriceData!C$15,CalculationsAndCharts!$A1003+$A$11,IF($C$5,8,0),1,1))","v":3529},{"$f":"IF(A1003>$A$8,\"\",OFFSET(InputPriceData!D$15,CalculationsAndCharts!$A1003+$A$11,IF($C$5,8,0),1,1))","v":3587},{"$f":"IF(A1003>$A$8,\"\",OFFSET(InputPriceData!E$15,CalculationsAndCharts!$A1003+$A$11,IF($C$5,8,0),1,1))","v":3526.25},{"$f":"IF(A1003>$A$8,\"\",OFFSET(InputPriceData!F$15,CalculationsAndCharts!$A1003+$A$11,IF($C$5,8,0),1,1))","v":3579.25},52.25,0,{"$f":"IF($A1003>$J$30,NA(),AVERAGE(H1003:H1006))","v":{"$error":"#N/A"}},{"$error":"#N/A"},null,null,{"$f":"IF($A1003>$J$30,NA(),IF($A1003>$N$30,0,(1-$M$35)*J1003+(2*$M$35-$M$36)*J1004-($M$35+$M$37)*J1005+$M$36*N1004+$M$37*N1005))","v":{"$error":"#N/A"}},{"$error":"#N/A"},{"$error":"#N/A"},{"$error":"#N/A"},null,null,{"$error":"#N/A"},{"$error":"#N/A"},{"$error":"#N/A"},{"$error":"#N/A"},null,null,null,null,null,null,null,null,null,null,null,null,null,null,null,null,null,null,null,null,null,null,null,null,null,null,null,null,null,null,null,1853078,{"$error":"#N/A"}]
[972,{"$f":"IF(A1004>$A$8,\"\",OFFSET(InputPriceData!B$15,$A1004+$A$11,0,1,1))","v":"2020-09-01T04:00:00"},{"$f":"IF(A1004>$A$8,\"\",OFFSET(InputPriceData!G$15,CalculationsAndCharts!$A1004+$A$11,IF($C$5,8,0),1,1))","v":1283622},{"$f":"IF(A1004>$A$8,\"\",OFFSET(InputPriceData!C$15,CalculationsAndCharts!$A1004+$A$11,IF($C$5,8,0),1,1))","v":3493.25},{"$f":"IF(A1004>$A$8,\"\",OFFSET(InputPriceData!D$15,CalculationsAndCharts!$A1004+$A$11,IF($C$5,8,0),1,1))","v":3530},{"$f":"IF(A1004>$A$8,\"\",OFFSET(InputPriceData!E$15,CalculationsAndCharts!$A1004+$A$11,IF($C$5,8,0),1,1))","v":3484.25},{"$f":"IF(A1004>$A$8,\"\",OFFSET(InputPriceData!F$15,CalculationsAndCharts!$A1004+$A$11,IF($C$5,8,0),1,1))","v":3527},{"$error":"#N/A"},{"$error":"#N/A"},{"$f":"IF($A1004>$J$30,NA(),AVERAGE(H1004:H1007))","v":{"$error":"#N/A"}},{"$error":"#N/A"},null,null,{"$f":"IF($A1004>$J$30,NA(),IF($A1004>$N$30,0,(1-$M$35)*J1004+(2*$M$35-$M$36)*J1005-($M$35+$M$37)*J1006+$M$36*N1005+$M$37*N1006))","v":{"$error":"#N/A"}},{"$error":"#N/A"},{"$error":"#N/A"},{"$error":"#N/A"},null,null,{"$error":"#N/A"},{"$error":"#N/A"},{"$error":"#N/A"},{"$error":"#N/A"},null,null,null,null,null,null,null,null,null,null,null,null,null,null,null,null,null,null,null,null,null,null,null,null,null,null,null,null,null,null,null,{"$error":"#N/A"},1283622]
[973,{"$f":"IF(A1005>$A$8,\"\",OFFSET(InputPriceData!B$15,$A1005+$A$11,0,1,1))","v":""},{"$f":"IF(A1005>$A$8,\"\",OFFSET(InputPriceData!G$15,CalculationsAndCharts!$A1005+$A$11,IF($C$5,8,0),1,1))","v":""},{"$f":"IF(A1005>$A$8,\"\",OFFSET(InputPriceData!C$15,CalculationsAndCharts!$A1005+$A$11,IF($C$5,8,0),1,1))","v":""},{"$f":"IF(A1005>$A$8,\"\",OFFSET(InputPriceData!D$15,CalculationsAndCharts!$A1005+$A$11,IF($C$5,8,0),1,1))","v":""},{"$f":"IF(A1005>$A$8,\"\",OFFSET(InputPriceData!E$15,CalculationsAndCharts!$A1005+$A$11,IF($C$5,8,0),1,1))","v":""},{"$f":"IF(A1005>$A$8,\"\",OFFSET(InputPriceData!F$15,CalculationsAndCharts!$A1005+$A$11,IF($C$5,8,0),1,1))","v":""},{"$error":"#N/A"},{"$error":"#N/A"},{"$f":"IF($A1005>$J$30,NA(),AVERAGE(H1005:H1008))","v":{"$error":"#N/A"}},{"$error":"#N/A"},null,null,{"$f":"IF($A1005>$J$30,NA(),IF($A1005>$N$30,0,(1-$M$35)*J1005+(2*$M$35-$M$36)*J1006-($M$35+$M$37)*J1007+$M$36*N1006+$M$37*N1007))","v":{"$error":"#N/A"}},{"$error":"#N/A"},{"$error":"#N/A"},{"$error":"#N/A"},null,null,{"$error":"#N/A"},{"$error":"#N/A"},{"$error":"#N/A"},{"$error":"#N/A"},null,null,null,null,null,null,null,null,null,null,null,null,null,null,null,null,null,null,null,null,null,null,null,null,null,null,null,null,null,null,null,{"$f":"IF(G1005>=G1006,C1005,NA())","v":""},{"$f":"IF(G1005<G1006,C1005,NA())","v":{"$error":"#N/A"}}]
[974,{"$f":"IF(A1006>$A$8,\"\",OFFSET(InputPriceData!B$15,$A1006+$A$11,0,1,1))","v":""},{"$f":"IF(A1006>$A$8,\"\",OFFSET(InputPriceData!G$15,CalculationsAndCharts!$A1006+$A$11,IF($C$5,8,0),1,1))","v":""},{"$f":"IF(A1006>$A$8,\"\",OFFSET(InputPriceData!C$15,CalculationsAndCharts!$A1006+$A$11,IF($C$5,8,0),1,1))","v":""},{"$f":"IF(A1006>$A$8,\"\",OFFSET(InputPriceData!D$15,CalculationsAndCharts!$A1006+$A$11,IF($C$5,8,0),1,1))","v":""},{"$f":"IF(A1006>$A$8,\"\",OFFSET(InputPriceData!E$15,CalculationsAndCharts!$A1006+$A$11,IF($C$5,8,0),1,1))","v":""},{"$f":"IF(A1006>$A$8,\"\",OFFSET(InputPriceData!F$15,CalculationsAndCharts!$A1006+$A$11,IF($C$5,8,0),1,1))","v":""},{"$error":"#N/A"},{"$error":"#N/A"},{"$f":"IF($A1006>$J$30,NA(),AVERAGE(H1006:H1009))","v":{"$error":"#N/A"}},{"$error":"#N/A"},null,null,{"$f":"IF($A1006>$J$30,NA(),IF($A1006>$N$30,0,(1-$M$35)*J1006+(2*$M$35-$M$36)*J1007-($M$35+$M$37)*J1008+$M$36*N1007+$M$37*N1008))","v":{"$error":"#N/A"}},{"$error":"#N/A"},{"$error":"#N/A"},{"$error":"#N/A"},null,null,{"$error":"#N/A"},{"$error":"#N/A"},{"$error":"#N/A"},{"$error":"#N/A"},null,null,null,null,null,null,null,null,null,null,null,null,null,null,null,null,null,null,null,null,null,null,null,null,null,null,null,null,null,null,null,"",{"$error":"#N/A"}]
[975,{"$f":"IF(A1007>$A$8,\"\",OFFSET(InputPriceData!B$15,$A1007+$A$11,0,1,1))","v":""},{"$f":"IF(A1007>$A$8,\"\",OFFSET(InputPriceData!G$15,CalculationsAndCharts!$A1007+$A$11,IF($C$5,8,0),1,1))","v":""},{"$f":"IF(A1007>$A$8,\"\",OFFSET(InputPriceData!C$15,CalculationsAndCharts!$A1007+$A$11,IF($C$5,8,0),1,1))","v":""},{"$f":"IF(A1007>$A$8,\"\",OFFSET(InputPriceData!D$15,CalculationsAndCharts!$A1007+$A$11,IF($C$5,8,0),1,1))","v":""},{"$f":"IF(A1007>$A$8,\"\",OFFSET(InputPriceData!E$15,CalculationsAndCharts!$A1007+$A$11,IF($C$5,8,0),1,1))","v":""},{"$f":"IF(A1007>$A$8,\"\",OFFSET(InputPriceData!F$15,CalculationsAndCharts!$A1007+$A$11,IF($C$5,8,0),1,1))","v":""},{"$error":"#N/A"},{"$error":"#N/A"},{"$f":"IF($A1007>$J$30,NA(),AVERAGE(H1007:H1010))","v":{"$error":"#N/A"}},{"$error":"#N/A"},null,null,{"$f":"IF($A1007>$J$30,NA(),IF($A1007>$N$30,0,(1-$M$35)*J1007+(2*$M$35-$M$36)*J1008-($M$35+$M$37)*J1009+$M$36*N1008+$M$37*N1009))","v":{"$error":"#N/A"}},{"$error":"#N/A"},{"$error":"#N/A"},{"$error":"#N/A"},null,null,{"$error":"#N/A"},{"$error":"#N/A"},{"$error":"#N/A"},{"$error":"#N/A"},null,null,null,null,null,null,null,null,null,null,null,null,null,null,null,null,null,null,null,null,null,null,null,null,null,null,null,null,null,null,null,"",{"$error":"#N/A"}]
[976,{"$f":"IF(A1008>$A$8,\"\",OFFSET(InputPriceData!B$15,$A1008+$A$11,0,1,1))","v":""},{"$f":"IF(A1008>$A$8,\"\",OFFSET(InputPriceData!G$15,CalculationsAndCharts!$A1008+$A$11,IF($C$5,8,0),1,1))","v":""},{"$f":"IF(A1008>$A$8,\"\",OFFSET(InputPriceData!C$15,CalculationsAndCharts!$A1008+$A$11,IF($C$5,8,0),1,1))","v":""},{"$f":"IF(A1008>$A$8,\"\",OFFSET(InputPriceData!D$15,CalculationsAndCharts!$A1008+$A$11,IF($C$5,8,0),1,1))","v":""},{"$f":"IF(A1008>$A$8,\"\",OFFSET(InputPriceData!E$15,CalculationsAndCharts!$A1008+$A$11,IF($C$5,8,0),1,1))","v":""},{"$f":"IF(A1008>$A$8,\"\",OFFSET(InputPriceData!F$15,CalculationsAndCharts!$A1008+$A$11,IF($C$5,8,0),1,1))","v":""},{"$error":"#N/A"},{"$error":"#N/A"},{"$f":"IF($A1008>$J$30,NA(),AVERAGE(H1008:H1011))","v":{"$error":"#N/A"}},{"$error":"#N/A"},null,null,{"$f":"IF($A1008>$J$30,NA(),IF($A1008>$N$30,0,(1-$M$35)*J1008+(2*$M$35-$M$36)*J1009-($M$35+$M$37)*J1010+$M$36*N1009+$M$37*N1010))","v":{"$error":"#N/A"}},{"$error":"#N/A"},{"$error":"#N/A"},{"$error":"#N/A"},null,null,{"$error":"#N/A"},{"$error":"#N/A"},{"$error":"#N/A"},{"$error":"#N/A"},null,null,null,null,null,null,null,null,null,null,null,null,null,null,null,null,null,null,null,null,null,null,null,null,null,null,null,null,null,null,null,"",{"$error":"#N/A"}]
[977,{"$f":"IF(A1009>$A$8,\"\",OFFSET(InputPriceData!B$15,$A1009+$A$11,0,1,1))","v":""},{"$f":"IF(A1009>$A$8,\"\",OFFSET(InputPriceData!G$15,CalculationsAndCharts!$A1009+$A$11,IF($C$5,8,0),1,1))","v":""},{"$f":"IF(A1009>$A$8,\"\",OFFSET(InputPriceData!C$15,CalculationsAndCharts!$A1009+$A$11,IF($C$5,8,0),1,1))","v":""},{"$f":"IF(A1009>$A$8,\"\",OFFSET(InputPriceData!D$15,CalculationsAndCharts!$A1009+$A$11,IF($C$5,8,0),1,1))","v":""},{"$f":"IF(A1009>$A$8,\"\",OFFSET(InputPriceData!E$15,CalculationsAndCharts!$A1009+$A$11,IF($C$5,8,0),1,1))","v":""},{"$f":"IF(A1009>$A$8,\"\",OFFSET(InputPriceData!F$15,CalculationsAndCharts!$A1009+$A$11,IF($C$5,8,0),1,1))","v":""},{"$error":"#N/A"},{"$error":"#N/A"},{"$f":"IF($A1009>$J$30,NA(),AVERAGE(H1009:H1012))","v":{"$error":"#N/A"}},{"$error":"#N/A"},null,null,{"$f":"IF($A1009>$J$30,NA(),IF($A1009>$N$30,0,(1-$M$35)*J1009+(2*$M$35-$M$36)*J1010-($M$35+$M$37)*J1011+$M$36*N1010+$M$37*N1011))","v":{"$error":"#N/A"}},{"$error":"#N/A"},{"$error":"#N/A"},{"$error":"#N/A"},null,null,{"$error":"#N/A"},{"$error":"#N/A"},{"$error":"#N/A"},{"$error":"#N/A"},null,null,null,null,null,null,null,null,null,null,null,null,null,null,null,null,null,null,null,null,null,null,null,null,null,null,null,null,null,null,null,"",{"$error":"#N/A"}]
[978,{"$f":"IF(A1010>$A$8,\"\",OFFSET(InputPriceData!B$15,$A1010+$A$11,0,1,1))","v":""},{"$f":"IF(A1010>$A$8,\"\",OFFSET(InputPriceData!G$15,CalculationsAndCharts!$A1010+$A$11,IF($C$5,8,0),1,1))","v":""},{"$f":"IF(A1010>$A$8,\"\",OFFSET(InputPriceData!C$15,CalculationsAndCharts!$A1010+$A$11,IF($C$5,8,0),1,1))","v":""},{"$f":"IF(A1010>$A$8,\"\",OFFSET(InputPriceData!D$15,CalculationsAndCharts!$A1010+$A$11,IF($C$5,8,0),1,1))","v":""},{"$f":"IF(A1010>$A$8,\"\",OFFSET(InputPriceData!E$15,CalculationsAndCharts!$A1010+$A$11,IF($C$5,8,0),1,1))","v":""},{"$f":"IF(A1010>$A$8,\"\",OFFSET(InputPriceData!F$15,CalculationsAndCharts!$A1010+$A$11,IF($C$5,8,0),1,1))","v":""},{"$error":"#N/A"},{"$error":"#N/A"},{"$f":"IF($A1010>$J$30,NA(),AVERAGE(H1010:H1013))","v":{"$error":"#N/A"}},{"$error":"#N/A"},null,null,{"$f":"IF($A1010>$J$30,NA(),IF($A1010>$N$30,0,(1-$M$35)*J1010+(2*$M$35-$M$36)*J1011-($M$35+$M$37)*J1012+$M$36*N1011+$M$37*N1012))","v":{"$error":"#N/A"}},{"$error":"#N/A"},{"$error":"#N/A"},{"$error":"#N/A"},null,null,{"$error":"#N/A"},{"$error":"#N/A"},{"$error":"#N/A"},{"$error":"#N/A"},null,null,null,null,null,null,null,null,null,null,null,null,null,null,null,null,null,null,null,null,null,null,null,null,null,null,null,null,null,null,null,"",{"$error":"#N/A"}]
[979,{"$f":"IF(A1011>$A$8,\"\",OFFSET(InputPriceData!B$15,$A1011+$A$11,0,1,1))","v":""},{"$f":"IF(A1011>$A$8,\"\",OFFSET(InputPriceData!G$15,CalculationsAndCharts!$A1011+$A$11,IF($C$5,8,0),1,1))","v":""},{"$f":"IF(A1011>$A$8,\"\",OFFSET(InputPriceData!C$15,CalculationsAndCharts!$A1011+$A$11,IF($C$5,8,0),1,1))","v":""},{"$f":"IF(A1011>$A$8,\"\",OFFSET(InputPriceData!D$15,CalculationsAndCharts!$A1011+$A$11,IF($C$5,8,0),1,1))","v":""},{"$f":"IF(A1011>$A$8,\"\",OFFSET(InputPriceData!E$15,CalculationsAndCharts!$A1011+$A$11,IF($C$5,8,0),1,1))","v":""},{"$f":"IF(A1011>$A$8,\"\",OFFSET(InputPriceData!F$15,CalculationsAndCharts!$A1011+$A$11,IF($C$5,8,0),1,1))","v":""},{"$error":"#N/A"},{"$error":"#N/A"},{"$f":"IF($A1011>$J$30,NA(),AVERAGE(H1011:H1014))","v":{"$error":"#N/A"}},{"$error":"#N/A"},null,null,{"$f":"IF($A1011>$J$30,NA(),IF($A1011>$N$30,0,(1-$M$35)*J1011+(2*$M$35-$M$36)*J1012-($M$35+$M$37)*J1013+$M$36*N1012+$M$37*N1013))","v":{"$error":"#N/A"}},{"$error":"#N/A"},{"$error":"#N/A"},{"$error":"#N/A"},null,null,{"$error":"#N/A"},{"$error":"#N/A"},{"$error":"#N/A"},{"$error":"#N/A"},null,null,null,null,null,null,null,null,null,null,null,null,null,null,null,null,null,null,null,null,null,null,null,null,null,null,null,null,null,null,null,"",{"$error":"#N/A"}]
[980,{"$f":"IF(A1012>$A$8,\"\",OFFSET(InputPriceData!B$15,$A1012+$A$11,0,1,1))","v":""},{"$f":"IF(A1012>$A$8,\"\",OFFSET(InputPriceData!G$15,CalculationsAndCharts!$A1012+$A$11,IF($C$5,8,0),1,1))","v":""},{"$f":"IF(A1012>$A$8,\"\",OFFSET(InputPriceData!C$15,CalculationsAndCharts!$A1012+$A$11,IF($C$5,8,0),1,1))","v":""},{"$f":"IF(A1012>$A$8,\"\",OFFSET(InputPriceData!D$15,CalculationsAndCharts!$A1012+$A$11,IF($C$5,8,0),1,1))","v":""},{"$f":"IF(A1012>$A$8,\"\",OFFSET(InputPriceData!E$15,CalculationsAndCharts!$A1012+$A$11,IF($C$5,8,0),1,1))","v":""},{"$f":"IF(A1012>$A$8,\"\",OFFSET(InputPriceData!F$15,CalculationsAndCharts!$A1012+$A$11,IF($C$5,8,0),1,1))","v":""},{"$error":"#N/A"},{"$error":"#N/A"},{"$f":"IF($A1012>$J$30,NA(),AVERAGE(H1012:H1015))","v":{"$error":"#N/A"}},{"$error":"#N/A"},null,null,{"$f":"IF($A1012>$J$30,NA(),IF($A1012>$N$30,0,(1-$M$35)*J1012+(2*$M$35-$M$36)*J1013-($M$35+$M$37)*J1014+$M$36*N1013+$M$37*N1014))","v":{"$error":"#N/A"}},{"$error":"#N/A"},{"$error":"#N/A"},{"$error":"#N/A"},null,null,{"$error":"#N/A"},{"$error":"#N/A"},{"$error":"#N/A"},{"$error":"#N/A"},null,null,null,null,null,null,null,null,null,null,null,null,null,null,null,null,null,null,null,null,null,null,null,null,null,null,null,null,null,null,null,"",{"$error":"#N/A"}]
[981,{"$f":"IF(A1013>$A$8,\"\",OFFSET(InputPriceData!B$15,$A1013+$A$11,0,1,1))","v":""},{"$f":"IF(A1013>$A$8,\"\",OFFSET(InputPriceData!G$15,CalculationsAndCharts!$A1013+$A$11,IF($C$5,8,0),1,1))","v":""},{"$f":"IF(A1013>$A$8,\"\",OFFSET(InputPriceData!C$15,CalculationsAndCharts!$A1013+$A$11,IF($C$5,8,0),1,1))","v":""},{"$f":"IF(A1013>$A$8,\"\",OFFSET(InputPriceData!D$15,CalculationsAndCharts!$A1013+$A$11,IF($C$5,8,0),1,1))","v":""},{"$f":"IF(A1013>$A$8,\"\",OFFSET(InputPriceData!E$15,CalculationsAndCharts!$A1013+$A$11,IF($C$5,8,0),1,1))","v":""},{"$f":"IF(A1013>$A$8,\"\",OFFSET(InputPriceData!F$15,CalculationsAndCharts!$A1013+$A$11,IF($C$5,8,0),1,1))","v":""},{"$error":"#N/A"},{"$error":"#N/A"},{"$f":"IF($A1013>$J$30,NA(),AVERAGE(H1013:H1016))","v":{"$error":"#N/A"}},{"$error":"#N/A"},null,null,{"$f":"IF($A1013>$J$30,NA(),IF($A1013>$N$30,0,(1-$M$35)*J1013+(2*$M$35-$M$36)*J1014-($M$35+$M$37)*J1015+$M$36*N1014+$M$37*N1015))","v":{"$error":"#N/A"}},{"$error":"#N/A"},{"$error":"#N/A"},{"$error":"#N/A"},null,null,{"$error":"#N/A"},{"$error":"#N/A"},{"$error":"#N/A"},{"$error":"#N/A"},null,null,null,null,null,null,null,null,null,null,null,null,null,null,null,null,null,null,null,null,null,null,null,null,null,null,null,null,null,null,null,"",{"$error":"#N/A"}]
[982,{"$f":"IF(A1014>$A$8,\"\",OFFSET(InputPriceData!B$15,$A1014+$A$11,0,1,1))","v":""},{"$f":"IF(A1014>$A$8,\"\",OFFSET(InputPriceData!G$15,CalculationsAndCharts!$A1014+$A$11,IF($C$5,8,0),1,1))","v":""},{"$f":"IF(A1014>$A$8,\"\",OFFSET(InputPriceData!C$15,CalculationsAndCharts!$A1014+$A$11,IF($C$5,8,0),1,1))","v":""},{"$f":"IF(A1014>$A$8,\"\",OFFSET(InputPriceData!D$15,CalculationsAndCharts!$A1014+$A$11,IF($C$5,8,0),1,1))","v":""},{"$f":"IF(A1014>$A$8,\"\",OFFSET(InputPriceData!E$15,CalculationsAndCharts!$A1014+$A$11,IF($C$5,8,0),1,1))","v":""},{"$f":"IF(A1014>$A$8,\"\",OFFSET(InputPriceData!F$15,CalculationsAndCharts!$A1014+$A$11,IF($C$5,8,0),1,1))","v":""},{"$error":"#N/A"},{"$error":"#N/A"},{"$f":"IF($A1014>$J$30,NA(),AVERAGE(H1014:H1017))","v":{"$error":"#N/A"}},{"$error":"#N/A"},null,null,{"$f":"IF($A1014>$J$30,NA(),IF($A1014>$N$30,0,(1-$M$35)*J1014+(2*$M$35-$M$36)*J1015-($M$35+$M$37)*J1016+$M$36*N1015+$M$37*N1016))","v":{"$error":"#N/A"}},{"$error":"#N/A"},{"$error":"#N/A"},{"$error":"#N/A"},null,null,{"$error":"#N/A"},{"$error":"#N/A"},{"$error":"#N/A"},{"$error":"#N/A"},null,null,null,null,null,null,null,null,null,null,null,null,null,null,null,null,null,null,null,null,null,null,null,null,null,null,null,null,null,null,null,"",{"$error":"#N/A"}]
[983,{"$f":"IF(A1015>$A$8,\"\",OFFSET(InputPriceData!B$15,$A1015+$A$11,0,1,1))","v":""},{"$f":"IF(A1015>$A$8,\"\",OFFSET(InputPriceData!G$15,CalculationsAndCharts!$A1015+$A$11,IF($C$5,8,0),1,1))","v":""},{"$f":"IF(A1015>$A$8,\"\",OFFSET(InputPriceData!C$15,CalculationsAndCharts!$A1015+$A$11,IF($C$5,8,0),1,1))","v":""},{"$f":"IF(A1015>$A$8,\"\",OFFSET(InputPriceData!D$15,CalculationsAndCharts!$A1015+$A$11,IF($C$5,8,0),1,1))","v":""},{"$f":"IF(A1015>$A$8,\"\",OFFSET(InputPriceData!E$15,CalculationsAndCharts!$A1015+$A$11,IF($C$5,8,0),1,1))","v":""},{"$f":"IF(A1015>$A$8,\"\",OFFSET(InputPriceData!F$15,CalculationsAndCharts!$A1015+$A$11,IF($C$5,8,0),1,1))","v":""},{"$error":"#N/A"},{"$error":"#N/A"},{"$f":"IF($A1015>$J$30,NA(),AVERAGE(H1015:H1018))","v":{"$error":"#N/A"}},{"$error":"#N/A"},null,null,{"$f":"IF($A1015>$J$30,NA(),IF($A1015>$N$30,0,(1-$M$35)*J1015+(2*$M$35-$M$36)*J1016-($M$35+$M$37)*J1017+$M$36*N1016+$M$37*N1017))","v":{"$error":"#N/A"}},{"$error":"#N/A"},{"$error":"#N/A"},{"$error":"#N/A"},null,null,{"$error":"#N/A"},{"$error":"#N/A"},{"$error":"#N/A"},{"$error":"#N/A"},null,null,null,null,null,null,null,null,null,null,null,null,null,null,null,null,null,null,null,null,null,null,null,null,null,null,null,null,null,null,null,"",{"$error":"#N/A"}]
[984,{"$f":"IF(A1016>$A$8,\"\",OFFSET(InputPriceData!B$15,$A1016+$A$11,0,1,1))","v":""},{"$f":"IF(A1016>$A$8,\"\",OFFSET(InputPriceData!G$15,CalculationsAndCharts!$A1016+$A$11,IF($C$5,8,0),1,1))","v":""},{"$f":"IF(A1016>$A$8,\"\",OFFSET(InputPriceData!C$15,CalculationsAndCharts!$A1016+$A$11,IF($C$5,8,0),1,1))","v":""},{"$f":"IF(A1016>$A$8,\"\",OFFSET(InputPriceData!D$15,CalculationsAndCharts!$A1016+$A$11,IF($C$5,8,0),1,1))","v":""},{"$f":"IF(A1016>$A$8,\"\",OFFSET(InputPriceData!E$15,CalculationsAndCharts!$A1016+$A$11,IF($C$5,8,0),1,1))","v":""},{"$f":"IF(A1016>$A$8,\"\",OFFSET(InputPriceData!F$15,CalculationsAndCharts!$A1016+$A$11,IF($C$5,8,0),1,1))","v":""},{"$error":"#N/A"},{"$error":"#N/A"},{"$f":"IF($A1016>$J$30,NA(),AVERAGE(H1016:H1019))","v":{"$error":"#N/A"}},{"$error":"#N/A"},null,null,{"$f":"IF($A1016>$J$30,NA(),IF($A1016>$N$30,0,(1-$M$35)*J1016+(2*$M$35-$M$36)*J1017-($M$35+$M$37)*J1018+$M$36*N1017+$M$37*N1018))","v":{"$error":"#N/A"}},{"$error":"#N/A"},{"$error":"#N/A"},{"$error":"#N/A"},null,null,{"$error":"#N/A"},{"$error":"#N/A"},{"$error":"#N/A"},{"$error":"#N/A"},null,null,null,null,null,null,null,null,null,null,null,null,null,null,null,null,null,null,null,null,null,null,null,null,null,null,null,null,null,null,null,"",{"$error":"#N/A"}]
[985,{"$f":"IF(A1017>$A$8,\"\",OFFSET(InputPriceData!B$15,$A1017+$A$11,0,1,1))","v":""},{"$f":"IF(A1017>$A$8,\"\",OFFSET(InputPriceData!G$15,CalculationsAndCharts!$A1017+$A$11,IF($C$5,8,0),1,1))","v":""},{"$f":"IF(A1017>$A$8,\"\",OFFSET(InputPriceData!C$15,CalculationsAndCharts!$A1017+$A$11,IF($C$5,8,0),1,1))","v":""},{"$f":"IF(A1017>$A$8,\"\",OFFSET(InputPriceData!D$15,CalculationsAndCharts!$A1017+$A$11,IF($C$5,8,0),1,1))","v":""},{"$f":"IF(A1017>$A$8,\"\",OFFSET(InputPriceData!E$15,CalculationsAndCharts!$A1017+$A$11,IF($C$5,8,0),1,1))","v":""},{"$f":"IF(A1017>$A$8,\"\",OFFSET(InputPriceData!F$15,CalculationsAndCharts!$A1017+$A$11,IF($C$5,8,0),1,1))","v":""},{"$error":"#N/A"},{"$error":"#N/A"},{"$f":"IF($A1017>$J$30,NA(),AVERAGE(H1017:H1020))","v":{"$error":"#N/A"}},{"$error":"#N/A"},null,null,{"$f":"IF($A1017>$J$30,NA(),IF($A1017>$N$30,0,(1-$M$35)*J1017+(2*$M$35-$M$36)*J1018-($M$35+$M$37)*J1019+$M$36*N1018+$M$37*N1019))","v":{"$error":"#N/A"}},{"$error":"#N/A"},{"$error":"#N/A"},{"$error":"#N/A"},null,null,{"$error":"#N/A"},{"$error":"#N/A"},{"$error":"#N/A"},{"$error":"#N/A"},null,null,null,null,null,null,null,null,null,null,null,null,null,null,null,null,null,null,null,null,null,null,null,null,null,null,null,null,null,null,null,"",{"$error":"#N/A"}]
[986,{"$f":"IF(A1018>$A$8,\"\",OFFSET(InputPriceData!B$15,$A1018+$A$11,0,1,1))","v":""},{"$f":"IF(A1018>$A$8,\"\",OFFSET(InputPriceData!G$15,CalculationsAndCharts!$A1018+$A$11,IF($C$5,8,0),1,1))","v":""},{"$f":"IF(A1018>$A$8,\"\",OFFSET(InputPriceData!C$15,CalculationsAndCharts!$A1018+$A$11,IF($C$5,8,0),1,1))","v":""},{"$f":"IF(A1018>$A$8,\"\",OFFSET(InputPriceData!D$15,CalculationsAndCharts!$A1018+$A$11,IF($C$5,8,0),1,1))","v":""},{"$f":"IF(A1018>$A$8,\"\",OFFSET(InputPriceData!E$15,CalculationsAndCharts!$A1018+$A$11,IF($C$5,8,0),1,1))","v":""},{"$f":"IF(A1018>$A$8,\"\",OFFSET(InputPriceData!F$15,CalculationsAndCharts!$A1018+$A$11,IF($C$5,8,0),1,1))","v":""},{"$error":"#N/A"},{"$error":"#N/A"},{"$f":"IF($A1018>$J$30,NA(),AVERAGE(H1018:H1021))","v":{"$error":"#N/A"}},{"$error":"#N/A"},null,null,{"$f":"IF($A1018>$J$30,NA(),IF($A1018>$N$30,0,(1-$M$35)*J1018+(2*$M$35-$M$36)*J1019-($M$35+$M$37)*J1020+$M$36*N1019+$M$37*N1020))","v":{"$error":"#N/A"}},{"$error":"#N/A"},{"$error":"#N/A"},{"$error":"#N/A"},null,null,{"$error":"#N/A"},{"$error":"#N/A"},{"$error":"#N/A"},{"$error":"#N/A"},null,null,null,null,null,null,null,null,null,null,null,null,null,null,null,null,null,null,null,null,null,null,null,null,null,null,null,null,null,null,null,"",{"$error":"#N/A"}]
[987,{"$f":"IF(A1019>$A$8,\"\",OFFSET(InputPriceData!B$15,$A1019+$A$11,0,1,1))","v":""},{"$f":"IF(A1019>$A$8,\"\",OFFSET(InputPriceData!G$15,CalculationsAndCharts!$A1019+$A$11,IF($C$5,8,0),1,1))","v":""},{"$f":"IF(A1019>$A$8,\"\",OFFSET(InputPriceData!C$15,CalculationsAndCharts!$A1019+$A$11,IF($C$5,8,0),1,1))","v":""},{"$f":"IF(A1019>$A$8,\"\",OFFSET(InputPriceData!D$15,CalculationsAndCharts!$A1019+$A$11,IF($C$5,8,0),1,1))","v":""},{"$f":"IF(A1019>$A$8,\"\",OFFSET(InputPriceData!E$15,CalculationsAndCharts!$A1019+$A$11,IF($C$5,8,0),1,1))","v":""},{"$f":"IF(A1019>$A$8,\"\",OFFSET(InputPriceData!F$15,CalculationsAndCharts!$A1019+$A$11,IF($C$5,8,0),1,1))","v":""},{"$error":"#N/A"},{"$error":"#N/A"},{"$f":"IF($A1019>$J$30,NA(),AVERAGE(H1019:H1022))","v":{"$error":"#N/A"}},{"$error":"#N/A"},null,null,{"$f":"IF($A1019>$J$30,NA(),IF($A1019>$N$30,0,(1-$M$35)*J1019+(2*$M$35-$M$36)*J1020-($M$35+$M$37)*J1021+$M$36*N1020+$M$37*N1021))","v":{"$error":"#N/A"}},{"$error":"#N/A"},{"$error":"#N/A"},{"$error":"#N/A"},null,null,{"$error":"#N/A"},{"$error":"#N/A"},{"$error":"#N/A"},{"$error":"#N/A"},null,null,null,null,null,null,null,null,null,null,null,null,null,null,null,null,null,null,null,null,null,null,null,null,null,null,null,null,null,null,null,"",{"$error":"#N/A"}]
[988,{"$f":"IF(A1020>$A$8,\"\",OFFSET(InputPriceData!B$15,$A1020+$A$11,0,1,1))","v":""},{"$f":"IF(A1020>$A$8,\"\",OFFSET(InputPriceData!G$15,CalculationsAndCharts!$A1020+$A$11,IF($C$5,8,0),1,1))","v":""},{"$f":"IF(A1020>$A$8,\"\",OFFSET(InputPriceData!C$15,CalculationsAndCharts!$A1020+$A$11,IF($C$5,8,0),1,1))","v":""},{"$f":"IF(A1020>$A$8,\"\",OFFSET(InputPriceData!D$15,CalculationsAndCharts!$A1020+$A$11,IF($C$5,8,0),1,1))","v":""},{"$f":"IF(A1020>$A$8,\"\",OFFSET(InputPriceData!E$15,CalculationsAndCharts!$A1020+$A$11,IF($C$5,8,0),1,1))","v":""},{"$f":"IF(A1020>$A$8,\"\",OFFSET(InputPriceData!F$15,CalculationsAndCharts!$A1020+$A$11,IF($C$5,8,0),1,1))","v":""},{"$error":"#N/A"},{"$error":"#N/A"},{"$f":"IF($A1020>$J$30,NA(),AVERAGE(H1020:H1023))","v":{"$error":"#N/A"}},{"$error":"#N/A"},null,null,{"$f":"IF($A1020>$J$30,NA(),IF($A1020>$N$30,0,(1-$M$35)*J1020+(2*$M$35-$M$36)*J1021-($M$35+$M$37)*J1022+$M$36*N1021+$M$37*N1022))","v":{"$error":"#N/A"}},{"$error":"#N/A"},{"$error":"#N/A"},{"$error":"#N/A"},null,null,{"$error":"#N/A"},{"$error":"#N/A"},{"$error":"#N/A"},{"$error":"#N/A"},null,null,null,null,null,null,null,null,null,null,null,null,null,null,null,null,null,null,null,null,null,null,null,null,null,null,null,null,null,null,null,"",{"$error":"#N/A"}]
[989,{"$f":"IF(A1021>$A$8,\"\",OFFSET(InputPriceData!B$15,$A1021+$A$11,0,1,1))","v":""},{"$f":"IF(A1021>$A$8,\"\",OFFSET(InputPriceData!G$15,CalculationsAndCharts!$A1021+$A$11,IF($C$5,8,0),1,1))","v":""},{"$f":"IF(A1021>$A$8,\"\",OFFSET(InputPriceData!C$15,CalculationsAndCharts!$A1021+$A$11,IF($C$5,8,0),1,1))","v":""},{"$f":"IF(A1021>$A$8,\"\",OFFSET(InputPriceData!D$15,CalculationsAndCharts!$A1021+$A$11,IF($C$5,8,0),1,1))","v":""},{"$f":"IF(A1021>$A$8,\"\",OFFSET(InputPriceData!E$15,CalculationsAndCharts!$A1021+$A$11,IF($C$5,8,0),1,1))","v":""},{"$f":"IF(A1021>$A$8,\"\",OFFSET(InputPriceData!F$15,CalculationsAndCharts!$A1021+$A$11,IF($C$5,8,0),1,1))","v":""},{"$error":"#N/A"},{"$error":"#N/A"},{"$f":"IF($A1021>$J$30,NA(),AVERAGE(H1021:H1024))","v":{"$error":"#N/A"}},{"$error":"#N/A"},null,null,{"$f":"IF($A1021>$J$30,NA(),IF($A1021>$N$30,0,(1-$M$35)*J1021+(2*$M$35-$M$36)*J1022-($M$35+$M$37)*J1023+$M$36*N1022+$M$37*N1023))","v":{"$error":"#N/A"}},{"$error":"#N/A"},{"$error":"#N/A"},{"$error":"#N/A"},null,null,{"$error":"#N/A"},{"$error":"#N/A"},{"$error":"#N/A"},{"$error":"#N/A"},null,null,null,null,null,null,null,null,null,null,null,null,null,null,null,null,null,null,null,null,null,null,null,null,null,null,null,null,null,null,null,"",{"$error":"#N/A"}]
[990,{"$f":"IF(A1022>$A$8,\"\",OFFSET(InputPriceData!B$15,$A1022+$A$11,0,1,1))","v":""},{"$f":"IF(A1022>$A$8,\"\",OFFSET(InputPriceData!G$15,CalculationsAndCharts!$A1022+$A$11,IF($C$5,8,0),1,1))","v":""},{"$f":"IF(A1022>$A$8,\"\",OFFSET(InputPriceData!C$15,CalculationsAndCharts!$A1022+$A$11,IF($C$5,8,0),1,1))","v":""},{"$f":"IF(A1022>$A$8,\"\",OFFSET(InputPriceData!D$15,CalculationsAndCharts!$A1022+$A$11,IF($C$5,8,0),1,1))","v":""},{"$f":"IF(A1022>$A$8,\"\",OFFSET(InputPriceData!E$15,CalculationsAndCharts!$A1022+$A$11,IF($C$5,8,0),1,1))","v":""},{"$f":"IF(A1022>$A$8,\"\",OFFSET(InputPriceData!F$15,CalculationsAndCharts!$A1022+$A$11,IF($C$5,8,0),1,1))","v":""},{"$error":"#N/A"},{"$error":"#N/A"},{"$f":"IF($A1022>$J$30,NA(),AVERAGE(H1022:H1025))","v":{"$error":"#N/A"}},{"$error":"#N/A"},null,null,{"$f":"IF($A1022>$J$30,NA(),IF($A1022>$N$30,0,(1-$M$35)*J1022+(2*$M$35-$M$36)*J1023-($M$35+$M$37)*J1024+$M$36*N1023+$M$37*N1024))","v":{"$error":"#N/A"}},{"$error":"#N/A"},{"$error":"#N/A"},{"$error":"#N/A"},null,null,{"$error":"#N/A"},{"$error":"#N/A"},{"$error":"#N/A"},{"$error":"#N/A"},null,null,null,null,null,null,null,null,null,null,null,null,null,null,null,null,null,null,null,null,null,null,null,null,null,null,null,null,null,null,null,"",{"$error":"#N/A"}]
[991,{"$f":"IF(A1023>$A$8,\"\",OFFSET(InputPriceData!B$15,$A1023+$A$11,0,1,1))","v":""},{"$f":"IF(A1023>$A$8,\"\",OFFSET(InputPriceData!G$15,CalculationsAndCharts!$A1023+$A$11,IF($C$5,8,0),1,1))","v":""},{"$f":"IF(A1023>$A$8,\"\",OFFSET(InputPriceData!C$15,CalculationsAndCharts!$A1023+$A$11,IF($C$5,8,0),1,1))","v":""},{"$f":"IF(A1023>$A$8,\"\",OFFSET(InputPriceData!D$15,CalculationsAndCharts!$A1023+$A$11,IF($C$5,8,0),1,1))","v":""},{"$f":"IF(A1023>$A$8,\"\",OFFSET(InputPriceData!E$15,CalculationsAndCharts!$A1023+$A$11,IF($C$5,8,0),1,1))","v":""},{"$f":"IF(A1023>$A$8,\"\",OFFSET(InputPriceData!F$15,CalculationsAndCharts!$A1023+$A$11,IF($C$5,8,0),1,1))","v":""},{"$error":"#N/A"},{"$error":"#N/A"},{"$f":"IF($A1023>$J$30,NA(),AVERAGE(H1023:H1026))","v":{"$error":"#N/A"}},{"$error":"#N/A"},null,null,{"$f":"IF($A1023>$J$30,NA(),IF($A1023>$N$30,0,(1-$M$35)*J1023+(2*$M$35-$M$36)*J1024-($M$35+$M$37)*J1025+$M$36*N1024+$M$37*N1025))","v":{"$error":"#N/A"}},{"$error":"#N/A"},{"$error":"#N/A"},{"$error":"#N/A"},null,null,{"$error":"#N/A"},{"$error":"#N/A"},{"$error":"#N/A"},{"$error":"#N/A"},null,null,null,null,null,null,null,null,null,null,null,null,null,null,null,null,null,null,null,null,null,null,null,null,null,null,null,null,null,null,null,"",{"$error":"#N/A"}]
[992,{"$f":"IF(A1024>$A$8,\"\",OFFSET(InputPriceData!B$15,$A1024+$A$11,0,1,1))","v":""},{"$f":"IF(A1024>$A$8,\"\",OFFSET(InputPriceData!G$15,CalculationsAndCharts!$A1024+$A$11,IF($C$5,8,0),1,1))","v":""},{"$f":"IF(A1024>$A$8,\"\",OFFSET(InputPriceData!C$15,CalculationsAndCharts!$A1024+$A$11,IF($C$5,8,0),1,1))","v":""},{"$f":"IF(A1024>$A$8,\"\",OFFSET(InputPriceData!D$15,CalculationsAndCharts!$A1024+$A$11,IF($C$5,8,0),1,1))","v":""},{"$f":"IF(A1024>$A$8,\"\",OFFSET(InputPriceData!E$15,CalculationsAndCharts!$A1024+$A$11,IF($C$5,8,0),1,1))","v":""},{"$f":"IF(A1024>$A$8,\"\",OFFSET(InputPriceData!F$15,CalculationsAndCharts!$A1024+$A$11,IF($C$5,8,0),1,1))","v":""},{"$error":"#N/A"},{"$error":"#N/A"},{"$f":"IF($A1024>$J$30,NA(),AVERAGE(H1024:H1027))","v":{"$error":"#N/A"}},{"$error":"#N/A"},null,null,{"$f":"IF($A1024>$J$30,NA(),IF($A1024>$N$30,0,(1-$M$35)*J1024+(2*$M$35-$M$36)*J1025-($M$35+$M$37)*J1026+$M$36*N1025+$M$37*N1026))","v":{"$error":"#N/A"}},{"$error":"#N/A"},{"$error":"#N/A"},{"$error":"#N/A"},null,null,{"$error":"#N/A"},{"$error":"#N/A"},{"$error":"#N/A"},{"$error":"#N/A"},null,null,null,null,null,null,null,null,null,null,null,null,null,null,null,null,null,null,null,null,null,null,null,null,null,null,null,null,null,null,null,"",{"$error":"#N/A"}]
[993,{"$f":"IF(A1025>$A$8,\"\",OFFSET(InputPriceData!B$15,$A1025+$A$11,0,1,1))","v":""},{"$f":"IF(A1025>$A$8,\"\",OFFSET(InputPriceData!G$15,CalculationsAndCharts!$A1025+$A$11,IF($C$5,8,0),1,1))","v":""},{"$f":"IF(A1025>$A$8,\"\",OFFSET(InputPriceData!C$15,CalculationsAndCharts!$A1025+$A$11,IF($C$5,8,0),1,1))","v":""},{"$f":"IF(A1025>$A$8,\"\",OFFSET(InputPriceData!D$15,CalculationsAndCharts!$A1025+$A$11,IF($C$5,8,0),1,1))","v":""},{"$f":"IF(A1025>$A$8,\"\",OFFSET(InputPriceData!E$15,CalculationsAndCharts!$A1025+$A$11,IF($C$5,8,0),1,1))","v":""},{"$f":"IF(A1025>$A$8,\"\",OFFSET(InputPriceData!F$15,CalculationsAndCharts!$A1025+$A$11,IF($C$5,8,0),1,1))","v":""},{"$error":"#N/A"},{"$error":"#N/A"},{"$f":"IF($A1025>$J$30,NA(),AVERAGE(H1025:H1028))","v":{"$error":"#N/A"}},{"$error":"#N/A"},null,null,{"$f":"IF($A1025>$J$30,NA(),IF($A1025>$N$30,0,(1-$M$35)*J1025+(2*$M$35-$M$36)*J1026-($M$35+$M$37)*J1027+$M$36*N1026+$M$37*N1027))","v":{"$error":"#N/A"}},{"$error":"#N/A"},{"$error":"#N/A"},{"$error":"#N/A"},null,null,{"$error":"#N/A"},{"$error":"#N/A"},{"$error":"#N/A"},{"$error":"#N/A"},null,null,null,null,null,null,null,null,null,null,null,null,null,null,null,null,null,null,null,null,null,null,null,null,null,null,null,null,null,null,null,"",{"$error":"#N/A"}]
[994,{"$f":"IF(A1026>$A$8,\"\",OFFSET(InputPriceData!B$15,$A1026+$A$11,0,1,1))","v":""},{"$f":"IF(A1026>$A$8,\"\",OFFSET(InputPriceData!G$15,CalculationsAndCharts!$A1026+$A$11,IF($C$5,8,0),1,1))","v":""},{"$f":"IF(A1026>$A$8,\"\",OFFSET(InputPriceData!C$15,CalculationsAndCharts!$A1026+$A$11,IF($C$5,8,0),1,1))","v":""},{"$f":"IF(A1026>$A$8,\"\",OFFSET(InputPriceData!D$15,CalculationsAndCharts!$A1026+$A$11,IF($C$5,8,0),1,1))","v":""},{"$f":"IF(A1026>$A$8,\"\",OFFSET(InputPriceData!E$15,CalculationsAndCharts!$A1026+$A$11,IF($C$5,8,0),1,1))","v":""},{"$f":"IF(A1026>$A$8,\"\",OFFSET(InputPriceData!F$15,CalculationsAndCharts!$A1026+$A$11,IF($C$5,8,0),1,1))","v":""},{"$error":"#N/A"},{"$error":"#N/A"},{"$f":"IF($A1026>$J$30,NA(),AVERAGE(H1026:H1029))","v":{"$error":"#N/A"}},{"$error":"#N/A"},null,null,{"$f":"IF($A1026>$J$30,NA(),IF($A1026>$N$30,0,(1-$M$35)*J1026+(2*$M$35-$M$36)*J1027-($M$35+$M$37)*J1028+$M$36*N1027+$M$37*N1028))","v":{"$error":"#N/A"}},{"$error":"#N/A"},{"$error":"#N/A"},{"$error":"#N/A"},null,null,{"$error":"#N/A"},{"$error":"#N/A"},{"$error":"#N/A"},{"$error":"#N/A"},null,null,null,null,null,null,null,null,null,null,null,null,null,null,null,null,null,null,null,null,null,null,null,null,null,null,null,null,null,null,null,"",{"$error":"#N/A"}]
[995,{"$f":"IF(A1027>$A$8,\"\",OFFSET(InputPriceData!B$15,$A1027+$A$11,0,1,1))","v":""},{"$f":"IF(A1027>$A$8,\"\",OFFSET(InputPriceData!G$15,CalculationsAndCharts!$A1027+$A$11,IF($C$5,8,0),1,1))","v":""},{"$f":"IF(A1027>$A$8,\"\",OFFSET(InputPriceData!C$15,CalculationsAndCharts!$A1027+$A$11,IF($C$5,8,0),1,1))","v":""},{"$f":"IF(A1027>$A$8,\"\",OFFSET(InputPriceData!D$15,CalculationsAndCharts!$A1027+$A$11,IF($C$5,8,0),1,1))","v":""},{"$f":"IF(A1027>$A$8,\"\",OFFSET(InputPriceData!E$15,CalculationsAndCharts!$A1027+$A$11,IF($C$5,8,0),1,1))","v":""},{"$f":"IF(A1027>$A$8,\"\",OFFSET(InputPriceData!F$15,CalculationsAndCharts!$A1027+$A$11,IF($C$5,8,0),1,1))","v":""},{"$error":"#N/A"},{"$error":"#N/A"},{"$f":"IF($A1027>$J$30,NA(),AVERAGE(H1027:H1030))","v":{"$error":"#N/A"}},{"$error":"#N/A"},null,null,{"$f":"IF($A1027>$J$30,NA(),IF($A1027>$N$30,0,(1-$M$35)*J1027+(2*$M$35-$M$36)*J1028-($M$35+$M$37)*J1029+$M$36*N1028+$M$37*N1029))","v":{"$error":"#N/A"}},{"$error":"#N/A"},{"$error":"#N/A"},{"$error":"#N/A"},null,null,{"$error":"#N/A"},{"$error":"#N/A"},{"$error":"#N/A"},{"$error":"#N/A"},null,null,null,null,null,null,null,null,null,null,null,null,null,null,null,null,null,null,null,null,null,null,null,null,null,null,null,null,null,null,null,"",{"$error":"#N/A"}]
[996,{"$f":"IF(A1028>$A$8,\"\",OFFSET(InputPriceData!B$15,$A1028+$A$11,0,1,1))","v":""},{"$f":"IF(A1028>$A$8,\"\",OFFSET(InputPriceData!G$15,CalculationsAndCharts!$A1028+$A$11,IF($C$5,8,0),1,1))","v":""},{"$f":"IF(A1028>$A$8,\"\",OFFSET(InputPriceData!C$15,CalculationsAndCharts!$A1028+$A$11,IF($C$5,8,0),1,1))","v":""},{"$f":"IF(A1028>$A$8,\"\",OFFSET(InputPriceData!D$15,CalculationsAndCharts!$A1028+$A$11,IF($C$5,8,0),1,1))","v":""},{"$f":"IF(A1028>$A$8,\"\",OFFSET(InputPriceData!E$15,CalculationsAndCharts!$A1028+$A$11,IF($C$5,8,0),1,1))","v":""},{"$f":"IF(A1028>$A$8,\"\",OFFSET(InputPriceData!F$15,CalculationsAndCharts!$A1028+$A$11,IF($C$5,8,0),1,1))","v":""},{"$error":"#N/A"},{"$error":"#N/A"},{"$f":"IF($A1028>$J$30,NA(),AVERAGE(H1028:H1031))","v":{"$error":"#N/A"}},{"$error":"#N/A"},null,null,{"$f":"IF($A1028>$J$30,NA(),IF($A1028>$N$30,0,(1-$M$35)*J1028+(2*$M$35-$M$36)*J1029-($M$35+$M$37)*J1030+$M$36*N1029+$M$37*N1030))","v":{"$error":"#N/A"}},{"$error":"#N/A"},{"$error":"#N/A"},{"$error":"#N/A"},null,null,{"$error":"#N/A"},{"$error":"#N/A"},{"$error":"#N/A"},{"$error":"#N/A"},null,null,null,null,null,null,null,null,null,null,null,null,null,null,null,null,null,null,null,null,null,null,null,null,null,null,null,null,null,null,null,"",{"$error":"#N/A"}]
[997,{"$f":"IF(A1029>$A$8,\"\",OFFSET(InputPriceData!B$15,$A1029+$A$11,0,1,1))","v":""},{"$f":"IF(A1029>$A$8,\"\",OFFSET(InputPriceData!G$15,CalculationsAndCharts!$A1029+$A$11,IF($C$5,8,0),1,1))","v":""},{"$f":"IF(A1029>$A$8,\"\",OFFSET(InputPriceData!C$15,CalculationsAndCharts!$A1029+$A$11,IF($C$5,8,0),1,1))","v":""},{"$f":"IF(A1029>$A$8,\"\",OFFSET(InputPriceData!D$15,CalculationsAndCharts!$A1029+$A$11,IF($C$5,8,0),1,1))","v":""},{"$f":"IF(A1029>$A$8,\"\",OFFSET(InputPriceData!E$15,CalculationsAndCharts!$A1029+$A$11,IF($C$5,8,0),1,1))","v":""},{"$f":"IF(A1029>$A$8,\"\",OFFSET(InputPriceData!F$15,CalculationsAndCharts!$A1029+$A$11,IF($C$5,8,0),1,1))","v":""},{"$error":"#N/A"},{"$error":"#N/A"},{"$f":"IF($A1029>$J$30,NA(),AVERAGE(H1029:H1032))","v":{"$error":"#N/A"}},{"$error":"#N/A"},null,null,{"$f":"IF($A1029>$J$30,NA(),IF($A1029>$N$30,0,(1-$M$35)*J1029+(2*$M$35-$M$36)*J1030-($M$35+$M$37)*J1031+$M$36*N1030+$M$37*N1031))","v":{"$error":"#N/A"}},{"$error":"#N/A"},{"$error":"#N/A"},{"$error":"#N/A"},null,null,{"$error":"#N/A"},{"$error":"#N/A"},{"$error":"#N/A"},{"$error":"#N/A"},null,null,null,null,null,null,null,null,null,null,null,null,null,null,null,null,null,null,null,null,null,null,null,null,null,null,null,null,null,null,null,"",{"$error":"#N/A"}]
[998,{"$f":"IF(A1030>$A$8,\"\",OFFSET(InputPriceData!B$15,$A1030+$A$11,0,1,1))","v":""},{"$f":"IF(A1030>$A$8,\"\",OFFSET(InputPriceData!G$15,CalculationsAndCharts!$A1030+$A$11,IF($C$5,8,0),1,1))","v":""},{"$f":"IF(A1030>$A$8,\"\",OFFSET(InputPriceData!C$15,CalculationsAndCharts!$A1030+$A$11,IF($C$5,8,0),1,1))","v":""},{"$f":"IF(A1030>$A$8,\"\",OFFSET(InputPriceData!D$15,CalculationsAndCharts!$A1030+$A$11,IF($C$5,8,0),1,1))","v":""},{"$f":"IF(A1030>$A$8,\"\",OFFSET(InputPriceData!E$15,CalculationsAndCharts!$A1030+$A$11,IF($C$5,8,0),1,1))","v":""},{"$f":"IF(A1030>$A$8,\"\",OFFSET(InputPriceData!F$15,CalculationsAndCharts!$A1030+$A$11,IF($C$5,8,0),1,1))","v":""},{"$error":"#N/A"},{"$error":"#N/A"},{"$f":"IF($A1030>$J$30,NA(),AVERAGE(H1030:H1033))","v":{"$error":"#N/A"}},{"$error":"#N/A"},null,null,{"$f":"IF($A1030>$J$30,NA(),IF($A1030>$N$30,0,(1-$M$35)*J1030+(2*$M$35-$M$36)*J1031-($M$35+$M$37)*J1032+$M$36*N1031+$M$37*N1032))","v":{"$error":"#N/A"}},{"$error":"#N/A"},{"$error":"#N/A"},{"$error":"#N/A"},null,null,{"$error":"#N/A"},{"$error":"#N/A"},{"$error":"#N/A"},{"$error":"#N/A"},null,null,null,null,null,null,null,null,null,null,null,null,null,null,null,null,null,null,null,null,null,null,null,null,null,null,null,null,null,null,null,"",{"$error":"#N/A"}]
[999,{"$f":"IF(A1031>$A$8,\"\",OFFSET(InputPriceData!B$15,$A1031+$A$11,0,1,1))","v":""},{"$f":"IF(A1031>$A$8,\"\",OFFSET(InputPriceData!G$15,CalculationsAndCharts!$A1031+$A$11,IF($C$5,8,0),1,1))","v":""},{"$f":"IF(A1031>$A$8,\"\",OFFSET(InputPriceData!C$15,CalculationsAndCharts!$A1031+$A$11,IF($C$5,8,0),1,1))","v":""},{"$f":"IF(A1031>$A$8,\"\",OFFSET(InputPriceData!D$15,CalculationsAndCharts!$A1031+$A$11,IF($C$5,8,0),1,1))","v":""},{"$f":"IF(A1031>$A$8,\"\",OFFSET(InputPriceData!E$15,CalculationsAndCharts!$A1031+$A$11,IF($C$5,8,0),1,1))","v":""},{"$f":"IF(A1031>$A$8,\"\",OFFSET(InputPriceData!F$15,CalculationsAndCharts!$A1031+$A$11,IF($C$5,8,0),1,1))","v":""},{"$error":"#N/A"},{"$error":"#N/A"},{"$f":"IF($A1031>$J$30,NA(),AVERAGE(H1031:H1034))","v":{"$error":"#N/A"}},{"$error":"#N/A"},null,null,{"$f":"IF($A1031>$J$30,NA(),IF($A1031>$N$30,0,(1-$M$35)*J1031+(2*$M$35-$M$36)*J1032-($M$35+$M$37)*J1033+$M$36*N1032+$M$37*N1033))","v":{"$error":"#N/A"}},{"$error":"#N/A"},{"$error":"#N/A"},{"$error":"#N/A"},null,null,{"$error":"#N/A"},{"$error":"#N/A"},{"$error":"#N/A"},{"$error":"#N/A"},null,null,null,null,null,null,null,null,null,null,null,null,null,null,null,null,null,null,null,null,null,null,null,null,null,null,null,null,null,null,null,"",{"$error":"#N/A"}]
[1000,{"$f":"IF(A1032>$A$8,\"\",OFFSET(InputPriceData!B$15,$A1032+$A$11,0,1,1))","v":""},{"$f":"IF(A1032>$A$8,\"\",OFFSET(InputPriceData!G$15,CalculationsAndCharts!$A1032+$A$11,IF($C$5,8,0),1,1))","v":""},{"$f":"IF(A1032>$A$8,\"\",OFFSET(InputPriceData!C$15,CalculationsAndCharts!$A1032+$A$11,IF($C$5,8,0),1,1))","v":""},{"$f":"IF(A1032>$A$8,\"\",OFFSET(InputPriceData!D$15,CalculationsAndCharts!$A1032+$A$11,IF($C$5,8,0),1,1))","v":""},{"$f":"IF(A1032>$A$8,\"\",OFFSET(InputPriceData!E$15,CalculationsAndCharts!$A1032+$A$11,IF($C$5,8,0),1,1))","v":""},{"$f":"IF(A1032>$A$8,\"\",OFFSET(InputPriceData!F$15,CalculationsAndCharts!$A1032+$A$11,IF($C$5,8,0),1,1))","v":""},{"$error":"#N/A"},{"$error":"#N/A"},{"$f":"IF($A1032>$J$30,NA(),AVERAGE(H1032:H1035))","v":{"$error":"#N/A"}},{"$error":"#N/A"},null,null,{"$f":"IF($A1032>$J$30,NA(),IF($A1032>$N$30,0,(1-$M$35)*J1032+(2*$M$35-$M$36)*J1033-($M$35+$M$37)*J1034+$M$36*N1033+$M$37*N1034))","v":{"$error":"#N/A"}},{"$error":"#N/A"},{"$error":"#N/A"},{"$error":"#N/A"},null,null,{"$error":"#N/A"},{"$error":"#N/A"},{"$error":"#N/A"},{"$error":"#N/A"},null,null,null,null,null,null,null,null,null,null,null,null,null,null,null,null,null,null,null,null,null,null,null,null,null,null,null,null,null,null,null,"",{"$error":"#N/A"}]
[1001,{"$f":"IF(A1033>$A$8,\"\",OFFSET(InputPriceData!B$15,$A1033+$A$11,0,1,1))","v":""},{"$f":"IF(A1033>$A$8,\"\",OFFSET(InputPriceData!G$15,CalculationsAndCharts!$A1033+$A$11,IF($C$5,8,0),1,1))","v":""},{"$f":"IF(A1033>$A$8,\"\",OFFSET(InputPriceData!C$15,CalculationsAndCharts!$A1033+$A$11,IF($C$5,8,0),1,1))","v":""},{"$f":"IF(A1033>$A$8,\"\",OFFSET(InputPriceData!D$15,CalculationsAndCharts!$A1033+$A$11,IF($C$5,8,0),1,1))","v":""},{"$f":"IF(A1033>$A$8,\"\",OFFSET(InputPriceData!E$15,CalculationsAndCharts!$A1033+$A$11,IF($C$5,8,0),1,1))","v":""},{"$f":"IF(A1033>$A$8,\"\",OFFSET(InputPriceData!F$15,CalculationsAndCharts!$A1033+$A$11,IF($C$5,8,0),1,1))","v":""},{"$error":"#N/A"},{"$error":"#N/A"},{"$f":"IF($A1033>$J$30,NA(),AVERAGE(H1033:H1036))","v":{"$error":"#N/A"}},{"$error":"#N/A"},null,null,{"$f":"IF($A1033>$J$30,NA(),IF($A1033>$N$30,0,(1-$M$35)*J1033+(2*$M$35-$M$36)*J1034-($M$35+$M$37)*J1035+$M$36*N1034+$M$37*N1035))","v":{"$error":"#N/A"}},{"$error":"#N/A"},{"$error":"#N/A"},{"$error":"#N/A"},null,null,{"$error":"#N/A"},{"$error":"#N/A"},{"$error":"#N/A"},{"$error":"#N/A"},null,null,null,null,null,null,null,null,null,null,null,null,null,null,null,null,null,null,null,null,null,null,null,null,null,null,null,null,null,null,null,"",{"$error":"#N/A"}]
[1002,{"$f":"IF(A1034>$A$8,\"\",OFFSET(InputPriceData!B$15,$A1034+$A$11,0,1,1))","v":""},{"$f":"IF(A1034>$A$8,\"\",OFFSET(InputPriceData!G$15,CalculationsAndCharts!$A1034+$A$11,IF($C$5,8,0),1,1))","v":""},{"$f":"IF(A1034>$A$8,\"\",OFFSET(InputPriceData!C$15,CalculationsAndCharts!$A1034+$A$11,IF($C$5,8,0),1,1))","v":""},{"$f":"IF(A1034>$A$8,\"\",OFFSET(InputPriceData!D$15,CalculationsAndCharts!$A1034+$A$11,IF($C$5,8,0),1,1))","v":""},{"$f":"IF(A1034>$A$8,\"\",OFFSET(InputPriceData!E$15,CalculationsAndCharts!$A1034+$A$11,IF($C$5,8,0),1,1))","v":""},{"$f":"IF(A1034>$A$8,\"\",OFFSET(InputPriceData!F$15,CalculationsAndCharts!$A1034+$A$11,IF($C$5,8,0),1,1))","v":""},{"$error":"#N/A"},{"$error":"#N/A"},{"$f":"IF($A1034>$J$30,NA(),AVERAGE(H1034:H1037))","v":{"$error":"#N/A"}},{"$error":"#N/A"},null,null,{"$f":"IF($A1034>$J$30,NA(),IF($A1034>$N$30,0,(1-$M$35)*J1034+(2*$M$35-$M$36)*J1035-($M$35+$M$37)*J1036+$M$36*N1035+$M$37*N1036))","v":{"$error":"#N/A"}},{"$error":"#N/A"},{"$error":"#N/A"},{"$error":"#N/A"},null,null,{"$error":"#N/A"},{"$error":"#N/A"},{"$error":"#N/A"},{"$error":"#N/A"},null,null,null,null,null,null,null,null,null,null,null,null,null,null,null,null,null,null,null,null,null,null,null,null,null,null,null,null,null,null,null,"",{"$error":"#N/A"}]
[1003,{"$f":"IF(A1035>$A$8,\"\",OFFSET(InputPriceData!B$15,$A1035+$A$11,0,1,1))","v":""},{"$f":"IF(A1035>$A$8,\"\",OFFSET(InputPriceData!G$15,CalculationsAndCharts!$A1035+$A$11,IF($C$5,8,0),1,1))","v":""},{"$f":"IF(A1035>$A$8,\"\",OFFSET(InputPriceData!C$15,CalculationsAndCharts!$A1035+$A$11,IF($C$5,8,0),1,1))","v":""},{"$f":"IF(A1035>$A$8,\"\",OFFSET(InputPriceData!D$15,CalculationsAndCharts!$A1035+$A$11,IF($C$5,8,0),1,1))","v":""},{"$f":"IF(A1035>$A$8,\"\",OFFSET(InputPriceData!E$15,CalculationsAndCharts!$A1035+$A$11,IF($C$5,8,0),1,1))","v":""},{"$f":"IF(A1035>$A$8,\"\",OFFSET(InputPriceData!F$15,CalculationsAndCharts!$A1035+$A$11,IF($C$5,8,0),1,1))","v":""},{"$error":"#N/A"},{"$error":"#N/A"},{"$f":"IF($A1035>$J$30,NA(),AVERAGE(H1035:H1038))","v":{"$error":"#N/A"}},{"$error":"#N/A"},null,null,{"$f":"IF($A1035>$J$30,NA(),IF($A1035>$N$30,0,(1-$M$35)*J1035+(2*$M$35-$M$36)*J1036-($M$35+$M$37)*J1037+$M$36*N1036+$M$37*N1037))","v":{"$error":"#N/A"}},{"$error":"#N/A"},{"$error":"#N/A"},{"$error":"#N/A"},null,null,{"$error":"#N/A"},{"$error":"#N/A"},{"$error":"#N/A"},{"$error":"#N/A"},null,null,null,null,null,null,null,null,null,null,null,null,null,null,null,null,null,null,null,null,null,null,null,null,null,null,null,null,null,null,null,"",{"$error":"#N/A"}]
[1004,{"$f":"IF(A1036>$A$8,\"\",OFFSET(InputPriceData!B$15,$A1036+$A$11,0,1,1))","v":""},{"$f":"IF(A1036>$A$8,\"\",OFFSET(InputPriceData!G$15,CalculationsAndCharts!$A1036+$A$11,IF($C$5,8,0),1,1))","v":""},{"$f":"IF(A1036>$A$8,\"\",OFFSET(InputPriceData!C$15,CalculationsAndCharts!$A1036+$A$11,IF($C$5,8,0),1,1))","v":""},{"$f":"IF(A1036>$A$8,\"\",OFFSET(InputPriceData!D$15,CalculationsAndCharts!$A1036+$A$11,IF($C$5,8,0),1,1))","v":""},{"$f":"IF(A1036>$A$8,\"\",OFFSET(InputPriceData!E$15,CalculationsAndCharts!$A1036+$A$11,IF($C$5,8,0),1,1))","v":""},{"$f":"IF(A1036>$A$8,\"\",OFFSET(InputPriceData!F$15,CalculationsAndCharts!$A1036+$A$11,IF($C$5,8,0),1,1))","v":""},{"$error":"#N/A"},{"$error":"#N/A"},{"$f":"IF($A1036>$J$30,NA(),AVERAGE(H1036:H1039))","v":{"$error":"#N/A"}},{"$error":"#N/A"},null,null,{"$f":"IF($A1036>$J$30,NA(),IF($A1036>$N$30,0,(1-$M$35)*J1036+(2*$M$35-$M$36)*J1037-($M$35+$M$37)*J1038+$M$36*N1037+$M$37*N1038))","v":{"$error":"#N/A"}},{"$error":"#N/A"},{"$error":"#N/A"},{"$error":"#N/A"},null,null,{"$error":"#N/A"},{"$error":"#N/A"},{"$error":"#N/A"},{"$error":"#N/A"},null,null,null,null,null,null,null,null,null,null,null,null,null,null,null,null,null,null,null,null,null,null,null,null,null,null,null,null,null,null,null,"",{"$error":"#N/A"}]
[1005,{"$f":"IF(A1037>$A$8,\"\",OFFSET(InputPriceData!B$15,$A1037+$A$11,0,1,1))","v":""},{"$f":"IF(A1037>$A$8,\"\",OFFSET(InputPriceData!G$15,CalculationsAndCharts!$A1037+$A$11,IF($C$5,8,0),1,1))","v":""},{"$f":"IF(A1037>$A$8,\"\",OFFSET(InputPriceData!C$15,CalculationsAndCharts!$A1037+$A$11,IF($C$5,8,0),1,1))","v":""},{"$f":"IF(A1037>$A$8,\"\",OFFSET(InputPriceData!D$15,CalculationsAndCharts!$A1037+$A$11,IF($C$5,8,0),1,1))","v":""},{"$f":"IF(A1037>$A$8,\"\",OFFSET(InputPriceData!E$15,CalculationsAndCharts!$A1037+$A$11,IF($C$5,8,0),1,1))","v":""},{"$f":"IF(A1037>$A$8,\"\",OFFSET(InputPriceData!F$15,CalculationsAndCharts!$A1037+$A$11,IF($C$5,8,0),1,1))","v":""},{"$error":"#N/A"},{"$error":"#N/A"},{"$f":"IF($A1037>$J$30,NA(),AVERAGE(H1037:H1040))","v":{"$error":"#N/A"}},{"$error":"#N/A"},null,null,{"$f":"IF($A1037>$J$30,NA(),IF($A1037>$N$30,0,(1-$M$35)*J1037+(2*$M$35-$M$36)*J1038-($M$35+$M$37)*J1039+$M$36*N1038+$M$37*N1039))","v":{"$error":"#N/A"}},{"$error":"#N/A"},{"$error":"#N/A"},{"$error":"#N/A"},null,null,{"$error":"#N/A"},{"$error":"#N/A"},{"$error":"#N/A"},{"$error":"#N/A"},null,null,null,null,null,null,null,null,null,null,null,null,null,null,null,null,null,null,null,null,null,null,null,null,null,null,null,null,null,null,null,"",{"$error":"#N/A"}]
[1006,{"$f":"IF(A1038>$A$8,\"\",OFFSET(InputPriceData!B$15,$A1038+$A$11,0,1,1))","v":""},{"$f":"IF(A1038>$A$8,\"\",OFFSET(InputPriceData!G$15,CalculationsAndCharts!$A1038+$A$11,IF($C$5,8,0),1,1))","v":""},{"$f":"IF(A1038>$A$8,\"\",OFFSET(InputPriceData!C$15,CalculationsAndCharts!$A1038+$A$11,IF($C$5,8,0),1,1))","v":""},{"$f":"IF(A1038>$A$8,\"\",OFFSET(InputPriceData!D$15,CalculationsAndCharts!$A1038+$A$11,IF($C$5,8,0),1,1))","v":""},{"$f":"IF(A1038>$A$8,\"\",OFFSET(InputPriceData!E$15,CalculationsAndCharts!$A1038+$A$11,IF($C$5,8,0),1,1))","v":""},{"$f":"IF(A1038>$A$8,\"\",OFFSET(InputPriceData!F$15,CalculationsAndCharts!$A1038+$A$11,IF($C$5,8,0),1,1))","v":""},{"$error":"#N/A"},{"$error":"#N/A"},{"$f":"IF($A1038>$J$30,NA(),AVERAGE(H1038:H1041))","v":{"$error":"#N/A"}},{"$error":"#N/A"},null,null,{"$f":"IF($A1038>$J$30,NA(),IF($A1038>$N$30,0,(1-$M$35)*J1038+(2*$M$35-$M$36)*J1039-($M$35+$M$37)*J1040+$M$36*N1039+$M$37*N1040))","v":{"$error":"#N/A"}},{"$error":"#N/A"},{"$error":"#N/A"},{"$error":"#N/A"},null,null,{"$error":"#N/A"},{"$error":"#N/A"},{"$error":"#N/A"},{"$error":"#N/A"},null,null,null,null,null,null,null,null,null,null,null,null,null,null,null,null,null,null,null,null,null,null,null,null,null,null,null,null,null,null,null,"",{"$error":"#N/A"}]
[1007,{"$f":"IF(A1039>$A$8,\"\",OFFSET(InputPriceData!B$15,$A1039+$A$11,0,1,1))","v":""},{"$f":"IF(A1039>$A$8,\"\",OFFSET(InputPriceData!G$15,CalculationsAndCharts!$A1039+$A$11,IF($C$5,8,0),1,1))","v":""},{"$f":"IF(A1039>$A$8,\"\",OFFSET(InputPriceData!C$15,CalculationsAndCharts!$A1039+$A$11,IF($C$5,8,0),1,1))","v":""},{"$f":"IF(A1039>$A$8,\"\",OFFSET(InputPriceData!D$15,CalculationsAndCharts!$A1039+$A$11,IF($C$5,8,0),1,1))","v":""},{"$f":"IF(A1039>$A$8,\"\",OFFSET(InputPriceData!E$15,CalculationsAndCharts!$A1039+$A$11,IF($C$5,8,0),1,1))","v":""},{"$f":"IF(A1039>$A$8,\"\",OFFSET(InputPriceData!F$15,CalculationsAndCharts!$A1039+$A$11,IF($C$5,8,0),1,1))","v":""},{"$error":"#N/A"},{"$error":"#N/A"},{"$f":"IF($A1039>$J$30,NA(),AVERAGE(H1039:H1042))","v":{"$error":"#N/A"}},{"$error":"#N/A"},null,null,{"$f":"IF($A1039>$J$30,NA(),IF($A1039>$N$30,0,(1-$M$35)*J1039+(2*$M$35-$M$36)*J1040-($M$35+$M$37)*J1041+$M$36*N1040+$M$37*N1041))","v":{"$error":"#N/A"}},{"$error":"#N/A"},{"$error":"#N/A"},{"$error":"#N/A"},null,null,{"$error":"#N/A"},{"$error":"#N/A"},{"$error":"#N/A"},{"$error":"#N/A"},null,null,null,null,null,null,null,null,null,null,null,null,null,null,null,null,null,null,null,null,null,null,null,null,null,null,null,null,null,null,null,"",{"$error":"#N/A"}]
[1008,{"$f":"IF(A1040>$A$8,\"\",OFFSET(InputPriceData!B$15,$A1040+$A$11,0,1,1))","v":""},{"$f":"IF(A1040>$A$8,\"\",OFFSET(InputPriceData!G$15,CalculationsAndCharts!$A1040+$A$11,IF($C$5,8,0),1,1))","v":""},{"$f":"IF(A1040>$A$8,\"\",OFFSET(InputPriceData!C$15,CalculationsAndCharts!$A1040+$A$11,IF($C$5,8,0),1,1))","v":""},{"$f":"IF(A1040>$A$8,\"\",OFFSET(InputPriceData!D$15,CalculationsAndCharts!$A1040+$A$11,IF($C$5,8,0),1,1))","v":""},{"$f":"IF(A1040>$A$8,\"\",OFFSET(InputPriceData!E$15,CalculationsAndCharts!$A1040+$A$11,IF($C$5,8,0),1,1))","v":""},{"$f":"IF(A1040>$A$8,\"\",OFFSET(InputPriceData!F$15,CalculationsAndCharts!$A1040+$A$11,IF($C$5,8,0),1,1))","v":""},{"$error":"#N/A"},{"$error":"#N/A"},{"$f":"IF($A1040>$J$30,NA(),AVERAGE(H1040:H1043))","v":{"$error":"#N/A"}},{"$error":"#N/A"},null,null,{"$f":"IF($A1040>$J$30,NA(),IF($A1040>$N$30,0,(1-$M$35)*J1040+(2*$M$35-$M$36)*J1041-($M$35+$M$37)*J1042+$M$36*N1041+$M$37*N1042))","v":{"$error":"#N/A"}},{"$error":"#N/A"},{"$error":"#N/A"},{"$error":"#N/A"},null,null,{"$error":"#N/A"},{"$error":"#N/A"},{"$error":"#N/A"},{"$error":"#N/A"},null,null,null,null,null,null,null,null,null,null,null,null,null,null,null,null,null,null,null,null,null,null,null,null,null,null,null,null,null,null,null,"",{"$error":"#N/A"}]
[1009,{"$f":"IF(A1041>$A$8,\"\",OFFSET(InputPriceData!B$15,$A1041+$A$11,0,1,1))","v":""},{"$f":"IF(A1041>$A$8,\"\",OFFSET(InputPriceData!G$15,CalculationsAndCharts!$A1041+$A$11,IF($C$5,8,0),1,1))","v":""},{"$f":"IF(A1041>$A$8,\"\",OFFSET(InputPriceData!C$15,CalculationsAndCharts!$A1041+$A$11,IF($C$5,8,0),1,1))","v":""},{"$f":"IF(A1041>$A$8,\"\",OFFSET(InputPriceData!D$15,CalculationsAndCharts!$A1041+$A$11,IF($C$5,8,0),1,1))","v":""},{"$f":"IF(A1041>$A$8,\"\",OFFSET(InputPriceData!E$15,CalculationsAndCharts!$A1041+$A$11,IF($C$5,8,0),1,1))","v":""},{"$f":"IF(A1041>$A$8,\"\",OFFSET(InputPriceData!F$15,CalculationsAndCharts!$A1041+$A$11,IF($C$5,8,0),1,1))","v":""},{"$error":"#N/A"},{"$error":"#N/A"},{"$f":"IF($A1041>$J$30,NA(),AVERAGE(H1041:H1044))","v":{"$error":"#N/A"}},{"$error":"#N/A"},null,null,{"$f":"IF($A1041>$J$30,NA(),IF($A1041>$N$30,0,(1-$M$35)*J1041+(2*$M$35-$M$36)*J1042-($M$35+$M$37)*J1043+$M$36*N1042+$M$37*N1043))","v":{"$error":"#N/A"}},{"$error":"#N/A"},{"$error":"#N/A"},{"$error":"#N/A"},null,null,{"$error":"#N/A"},{"$error":"#N/A"},{"$error":"#N/A"},{"$error":"#N/A"},null,null,null,null,null,null,null,null,null,null,null,null,null,null,null,null,null,null,null,null,null,null,null,null,null,null,null,null,null,null,null,"",{"$error":"#N/A"}]
[1010,{"$f":"IF(A1042>$A$8,\"\",OFFSET(InputPriceData!B$15,$A1042+$A$11,0,1,1))","v":""},{"$f":"IF(A1042>$A$8,\"\",OFFSET(InputPriceData!G$15,CalculationsAndCharts!$A1042+$A$11,IF($C$5,8,0),1,1))","v":""},{"$f":"IF(A1042>$A$8,\"\",OFFSET(InputPriceData!C$15,CalculationsAndCharts!$A1042+$A$11,IF($C$5,8,0),1,1))","v":""},{"$f":"IF(A1042>$A$8,\"\",OFFSET(InputPriceData!D$15,CalculationsAndCharts!$A1042+$A$11,IF($C$5,8,0),1,1))","v":""},{"$f":"IF(A1042>$A$8,\"\",OFFSET(InputPriceData!E$15,CalculationsAndCharts!$A1042+$A$11,IF($C$5,8,0),1,1))","v":""},{"$f":"IF(A1042>$A$8,\"\",OFFSET(InputPriceData!F$15,CalculationsAndCharts!$A1042+$A$11,IF($C$5,8,0),1,1))","v":""},{"$error":"#N/A"},{"$error":"#N/A"},{"$f":"IF($A1042>$J$30,NA(),AVERAGE(H1042:H1045))","v":{"$error":"#N/A"}},{"$error":"#N/A"},null,null,{"$f":"IF($A1042>$J$30,NA(),IF($A1042>$N$30,0,(1-$M$35)*J1042+(2*$M$35-$M$36)*J1043-($M$35+$M$37)*J1044+$M$36*N1043+$M$37*N1044))","v":{"$error":"#N/A"}},{"$error":"#N/A"},{"$error":"#N/A"},{"$error":"#N/A"},null,null,{"$error":"#N/A"},{"$error":"#N/A"},{"$error":"#N/A"},{"$error":"#N/A"},null,null,null,null,null,null,null,null,null,null,null,null,null,null,null,null,null,null,null,null,null,null,null,null,null,null,null,null,null,null,null,"",{"$error":"#N/A"}]
[1011,{"$f":"IF(A1043>$A$8,\"\",OFFSET(InputPriceData!B$15,$A1043+$A$11,0,1,1))","v":""},{"$f":"IF(A1043>$A$8,\"\",OFFSET(InputPriceData!G$15,CalculationsAndCharts!$A1043+$A$11,IF($C$5,8,0),1,1))","v":""},{"$f":"IF(A1043>$A$8,\"\",OFFSET(InputPriceData!C$15,CalculationsAndCharts!$A1043+$A$11,IF($C$5,8,0),1,1))","v":""},{"$f":"IF(A1043>$A$8,\"\",OFFSET(InputPriceData!D$15,CalculationsAndCharts!$A1043+$A$11,IF($C$5,8,0),1,1))","v":""},{"$f":"IF(A1043>$A$8,\"\",OFFSET(InputPriceData!E$15,CalculationsAndCharts!$A1043+$A$11,IF($C$5,8,0),1,1))","v":""},{"$f":"IF(A1043>$A$8,\"\",OFFSET(InputPriceData!F$15,CalculationsAndCharts!$A1043+$A$11,IF($C$5,8,0),1,1))","v":""},{"$error":"#N/A"},{"$error":"#N/A"},{"$f":"IF($A1043>$J$30,NA(),AVERAGE(H1043:H1046))","v":{"$error":"#N/A"}},{"$error":"#N/A"},null,null,{"$f":"IF($A1043>$J$30,NA(),IF($A1043>$N$30,0,(1-$M$35)*J1043+(2*$M$35-$M$36)*J1044-($M$35+$M$37)*J1045+$M$36*N1044+$M$37*N1045))","v":{"$error":"#N/A"}},{"$error":"#N/A"},{"$error":"#N/A"},{"$error":"#N/A"},null,null,{"$error":"#N/A"},{"$error":"#N/A"},{"$error":"#N/A"},{"$error":"#N/A"},null,null,null,null,null,null,null,null,null,null,null,null,null,null,null,null,null,null,null,null,null,null,null,null,null,null,null,null,null,null,null,"",{"$error":"#N/A"}]
[1012,{"$f":"IF(A1044>$A$8,\"\",OFFSET(InputPriceData!B$15,$A1044+$A$11,0,1,1))","v":""},{"$f":"IF(A1044>$A$8,\"\",OFFSET(InputPriceData!G$15,CalculationsAndCharts!$A1044+$A$11,IF($C$5,8,0),1,1))","v":""},{"$f":"IF(A1044>$A$8,\"\",OFFSET(InputPriceData!C$15,CalculationsAndCharts!$A1044+$A$11,IF($C$5,8,0),1,1))","v":""},{"$f":"IF(A1044>$A$8,\"\",OFFSET(InputPriceData!D$15,CalculationsAndCharts!$A1044+$A$11,IF($C$5,8,0),1,1))","v":""},{"$f":"IF(A1044>$A$8,\"\",OFFSET(InputPriceData!E$15,CalculationsAndCharts!$A1044+$A$11,IF($C$5,8,0),1,1))","v":""},{"$f":"IF(A1044>$A$8,\"\",OFFSET(InputPriceData!F$15,CalculationsAndCharts!$A1044+$A$11,IF($C$5,8,0),1,1))","v":""},{"$error":"#N/A"},{"$error":"#N/A"},{"$f":"IF($A1044>$J$30,NA(),AVERAGE(H1044:H1047))","v":{"$error":"#N/A"}},{"$error":"#N/A"},null,null,{"$f":"IF($A1044>$J$30,NA(),IF($A1044>$N$30,0,(1-$M$35)*J1044+(2*$M$35-$M$36)*J1045-($M$35+$M$37)*J1046+$M$36*N1045+$M$37*N1046))","v":{"$error":"#N/A"}},{"$error":"#N/A"},{"$error":"#N/A"},{"$error":"#N/A"},null,null,{"$error":"#N/A"},{"$error":"#N/A"},{"$error":"#N/A"},{"$error":"#N/A"},null,null,null,null,null,null,null,null,null,null,null,null,null,null,null,null,null,null,null,null,null,null,null,null,null,null,null,null,null,null,null,"",{"$error":"#N/A"}]
[1013,{"$f":"IF(A1045>$A$8,\"\",OFFSET(InputPriceData!B$15,$A1045+$A$11,0,1,1))","v":""},{"$f":"IF(A1045>$A$8,\"\",OFFSET(InputPriceData!G$15,CalculationsAndCharts!$A1045+$A$11,IF($C$5,8,0),1,1))","v":""},{"$f":"IF(A1045>$A$8,\"\",OFFSET(InputPriceData!C$15,CalculationsAndCharts!$A1045+$A$11,IF($C$5,8,0),1,1))","v":""},{"$f":"IF(A1045>$A$8,\"\",OFFSET(InputPriceData!D$15,CalculationsAndCharts!$A1045+$A$11,IF($C$5,8,0),1,1))","v":""},{"$f":"IF(A1045>$A$8,\"\",OFFSET(InputPriceData!E$15,CalculationsAndCharts!$A1045+$A$11,IF($C$5,8,0),1,1))","v":""},{"$f":"IF(A1045>$A$8,\"\",OFFSET(InputPriceData!F$15,CalculationsAndCharts!$A1045+$A$11,IF($C$5,8,0),1,1))","v":""},{"$error":"#N/A"},{"$error":"#N/A"},{"$f":"IF($A1045>$J$30,NA(),AVERAGE(H1045:H1048))","v":{"$error":"#N/A"}},{"$error":"#N/A"},null,null,{"$f":"IF($A1045>$J$30,NA(),IF($A1045>$N$30,0,(1-$M$35)*J1045+(2*$M$35-$M$36)*J1046-($M$35+$M$37)*J1047+$M$36*N1046+$M$37*N1047))","v":{"$error":"#N/A"}},{"$error":"#N/A"},{"$error":"#N/A"},{"$error":"#N/A"},null,null,{"$error":"#N/A"},{"$error":"#N/A"},{"$error":"#N/A"},{"$error":"#N/A"},null,null,null,null,null,null,null,null,null,null,null,null,null,null,null,null,null,null,null,null,null,null,null,null,null,null,null,null,null,null,null,"",{"$error":"#N/A"}]
[1014,{"$f":"IF(A1046>$A$8,\"\",OFFSET(InputPriceData!B$15,$A1046+$A$11,0,1,1))","v":""},{"$f":"IF(A1046>$A$8,\"\",OFFSET(InputPriceData!G$15,CalculationsAndCharts!$A1046+$A$11,IF($C$5,8,0),1,1))","v":""},{"$f":"IF(A1046>$A$8,\"\",OFFSET(InputPriceData!C$15,CalculationsAndCharts!$A1046+$A$11,IF($C$5,8,0),1,1))","v":""},{"$f":"IF(A1046>$A$8,\"\",OFFSET(InputPriceData!D$15,CalculationsAndCharts!$A1046+$A$11,IF($C$5,8,0),1,1))","v":""},{"$f":"IF(A1046>$A$8,\"\",OFFSET(InputPriceData!E$15,CalculationsAndCharts!$A1046+$A$11,IF($C$5,8,0),1,1))","v":""},{"$f":"IF(A1046>$A$8,\"\",OFFSET(InputPriceData!F$15,CalculationsAndCharts!$A1046+$A$11,IF($C$5,8,0),1,1))","v":""},{"$error":"#N/A"},{"$error":"#N/A"},{"$f":"IF($A1046>$J$30,NA(),AVERAGE(H1046:H1049))","v":{"$error":"#N/A"}},{"$error":"#N/A"},null,null,{"$f":"IF($A1046>$J$30,NA(),IF($A1046>$N$30,0,(1-$M$35)*J1046+(2*$M$35-$M$36)*J1047-($M$35+$M$37)*J1048+$M$36*N1047+$M$37*N1048))","v":{"$error":"#N/A"}},{"$error":"#N/A"},{"$error":"#N/A"},{"$error":"#N/A"},null,null,{"$error":"#N/A"},{"$error":"#N/A"},{"$error":"#N/A"},{"$error":"#N/A"},null,null,null,null,null,null,null,null,null,null,null,null,null,null,null,null,null,null,null,null,null,null,null,null,null,null,null,null,null,null,null,"",{"$error":"#N/A"}]
[1015,{"$f":"IF(A1047>$A$8,\"\",OFFSET(InputPriceData!B$15,$A1047+$A$11,0,1,1))","v":""},{"$f":"IF(A1047>$A$8,\"\",OFFSET(InputPriceData!G$15,CalculationsAndCharts!$A1047+$A$11,IF($C$5,8,0),1,1))","v":""},{"$f":"IF(A1047>$A$8,\"\",OFFSET(InputPriceData!C$15,CalculationsAndCharts!$A1047+$A$11,IF($C$5,8,0),1,1))","v":""},{"$f":"IF(A1047>$A$8,\"\",OFFSET(InputPriceData!D$15,CalculationsAndCharts!$A1047+$A$11,IF($C$5,8,0),1,1))","v":""},{"$f":"IF(A1047>$A$8,\"\",OFFSET(InputPriceData!E$15,CalculationsAndCharts!$A1047+$A$11,IF($C$5,8,0),1,1))","v":""},{"$f":"IF(A1047>$A$8,\"\",OFFSET(InputPriceData!F$15,CalculationsAndCharts!$A1047+$A$11,IF($C$5,8,0),1,1))","v":""},{"$error":"#N/A"},{"$error":"#N/A"},{"$f":"IF($A1047>$J$30,NA(),AVERAGE(H1047:H1050))","v":{"$error":"#N/A"}},{"$error":"#N/A"},null,null,{"$f":"IF($A1047>$J$30,NA(),IF($A1047>$N$30,0,(1-$M$35)*J1047+(2*$M$35-$M$36)*J1048-($M$35+$M$37)*J1049+$M$36*N1048+$M$37*N1049))","v":{"$error":"#N/A"}},{"$error":"#N/A"},{"$error":"#N/A"},{"$error":"#N/A"},null,null,{"$error":"#N/A"},{"$error":"#N/A"},{"$error":"#N/A"},{"$error":"#N/A"},null,null,null,null,null,null,null,null,null,null,null,null,null,null,null,null,null,null,null,null,null,null,null,null,null,null,null,null,null,null,null,"",{"$error":"#N/A"}]
[1016,{"$f":"IF(A1048>$A$8,\"\",OFFSET(InputPriceData!B$15,$A1048+$A$11,0,1,1))","v":""},{"$f":"IF(A1048>$A$8,\"\",OFFSET(InputPriceData!G$15,CalculationsAndCharts!$A1048+$A$11,IF($C$5,8,0),1,1))","v":""},{"$f":"IF(A1048>$A$8,\"\",OFFSET(InputPriceData!C$15,CalculationsAndCharts!$A1048+$A$11,IF($C$5,8,0),1,1))","v":""},{"$f":"IF(A1048>$A$8,\"\",OFFSET(InputPriceData!D$15,CalculationsAndCharts!$A1048+$A$11,IF($C$5,8,0),1,1))","v":""},{"$f":"IF(A1048>$A$8,\"\",OFFSET(InputPriceData!E$15,CalculationsAndCharts!$A1048+$A$11,IF($C$5,8,0),1,1))","v":""},{"$f":"IF(A1048>$A$8,\"\",OFFSET(InputPriceData!F$15,CalculationsAndCharts!$A1048+$A$11,IF($C$5,8,0),1,1))","v":""},{"$error":"#N/A"},{"$error":"#N/A"},{"$f":"IF($A1048>$J$30,NA(),AVERAGE(H1048:H1051))","v":{"$error":"#N/A"}},{"$error":"#N/A"},null,null,{"$f":"IF($A1048>$J$30,NA(),IF($A1048>$N$30,0,(1-$M$35)*J1048+(2*$M$35-$M$36)*J1049-($M$35+$M$37)*J1050+$M$36*N1049+$M$37*N1050))","v":{"$error":"#N/A"}},{"$error":"#N/A"},{"$error":"#N/A"},{"$error":"#N/A"},null,null,{"$error":"#N/A"},{"$error":"#N/A"},{"$error":"#N/A"},{"$error":"#N/A"},null,null,null,null,null,null,null,null,null,null,null,null,null,null,null,null,null,null,null,null,null,null,null,null,null,null,null,null,null,null,null,"",{"$error":"#N/A"}]
[1017,{"$f":"IF(A1049>$A$8,\"\",OFFSET(InputPriceData!B$15,$A1049+$A$11,0,1,1))","v":""},{"$f":"IF(A1049>$A$8,\"\",OFFSET(InputPriceData!G$15,CalculationsAndCharts!$A1049+$A$11,IF($C$5,8,0),1,1))","v":""},{"$f":"IF(A1049>$A$8,\"\",OFFSET(InputPriceData!C$15,CalculationsAndCharts!$A1049+$A$11,IF($C$5,8,0),1,1))","v":""},{"$f":"IF(A1049>$A$8,\"\",OFFSET(InputPriceData!D$15,CalculationsAndCharts!$A1049+$A$11,IF($C$5,8,0),1,1))","v":""},{"$f":"IF(A1049>$A$8,\"\",OFFSET(InputPriceData!E$15,CalculationsAndCharts!$A1049+$A$11,IF($C$5,8,0),1,1))","v":""},{"$f":"IF(A1049>$A$8,\"\",OFFSET(InputPriceData!F$15,CalculationsAndCharts!$A1049+$A$11,IF($C$5,8,0),1,1))","v":""},{"$error":"#N/A"},{"$error":"#N/A"},{"$f":"IF($A1049>$J$30,NA(),AVERAGE(H1049:H1052))","v":{"$error":"#N/A"}},{"$error":"#N/A"},null,null,{"$f":"IF($A1049>$J$30,NA(),IF($A1049>$N$30,0,(1-$M$35)*J1049+(2*$M$35-$M$36)*J1050-($M$35+$M$37)*J1051+$M$36*N1050+$M$37*N1051))","v":{"$error":"#N/A"}},{"$error":"#N/A"},{"$error":"#N/A"},{"$error":"#N/A"},null,null,{"$error":"#N/A"},{"$error":"#N/A"},{"$error":"#N/A"},{"$error":"#N/A"},null,null,null,null,null,null,null,null,null,null,null,null,null,null,null,null,null,null,null,null,null,null,null,null,null,null,null,null,null,null,null,"",{"$error":"#N/A"}]
[1018,{"$f":"IF(A1050>$A$8,\"\",OFFSET(InputPriceData!B$15,$A1050+$A$11,0,1,1))","v":""},{"$f":"IF(A1050>$A$8,\"\",OFFSET(InputPriceData!G$15,CalculationsAndCharts!$A1050+$A$11,IF($C$5,8,0),1,1))","v":""},{"$f":"IF(A1050>$A$8,\"\",OFFSET(InputPriceData!C$15,CalculationsAndCharts!$A1050+$A$11,IF($C$5,8,0),1,1))","v":""},{"$f":"IF(A1050>$A$8,\"\",OFFSET(InputPriceData!D$15,CalculationsAndCharts!$A1050+$A$11,IF($C$5,8,0),1,1))","v":""},{"$f":"IF(A1050>$A$8,\"\",OFFSET(InputPriceData!E$15,CalculationsAndCharts!$A1050+$A$11,IF($C$5,8,0),1,1))","v":""},{"$f":"IF(A1050>$A$8,\"\",OFFSET(InputPriceData!F$15,CalculationsAndCharts!$A1050+$A$11,IF($C$5,8,0),1,1))","v":""},{"$error":"#N/A"},{"$error":"#N/A"},{"$f":"IF($A1050>$J$30,NA(),AVERAGE(H1050:H1053))","v":{"$error":"#N/A"}},{"$error":"#N/A"},null,null,{"$f":"IF($A1050>$J$30,NA(),IF($A1050>$N$30,0,(1-$M$35)*J1050+(2*$M$35-$M$36)*J1051-($M$35+$M$37)*J1052+$M$36*N1051+$M$37*N1052))","v":{"$error":"#N/A"}},{"$error":"#N/A"},{"$error":"#N/A"},{"$error":"#N/A"},null,null,{"$error":"#N/A"},{"$error":"#N/A"},{"$error":"#N/A"},{"$error":"#N/A"},null,null,null,null,null,null,null,null,null,null,null,null,null,null,null,null,null,null,null,null,null,null,null,null,null,null,null,null,null,null,null,"",{"$error":"#N/A"}]
[1019,{"$f":"IF(A1051>$A$8,\"\",OFFSET(InputPriceData!B$15,$A1051+$A$11,0,1,1))","v":""},{"$f":"IF(A1051>$A$8,\"\",OFFSET(InputPriceData!G$15,CalculationsAndCharts!$A1051+$A$11,IF($C$5,8,0),1,1))","v":""},{"$f":"IF(A1051>$A$8,\"\",OFFSET(InputPriceData!C$15,CalculationsAndCharts!$A1051+$A$11,IF($C$5,8,0),1,1))","v":""},{"$f":"IF(A1051>$A$8,\"\",OFFSET(InputPriceData!D$15,CalculationsAndCharts!$A1051+$A$11,IF($C$5,8,0),1,1))","v":""},{"$f":"IF(A1051>$A$8,\"\",OFFSET(InputPriceData!E$15,CalculationsAndCharts!$A1051+$A$11,IF($C$5,8,0),1,1))","v":""},{"$f":"IF(A1051>$A$8,\"\",OFFSET(InputPriceData!F$15,CalculationsAndCharts!$A1051+$A$11,IF($C$5,8,0),1,1))","v":""},{"$error":"#N/A"},{"$error":"#N/A"},{"$f":"IF($A1051>$J$30,NA(),AVERAGE(H1051:H1054))","v":{"$error":"#N/A"}},{"$error":"#N/A"},null,null,{"$f":"IF($A1051>$J$30,NA(),IF($A1051>$N$30,0,(1-$M$35)*J1051+(2*$M$35-$M$36)*J1052-($M$35+$M$37)*J1053+$M$36*N1052+$M$37*N1053))","v":{"$error":"#N/A"}},{"$error":"#N/A"},{"$error":"#N/A"},{"$error":"#N/A"},null,null,{"$error":"#N/A"},{"$error":"#N/A"},{"$error":"#N/A"},{"$error":"#N/A"},null,null,null,null,null,null,null,null,null,null,null,null,null,null,null,null,null,null,null,null,null,null,null,null,null,null,null,null,null,null,null,"",{"$error":"#N/A"}]
[1020,{"$f":"IF(A1052>$A$8,\"\",OFFSET(InputPriceData!B$15,$A1052+$A$11,0,1,1))","v":""},{"$f":"IF(A1052>$A$8,\"\",OFFSET(InputPriceData!G$15,CalculationsAndCharts!$A1052+$A$11,IF($C$5,8,0),1,1))","v":""},{"$f":"IF(A1052>$A$8,\"\",OFFSET(InputPriceData!C$15,CalculationsAndCharts!$A1052+$A$11,IF($C$5,8,0),1,1))","v":""},{"$f":"IF(A1052>$A$8,\"\",OFFSET(InputPriceData!D$15,CalculationsAndCharts!$A1052+$A$11,IF($C$5,8,0),1,1))","v":""},{"$f":"IF(A1052>$A$8,\"\",OFFSET(InputPriceData!E$15,CalculationsAndCharts!$A1052+$A$11,IF($C$5,8,0),1,1))","v":""},{"$f":"IF(A1052>$A$8,\"\",OFFSET(InputPriceData!F$15,CalculationsAndCharts!$A1052+$A$11,IF($C$5,8,0),1,1))","v":""},{"$error":"#N/A"},{"$error":"#N/A"},{"$f":"IF($A1052>$J$30,NA(),AVERAGE(H1052:H1055))","v":{"$error":"#N/A"}},{"$error":"#N/A"},null,null,{"$f":"IF($A1052>$J$30,NA(),IF($A1052>$N$30,0,(1-$M$35)*J1052+(2*$M$35-$M$36)*J1053-($M$35+$M$37)*J1054+$M$36*N1053+$M$37*N1054))","v":{"$error":"#N/A"}},{"$error":"#N/A"},{"$error":"#N/A"},{"$error":"#N/A"},null,null,{"$error":"#N/A"},{"$error":"#N/A"},{"$error":"#N/A"},{"$error":"#N/A"},null,null,null,null,null,null,null,null,null,null,null,null,null,null,null,null,null,null,null,null,null,null,null,null,null,null,null,null,null,null,null,"",{"$error":"#N/A"}]
[1021,{"$f":"IF(A1053>$A$8,\"\",OFFSET(InputPriceData!B$15,$A1053+$A$11,0,1,1))","v":""},{"$f":"IF(A1053>$A$8,\"\",OFFSET(InputPriceData!G$15,CalculationsAndCharts!$A1053+$A$11,IF($C$5,8,0),1,1))","v":""},{"$f":"IF(A1053>$A$8,\"\",OFFSET(InputPriceData!C$15,CalculationsAndCharts!$A1053+$A$11,IF($C$5,8,0),1,1))","v":""},{"$f":"IF(A1053>$A$8,\"\",OFFSET(InputPriceData!D$15,CalculationsAndCharts!$A1053+$A$11,IF($C$5,8,0),1,1))","v":""},{"$f":"IF(A1053>$A$8,\"\",OFFSET(InputPriceData!E$15,CalculationsAndCharts!$A1053+$A$11,IF($C$5,8,0),1,1))","v":""},{"$f":"IF(A1053>$A$8,\"\",OFFSET(InputPriceData!F$15,CalculationsAndCharts!$A1053+$A$11,IF($C$5,8,0),1,1))","v":""},{"$error":"#N/A"},{"$error":"#N/A"},{"$f":"IF($A1053>$J$30,NA(),AVERAGE(H1053:H1056))","v":{"$error":"#N/A"}},{"$error":"#N/A"},null,null,{"$f":"IF($A1053>$J$30,NA(),IF($A1053>$N$30,0,(1-$M$35)*J1053+(2*$M$35-$M$36)*J1054-($M$35+$M$37)*J1055+$M$36*N1054+$M$37*N1055))","v":{"$error":"#N/A"}},{"$error":"#N/A"},{"$error":"#N/A"},{"$error":"#N/A"},null,null,{"$error":"#N/A"},{"$error":"#N/A"},{"$error":"#N/A"},{"$error":"#N/A"},null,null,null,null,null,null,null,null,null,null,null,null,null,null,null,null,null,null,null,null,null,null,null,null,null,null,null,null,null,null,null,"",{"$error":"#N/A"}]
[1022,{"$f":"IF(A1054>$A$8,\"\",OFFSET(InputPriceData!B$15,$A1054+$A$11,0,1,1))","v":""},{"$f":"IF(A1054>$A$8,\"\",OFFSET(InputPriceData!G$15,CalculationsAndCharts!$A1054+$A$11,IF($C$5,8,0),1,1))","v":""},{"$f":"IF(A1054>$A$8,\"\",OFFSET(InputPriceData!C$15,CalculationsAndCharts!$A1054+$A$11,IF($C$5,8,0),1,1))","v":""},{"$f":"IF(A1054>$A$8,\"\",OFFSET(InputPriceData!D$15,CalculationsAndCharts!$A1054+$A$11,IF($C$5,8,0),1,1))","v":""},{"$f":"IF(A1054>$A$8,\"\",OFFSET(InputPriceData!E$15,CalculationsAndCharts!$A1054+$A$11,IF($C$5,8,0),1,1))","v":""},{"$f":"IF(A1054>$A$8,\"\",OFFSET(InputPriceData!F$15,CalculationsAndCharts!$A1054+$A$11,IF($C$5,8,0),1,1))","v":""},{"$error":"#N/A"},{"$error":"#N/A"},{"$f":"IF($A1054>$J$30,NA(),AVERAGE(H1054:H1057))","v":{"$error":"#N/A"}},{"$error":"#N/A"},null,null,{"$f":"IF($A1054>$J$30,NA(),IF($A1054>$N$30,0,(1-$M$35)*J1054+(2*$M$35-$M$36)*J1055-($M$35+$M$37)*J1056+$M$36*N1055+$M$37*N1056))","v":{"$error":"#N/A"}},{"$error":"#N/A"},{"$error":"#N/A"},{"$error":"#N/A"},null,null,{"$error":"#N/A"},{"$error":"#N/A"},{"$error":"#N/A"},{"$error":"#N/A"},null,null,null,null,null,null,null,null,null,null,null,null,null,null,null,null,null,null,null,null,null,null,null,null,null,null,null,null,null,null,null,"",{"$error":"#N/A"}]
[1023,{"$f":"IF(A1055>$A$8,\"\",OFFSET(InputPriceData!B$15,$A1055+$A$11,0,1,1))","v":""},{"$f":"IF(A1055>$A$8,\"\",OFFSET(InputPriceData!G$15,CalculationsAndCharts!$A1055+$A$11,IF($C$5,8,0),1,1))","v":""},{"$f":"IF(A1055>$A$8,\"\",OFFSET(InputPriceData!C$15,CalculationsAndCharts!$A1055+$A$11,IF($C$5,8,0),1,1))","v":""},{"$f":"IF(A1055>$A$8,\"\",OFFSET(InputPriceData!D$15,CalculationsAndCharts!$A1055+$A$11,IF($C$5,8,0),1,1))","v":""},{"$f":"IF(A1055>$A$8,\"\",OFFSET(InputPriceData!E$15,CalculationsAndCharts!$A1055+$A$11,IF($C$5,8,0),1,1))","v":""},{"$f":"IF(A1055>$A$8,\"\",OFFSET(InputPriceData!F$15,CalculationsAndCharts!$A1055+$A$11,IF($C$5,8,0),1,1))","v":""},{"$error":"#N/A"},{"$error":"#N/A"},{"$f":"IF($A1055>$J$30,NA(),AVERAGE(H1055:H1058))","v":{"$error":"#N/A"}},{"$error":"#N/A"},null,null,{"$f":"IF($A1055>$J$30,NA(),IF($A1055>$N$30,0,(1-$M$35)*J1055+(2*$M$35-$M$36)*J1056-($M$35+$M$37)*J1057+$M$36*N1056+$M$37*N1057))","v":{"$error":"#N/A"}},{"$error":"#N/A"},{"$error":"#N/A"},{"$error":"#N/A"},null,null,{"$error":"#N/A"},{"$error":"#N/A"},{"$error":"#N/A"},{"$error":"#N/A"},null,null,null,null,null,null,null,null,null,null,null,null,null,null,null,null,null,null,null,null,null,null,null,null,null,null,null,null,null,null,null,"",{"$error":"#N/A"}]
[1024,{"$f":"IF(A1056>$A$8,\"\",OFFSET(InputPriceData!B$15,$A1056+$A$11,0,1,1))","v":""},{"$f":"IF(A1056>$A$8,\"\",OFFSET(InputPriceData!G$15,CalculationsAndCharts!$A1056+$A$11,IF($C$5,8,0),1,1))","v":""},{"$f":"IF(A1056>$A$8,\"\",OFFSET(InputPriceData!C$15,CalculationsAndCharts!$A1056+$A$11,IF($C$5,8,0),1,1))","v":""},{"$f":"IF(A1056>$A$8,\"\",OFFSET(InputPriceData!D$15,CalculationsAndCharts!$A1056+$A$11,IF($C$5,8,0),1,1))","v":""},{"$f":"IF(A1056>$A$8,\"\",OFFSET(InputPriceData!E$15,CalculationsAndCharts!$A1056+$A$11,IF($C$5,8,0),1,1))","v":""},{"$f":"IF(A1056>$A$8,\"\",OFFSET(InputPriceData!F$15,CalculationsAndCharts!$A1056+$A$11,IF($C$5,8,0),1,1))","v":""},{"$error":"#N/A"},{"$error":"#N/A"},{"$f":"IF($A1056>$J$30,NA(),AVERAGE(H1056:H1059))","v":{"$error":"#N/A"}},{"$error":"#N/A"},null,null,{"$f":"IF($A1056>$J$30,NA(),IF($A1056>$N$30,0,(1-$M$35)*J1056+(2*$M$35-$M$36)*J1057-($M$35+$M$37)*J1058+$M$36*N1057+$M$37*N1058))","v":{"$error":"#N/A"}},{"$error":"#N/A"},{"$error":"#N/A"},{"$error":"#N/A"},null,null,{"$error":"#N/A"},{"$error":"#N/A"},{"$error":"#N/A"},{"$error":"#N/A"},null,null,null,null,null,null,null,null,null,null,null,null,null,null,null,null,null,null,null,null,null,null,null,null,null,null,null,null,null,null,null,"",{"$error":"#N/A"}]
[1025,{"$f":"IF(A1057>$A$8,\"\",OFFSET(InputPriceData!B$15,$A1057+$A$11,0,1,1))","v":""},{"$f":"IF(A1057>$A$8,\"\",OFFSET(InputPriceData!G$15,CalculationsAndCharts!$A1057+$A$11,IF($C$5,8,0),1,1))","v":""},{"$f":"IF(A1057>$A$8,\"\",OFFSET(InputPriceData!C$15,CalculationsAndCharts!$A1057+$A$11,IF($C$5,8,0),1,1))","v":""},{"$f":"IF(A1057>$A$8,\"\",OFFSET(InputPriceData!D$15,CalculationsAndCharts!$A1057+$A$11,IF($C$5,8,0),1,1))","v":""},{"$f":"IF(A1057>$A$8,\"\",OFFSET(InputPriceData!E$15,CalculationsAndCharts!$A1057+$A$11,IF($C$5,8,0),1,1))","v":""},{"$f":"IF(A1057>$A$8,\"\",OFFSET(InputPriceData!F$15,CalculationsAndCharts!$A1057+$A$11,IF($C$5,8,0),1,1))","v":""},{"$error":"#N/A"},{"$error":"#N/A"},{"$f":"IF($A1057>$J$30,NA(),AVERAGE(H1057:H1060))","v":{"$error":"#N/A"}},{"$error":"#N/A"},null,null,{"$f":"IF($A1057>$J$30,NA(),IF($A1057>$N$30,0,(1-$M$35)*J1057+(2*$M$35-$M$36)*J1058-($M$35+$M$37)*J1059+$M$36*N1058+$M$37*N1059))","v":{"$error":"#N/A"}},{"$error":"#N/A"},{"$error":"#N/A"},{"$error":"#N/A"},null,null,{"$f":"IF($A1057>$J$30,NA(),IF($A1057>$N$30,0,(1-S$35)*$J1057+(2*S$35-S$36)*$J1058-(S$35+S$37)*$J1059+S$36*T1058+S$37*T1059))","v":{"$error":"#N/A"}},{"$f":"IF($A1057>$J$30,NA(),IF($A1057>$N$30,0,(1-S$35)*$K1057+(2*S$35-S$36)*$K1058-(S$35+S$37)*$K1059+S$36*U1058+S$37*U1059))","v":{"$error":"#N/A"}},{"$f":"IF($A1057>$N$30,NA(),(T1057-U1057)/(T1057+U1057))","v":{"$error":"#N/A"}},{"$f":"IF($A1057>$N$30,NA(),OFFSET(V1057,$C$18,0,1,1))","v":{"$error":"#N/A"}},null,null,null,null,null,null,null,null,null,null,null,null,null,null,null,null,null,null,null,null,null,null,null,null,null,null,null,null,null,null,null,"",{"$error":"#N/A"}]
[1026,{"$f":"IF(A1058>$A$8,\"\",OFFSET(InputPriceData!B$15,$A1058+$A$11,0,1,1))","v":""},{"$f":"IF(A1058>$A$8,\"\",OFFSET(InputPriceData!G$15,CalculationsAndCharts!$A1058+$A$11,IF($C$5,8,0),1,1))","v":""},{"$f":"IF(A1058>$A$8,\"\",OFFSET(InputPriceData!C$15,CalculationsAndCharts!$A1058+$A$11,IF($C$5,8,0),1,1))","v":""},{"$f":"IF(A1058>$A$8,\"\",OFFSET(InputPriceData!D$15,CalculationsAndCharts!$A1058+$A$11,IF($C$5,8,0),1,1))","v":""},{"$f":"IF(A1058>$A$8,\"\",OFFSET(InputPriceData!E$15,CalculationsAndCharts!$A1058+$A$11,IF($C$5,8,0),1,1))","v":""},{"$f":"IF(A1058>$A$8,\"\",OFFSET(InputPriceData!F$15,CalculationsAndCharts!$A1058+$A$11,IF($C$5,8,0),1,1))","v":""},{"$f":"IF($A1058>$H$30,NA(),IF($G1058>$G1059,$G1058-$G1059,0))","v":{"$error":"#N/A"}},{"$f":"IF($A1058>$H$30,NA(),IF(G1058<G1059,G1059-G1058,0))","v":{"$error":"#N/A"}},{"$f":"IF($A1058>$J$30,NA(),AVERAGE(H1058:H1061))","v":{"$error":"#N/A"}},{"$error":"#N/A"},null,null,{"$f":"IF($A1058>$J$30,NA(),IF($A1058>$N$30,0,(1-$M$35)*J1058+(2*$M$35-$M$36)*J1059-($M$35+$M$37)*J1060+$M$36*N1059+$M$37*N1060))","v":{"$error":"#N/A"}},{"$error":"#N/A"},{"$f":"IF($A1058>$N$30,NA(),(N1058-O1058)/(N1058+O1058))","v":{"$error":"#N/A"}},{"$f":"IF($A1058>$N$30,NA(),OFFSET(P1058,$C$17,0,1,1))","v":{"$error":"#N/A"}},null,null,{"$error":"#N/A"},{"$error":"#N/A"},{"$error":"#N/A"},{"$error":"#N/A"},null,null,null,null,null,null,null,null,null,null,null,null,null,null,null,null,null,null,null,null,null,null,null,null,null,null,null,null,null,null,null,"",{"$error":"#N/A"}]
[1027,{"$f":"IF(A1059>$A$8,\"\",OFFSET(InputPriceData!B$15,$A1059+$A$11,0,1,1))","v":""},{"$f":"IF(A1059>$A$8,\"\",OFFSET(InputPriceData!G$15,CalculationsAndCharts!$A1059+$A$11,IF($C$5,8,0),1,1))","v":""},{"$f":"IF(A1059>$A$8,\"\",OFFSET(InputPriceData!C$15,CalculationsAndCharts!$A1059+$A$11,IF($C$5,8,0),1,1))","v":""},{"$f":"IF(A1059>$A$8,\"\",OFFSET(InputPriceData!D$15,CalculationsAndCharts!$A1059+$A$11,IF($C$5,8,0),1,1))","v":""},{"$f":"IF(A1059>$A$8,\"\",OFFSET(InputPriceData!E$15,CalculationsAndCharts!$A1059+$A$11,IF($C$5,8,0),1,1))","v":""},{"$f":"IF(A1059>$A$8,\"\",OFFSET(InputPriceData!F$15,CalculationsAndCharts!$A1059+$A$11,IF($C$5,8,0),1,1))","v":""},{"$error":"#N/A"},{"$error":"#N/A"},{"$f":"IF($A1059>$J$30,NA(),AVERAGE(H1059:H1062))","v":{"$error":"#N/A"}},{"$error":"#N/A"},null,null,{"$f":"IF($A1059>$J$30,NA(),IF($A1059>$N$30,0,(1-$M$35)*J1059+(2*$M$35-$M$36)*J1060-($M$35+$M$37)*J1061+$M$36*N1060+$M$37*N1061))","v":{"$error":"#N/A"}},{"$error":"#N/A"},{"$error":"#N/A"},{"$error":"#N/A"},null,null,{"$error":"#N/A"},{"$error":"#N/A"},{"$error":"#N/A"},{"$error":"#N/A"},null,null,null,null,null,null,null,null,null,null,null,null,null,null,null,null,null,null,null,null,null,null,null,null,null,null,null,null,null,null,null,"",{"$error":"#N/A"}]
[1028,{"$f":"IF(A1060>$A$8,\"\",OFFSET(InputPriceData!B$15,$A1060+$A$11,0,1,1))","v":""},{"$f":"IF(A1060>$A$8,\"\",OFFSET(InputPriceData!G$15,CalculationsAndCharts!$A1060+$A$11,IF($C$5,8,0),1,1))","v":""},{"$f":"IF(A1060>$A$8,\"\",OFFSET(InputPriceData!C$15,CalculationsAndCharts!$A1060+$A$11,IF($C$5,8,0),1,1))","v":""},{"$f":"IF(A1060>$A$8,\"\",OFFSET(InputPriceData!D$15,CalculationsAndCharts!$A1060+$A$11,IF($C$5,8,0),1,1))","v":""},{"$f":"IF(A1060>$A$8,\"\",OFFSET(InputPriceData!E$15,CalculationsAndCharts!$A1060+$A$11,IF($C$5,8,0),1,1))","v":""},{"$f":"IF(A1060>$A$8,\"\",OFFSET(InputPriceData!F$15,CalculationsAndCharts!$A1060+$A$11,IF($C$5,8,0),1,1))","v":""},{"$error":"#N/A"},{"$error":"#N/A"},{"$f":"IF($A1060>$J$30,NA(),AVERAGE(H1060:H1063))","v":{"$error":"#N/A"}},{"$error":"#N/A"},null,null,{"$f":"IF($A1060>$J$30,NA(),IF($A1060>$N$30,0,(1-$M$35)*J1060+(2*$M$35-$M$36)*J1061-($M$35+$M$37)*J1062+$M$36*N1061+$M$37*N1062))","v":{"$error":"#N/A"}},{"$error":"#N/A"},{"$error":"#N/A"},{"$error":"#N/A"},null,null,{"$error":"#N/A"},{"$error":"#N/A"},{"$error":"#N/A"},{"$error":"#N/A"},null,null,null,null,null,null,null,null,null,null,null,null,null,null,null,null,null,null,null,null,null,null,null,null,null,null,null,null,null,null,null,"",{"$error":"#N/A"}]
[1029,{"$f":"IF(A1061>$A$8,\"\",OFFSET(InputPriceData!B$15,$A1061+$A$11,0,1,1))","v":""},{"$f":"IF(A1061>$A$8,\"\",OFFSET(InputPriceData!G$15,CalculationsAndCharts!$A1061+$A$11,IF($C$5,8,0),1,1))","v":""},{"$f":"IF(A1061>$A$8,\"\",OFFSET(InputPriceData!C$15,CalculationsAndCharts!$A1061+$A$11,IF($C$5,8,0),1,1))","v":""},{"$f":"IF(A1061>$A$8,\"\",OFFSET(InputPriceData!D$15,CalculationsAndCharts!$A1061+$A$11,IF($C$5,8,0),1,1))","v":""},{"$f":"IF(A1061>$A$8,\"\",OFFSET(InputPriceData!E$15,CalculationsAndCharts!$A1061+$A$11,IF($C$5,8,0),1,1))","v":""},{"$f":"IF(A1061>$A$8,\"\",OFFSET(InputPriceData!F$15,CalculationsAndCharts!$A1061+$A$11,IF($C$5,8,0),1,1))","v":""},{"$error":"#N/A"},{"$error":"#N/A"},{"$f":"IF($A1061>$J$30,NA(),AVERAGE(H1061:H1064))","v":{"$error":"#N/A"}},{"$error":"#N/A"},null,null,{"$f":"IF($A1061>$J$30,NA(),IF($A1061>$N$30,0,(1-$M$35)*J1061+(2*$M$35-$M$36)*J1062-($M$35+$M$37)*J1063+$M$36*N1062+$M$37*N1063))","v":{"$error":"#N/A"}},{"$error":"#N/A"},{"$error":"#N/A"},{"$error":"#N/A"},null,null,{"$error":"#N/A"},{"$error":"#N/A"},{"$error":"#N/A"},{"$error":"#N/A"},null,null,null,null,null,null,null,null,null,null,null,null,null,null,null,null,null,null,null,null,null,null,null,null,null,null,null,null,null,null,null,"",{"$error":"#N/A"}]
[1030,{"$f":"IF(A1062>$A$8,\"\",OFFSET(InputPriceData!B$15,$A1062+$A$11,0,1,1))","v":""},{"$f":"IF(A1062>$A$8,\"\",OFFSET(InputPriceData!G$15,CalculationsAndCharts!$A1062+$A$11,IF($C$5,8,0),1,1))","v":""},{"$f":"IF(A1062>$A$8,\"\",OFFSET(InputPriceData!C$15,CalculationsAndCharts!$A1062+$A$11,IF($C$5,8,0),1,1))","v":""},{"$f":"IF(A1062>$A$8,\"\",OFFSET(InputPriceData!D$15,CalculationsAndCharts!$A1062+$A$11,IF($C$5,8,0),1,1))","v":""},{"$f":"IF(A1062>$A$8,\"\",OFFSET(InputPriceData!E$15,CalculationsAndCharts!$A1062+$A$11,IF($C$5,8,0),1,1))","v":""},{"$f":"IF(A1062>$A$8,\"\",OFFSET(InputPriceData!F$15,CalculationsAndCharts!$A1062+$A$11,IF($C$5,8,0),1,1))","v":""},{"$error":"#N/A"},{"$error":"#N/A"},{"$f":"IF($A1062>$J$30,NA(),AVERAGE(H1062:H1065))","v":{"$error":"#N/A"}},{"$error":"#N/A"},null,null,{"$f":"IF($A1062>$J$30,NA(),IF($A1062>$N$30,0,(1-$M$35)*J1062+(2*$M$35-$M$36)*J1063-($M$35+$M$37)*J1064+$M$36*N1063+$M$37*N1064))","v":{"$error":"#N/A"}},{"$error":"#N/A"},{"$error":"#N/A"},{"$error":"#N/A"},null,null,{"$error":"#N/A"},{"$error":"#N/A"},{"$error":"#N/A"},{"$error":"#N/A"},null,null,null,null,null,null,null,null,null,null,null,null,null,null,null,null,null,null,null,null,null,null,null,null,null,null,null,null,null,null,null,"",{"$error":"#N/A"}]
[1031,{"$f":"IF(A1063>$A$8,\"\",OFFSET(InputPriceData!B$15,$A1063+$A$11,0,1,1))","v":""},{"$f":"IF(A1063>$A$8,\"\",OFFSET(InputPriceData!G$15,CalculationsAndCharts!$A1063+$A$11,IF($C$5,8,0),1,1))","v":""},{"$f":"IF(A1063>$A$8,\"\",OFFSET(InputPriceData!C$15,CalculationsAndCharts!$A1063+$A$11,IF($C$5,8,0),1,1))","v":""},{"$f":"IF(A1063>$A$8,\"\",OFFSET(InputPriceData!D$15,CalculationsAndCharts!$A1063+$A$11,IF($C$5,8,0),1,1))","v":""},{"$f":"IF(A1063>$A$8,\"\",OFFSET(InputPriceData!E$15,CalculationsAndCharts!$A1063+$A$11,IF($C$5,8,0),1,1))","v":""},{"$f":"IF(A1063>$A$8,\"\",OFFSET(InputPriceData!F$15,CalculationsAndCharts!$A1063+$A$11,IF($C$5,8,0),1,1))","v":""},{"$error":"#N/A"},{"$error":"#N/A"},{"$f":"IF($A1063>$J$30,NA(),AVERAGE(H1063:H1066))","v":{"$error":"#N/A"}},{"$error":"#N/A"},null,null,{"$f":"IF($A1063>$J$30,NA(),IF($A1063>$N$30,0,(1-$M$35)*J1063+(2*$M$35-$M$36)*J1064-($M$35+$M$37)*J1065+$M$36*N1064+$M$37*N1065))","v":{"$error":"#N/A"}},{"$error":"#N/A"},{"$error":"#N/A"},{"$error":"#N/A"},null,null,{"$error":"#N/A"},{"$error":"#N/A"},{"$error":"#N/A"},{"$error":"#N/A"},null,null,null,null,null,null,null,null,null,null,null,null,null,null,null,null,null,null,null,null,null,null,null,null,null,null,null,null,null,null,null,"",{"$error":"#N/A"}]
[1032,{"$f":"IF(A1064>$A$8,\"\",OFFSET(InputPriceData!B$15,$A1064+$A$11,0,1,1))","v":""},{"$f":"IF(A1064>$A$8,\"\",OFFSET(InputPriceData!G$15,CalculationsAndCharts!$A1064+$A$11,IF($C$5,8,0),1,1))","v":""},{"$f":"IF(A1064>$A$8,\"\",OFFSET(InputPriceData!C$15,CalculationsAndCharts!$A1064+$A$11,IF($C$5,8,0),1,1))","v":""},{"$f":"IF(A1064>$A$8,\"\",OFFSET(InputPriceData!D$15,CalculationsAndCharts!$A1064+$A$11,IF($C$5,8,0),1,1))","v":""},{"$f":"IF(A1064>$A$8,\"\",OFFSET(InputPriceData!E$15,CalculationsAndCharts!$A1064+$A$11,IF($C$5,8,0),1,1))","v":""},{"$f":"IF(A1064>$A$8,\"\",OFFSET(InputPriceData!F$15,CalculationsAndCharts!$A1064+$A$11,IF($C$5,8,0),1,1))","v":""},{"$error":"#N/A"},{"$error":"#N/A"},{"$f":"IF($A1064>$J$30,NA(),AVERAGE(H1064:H1067))","v":{"$error":"#N/A"}},{"$error":"#N/A"},null,null,{"$f":"IF($A1064>$J$30,NA(),IF($A1064>$N$30,0,(1-$M$35)*J1064+(2*$M$35-$M$36)*J1065-($M$35+$M$37)*J1066+$M$36*N1065+$M$37*N1066))","v":{"$error":"#N/A"}},{"$error":"#N/A"},{"$error":"#N/A"},{"$error":"#N/A"},null,null,{"$error":"#N/A"},{"$error":"#N/A"},{"$error":"#N/A"},{"$error":"#N/A"},null,null,null,null,null,null,null,null,null,null,null,null,null,null,null,null,null,null,null,null,null,null,null,null,null,null,null,null,null,null,null,"",{"$error":"#N/A"}]
[1033,{"$f":"IF(A1065>$A$8,\"\",OFFSET(InputPriceData!B$15,$A1065+$A$11,0,1,1))","v":""},{"$f":"IF(A1065>$A$8,\"\",OFFSET(InputPriceData!G$15,CalculationsAndCharts!$A1065+$A$11,IF($C$5,8,0),1,1))","v":""},{"$f":"IF(A1065>$A$8,\"\",OFFSET(InputPriceData!C$15,CalculationsAndCharts!$A1065+$A$11,IF($C$5,8,0),1,1))","v":""},{"$f":"IF(A1065>$A$8,\"\",OFFSET(InputPriceData!D$15,CalculationsAndCharts!$A1065+$A$11,IF($C$5,8,0),1,1))","v":""},{"$f":"IF(A1065>$A$8,\"\",OFFSET(InputPriceData!E$15,CalculationsAndCharts!$A1065+$A$11,IF($C$5,8,0),1,1))","v":""},{"$f":"IF(A1065>$A$8,\"\",OFFSET(InputPriceData!F$15,CalculationsAndCharts!$A1065+$A$11,IF($C$5,8,0),1,1))","v":""},{"$error":"#N/A"},{"$error":"#N/A"},{"$f":"IF($A1065>$J$30,NA(),AVERAGE(H1065:H1068))","v":{"$error":"#N/A"}},{"$error":"#N/A"},null,null,{"$f":"IF($A1065>$J$30,NA(),IF($A1065>$N$30,0,(1-$M$35)*J1065+(2*$M$35-$M$36)*J1066-($M$35+$M$37)*J1067+$M$36*N1066+$M$37*N1067))","v":{"$error":"#N/A"}},{"$error":"#N/A"},{"$error":"#N/A"},{"$error":"#N/A"},null,null,{"$error":"#N/A"},{"$error":"#N/A"},{"$error":"#N/A"},{"$error":"#N/A"},null,null,null,null,null,null,null,null,null,null,null,null,null,null,null,null,null,null,null,null,null,null,null,null,null,null,null,null,null,null,null,"",{"$error":"#N/A"}]
[1034,{"$f":"IF(A1066>$A$8,\"\",OFFSET(InputPriceData!B$15,$A1066+$A$11,0,1,1))","v":""},{"$f":"IF(A1066>$A$8,\"\",OFFSET(InputPriceData!G$15,CalculationsAndCharts!$A1066+$A$11,IF($C$5,8,0),1,1))","v":""},{"$f":"IF(A1066>$A$8,\"\",OFFSET(InputPriceData!C$15,CalculationsAndCharts!$A1066+$A$11,IF($C$5,8,0),1,1))","v":""},{"$f":"IF(A1066>$A$8,\"\",OFFSET(InputPriceData!D$15,CalculationsAndCharts!$A1066+$A$11,IF($C$5,8,0),1,1))","v":""},{"$f":"IF(A1066>$A$8,\"\",OFFSET(InputPriceData!E$15,CalculationsAndCharts!$A1066+$A$11,IF($C$5,8,0),1,1))","v":""},{"$f":"IF(A1066>$A$8,\"\",OFFSET(InputPriceData!F$15,CalculationsAndCharts!$A1066+$A$11,IF($C$5,8,0),1,1))","v":""},{"$error":"#N/A"},{"$error":"#N/A"},{"$f":"IF($A1066>$J$30,NA(),AVERAGE(H1066:H1069))","v":{"$error":"#N/A"}},{"$error":"#N/A"},null,null,{"$f":"IF($A1066>$J$30,NA(),IF($A1066>$N$30,0,(1-$M$35)*J1066+(2*$M$35-$M$36)*J1067-($M$35+$M$37)*J1068+$M$36*N1067+$M$37*N1068))","v":{"$error":"#N/A"}},{"$error":"#N/A"},{"$error":"#N/A"},{"$error":"#N/A"},null,null,{"$error":"#N/A"},{"$error":"#N/A"},{"$error":"#N/A"},{"$error":"#N/A"},null,null,null,null,null,null,null,null,null,null,null,null,null,null,null,null,null,null,null,null,null,null,null,null,null,null,null,null,null,null,null,"",{"$error":"#N/A"}]
[1035,{"$f":"IF(A1067>$A$8,\"\",OFFSET(InputPriceData!B$15,$A1067+$A$11,0,1,1))","v":""},{"$f":"IF(A1067>$A$8,\"\",OFFSET(InputPriceData!G$15,CalculationsAndCharts!$A1067+$A$11,IF($C$5,8,0),1,1))","v":""},{"$f":"IF(A1067>$A$8,\"\",OFFSET(InputPriceData!C$15,CalculationsAndCharts!$A1067+$A$11,IF($C$5,8,0),1,1))","v":""},{"$f":"IF(A1067>$A$8,\"\",OFFSET(InputPriceData!D$15,CalculationsAndCharts!$A1067+$A$11,IF($C$5,8,0),1,1))","v":""},{"$f":"IF(A1067>$A$8,\"\",OFFSET(InputPriceData!E$15,CalculationsAndCharts!$A1067+$A$11,IF($C$5,8,0),1,1))","v":""},{"$f":"IF(A1067>$A$8,\"\",OFFSET(InputPriceData!F$15,CalculationsAndCharts!$A1067+$A$11,IF($C$5,8,0),1,1))","v":""},{"$error":"#N/A"},{"$error":"#N/A"},{"$f":"IF($A1067>$J$30,NA(),AVERAGE(H1067:H1070))","v":{"$error":"#N/A"}},{"$error":"#N/A"},null,null,{"$f":"IF($A1067>$J$30,NA(),IF($A1067>$N$30,0,(1-$M$35)*J1067+(2*$M$35-$M$36)*J1068-($M$35+$M$37)*J1069+$M$36*N1068+$M$37*N1069))","v":{"$error":"#N/A"}},{"$error":"#N/A"},{"$error":"#N/A"},{"$error":"#N/A"},null,null,{"$error":"#N/A"},{"$error":"#N/A"},{"$error":"#N/A"},{"$error":"#N/A"},null,null,null,null,null,null,null,null,null,null,null,null,null,null,null,null,null,null,null,null,null,null,null,null,null,null,null,null,null,null,null,"",{"$error":"#N/A"}]
[1036,{"$f":"IF(A1068>$A$8,\"\",OFFSET(InputPriceData!B$15,$A1068+$A$11,0,1,1))","v":""},{"$f":"IF(A1068>$A$8,\"\",OFFSET(InputPriceData!G$15,CalculationsAndCharts!$A1068+$A$11,IF($C$5,8,0),1,1))","v":""},{"$f":"IF(A1068>$A$8,\"\",OFFSET(InputPriceData!C$15,CalculationsAndCharts!$A1068+$A$11,IF($C$5,8,0),1,1))","v":""},{"$f":"IF(A1068>$A$8,\"\",OFFSET(InputPriceData!D$15,CalculationsAndCharts!$A1068+$A$11,IF($C$5,8,0),1,1))","v":""},{"$f":"IF(A1068>$A$8,\"\",OFFSET(InputPriceData!E$15,CalculationsAndCharts!$A1068+$A$11,IF($C$5,8,0),1,1))","v":""},{"$f":"IF(A1068>$A$8,\"\",OFFSET(InputPriceData!F$15,CalculationsAndCharts!$A1068+$A$11,IF($C$5,8,0),1,1))","v":""},{"$error":"#N/A"},{"$error":"#N/A"},{"$f":"IF($A1068>$J$30,NA(),AVERAGE(H1068:H1071))","v":{"$error":"#N/A"}},{"$error":"#N/A"},null,null,{"$f":"IF($A1068>$J$30,NA(),IF($A1068>$N$30,0,(1-$M$35)*J1068+(2*$M$35-$M$36)*J1069-($M$35+$M$37)*J1070+$M$36*N1069+$M$37*N1070))","v":{"$error":"#N/A"}},{"$error":"#N/A"},{"$error":"#N/A"},{"$error":"#N/A"},null,null,{"$error":"#N/A"},{"$error":"#N/A"},{"$error":"#N/A"},{"$error":"#N/A"},null,null,null,null,null,null,null,null,null,null,null,null,null,null,null,null,null,null,null,null,null,null,null,null,null,null,null,null,null,null,null,"",{"$error":"#N/A"}]
[1037,{"$f":"IF(A1069>$A$8,\"\",OFFSET(InputPriceData!B$15,$A1069+$A$11,0,1,1))","v":""},{"$f":"IF(A1069>$A$8,\"\",OFFSET(InputPriceData!G$15,CalculationsAndCharts!$A1069+$A$11,IF($C$5,8,0),1,1))","v":""},{"$f":"IF(A1069>$A$8,\"\",OFFSET(InputPriceData!C$15,CalculationsAndCharts!$A1069+$A$11,IF($C$5,8,0),1,1))","v":""},{"$f":"IF(A1069>$A$8,\"\",OFFSET(InputPriceData!D$15,CalculationsAndCharts!$A1069+$A$11,IF($C$5,8,0),1,1))","v":""},{"$f":"IF(A1069>$A$8,\"\",OFFSET(InputPriceData!E$15,CalculationsAndCharts!$A1069+$A$11,IF($C$5,8,0),1,1))","v":""},{"$f":"IF(A1069>$A$8,\"\",OFFSET(InputPriceData!F$15,CalculationsAndCharts!$A1069+$A$11,IF($C$5,8,0),1,1))","v":""},{"$error":"#N/A"},{"$error":"#N/A"},{"$f":"IF($A1069>$J$30,NA(),AVERAGE(H1069:H1072))","v":{"$error":"#N/A"}},{"$error":"#N/A"},null,null,{"$f":"IF($A1069>$J$30,NA(),IF($A1069>$N$30,0,(1-$M$35)*J1069+(2*$M$35-$M$36)*J1070-($M$35+$M$37)*J1071+$M$36*N1070+$M$37*N1071))","v":{"$error":"#N/A"}},{"$error":"#N/A"},{"$error":"#N/A"},{"$error":"#N/A"},null,null,{"$error":"#N/A"},{"$error":"#N/A"},{"$error":"#N/A"},{"$error":"#N/A"},null,null,null,null,null,null,null,null,null,null,null,null,null,null,null,null,null,null,null,null,null,null,null,null,null,null,null,null,null,null,null,{"$f":"IF(G1069>=G1070,C1069,NA())","v":""},{"$f":"IF(G1069<G1070,C1069,NA())","v":{"$error":"#N/A"}}]
[1038,{"$f":"IF(A1070>$A$8,\"\",OFFSET(InputPriceData!B$15,$A1070+$A$11,0,1,1))","v":""},{"$f":"IF(A1070>$A$8,\"\",OFFSET(InputPriceData!G$15,CalculationsAndCharts!$A1070+$A$11,IF($C$5,8,0),1,1))","v":""},{"$f":"IF(A1070>$A$8,\"\",OFFSET(InputPriceData!C$15,CalculationsAndCharts!$A1070+$A$11,IF($C$5,8,0),1,1))","v":""},{"$f":"IF(A1070>$A$8,\"\",OFFSET(InputPriceData!D$15,CalculationsAndCharts!$A1070+$A$11,IF($C$5,8,0),1,1))","v":""},{"$f":"IF(A1070>$A$8,\"\",OFFSET(InputPriceData!E$15,CalculationsAndCharts!$A1070+$A$11,IF($C$5,8,0),1,1))","v":""},{"$f":"IF(A1070>$A$8,\"\",OFFSET(InputPriceData!F$15,CalculationsAndCharts!$A1070+$A$11,IF($C$5,8,0),1,1))","v":""},{"$error":"#N/A"},{"$error":"#N/A"},{"$f":"IF($A1070>$J$30,NA(),AVERAGE(H1070:H1073))","v":{"$error":"#N/A"}},{"$error":"#N/A"},null,null,{"$f":"IF($A1070>$J$30,NA(),IF($A1070>$N$30,0,(1-$M$35)*J1070+(2*$M$35-$M$36)*J1071-($M$35+$M$37)*J1072+$M$36*N1071+$M$37*N1072))","v":{"$error":"#N/A"}},{"$error":"#N/A"},{"$error":"#N/A"},{"$error":"#N/A"},null,null,{"$error":"#N/A"},{"$error":"#N/A"},{"$error":"#N/A"},{"$error":"#N/A"},null,null,null,null,null,null,null,null,null,null,null,null,null,null,null,null,null,null,null,null,null,null,null,null,null,null,null,null,null,null,null,"",{"$error":"#N/A"}]
[1039,{"$f":"IF(A1071>$A$8,\"\",OFFSET(InputPriceData!B$15,$A1071+$A$11,0,1,1))","v":""},{"$f":"IF(A1071>$A$8,\"\",OFFSET(InputPriceData!G$15,CalculationsAndCharts!$A1071+$A$11,IF($C$5,8,0),1,1))","v":""},{"$f":"IF(A1071>$A$8,\"\",OFFSET(InputPriceData!C$15,CalculationsAndCharts!$A1071+$A$11,IF($C$5,8,0),1,1))","v":""},{"$f":"IF(A1071>$A$8,\"\",OFFSET(InputPriceData!D$15,CalculationsAndCharts!$A1071+$A$11,IF($C$5,8,0),1,1))","v":""},{"$f":"IF(A1071>$A$8,\"\",OFFSET(InputPriceData!E$15,CalculationsAndCharts!$A1071+$A$11,IF($C$5,8,0),1,1))","v":""},{"$f":"IF(A1071>$A$8,\"\",OFFSET(InputPriceData!F$15,CalculationsAndCharts!$A1071+$A$11,IF($C$5,8,0),1,1))","v":""},{"$error":"#N/A"},{"$error":"#N/A"},{"$f":"IF($A1071>$J$30,NA(),AVERAGE(H1071:H1074))","v":{"$error":"#N/A"}},{"$error":"#N/A"},null,null,{"$f":"IF($A1071>$J$30,NA(),IF($A1071>$N$30,0,(1-$M$35)*J1071+(2*$M$35-$M$36)*J1072-($M$35+$M$37)*J1073+$M$36*N1072+$M$37*N1073))","v":{"$error":"#N/A"}},{"$error":"#N/A"},{"$error":"#N/A"},{"$error":"#N/A"},null,null,{"$error":"#N/A"},{"$error":"#N/A"},{"$error":"#N/A"},{"$error":"#N/A"},null,null,null,null,null,null,null,null,null,null,null,null,null,null,null,null,null,null,null,null,null,null,null,null,null,null,null,null,null,null,null,"",{"$error":"#N/A"}]
[1040,{"$f":"IF(A1072>$A$8,\"\",OFFSET(InputPriceData!B$15,$A1072+$A$11,0,1,1))","v":""},{"$f":"IF(A1072>$A$8,\"\",OFFSET(InputPriceData!G$15,CalculationsAndCharts!$A1072+$A$11,IF($C$5,8,0),1,1))","v":""},{"$f":"IF(A1072>$A$8,\"\",OFFSET(InputPriceData!C$15,CalculationsAndCharts!$A1072+$A$11,IF($C$5,8,0),1,1))","v":""},{"$f":"IF(A1072>$A$8,\"\",OFFSET(InputPriceData!D$15,CalculationsAndCharts!$A1072+$A$11,IF($C$5,8,0),1,1))","v":""},{"$f":"IF(A1072>$A$8,\"\",OFFSET(InputPriceData!E$15,CalculationsAndCharts!$A1072+$A$11,IF($C$5,8,0),1,1))","v":""},{"$f":"IF(A1072>$A$8,\"\",OFFSET(InputPriceData!F$15,CalculationsAndCharts!$A1072+$A$11,IF($C$5,8,0),1,1))","v":""},{"$error":"#N/A"},{"$error":"#N/A"},{"$f":"IF($A1072>$J$30,NA(),AVERAGE(H1072:H1075))","v":{"$error":"#N/A"}},{"$error":"#N/A"},null,null,{"$f":"IF($A1072>$J$30,NA(),IF($A1072>$N$30,0,(1-$M$35)*J1072+(2*$M$35-$M$36)*J1073-($M$35+$M$37)*J1074+$M$36*N1073+$M$37*N1074))","v":{"$error":"#N/A"}},{"$error":"#N/A"},{"$error":"#N/A"},{"$error":"#N/A"},null,null,{"$error":"#N/A"},{"$error":"#N/A"},{"$error":"#N/A"},{"$error":"#N/A"},null,null,null,null,null,null,null,null,null,null,null,null,null,null,null,null,null,null,null,null,null,null,null,null,null,null,null,null,null,null,null,"",{"$error":"#N/A"}]
[1041,{"$f":"IF(A1073>$A$8,\"\",OFFSET(InputPriceData!B$15,$A1073+$A$11,0,1,1))","v":""},{"$f":"IF(A1073>$A$8,\"\",OFFSET(InputPriceData!G$15,CalculationsAndCharts!$A1073+$A$11,IF($C$5,8,0),1,1))","v":""},{"$f":"IF(A1073>$A$8,\"\",OFFSET(InputPriceData!C$15,CalculationsAndCharts!$A1073+$A$11,IF($C$5,8,0),1,1))","v":""},{"$f":"IF(A1073>$A$8,\"\",OFFSET(InputPriceData!D$15,CalculationsAndCharts!$A1073+$A$11,IF($C$5,8,0),1,1))","v":""},{"$f":"IF(A1073>$A$8,\"\",OFFSET(InputPriceData!E$15,CalculationsAndCharts!$A1073+$A$11,IF($C$5,8,0),1,1))","v":""},{"$f":"IF(A1073>$A$8,\"\",OFFSET(InputPriceData!F$15,CalculationsAndCharts!$A1073+$A$11,IF($C$5,8,0),1,1))","v":""},{"$error":"#N/A"},{"$error":"#N/A"},{"$f":"IF($A1073>$J$30,NA(),AVERAGE(H1073:H1076))","v":{"$error":"#N/A"}},{"$error":"#N/A"},null,null,{"$f":"IF($A1073>$J$30,NA(),IF($A1073>$N$30,0,(1-$M$35)*J1073+(2*$M$35-$M$36)*J1074-($M$35+$M$37)*J1075+$M$36*N1074+$M$37*N1075))","v":{"$error":"#N/A"}},{"$error":"#N/A"},{"$error":"#N/A"},{"$error":"#N/A"},null,null,{"$error":"#N/A"},{"$error":"#N/A"},{"$error":"#N/A"},{"$error":"#N/A"},null,null,null,null,null,null,null,null,null,null,null,null,null,null,null,null,null,null,null,null,null,null,null,null,null,null,null,null,null,null,null,"",{"$error":"#N/A"}]
[1042,{"$f":"IF(A1074>$A$8,\"\",OFFSET(InputPriceData!B$15,$A1074+$A$11,0,1,1))","v":""},{"$f":"IF(A1074>$A$8,\"\",OFFSET(InputPriceData!G$15,CalculationsAndCharts!$A1074+$A$11,IF($C$5,8,0),1,1))","v":""},{"$f":"IF(A1074>$A$8,\"\",OFFSET(InputPriceData!C$15,CalculationsAndCharts!$A1074+$A$11,IF($C$5,8,0),1,1))","v":""},{"$f":"IF(A1074>$A$8,\"\",OFFSET(InputPriceData!D$15,CalculationsAndCharts!$A1074+$A$11,IF($C$5,8,0),1,1))","v":""},{"$f":"IF(A1074>$A$8,\"\",OFFSET(InputPriceData!E$15,CalculationsAndCharts!$A1074+$A$11,IF($C$5,8,0),1,1))","v":""},{"$f":"IF(A1074>$A$8,\"\",OFFSET(InputPriceData!F$15,CalculationsAndCharts!$A1074+$A$11,IF($C$5,8,0),1,1))","v":""},{"$error":"#N/A"},{"$error":"#N/A"},{"$f":"IF($A1074>$J$30,NA(),AVERAGE(H1074:H1077))","v":{"$error":"#N/A"}},{"$error":"#N/A"},null,null,{"$f":"IF($A1074>$J$30,NA(),IF($A1074>$N$30,0,(1-$M$35)*J1074+(2*$M$35-$M$36)*J1075-($M$35+$M$37)*J1076+$M$36*N1075+$M$37*N1076))","v":{"$error":"#N/A"}},{"$error":"#N/A"},{"$error":"#N/A"},{"$error":"#N/A"},null,null,{"$error":"#N/A"},{"$error":"#N/A"},{"$error":"#N/A"},{"$error":"#N/A"},null,null,null,null,null,null,null,null,null,null,null,null,null,null,null,null,null,null,null,null,null,null,null,null,null,null,null,null,null,null,null,"",{"$error":"#N/A"}]
[1043,{"$f":"IF(A1075>$A$8,\"\",OFFSET(InputPriceData!B$15,$A1075+$A$11,0,1,1))","v":""},{"$f":"IF(A1075>$A$8,\"\",OFFSET(InputPriceData!G$15,CalculationsAndCharts!$A1075+$A$11,IF($C$5,8,0),1,1))","v":""},{"$f":"IF(A1075>$A$8,\"\",OFFSET(InputPriceData!C$15,CalculationsAndCharts!$A1075+$A$11,IF($C$5,8,0),1,1))","v":""},{"$f":"IF(A1075>$A$8,\"\",OFFSET(InputPriceData!D$15,CalculationsAndCharts!$A1075+$A$11,IF($C$5,8,0),1,1))","v":""},{"$f":"IF(A1075>$A$8,\"\",OFFSET(InputPriceData!E$15,CalculationsAndCharts!$A1075+$A$11,IF($C$5,8,0),1,1))","v":""},{"$f":"IF(A1075>$A$8,\"\",OFFSET(InputPriceData!F$15,CalculationsAndCharts!$A1075+$A$11,IF($C$5,8,0),1,1))","v":""},{"$error":"#N/A"},{"$error":"#N/A"},{"$f":"IF($A1075>$J$30,NA(),AVERAGE(H1075:H1078))","v":{"$error":"#N/A"}},{"$error":"#N/A"},null,null,{"$f":"IF($A1075>$J$30,NA(),IF($A1075>$N$30,0,(1-$M$35)*J1075+(2*$M$35-$M$36)*J1076-($M$35+$M$37)*J1077+$M$36*N1076+$M$37*N1077))","v":{"$error":"#N/A"}},{"$error":"#N/A"},{"$error":"#N/A"},{"$error":"#N/A"},null,null,{"$error":"#N/A"},{"$error":"#N/A"},{"$error":"#N/A"},{"$error":"#N/A"},null,null,null,null,null,null,null,null,null,null,null,null,null,null,null,null,null,null,null,null,null,null,null,null,null,null,null,null,null,null,null,"",{"$error":"#N/A"}]
[1044,{"$f":"IF(A1076>$A$8,\"\",OFFSET(InputPriceData!B$15,$A1076+$A$11,0,1,1))","v":""},{"$f":"IF(A1076>$A$8,\"\",OFFSET(InputPriceData!G$15,CalculationsAndCharts!$A1076+$A$11,IF($C$5,8,0),1,1))","v":""},{"$f":"IF(A1076>$A$8,\"\",OFFSET(InputPriceData!C$15,CalculationsAndCharts!$A1076+$A$11,IF($C$5,8,0),1,1))","v":""},{"$f":"IF(A1076>$A$8,\"\",OFFSET(InputPriceData!D$15,CalculationsAndCharts!$A1076+$A$11,IF($C$5,8,0),1,1))","v":""},{"$f":"IF(A1076>$A$8,\"\",OFFSET(InputPriceData!E$15,CalculationsAndCharts!$A1076+$A$11,IF($C$5,8,0),1,1))","v":""},{"$f":"IF(A1076>$A$8,\"\",OFFSET(InputPriceData!F$15,CalculationsAndCharts!$A1076+$A$11,IF($C$5,8,0),1,1))","v":""},{"$error":"#N/A"},{"$error":"#N/A"},{"$f":"IF($A1076>$J$30,NA(),AVERAGE(H1076:H1079))","v":{"$error":"#N/A"}},{"$error":"#N/A"},null,null,{"$f":"IF($A1076>$J$30,NA(),IF($A1076>$N$30,0,(1-$M$35)*J1076+(2*$M$35-$M$36)*J1077-($M$35+$M$37)*J1078+$M$36*N1077+$M$37*N1078))","v":{"$error":"#N/A"}},{"$error":"#N/A"},{"$error":"#N/A"},{"$error":"#N/A"},null,null,{"$error":"#N/A"},{"$error":"#N/A"},{"$error":"#N/A"},{"$error":"#N/A"},null,null,null,null,null,null,null,null,null,null,null,null,null,null,null,null,null,null,null,null,null,null,null,null,null,null,null,null,null,null,null,"",{"$error":"#N/A"}]
[1045,{"$f":"IF(A1077>$A$8,\"\",OFFSET(InputPriceData!B$15,$A1077+$A$11,0,1,1))","v":""},{"$f":"IF(A1077>$A$8,\"\",OFFSET(InputPriceData!G$15,CalculationsAndCharts!$A1077+$A$11,IF($C$5,8,0),1,1))","v":""},{"$f":"IF(A1077>$A$8,\"\",OFFSET(InputPriceData!C$15,CalculationsAndCharts!$A1077+$A$11,IF($C$5,8,0),1,1))","v":""},{"$f":"IF(A1077>$A$8,\"\",OFFSET(InputPriceData!D$15,CalculationsAndCharts!$A1077+$A$11,IF($C$5,8,0),1,1))","v":""},{"$f":"IF(A1077>$A$8,\"\",OFFSET(InputPriceData!E$15,CalculationsAndCharts!$A1077+$A$11,IF($C$5,8,0),1,1))","v":""},{"$f":"IF(A1077>$A$8,\"\",OFFSET(InputPriceData!F$15,CalculationsAndCharts!$A1077+$A$11,IF($C$5,8,0),1,1))","v":""},{"$error":"#N/A"},{"$error":"#N/A"},{"$f":"IF($A1077>$J$30,NA(),AVERAGE(H1077:H1080))","v":{"$error":"#N/A"}},{"$error":"#N/A"},null,null,{"$f":"IF($A1077>$J$30,NA(),IF($A1077>$N$30,0,(1-$M$35)*J1077+(2*$M$35-$M$36)*J1078-($M$35+$M$37)*J1079+$M$36*N1078+$M$37*N1079))","v":{"$error":"#N/A"}},{"$error":"#N/A"},{"$error":"#N/A"},{"$error":"#N/A"},null,null,{"$error":"#N/A"},{"$error":"#N/A"},{"$error":"#N/A"},{"$error":"#N/A"},null,null,null,null,null,null,null,null,null,null,null,null,null,null,null,null,null,null,null,null,null,null,null,null,null,null,null,null,null,null,null,"",{"$error":"#N/A"}]
[1046,{"$f":"IF(A1078>$A$8,\"\",OFFSET(InputPriceData!B$15,$A1078+$A$11,0,1,1))","v":""},{"$f":"IF(A1078>$A$8,\"\",OFFSET(InputPriceData!G$15,CalculationsAndCharts!$A1078+$A$11,IF($C$5,8,0),1,1))","v":""},{"$f":"IF(A1078>$A$8,\"\",OFFSET(InputPriceData!C$15,CalculationsAndCharts!$A1078+$A$11,IF($C$5,8,0),1,1))","v":""},{"$f":"IF(A1078>$A$8,\"\",OFFSET(InputPriceData!D$15,CalculationsAndCharts!$A1078+$A$11,IF($C$5,8,0),1,1))","v":""},{"$f":"IF(A1078>$A$8,\"\",OFFSET(InputPriceData!E$15,CalculationsAndCharts!$A1078+$A$11,IF($C$5,8,0),1,1))","v":""},{"$f":"IF(A1078>$A$8,\"\",OFFSET(InputPriceData!F$15,CalculationsAndCharts!$A1078+$A$11,IF($C$5,8,0),1,1))","v":""},{"$error":"#N/A"},{"$error":"#N/A"},{"$f":"IF($A1078>$J$30,NA(),AVERAGE(H1078:H1081))","v":{"$error":"#N/A"}},{"$error":"#N/A"},null,null,{"$f":"IF($A1078>$J$30,NA(),IF($A1078>$N$30,0,(1-$M$35)*J1078+(2*$M$35-$M$36)*J1079-($M$35+$M$37)*J1080+$M$36*N1079+$M$37*N1080))","v":{"$error":"#N/A"}},{"$error":"#N/A"},{"$error":"#N/A"},{"$error":"#N/A"},null,null,{"$error":"#N/A"},{"$error":"#N/A"},{"$error":"#N/A"},{"$error":"#N/A"},null,null,null,null,null,null,null,null,null,null,null,null,null,null,null,null,null,null,null,null,null,null,null,null,null,null,null,null,null,null,null,"",{"$error":"#N/A"}]
[1047,{"$f":"IF(A1079>$A$8,\"\",OFFSET(InputPriceData!B$15,$A1079+$A$11,0,1,1))","v":""},{"$f":"IF(A1079>$A$8,\"\",OFFSET(InputPriceData!G$15,CalculationsAndCharts!$A1079+$A$11,IF($C$5,8,0),1,1))","v":""},{"$f":"IF(A1079>$A$8,\"\",OFFSET(InputPriceData!C$15,CalculationsAndCharts!$A1079+$A$11,IF($C$5,8,0),1,1))","v":""},{"$f":"IF(A1079>$A$8,\"\",OFFSET(InputPriceData!D$15,CalculationsAndCharts!$A1079+$A$11,IF($C$5,8,0),1,1))","v":""},{"$f":"IF(A1079>$A$8,\"\",OFFSET(InputPriceData!E$15,CalculationsAndCharts!$A1079+$A$11,IF($C$5,8,0),1,1))","v":""},{"$f":"IF(A1079>$A$8,\"\",OFFSET(InputPriceData!F$15,CalculationsAndCharts!$A1079+$A$11,IF($C$5,8,0),1,1))","v":""},{"$error":"#N/A"},{"$error":"#N/A"},{"$f":"IF($A1079>$J$30,NA(),AVERAGE(H1079:H1082))","v":{"$error":"#N/A"}},{"$error":"#N/A"},null,null,{"$f":"IF($A1079>$J$30,NA(),IF($A1079>$N$30,0,(1-$M$35)*J1079+(2*$M$35-$M$36)*J1080-($M$35+$M$37)*J1081+$M$36*N1080+$M$37*N1081))","v":{"$error":"#N/A"}},{"$error":"#N/A"},{"$error":"#N/A"},{"$error":"#N/A"},null,null,{"$error":"#N/A"},{"$error":"#N/A"},{"$error":"#N/A"},{"$error":"#N/A"},null,null,null,null,null,null,null,null,null,null,null,null,null,null,null,null,null,null,null,null,null,null,null,null,null,null,null,null,null,null,null,"",{"$error":"#N/A"}]
[1048,{"$f":"IF(A1080>$A$8,\"\",OFFSET(InputPriceData!B$15,$A1080+$A$11,0,1,1))","v":""},{"$f":"IF(A1080>$A$8,\"\",OFFSET(InputPriceData!G$15,CalculationsAndCharts!$A1080+$A$11,IF($C$5,8,0),1,1))","v":""},{"$f":"IF(A1080>$A$8,\"\",OFFSET(InputPriceData!C$15,CalculationsAndCharts!$A1080+$A$11,IF($C$5,8,0),1,1))","v":""},{"$f":"IF(A1080>$A$8,\"\",OFFSET(InputPriceData!D$15,CalculationsAndCharts!$A1080+$A$11,IF($C$5,8,0),1,1))","v":""},{"$f":"IF(A1080>$A$8,\"\",OFFSET(InputPriceData!E$15,CalculationsAndCharts!$A1080+$A$11,IF($C$5,8,0),1,1))","v":""},{"$f":"IF(A1080>$A$8,\"\",OFFSET(InputPriceData!F$15,CalculationsAndCharts!$A1080+$A$11,IF($C$5,8,0),1,1))","v":""},{"$error":"#N/A"},{"$error":"#N/A"},{"$f":"IF($A1080>$J$30,NA(),AVERAGE(H1080:H1083))","v":{"$error":"#N/A"}},{"$error":"#N/A"},null,null,{"$f":"IF($A1080>$J$30,NA(),IF($A1080>$N$30,0,(1-$M$35)*J1080+(2*$M$35-$M$36)*J1081-($M$35+$M$37)*J1082+$M$36*N1081+$M$37*N1082))","v":{"$error":"#N/A"}},{"$error":"#N/A"},{"$error":"#N/A"},{"$error":"#N/A"},null,null,{"$error":"#N/A"},{"$error":"#N/A"},{"$error":"#N/A"},{"$error":"#N/A"},null,null,null,null,null,null,null,null,null,null,null,null,null,null,null,null,null,null,null,null,null,null,null,null,null,null,null,null,null,null,null,"",{"$error":"#N/A"}]
[1049,{"$f":"IF(A1081>$A$8,\"\",OFFSET(InputPriceData!B$15,$A1081+$A$11,0,1,1))","v":""},{"$f":"IF(A1081>$A$8,\"\",OFFSET(InputPriceData!G$15,CalculationsAndCharts!$A1081+$A$11,IF($C$5,8,0),1,1))","v":""},{"$f":"IF(A1081>$A$8,\"\",OFFSET(InputPriceData!C$15,CalculationsAndCharts!$A1081+$A$11,IF($C$5,8,0),1,1))","v":""},{"$f":"IF(A1081>$A$8,\"\",OFFSET(InputPriceData!D$15,CalculationsAndCharts!$A1081+$A$11,IF($C$5,8,0),1,1))","v":""},{"$f":"IF(A1081>$A$8,\"\",OFFSET(InputPriceData!E$15,CalculationsAndCharts!$A1081+$A$11,IF($C$5,8,0),1,1))","v":""},{"$f":"IF(A1081>$A$8,\"\",OFFSET(InputPriceData!F$15,CalculationsAndCharts!$A1081+$A$11,IF($C$5,8,0),1,1))","v":""},{"$error":"#N/A"},{"$error":"#N/A"},{"$f":"IF($A1081>$J$30,NA(),AVERAGE(H1081:H1084))","v":{"$error":"#N/A"}},{"$error":"#N/A"},null,null,{"$f":"IF($A1081>$J$30,NA(),IF($A1081>$N$30,0,(1-$M$35)*J1081+(2*$M$35-$M$36)*J1082-($M$35+$M$37)*J1083+$M$36*N1082+$M$37*N1083))","v":{"$error":"#N/A"}},{"$error":"#N/A"},{"$error":"#N/A"},{"$error":"#N/A"},null,null,{"$error":"#N/A"},{"$error":"#N/A"},{"$error":"#N/A"},{"$error":"#N/A"},null,null,null,null,null,null,null,null,null,null,null,null,null,null,null,null,null,null,null,null,null,null,null,null,null,null,null,null,null,null,null,"",{"$error":"#N/A"}]
[1050,{"$f":"IF(A1082>$A$8,\"\",OFFSET(InputPriceData!B$15,$A1082+$A$11,0,1,1))","v":""},{"$f":"IF(A1082>$A$8,\"\",OFFSET(InputPriceData!G$15,CalculationsAndCharts!$A1082+$A$11,IF($C$5,8,0),1,1))","v":""},{"$f":"IF(A1082>$A$8,\"\",OFFSET(InputPriceData!C$15,CalculationsAndCharts!$A1082+$A$11,IF($C$5,8,0),1,1))","v":""},{"$f":"IF(A1082>$A$8,\"\",OFFSET(InputPriceData!D$15,CalculationsAndCharts!$A1082+$A$11,IF($C$5,8,0),1,1))","v":""},{"$f":"IF(A1082>$A$8,\"\",OFFSET(InputPriceData!E$15,CalculationsAndCharts!$A1082+$A$11,IF($C$5,8,0),1,1))","v":""},{"$f":"IF(A1082>$A$8,\"\",OFFSET(InputPriceData!F$15,CalculationsAndCharts!$A1082+$A$11,IF($C$5,8,0),1,1))","v":""},{"$error":"#N/A"},{"$error":"#N/A"},{"$f":"IF($A1082>$J$30,NA(),AVERAGE(H1082:H1085))","v":{"$error":"#N/A"}},{"$error":"#N/A"},null,null,{"$f":"IF($A1082>$J$30,NA(),IF($A1082>$N$30,0,(1-$M$35)*J1082+(2*$M$35-$M$36)*J1083-($M$35+$M$37)*J1084+$M$36*N1083+$M$37*N1084))","v":{"$error":"#N/A"}},{"$error":"#N/A"},{"$error":"#N/A"},{"$error":"#N/A"},null,null,{"$error":"#N/A"},{"$error":"#N/A"},{"$error":"#N/A"},{"$error":"#N/A"},null,null,null,null,null,null,null,null,null,null,null,null,null,null,null,null,null,null,null,null,null,null,null,null,null,null,null,null,null,null,null,"",{"$error":"#N/A"}]
[1051,{"$f":"IF(A1083>$A$8,\"\",OFFSET(InputPriceData!B$15,$A1083+$A$11,0,1,1))","v":""},{"$f":"IF(A1083>$A$8,\"\",OFFSET(InputPriceData!G$15,CalculationsAndCharts!$A1083+$A$11,IF($C$5,8,0),1,1))","v":""},{"$f":"IF(A1083>$A$8,\"\",OFFSET(InputPriceData!C$15,CalculationsAndCharts!$A1083+$A$11,IF($C$5,8,0),1,1))","v":""},{"$f":"IF(A1083>$A$8,\"\",OFFSET(InputPriceData!D$15,CalculationsAndCharts!$A1083+$A$11,IF($C$5,8,0),1,1))","v":""},{"$f":"IF(A1083>$A$8,\"\",OFFSET(InputPriceData!E$15,CalculationsAndCharts!$A1083+$A$11,IF($C$5,8,0),1,1))","v":""},{"$f":"IF(A1083>$A$8,\"\",OFFSET(InputPriceData!F$15,CalculationsAndCharts!$A1083+$A$11,IF($C$5,8,0),1,1))","v":""},{"$error":"#N/A"},{"$error":"#N/A"},{"$f":"IF($A1083>$J$30,NA(),AVERAGE(H1083:H1086))","v":{"$error":"#N/A"}},{"$error":"#N/A"},null,null,{"$f":"IF($A1083>$J$30,NA(),IF($A1083>$N$30,0,(1-$M$35)*J1083+(2*$M$35-$M$36)*J1084-($M$35+$M$37)*J1085+$M$36*N1084+$M$37*N1085))","v":{"$error":"#N/A"}},{"$error":"#N/A"},{"$error":"#N/A"},{"$error":"#N/A"},null,null,{"$error":"#N/A"},{"$error":"#N/A"},{"$error":"#N/A"},{"$error":"#N/A"},null,null,null,null,null,null,null,null,null,null,null,null,null,null,null,null,null,null,null,null,null,null,null,null,null,null,null,null,null,null,null,"",{"$error":"#N/A"}]
[1052,{"$f":"IF(A1084>$A$8,\"\",OFFSET(InputPriceData!B$15,$A1084+$A$11,0,1,1))","v":""},{"$f":"IF(A1084>$A$8,\"\",OFFSET(InputPriceData!G$15,CalculationsAndCharts!$A1084+$A$11,IF($C$5,8,0),1,1))","v":""},{"$f":"IF(A1084>$A$8,\"\",OFFSET(InputPriceData!C$15,CalculationsAndCharts!$A1084+$A$11,IF($C$5,8,0),1,1))","v":""},{"$f":"IF(A1084>$A$8,\"\",OFFSET(InputPriceData!D$15,CalculationsAndCharts!$A1084+$A$11,IF($C$5,8,0),1,1))","v":""},{"$f":"IF(A1084>$A$8,\"\",OFFSET(InputPriceData!E$15,CalculationsAndCharts!$A1084+$A$11,IF($C$5,8,0),1,1))","v":""},{"$f":"IF(A1084>$A$8,\"\",OFFSET(InputPriceData!F$15,CalculationsAndCharts!$A1084+$A$11,IF($C$5,8,0),1,1))","v":""},{"$error":"#N/A"},{"$error":"#N/A"},{"$f":"IF($A1084>$J$30,NA(),AVERAGE(H1084:H1087))","v":{"$error":"#N/A"}},{"$error":"#N/A"},null,null,{"$f":"IF($A1084>$J$30,NA(),IF($A1084>$N$30,0,(1-$M$35)*J1084+(2*$M$35-$M$36)*J1085-($M$35+$M$37)*J1086+$M$36*N1085+$M$37*N1086))","v":{"$error":"#N/A"}},{"$error":"#N/A"},{"$error":"#N/A"},{"$error":"#N/A"},null,null,{"$error":"#N/A"},{"$error":"#N/A"},{"$error":"#N/A"},{"$error":"#N/A"},null,null,null,null,null,null,null,null,null,null,null,null,null,null,null,null,null,null,null,null,null,null,null,null,null,null,null,null,null,null,null,"",{"$error":"#N/A"}]
[1053,{"$f":"IF(A1085>$A$8,\"\",OFFSET(InputPriceData!B$15,$A1085+$A$11,0,1,1))","v":""},{"$f":"IF(A1085>$A$8,\"\",OFFSET(InputPriceData!G$15,CalculationsAndCharts!$A1085+$A$11,IF($C$5,8,0),1,1))","v":""},{"$f":"IF(A1085>$A$8,\"\",OFFSET(InputPriceData!C$15,CalculationsAndCharts!$A1085+$A$11,IF($C$5,8,0),1,1))","v":""},{"$f":"IF(A1085>$A$8,\"\",OFFSET(InputPriceData!D$15,CalculationsAndCharts!$A1085+$A$11,IF($C$5,8,0),1,1))","v":""},{"$f":"IF(A1085>$A$8,\"\",OFFSET(InputPriceData!E$15,CalculationsAndCharts!$A1085+$A$11,IF($C$5,8,0),1,1))","v":""},{"$f":"IF(A1085>$A$8,\"\",OFFSET(InputPriceData!F$15,CalculationsAndCharts!$A1085+$A$11,IF($C$5,8,0),1,1))","v":""},{"$error":"#N/A"},{"$error":"#N/A"},{"$f":"IF($A1085>$J$30,NA(),AVERAGE(H1085:H1088))","v":{"$error":"#N/A"}},{"$error":"#N/A"},null,null,{"$f":"IF($A1085>$J$30,NA(),IF($A1085>$N$30,0,(1-$M$35)*J1085+(2*$M$35-$M$36)*J1086-($M$35+$M$37)*J1087+$M$36*N1086+$M$37*N1087))","v":{"$error":"#N/A"}},{"$error":"#N/A"},{"$error":"#N/A"},{"$error":"#N/A"},null,null,{"$error":"#N/A"},{"$error":"#N/A"},{"$error":"#N/A"},{"$error":"#N/A"},null,null,null,null,null,null,null,null,null,null,null,null,null,null,null,null,null,null,null,null,null,null,null,null,null,null,null,null,null,null,null,"",{"$error":"#N/A"}]
[1054,{"$f":"IF(A1086>$A$8,\"\",OFFSET(InputPriceData!B$15,$A1086+$A$11,0,1,1))","v":""},{"$f":"IF(A1086>$A$8,\"\",OFFSET(InputPriceData!G$15,CalculationsAndCharts!$A1086+$A$11,IF($C$5,8,0),1,1))","v":""},{"$f":"IF(A1086>$A$8,\"\",OFFSET(InputPriceData!C$15,CalculationsAndCharts!$A1086+$A$11,IF($C$5,8,0),1,1))","v":""},{"$f":"IF(A1086>$A$8,\"\",OFFSET(InputPriceData!D$15,CalculationsAndCharts!$A1086+$A$11,IF($C$5,8,0),1,1))","v":""},{"$f":"IF(A1086>$A$8,\"\",OFFSET(InputPriceData!E$15,CalculationsAndCharts!$A1086+$A$11,IF($C$5,8,0),1,1))","v":""},{"$f":"IF(A1086>$A$8,\"\",OFFSET(InputPriceData!F$15,CalculationsAndCharts!$A1086+$A$11,IF($C$5,8,0),1,1))","v":""},{"$error":"#N/A"},{"$error":"#N/A"},{"$f":"IF($A1086>$J$30,NA(),AVERAGE(H1086:H1089))","v":{"$error":"#N/A"}},{"$error":"#N/A"},null,null,{"$f":"IF($A1086>$J$30,NA(),IF($A1086>$N$30,0,(1-$M$35)*J1086+(2*$M$35-$M$36)*J1087-($M$35+$M$37)*J1088+$M$36*N1087+$M$37*N1088))","v":{"$error":"#N/A"}},{"$error":"#N/A"},{"$error":"#N/A"},{"$error":"#N/A"},null,null,{"$error":"#N/A"},{"$error":"#N/A"},{"$error":"#N/A"},{"$error":"#N/A"},null,null,null,null,null,null,null,null,null,null,null,null,null,null,null,null,null,null,null,null,null,null,null,null,null,null,null,null,null,null,null,"",{"$error":"#N/A"}]
[1055,{"$f":"IF(A1087>$A$8,\"\",OFFSET(InputPriceData!B$15,$A1087+$A$11,0,1,1))","v":""},{"$f":"IF(A1087>$A$8,\"\",OFFSET(InputPriceData!G$15,CalculationsAndCharts!$A1087+$A$11,IF($C$5,8,0),1,1))","v":""},{"$f":"IF(A1087>$A$8,\"\",OFFSET(InputPriceData!C$15,CalculationsAndCharts!$A1087+$A$11,IF($C$5,8,0),1,1))","v":""},{"$f":"IF(A1087>$A$8,\"\",OFFSET(InputPriceData!D$15,CalculationsAndCharts!$A1087+$A$11,IF($C$5,8,0),1,1))","v":""},{"$f":"IF(A1087>$A$8,\"\",OFFSET(InputPriceData!E$15,CalculationsAndCharts!$A1087+$A$11,IF($C$5,8,0),1,1))","v":""},{"$f":"IF(A1087>$A$8,\"\",OFFSET(InputPriceData!F$15,CalculationsAndCharts!$A1087+$A$11,IF($C$5,8,0),1,1))","v":""},{"$error":"#N/A"},{"$error":"#N/A"},{"$f":"IF($A1087>$J$30,NA(),AVERAGE(H1087:H1090))","v":{"$error":"#N/A"}},{"$error":"#N/A"},null,null,{"$f":"IF($A1087>$J$30,NA(),IF($A1087>$N$30,0,(1-$M$35)*J1087+(2*$M$35-$M$36)*J1088-($M$35+$M$37)*J1089+$M$36*N1088+$M$37*N1089))","v":{"$error":"#N/A"}},{"$error":"#N/A"},{"$error":"#N/A"},{"$error":"#N/A"},null,null,{"$error":"#N/A"},{"$error":"#N/A"},{"$error":"#N/A"},{"$error":"#N/A"},null,null,null,null,null,null,null,null,null,null,null,null,null,null,null,null,null,null,null,null,null,null,null,null,null,null,null,null,null,null,null,"",{"$error":"#N/A"}]
[1056,{"$f":"IF(A1088>$A$8,\"\",OFFSET(InputPriceData!B$15,$A1088+$A$11,0,1,1))","v":""},{"$f":"IF(A1088>$A$8,\"\",OFFSET(InputPriceData!G$15,CalculationsAndCharts!$A1088+$A$11,IF($C$5,8,0),1,1))","v":""},{"$f":"IF(A1088>$A$8,\"\",OFFSET(InputPriceData!C$15,CalculationsAndCharts!$A1088+$A$11,IF($C$5,8,0),1,1))","v":""},{"$f":"IF(A1088>$A$8,\"\",OFFSET(InputPriceData!D$15,CalculationsAndCharts!$A1088+$A$11,IF($C$5,8,0),1,1))","v":""},{"$f":"IF(A1088>$A$8,\"\",OFFSET(InputPriceData!E$15,CalculationsAndCharts!$A1088+$A$11,IF($C$5,8,0),1,1))","v":""},{"$f":"IF(A1088>$A$8,\"\",OFFSET(InputPriceData!F$15,CalculationsAndCharts!$A1088+$A$11,IF($C$5,8,0),1,1))","v":""},{"$error":"#N/A"},{"$error":"#N/A"},{"$f":"IF($A1088>$J$30,NA(),AVERAGE(H1088:H1091))","v":{"$error":"#N/A"}},{"$error":"#N/A"},null,null,{"$f":"IF($A1088>$J$30,NA(),IF($A1088>$N$30,0,(1-$M$35)*J1088+(2*$M$35-$M$36)*J1089-($M$35+$M$37)*J1090+$M$36*N1089+$M$37*N1090))","v":{"$error":"#N/A"}},{"$error":"#N/A"},{"$error":"#N/A"},{"$error":"#N/A"},null,null,{"$error":"#N/A"},{"$error":"#N/A"},{"$error":"#N/A"},{"$error":"#N/A"},null,null,null,null,null,null,null,null,null,null,null,null,null,null,null,null,null,null,null,null,null,null,null,null,null,null,null,null,null,null,null,"",{"$error":"#N/A"}]
[1057,{"$f":"IF(A1089>$A$8,\"\",OFFSET(InputPriceData!B$15,$A1089+$A$11,0,1,1))","v":""},{"$f":"IF(A1089>$A$8,\"\",OFFSET(InputPriceData!G$15,CalculationsAndCharts!$A1089+$A$11,IF($C$5,8,0),1,1))","v":""},{"$f":"IF(A1089>$A$8,\"\",OFFSET(InputPriceData!C$15,CalculationsAndCharts!$A1089+$A$11,IF($C$5,8,0),1,1))","v":""},{"$f":"IF(A1089>$A$8,\"\",OFFSET(InputPriceData!D$15,CalculationsAndCharts!$A1089+$A$11,IF($C$5,8,0),1,1))","v":""},{"$f":"IF(A1089>$A$8,\"\",OFFSET(InputPriceData!E$15,CalculationsAndCharts!$A1089+$A$11,IF($C$5,8,0),1,1))","v":""},{"$f":"IF(A1089>$A$8,\"\",OFFSET(InputPriceData!F$15,CalculationsAndCharts!$A1089+$A$11,IF($C$5,8,0),1,1))","v":""},{"$error":"#N/A"},{"$error":"#N/A"},{"$f":"IF($A1089>$J$30,NA(),AVERAGE(H1089:H1092))","v":{"$error":"#N/A"}},{"$error":"#N/A"},null,null,{"$f":"IF($A1089>$J$30,NA(),IF($A1089>$N$30,0,(1-$M$35)*J1089+(2*$M$35-$M$36)*J1090-($M$35+$M$37)*J1091+$M$36*N1090+$M$37*N1091))","v":{"$error":"#N/A"}},{"$error":"#N/A"},{"$error":"#N/A"},{"$error":"#N/A"},null,null,{"$error":"#N/A"},{"$error":"#N/A"},{"$error":"#N/A"},{"$error":"#N/A"},null,null,null,null,null,null,null,null,null,null,null,null,null,null,null,null,null,null,null,null,null,null,null,null,null,null,null,null,null,null,null,"",{"$error":"#N/A"}]
[1058,{"$f":"IF(A1090>$A$8,\"\",OFFSET(InputPriceData!B$15,$A1090+$A$11,0,1,1))","v":""},{"$f":"IF(A1090>$A$8,\"\",OFFSET(InputPriceData!G$15,CalculationsAndCharts!$A1090+$A$11,IF($C$5,8,0),1,1))","v":""},{"$f":"IF(A1090>$A$8,\"\",OFFSET(InputPriceData!C$15,CalculationsAndCharts!$A1090+$A$11,IF($C$5,8,0),1,1))","v":""},{"$f":"IF(A1090>$A$8,\"\",OFFSET(InputPriceData!D$15,CalculationsAndCharts!$A1090+$A$11,IF($C$5,8,0),1,1))","v":""},{"$f":"IF(A1090>$A$8,\"\",OFFSET(InputPriceData!E$15,CalculationsAndCharts!$A1090+$A$11,IF($C$5,8,0),1,1))","v":""},{"$f":"IF(A1090>$A$8,\"\",OFFSET(InputPriceData!F$15,CalculationsAndCharts!$A1090+$A$11,IF($C$5,8,0),1,1))","v":""},{"$error":"#N/A"},{"$error":"#N/A"},{"$f":"IF($A1090>$J$30,NA(),AVERAGE(H1090:H1093))","v":{"$error":"#N/A"}},{"$error":"#N/A"},null,null,{"$f":"IF($A1090>$J$30,NA(),IF($A1090>$N$30,0,(1-$M$35)*J1090+(2*$M$35-$M$36)*J1091-($M$35+$M$37)*J1092+$M$36*N1091+$M$37*N1092))","v":{"$error":"#N/A"}},{"$error":"#N/A"},{"$error":"#N/A"},{"$error":"#N/A"},null,null,{"$error":"#N/A"},{"$error":"#N/A"},{"$error":"#N/A"},{"$error":"#N/A"},null,null,null,null,null,null,null,null,null,null,null,null,null,null,null,null,null,null,null,null,null,null,null,null,null,null,null,null,null,null,null,"",{"$error":"#N/A"}]
[1059,{"$f":"IF(A1091>$A$8,\"\",OFFSET(InputPriceData!B$15,$A1091+$A$11,0,1,1))","v":""},{"$f":"IF(A1091>$A$8,\"\",OFFSET(InputPriceData!G$15,CalculationsAndCharts!$A1091+$A$11,IF($C$5,8,0),1,1))","v":""},{"$f":"IF(A1091>$A$8,\"\",OFFSET(InputPriceData!C$15,CalculationsAndCharts!$A1091+$A$11,IF($C$5,8,0),1,1))","v":""},{"$f":"IF(A1091>$A$8,\"\",OFFSET(InputPriceData!D$15,CalculationsAndCharts!$A1091+$A$11,IF($C$5,8,0),1,1))","v":""},{"$f":"IF(A1091>$A$8,\"\",OFFSET(InputPriceData!E$15,CalculationsAndCharts!$A1091+$A$11,IF($C$5,8,0),1,1))","v":""},{"$f":"IF(A1091>$A$8,\"\",OFFSET(InputPriceData!F$15,CalculationsAndCharts!$A1091+$A$11,IF($C$5,8,0),1,1))","v":""},{"$error":"#N/A"},{"$error":"#N/A"},{"$f":"IF($A1091>$J$30,NA(),AVERAGE(H1091:H1094))","v":{"$error":"#N/A"}},{"$error":"#N/A"},null,null,{"$f":"IF($A1091>$J$30,NA(),IF($A1091>$N$30,0,(1-$M$35)*J1091+(2*$M$35-$M$36)*J1092-($M$35+$M$37)*J1093+$M$36*N1092+$M$37*N1093))","v":{"$error":"#N/A"}},{"$error":"#N/A"},{"$error":"#N/A"},{"$error":"#N/A"},null,null,{"$error":"#N/A"},{"$error":"#N/A"},{"$error":"#N/A"},{"$error":"#N/A"},null,null,null,null,null,null,null,null,null,null,null,null,null,null,null,null,null,null,null,null,null,null,null,null,null,null,null,null,null,null,null,"",{"$error":"#N/A"}]
[1060,{"$f":"IF(A1092>$A$8,\"\",OFFSET(InputPriceData!B$15,$A1092+$A$11,0,1,1))","v":""},{"$f":"IF(A1092>$A$8,\"\",OFFSET(InputPriceData!G$15,CalculationsAndCharts!$A1092+$A$11,IF($C$5,8,0),1,1))","v":""},{"$f":"IF(A1092>$A$8,\"\",OFFSET(InputPriceData!C$15,CalculationsAndCharts!$A1092+$A$11,IF($C$5,8,0),1,1))","v":""},{"$f":"IF(A1092>$A$8,\"\",OFFSET(InputPriceData!D$15,CalculationsAndCharts!$A1092+$A$11,IF($C$5,8,0),1,1))","v":""},{"$f":"IF(A1092>$A$8,\"\",OFFSET(InputPriceData!E$15,CalculationsAndCharts!$A1092+$A$11,IF($C$5,8,0),1,1))","v":""},{"$f":"IF(A1092>$A$8,\"\",OFFSET(InputPriceData!F$15,CalculationsAndCharts!$A1092+$A$11,IF($C$5,8,0),1,1))","v":""},{"$error":"#N/A"},{"$error":"#N/A"},{"$f":"IF($A1092>$J$30,NA(),AVERAGE(H1092:H1095))","v":{"$error":"#N/A"}},{"$error":"#N/A"},null,null,{"$f":"IF($A1092>$J$30,NA(),IF($A1092>$N$30,0,(1-$M$35)*J1092+(2*$M$35-$M$36)*J1093-($M$35+$M$37)*J1094+$M$36*N1093+$M$37*N1094))","v":{"$error":"#N/A"}},{"$error":"#N/A"},{"$error":"#N/A"},{"$error":"#N/A"},null,null,{"$error":"#N/A"},{"$error":"#N/A"},{"$error":"#N/A"},{"$error":"#N/A"},null,null,null,null,null,null,null,null,null,null,null,null,null,null,null,null,null,null,null,null,null,null,null,null,null,null,null,null,null,null,null,"",{"$error":"#N/A"}]
[1061,{"$f":"IF(A1093>$A$8,\"\",OFFSET(InputPriceData!B$15,$A1093+$A$11,0,1,1))","v":""},{"$f":"IF(A1093>$A$8,\"\",OFFSET(InputPriceData!G$15,CalculationsAndCharts!$A1093+$A$11,IF($C$5,8,0),1,1))","v":""},{"$f":"IF(A1093>$A$8,\"\",OFFSET(InputPriceData!C$15,CalculationsAndCharts!$A1093+$A$11,IF($C$5,8,0),1,1))","v":""},{"$f":"IF(A1093>$A$8,\"\",OFFSET(InputPriceData!D$15,CalculationsAndCharts!$A1093+$A$11,IF($C$5,8,0),1,1))","v":""},{"$f":"IF(A1093>$A$8,\"\",OFFSET(InputPriceData!E$15,CalculationsAndCharts!$A1093+$A$11,IF($C$5,8,0),1,1))","v":""},{"$f":"IF(A1093>$A$8,\"\",OFFSET(InputPriceData!F$15,CalculationsAndCharts!$A1093+$A$11,IF($C$5,8,0),1,1))","v":""},{"$error":"#N/A"},{"$error":"#N/A"},{"$f":"IF($A1093>$J$30,NA(),AVERAGE(H1093:H1096))","v":{"$error":"#N/A"}},{"$error":"#N/A"},null,null,{"$f":"IF($A1093>$J$30,NA(),IF($A1093>$N$30,0,(1-$M$35)*J1093+(2*$M$35-$M$36)*J1094-($M$35+$M$37)*J1095+$M$36*N1094+$M$37*N1095))","v":{"$error":"#N/A"}},{"$error":"#N/A"},{"$error":"#N/A"},{"$error":"#N/A"},null,null,{"$error":"#N/A"},{"$error":"#N/A"},{"$error":"#N/A"},{"$error":"#N/A"},null,null,null,null,null,null,null,null,null,null,null,null,null,null,null,null,null,null,null,null,null,null,null,null,null,null,null,null,null,null,null,"",{"$error":"#N/A"}]
[1062,{"$f":"IF(A1094>$A$8,\"\",OFFSET(InputPriceData!B$15,$A1094+$A$11,0,1,1))","v":""},{"$f":"IF(A1094>$A$8,\"\",OFFSET(InputPriceData!G$15,CalculationsAndCharts!$A1094+$A$11,IF($C$5,8,0),1,1))","v":""},{"$f":"IF(A1094>$A$8,\"\",OFFSET(InputPriceData!C$15,CalculationsAndCharts!$A1094+$A$11,IF($C$5,8,0),1,1))","v":""},{"$f":"IF(A1094>$A$8,\"\",OFFSET(InputPriceData!D$15,CalculationsAndCharts!$A1094+$A$11,IF($C$5,8,0),1,1))","v":""},{"$f":"IF(A1094>$A$8,\"\",OFFSET(InputPriceData!E$15,CalculationsAndCharts!$A1094+$A$11,IF($C$5,8,0),1,1))","v":""},{"$f":"IF(A1094>$A$8,\"\",OFFSET(InputPriceData!F$15,CalculationsAndCharts!$A1094+$A$11,IF($C$5,8,0),1,1))","v":""},{"$error":"#N/A"},{"$error":"#N/A"},{"$f":"IF($A1094>$J$30,NA(),AVERAGE(H1094:H1097))","v":{"$error":"#N/A"}},{"$error":"#N/A"},null,null,{"$f":"IF($A1094>$J$30,NA(),IF($A1094>$N$30,0,(1-$M$35)*J1094+(2*$M$35-$M$36)*J1095-($M$35+$M$37)*J1096+$M$36*N1095+$M$37*N1096))","v":{"$error":"#N/A"}},{"$error":"#N/A"},{"$error":"#N/A"},{"$error":"#N/A"},null,null,{"$error":"#N/A"},{"$error":"#N/A"},{"$error":"#N/A"},{"$error":"#N/A"},null,null,null,null,null,null,null,null,null,null,null,null,null,null,null,null,null,null,null,null,null,null,null,null,null,null,null,null,null,null,null,"",{"$error":"#N/A"}]
[1063,{"$f":"IF(A1095>$A$8,\"\",OFFSET(InputPriceData!B$15,$A1095+$A$11,0,1,1))","v":""},{"$f":"IF(A1095>$A$8,\"\",OFFSET(InputPriceData!G$15,CalculationsAndCharts!$A1095+$A$11,IF($C$5,8,0),1,1))","v":""},{"$f":"IF(A1095>$A$8,\"\",OFFSET(InputPriceData!C$15,CalculationsAndCharts!$A1095+$A$11,IF($C$5,8,0),1,1))","v":""},{"$f":"IF(A1095>$A$8,\"\",OFFSET(InputPriceData!D$15,CalculationsAndCharts!$A1095+$A$11,IF($C$5,8,0),1,1))","v":""},{"$f":"IF(A1095>$A$8,\"\",OFFSET(InputPriceData!E$15,CalculationsAndCharts!$A1095+$A$11,IF($C$5,8,0),1,1))","v":""},{"$f":"IF(A1095>$A$8,\"\",OFFSET(InputPriceData!F$15,CalculationsAndCharts!$A1095+$A$11,IF($C$5,8,0),1,1))","v":""},{"$error":"#N/A"},{"$error":"#N/A"},{"$f":"IF($A1095>$J$30,NA(),AVERAGE(H1095:H1098))","v":{"$error":"#N/A"}},{"$error":"#N/A"},null,null,{"$f":"IF($A1095>$J$30,NA(),IF($A1095>$N$30,0,(1-$M$35)*J1095+(2*$M$35-$M$36)*J1096-($M$35+$M$37)*J1097+$M$36*N1096+$M$37*N1097))","v":{"$error":"#N/A"}},{"$error":"#N/A"},{"$error":"#N/A"},{"$error":"#N/A"},null,null,{"$error":"#N/A"},{"$error":"#N/A"},{"$error":"#N/A"},{"$error":"#N/A"},null,null,null,null,null,null,null,null,null,null,null,null,null,null,null,null,null,null,null,null,null,null,null,null,null,null,null,null,null,null,null,"",{"$error":"#N/A"}]
[1064,{"$f":"IF(A1096>$A$8,\"\",OFFSET(InputPriceData!B$15,$A1096+$A$11,0,1,1))","v":""},{"$f":"IF(A1096>$A$8,\"\",OFFSET(InputPriceData!G$15,CalculationsAndCharts!$A1096+$A$11,IF($C$5,8,0),1,1))","v":""},{"$f":"IF(A1096>$A$8,\"\",OFFSET(InputPriceData!C$15,CalculationsAndCharts!$A1096+$A$11,IF($C$5,8,0),1,1))","v":""},{"$f":"IF(A1096>$A$8,\"\",OFFSET(InputPriceData!D$15,CalculationsAndCharts!$A1096+$A$11,IF($C$5,8,0),1,1))","v":""},{"$f":"IF(A1096>$A$8,\"\",OFFSET(InputPriceData!E$15,CalculationsAndCharts!$A1096+$A$11,IF($C$5,8,0),1,1))","v":""},{"$f":"IF(A1096>$A$8,\"\",OFFSET(InputPriceData!F$15,CalculationsAndCharts!$A1096+$A$11,IF($C$5,8,0),1,1))","v":""},{"$error":"#N/A"},{"$error":"#N/A"},{"$f":"IF($A1096>$J$30,NA(),AVERAGE(H1096:H1099))","v":{"$error":"#N/A"}},{"$error":"#N/A"},null,null,{"$f":"IF($A1096>$J$30,NA(),IF($A1096>$N$30,0,(1-$M$35)*J1096+(2*$M$35-$M$36)*J1097-($M$35+$M$37)*J1098+$M$36*N1097+$M$37*N1098))","v":{"$error":"#N/A"}},{"$error":"#N/A"},{"$error":"#N/A"},{"$error":"#N/A"},null,null,{"$error":"#N/A"},{"$error":"#N/A"},{"$error":"#N/A"},{"$error":"#N/A"},null,null,null,null,null,null,null,null,null,null,null,null,null,null,null,null,null,null,null,null,null,null,null,null,null,null,null,null,null,null,null,"",{"$error":"#N/A"}]
[1065,{"$f":"IF(A1097>$A$8,\"\",OFFSET(InputPriceData!B$15,$A1097+$A$11,0,1,1))","v":""},{"$f":"IF(A1097>$A$8,\"\",OFFSET(InputPriceData!G$15,CalculationsAndCharts!$A1097+$A$11,IF($C$5,8,0),1,1))","v":""},{"$f":"IF(A1097>$A$8,\"\",OFFSET(InputPriceData!C$15,CalculationsAndCharts!$A1097+$A$11,IF($C$5,8,0),1,1))","v":""},{"$f":"IF(A1097>$A$8,\"\",OFFSET(InputPriceData!D$15,CalculationsAndCharts!$A1097+$A$11,IF($C$5,8,0),1,1))","v":""},{"$f":"IF(A1097>$A$8,\"\",OFFSET(InputPriceData!E$15,CalculationsAndCharts!$A1097+$A$11,IF($C$5,8,0),1,1))","v":""},{"$f":"IF(A1097>$A$8,\"\",OFFSET(InputPriceData!F$15,CalculationsAndCharts!$A1097+$A$11,IF($C$5,8,0),1,1))","v":""},{"$error":"#N/A"},{"$error":"#N/A"},{"$f":"IF($A1097>$J$30,NA(),AVERAGE(H1097:H1100))","v":{"$error":"#N/A"}},{"$error":"#N/A"},null,null,{"$f":"IF($A1097>$J$30,NA(),IF($A1097>$N$30,0,(1-$M$35)*J1097+(2*$M$35-$M$36)*J1098-($M$35+$M$37)*J1099+$M$36*N1098+$M$37*N1099))","v":{"$error":"#N/A"}},{"$error":"#N/A"},{"$error":"#N/A"},{"$error":"#N/A"},null,null,{"$error":"#N/A"},{"$error":"#N/A"},{"$error":"#N/A"},{"$error":"#N/A"},null,null,null,null,null,null,null,null,null,null,null,null,null,null,null,null,null,null,null,null,null,null,null,null,null,null,null,null,null,null,null,"",{"$error":"#N/A"}]
[1066,{"$f":"IF(A1098>$A$8,\"\",OFFSET(InputPriceData!B$15,$A1098+$A$11,0,1,1))","v":""},{"$f":"IF(A1098>$A$8,\"\",OFFSET(InputPriceData!G$15,CalculationsAndCharts!$A1098+$A$11,IF($C$5,8,0),1,1))","v":""},{"$f":"IF(A1098>$A$8,\"\",OFFSET(InputPriceData!C$15,CalculationsAndCharts!$A1098+$A$11,IF($C$5,8,0),1,1))","v":""},{"$f":"IF(A1098>$A$8,\"\",OFFSET(InputPriceData!D$15,CalculationsAndCharts!$A1098+$A$11,IF($C$5,8,0),1,1))","v":""},{"$f":"IF(A1098>$A$8,\"\",OFFSET(InputPriceData!E$15,CalculationsAndCharts!$A1098+$A$11,IF($C$5,8,0),1,1))","v":""},{"$f":"IF(A1098>$A$8,\"\",OFFSET(InputPriceData!F$15,CalculationsAndCharts!$A1098+$A$11,IF($C$5,8,0),1,1))","v":""},{"$error":"#N/A"},{"$error":"#N/A"},{"$f":"IF($A1098>$J$30,NA(),AVERAGE(H1098:H1101))","v":{"$error":"#N/A"}},{"$error":"#N/A"},null,null,{"$f":"IF($A1098>$J$30,NA(),IF($A1098>$N$30,0,(1-$M$35)*J1098+(2*$M$35-$M$36)*J1099-($M$35+$M$37)*J1100+$M$36*N1099+$M$37*N1100))","v":{"$error":"#N/A"}},{"$error":"#N/A"},{"$error":"#N/A"},{"$error":"#N/A"},null,null,{"$error":"#N/A"},{"$error":"#N/A"},{"$error":"#N/A"},{"$error":"#N/A"},null,null,null,null,null,null,null,null,null,null,null,null,null,null,null,null,null,null,null,null,null,null,null,null,null,null,null,null,null,null,null,"",{"$error":"#N/A"}]
[1067,{"$f":"IF(A1099>$A$8,\"\",OFFSET(InputPriceData!B$15,$A1099+$A$11,0,1,1))","v":""},{"$f":"IF(A1099>$A$8,\"\",OFFSET(InputPriceData!G$15,CalculationsAndCharts!$A1099+$A$11,IF($C$5,8,0),1,1))","v":""},{"$f":"IF(A1099>$A$8,\"\",OFFSET(InputPriceData!C$15,CalculationsAndCharts!$A1099+$A$11,IF($C$5,8,0),1,1))","v":""},{"$f":"IF(A1099>$A$8,\"\",OFFSET(InputPriceData!D$15,CalculationsAndCharts!$A1099+$A$11,IF($C$5,8,0),1,1))","v":""},{"$f":"IF(A1099>$A$8,\"\",OFFSET(InputPriceData!E$15,CalculationsAndCharts!$A1099+$A$11,IF($C$5,8,0),1,1))","v":""},{"$f":"IF(A1099>$A$8,\"\",OFFSET(InputPriceData!F$15,CalculationsAndCharts!$A1099+$A$11,IF($C$5,8,0),1,1))","v":""},{"$error":"#N/A"},{"$error":"#N/A"},{"$f":"IF($A1099>$J$30,NA(),AVERAGE(H1099:H1102))","v":{"$error":"#N/A"}},{"$error":"#N/A"},null,null,{"$f":"IF($A1099>$J$30,NA(),IF($A1099>$N$30,0,(1-$M$35)*J1099+(2*$M$35-$M$36)*J1100-($M$35+$M$37)*J1101+$M$36*N1100+$M$37*N1101))","v":{"$error":"#N/A"}},{"$error":"#N/A"},{"$error":"#N/A"},{"$error":"#N/A"},null,null,{"$error":"#N/A"},{"$error":"#N/A"},{"$error":"#N/A"},{"$error":"#N/A"},null,null,null,null,null,null,null,null,null,null,null,null,null,null,null,null,null,null,null,null,null,null,null,null,null,null,null,null,null,null,null,"",{"$error":"#N/A"}]
[1068,{"$f":"IF(A1100>$A$8,\"\",OFFSET(InputPriceData!B$15,$A1100+$A$11,0,1,1))","v":""},{"$f":"IF(A1100>$A$8,\"\",OFFSET(InputPriceData!G$15,CalculationsAndCharts!$A1100+$A$11,IF($C$5,8,0),1,1))","v":""},{"$f":"IF(A1100>$A$8,\"\",OFFSET(InputPriceData!C$15,CalculationsAndCharts!$A1100+$A$11,IF($C$5,8,0),1,1))","v":""},{"$f":"IF(A1100>$A$8,\"\",OFFSET(InputPriceData!D$15,CalculationsAndCharts!$A1100+$A$11,IF($C$5,8,0),1,1))","v":""},{"$f":"IF(A1100>$A$8,\"\",OFFSET(InputPriceData!E$15,CalculationsAndCharts!$A1100+$A$11,IF($C$5,8,0),1,1))","v":""},{"$f":"IF(A1100>$A$8,\"\",OFFSET(InputPriceData!F$15,CalculationsAndCharts!$A1100+$A$11,IF($C$5,8,0),1,1))","v":""},{"$error":"#N/A"},{"$error":"#N/A"},{"$f":"IF($A1100>$J$30,NA(),AVERAGE(H1100:H1103))","v":{"$error":"#N/A"}},{"$error":"#N/A"},null,null,{"$f":"IF($A1100>$J$30,NA(),IF($A1100>$N$30,0,(1-$M$35)*J1100+(2*$M$35-$M$36)*J1101-($M$35+$M$37)*J1102+$M$36*N1101+$M$37*N1102))","v":{"$error":"#N/A"}},{"$error":"#N/A"},{"$error":"#N/A"},{"$error":"#N/A"},null,null,{"$error":"#N/A"},{"$error":"#N/A"},{"$error":"#N/A"},{"$error":"#N/A"},null,null,null,null,null,null,null,null,null,null,null,null,null,null,null,null,null,null,null,null,null,null,null,null,null,null,null,null,null,null,null,"",{"$error":"#N/A"}]
[1069,{"$f":"IF(A1101>$A$8,\"\",OFFSET(InputPriceData!B$15,$A1101+$A$11,0,1,1))","v":""},{"$f":"IF(A1101>$A$8,\"\",OFFSET(InputPriceData!G$15,CalculationsAndCharts!$A1101+$A$11,IF($C$5,8,0),1,1))","v":""},{"$f":"IF(A1101>$A$8,\"\",OFFSET(InputPriceData!C$15,CalculationsAndCharts!$A1101+$A$11,IF($C$5,8,0),1,1))","v":""},{"$f":"IF(A1101>$A$8,\"\",OFFSET(InputPriceData!D$15,CalculationsAndCharts!$A1101+$A$11,IF($C$5,8,0),1,1))","v":""},{"$f":"IF(A1101>$A$8,\"\",OFFSET(InputPriceData!E$15,CalculationsAndCharts!$A1101+$A$11,IF($C$5,8,0),1,1))","v":""},{"$f":"IF(A1101>$A$8,\"\",OFFSET(InputPriceData!F$15,CalculationsAndCharts!$A1101+$A$11,IF($C$5,8,0),1,1))","v":""},{"$error":"#N/A"},{"$error":"#N/A"},{"$f":"IF($A1101>$J$30,NA(),AVERAGE(H1101:H1104))","v":{"$error":"#N/A"}},{"$error":"#N/A"},null,null,{"$f":"IF($A1101>$J$30,NA(),IF($A1101>$N$30,0,(1-$M$35)*J1101+(2*$M$35-$M$36)*J1102-($M$35+$M$37)*J1103+$M$36*N1102+$M$37*N1103))","v":{"$error":"#N/A"}},{"$error":"#N/A"},{"$error":"#N/A"},{"$error":"#N/A"},null,null,{"$error":"#N/A"},{"$error":"#N/A"},{"$error":"#N/A"},{"$error":"#N/A"},null,null,null,null,null,null,null,null,null,null,null,null,null,null,null,null,null,null,null,null,null,null,null,null,null,null,null,null,null,null,null,"",{"$error":"#N/A"}]
[1070,{"$f":"IF(A1102>$A$8,\"\",OFFSET(InputPriceData!B$15,$A1102+$A$11,0,1,1))","v":""},{"$f":"IF(A1102>$A$8,\"\",OFFSET(InputPriceData!G$15,CalculationsAndCharts!$A1102+$A$11,IF($C$5,8,0),1,1))","v":""},{"$f":"IF(A1102>$A$8,\"\",OFFSET(InputPriceData!C$15,CalculationsAndCharts!$A1102+$A$11,IF($C$5,8,0),1,1))","v":""},{"$f":"IF(A1102>$A$8,\"\",OFFSET(InputPriceData!D$15,CalculationsAndCharts!$A1102+$A$11,IF($C$5,8,0),1,1))","v":""},{"$f":"IF(A1102>$A$8,\"\",OFFSET(InputPriceData!E$15,CalculationsAndCharts!$A1102+$A$11,IF($C$5,8,0),1,1))","v":""},{"$f":"IF(A1102>$A$8,\"\",OFFSET(InputPriceData!F$15,CalculationsAndCharts!$A1102+$A$11,IF($C$5,8,0),1,1))","v":""},{"$error":"#N/A"},{"$error":"#N/A"},{"$f":"IF($A1102>$J$30,NA(),AVERAGE(H1102:H1105))","v":{"$error":"#N/A"}},{"$error":"#N/A"},null,null,{"$f":"IF($A1102>$J$30,NA(),IF($A1102>$N$30,0,(1-$M$35)*J1102+(2*$M$35-$M$36)*J1103-($M$35+$M$37)*J1104+$M$36*N1103+$M$37*N1104))","v":{"$error":"#N/A"}},{"$error":"#N/A"},{"$error":"#N/A"},{"$error":"#N/A"},null,null,{"$error":"#N/A"},{"$error":"#N/A"},{"$error":"#N/A"},{"$error":"#N/A"},null,null,null,null,null,null,null,null,null,null,null,null,null,null,null,null,null,null,null,null,null,null,null,null,null,null,null,null,null,null,null,"",{"$error":"#N/A"}]
[1071,{"$f":"IF(A1103>$A$8,\"\",OFFSET(InputPriceData!B$15,$A1103+$A$11,0,1,1))","v":""},{"$f":"IF(A1103>$A$8,\"\",OFFSET(InputPriceData!G$15,CalculationsAndCharts!$A1103+$A$11,IF($C$5,8,0),1,1))","v":""},{"$f":"IF(A1103>$A$8,\"\",OFFSET(InputPriceData!C$15,CalculationsAndCharts!$A1103+$A$11,IF($C$5,8,0),1,1))","v":""},{"$f":"IF(A1103>$A$8,\"\",OFFSET(InputPriceData!D$15,CalculationsAndCharts!$A1103+$A$11,IF($C$5,8,0),1,1))","v":""},{"$f":"IF(A1103>$A$8,\"\",OFFSET(InputPriceData!E$15,CalculationsAndCharts!$A1103+$A$11,IF($C$5,8,0),1,1))","v":""},{"$f":"IF(A1103>$A$8,\"\",OFFSET(InputPriceData!F$15,CalculationsAndCharts!$A1103+$A$11,IF($C$5,8,0),1,1))","v":""},{"$error":"#N/A"},{"$error":"#N/A"},{"$f":"IF($A1103>$J$30,NA(),AVERAGE(H1103:H1106))","v":{"$error":"#N/A"}},{"$error":"#N/A"},null,null,{"$f":"IF($A1103>$J$30,NA(),IF($A1103>$N$30,0,(1-$M$35)*J1103+(2*$M$35-$M$36)*J1104-($M$35+$M$37)*J1105+$M$36*N1104+$M$37*N1105))","v":{"$error":"#N/A"}},{"$error":"#N/A"},{"$error":"#N/A"},{"$error":"#N/A"},null,null,{"$error":"#N/A"},{"$error":"#N/A"},{"$error":"#N/A"},{"$error":"#N/A"},null,null,null,null,null,null,null,null,null,null,null,null,null,null,null,null,null,null,null,null,null,null,null,null,null,null,null,null,null,null,null,"",{"$error":"#N/A"}]
[1072,{"$f":"IF(A1104>$A$8,\"\",OFFSET(InputPriceData!B$15,$A1104+$A$11,0,1,1))","v":""},{"$f":"IF(A1104>$A$8,\"\",OFFSET(InputPriceData!G$15,CalculationsAndCharts!$A1104+$A$11,IF($C$5,8,0),1,1))","v":""},{"$f":"IF(A1104>$A$8,\"\",OFFSET(InputPriceData!C$15,CalculationsAndCharts!$A1104+$A$11,IF($C$5,8,0),1,1))","v":""},{"$f":"IF(A1104>$A$8,\"\",OFFSET(InputPriceData!D$15,CalculationsAndCharts!$A1104+$A$11,IF($C$5,8,0),1,1))","v":""},{"$f":"IF(A1104>$A$8,\"\",OFFSET(InputPriceData!E$15,CalculationsAndCharts!$A1104+$A$11,IF($C$5,8,0),1,1))","v":""},{"$f":"IF(A1104>$A$8,\"\",OFFSET(InputPriceData!F$15,CalculationsAndCharts!$A1104+$A$11,IF($C$5,8,0),1,1))","v":""},{"$error":"#N/A"},{"$error":"#N/A"},{"$f":"IF($A1104>$J$30,NA(),AVERAGE(H1104:H1107))","v":{"$error":"#N/A"}},{"$error":"#N/A"},null,null,{"$f":"IF($A1104>$J$30,NA(),IF($A1104>$N$30,0,(1-$M$35)*J1104+(2*$M$35-$M$36)*J1105-($M$35+$M$37)*J1106+$M$36*N1105+$M$37*N1106))","v":{"$error":"#N/A"}},{"$error":"#N/A"},{"$error":"#N/A"},{"$error":"#N/A"},null,null,{"$error":"#N/A"},{"$error":"#N/A"},{"$error":"#N/A"},{"$error":"#N/A"},null,null,null,null,null,null,null,null,null,null,null,null,null,null,null,null,null,null,null,null,null,null,null,null,null,null,null,null,null,null,null,"",{"$error":"#N/A"}]
[1073,{"$f":"IF(A1105>$A$8,\"\",OFFSET(InputPriceData!B$15,$A1105+$A$11,0,1,1))","v":""},{"$f":"IF(A1105>$A$8,\"\",OFFSET(InputPriceData!G$15,CalculationsAndCharts!$A1105+$A$11,IF($C$5,8,0),1,1))","v":""},{"$f":"IF(A1105>$A$8,\"\",OFFSET(InputPriceData!C$15,CalculationsAndCharts!$A1105+$A$11,IF($C$5,8,0),1,1))","v":""},{"$f":"IF(A1105>$A$8,\"\",OFFSET(InputPriceData!D$15,CalculationsAndCharts!$A1105+$A$11,IF($C$5,8,0),1,1))","v":""},{"$f":"IF(A1105>$A$8,\"\",OFFSET(InputPriceData!E$15,CalculationsAndCharts!$A1105+$A$11,IF($C$5,8,0),1,1))","v":""},{"$f":"IF(A1105>$A$8,\"\",OFFSET(InputPriceData!F$15,CalculationsAndCharts!$A1105+$A$11,IF($C$5,8,0),1,1))","v":""},{"$error":"#N/A"},{"$error":"#N/A"},{"$f":"IF($A1105>$J$30,NA(),AVERAGE(H1105:H1108))","v":{"$error":"#N/A"}},{"$error":"#N/A"},null,null,{"$f":"IF($A1105>$J$30,NA(),IF($A1105>$N$30,0,(1-$M$35)*J1105+(2*$M$35-$M$36)*J1106-($M$35+$M$37)*J1107+$M$36*N1106+$M$37*N1107))","v":{"$error":"#N/A"}},{"$error":"#N/A"},{"$error":"#N/A"},{"$error":"#N/A"},null,null,{"$error":"#N/A"},{"$error":"#N/A"},{"$error":"#N/A"},{"$error":"#N/A"},null,null,null,null,null,null,null,null,null,null,null,null,null,null,null,null,null,null,null,null,null,null,null,null,null,null,null,null,null,null,null,"",{"$error":"#N/A"}]
[1074,{"$f":"IF(A1106>$A$8,\"\",OFFSET(InputPriceData!B$15,$A1106+$A$11,0,1,1))","v":""},{"$f":"IF(A1106>$A$8,\"\",OFFSET(InputPriceData!G$15,CalculationsAndCharts!$A1106+$A$11,IF($C$5,8,0),1,1))","v":""},{"$f":"IF(A1106>$A$8,\"\",OFFSET(InputPriceData!C$15,CalculationsAndCharts!$A1106+$A$11,IF($C$5,8,0),1,1))","v":""},{"$f":"IF(A1106>$A$8,\"\",OFFSET(InputPriceData!D$15,CalculationsAndCharts!$A1106+$A$11,IF($C$5,8,0),1,1))","v":""},{"$f":"IF(A1106>$A$8,\"\",OFFSET(InputPriceData!E$15,CalculationsAndCharts!$A1106+$A$11,IF($C$5,8,0),1,1))","v":""},{"$f":"IF(A1106>$A$8,\"\",OFFSET(InputPriceData!F$15,CalculationsAndCharts!$A1106+$A$11,IF($C$5,8,0),1,1))","v":""},{"$error":"#N/A"},{"$error":"#N/A"},{"$f":"IF($A1106>$J$30,NA(),AVERAGE(H1106:H1109))","v":{"$error":"#N/A"}},{"$error":"#N/A"},null,null,{"$f":"IF($A1106>$J$30,NA(),IF($A1106>$N$30,0,(1-$M$35)*J1106+(2*$M$35-$M$36)*J1107-($M$35+$M$37)*J1108+$M$36*N1107+$M$37*N1108))","v":{"$error":"#N/A"}},{"$error":"#N/A"},{"$error":"#N/A"},{"$error":"#N/A"},null,null,{"$error":"#N/A"},{"$error":"#N/A"},{"$error":"#N/A"},{"$error":"#N/A"},null,null,null,null,null,null,null,null,null,null,null,null,null,null,null,null,null,null,null,null,null,null,null,null,null,null,null,null,null,null,null,"",{"$error":"#N/A"}]
[1075,{"$f":"IF(A1107>$A$8,\"\",OFFSET(InputPriceData!B$15,$A1107+$A$11,0,1,1))","v":""},{"$f":"IF(A1107>$A$8,\"\",OFFSET(InputPriceData!G$15,CalculationsAndCharts!$A1107+$A$11,IF($C$5,8,0),1,1))","v":""},{"$f":"IF(A1107>$A$8,\"\",OFFSET(InputPriceData!C$15,CalculationsAndCharts!$A1107+$A$11,IF($C$5,8,0),1,1))","v":""},{"$f":"IF(A1107>$A$8,\"\",OFFSET(InputPriceData!D$15,CalculationsAndCharts!$A1107+$A$11,IF($C$5,8,0),1,1))","v":""},{"$f":"IF(A1107>$A$8,\"\",OFFSET(InputPriceData!E$15,CalculationsAndCharts!$A1107+$A$11,IF($C$5,8,0),1,1))","v":""},{"$f":"IF(A1107>$A$8,\"\",OFFSET(InputPriceData!F$15,CalculationsAndCharts!$A1107+$A$11,IF($C$5,8,0),1,1))","v":""},{"$error":"#N/A"},{"$error":"#N/A"},{"$f":"IF($A1107>$J$30,NA(),AVERAGE(H1107:H1110))","v":{"$error":"#N/A"}},{"$error":"#N/A"},null,null,{"$f":"IF($A1107>$J$30,NA(),IF($A1107>$N$30,0,(1-$M$35)*J1107+(2*$M$35-$M$36)*J1108-($M$35+$M$37)*J1109+$M$36*N1108+$M$37*N1109))","v":{"$error":"#N/A"}},{"$error":"#N/A"},{"$error":"#N/A"},{"$error":"#N/A"},null,null,{"$error":"#N/A"},{"$error":"#N/A"},{"$error":"#N/A"},{"$error":"#N/A"},null,null,null,null,null,null,null,null,null,null,null,null,null,null,null,null,null,null,null,null,null,null,null,null,null,null,null,null,null,null,null,"",{"$error":"#N/A"}]
[1076,{"$f":"IF(A1108>$A$8,\"\",OFFSET(InputPriceData!B$15,$A1108+$A$11,0,1,1))","v":""},{"$f":"IF(A1108>$A$8,\"\",OFFSET(InputPriceData!G$15,CalculationsAndCharts!$A1108+$A$11,IF($C$5,8,0),1,1))","v":""},{"$f":"IF(A1108>$A$8,\"\",OFFSET(InputPriceData!C$15,CalculationsAndCharts!$A1108+$A$11,IF($C$5,8,0),1,1))","v":""},{"$f":"IF(A1108>$A$8,\"\",OFFSET(InputPriceData!D$15,CalculationsAndCharts!$A1108+$A$11,IF($C$5,8,0),1,1))","v":""},{"$f":"IF(A1108>$A$8,\"\",OFFSET(InputPriceData!E$15,CalculationsAndCharts!$A1108+$A$11,IF($C$5,8,0),1,1))","v":""},{"$f":"IF(A1108>$A$8,\"\",OFFSET(InputPriceData!F$15,CalculationsAndCharts!$A1108+$A$11,IF($C$5,8,0),1,1))","v":""},{"$error":"#N/A"},{"$error":"#N/A"},{"$f":"IF($A1108>$J$30,NA(),AVERAGE(H1108:H1111))","v":{"$error":"#N/A"}},{"$error":"#N/A"},null,null,{"$f":"IF($A1108>$J$30,NA(),IF($A1108>$N$30,0,(1-$M$35)*J1108+(2*$M$35-$M$36)*J1109-($M$35+$M$37)*J1110+$M$36*N1109+$M$37*N1110))","v":{"$error":"#N/A"}},{"$error":"#N/A"},{"$error":"#N/A"},{"$error":"#N/A"},null,null,{"$error":"#N/A"},{"$error":"#N/A"},{"$error":"#N/A"},{"$error":"#N/A"},null,null,null,null,null,null,null,null,null,null,null,null,null,null,null,null,null,null,null,null,null,null,null,null,null,null,null,null,null,null,null,"",{"$error":"#N/A"}]
[1077,{"$f":"IF(A1109>$A$8,\"\",OFFSET(InputPriceData!B$15,$A1109+$A$11,0,1,1))","v":""},{"$f":"IF(A1109>$A$8,\"\",OFFSET(InputPriceData!G$15,CalculationsAndCharts!$A1109+$A$11,IF($C$5,8,0),1,1))","v":""},{"$f":"IF(A1109>$A$8,\"\",OFFSET(InputPriceData!C$15,CalculationsAndCharts!$A1109+$A$11,IF($C$5,8,0),1,1))","v":""},{"$f":"IF(A1109>$A$8,\"\",OFFSET(InputPriceData!D$15,CalculationsAndCharts!$A1109+$A$11,IF($C$5,8,0),1,1))","v":""},{"$f":"IF(A1109>$A$8,\"\",OFFSET(InputPriceData!E$15,CalculationsAndCharts!$A1109+$A$11,IF($C$5,8,0),1,1))","v":""},{"$f":"IF(A1109>$A$8,\"\",OFFSET(InputPriceData!F$15,CalculationsAndCharts!$A1109+$A$11,IF($C$5,8,0),1,1))","v":""},{"$error":"#N/A"},{"$error":"#N/A"},{"$f":"IF($A1109>$J$30,NA(),AVERAGE(H1109:H1112))","v":{"$error":"#N/A"}},{"$error":"#N/A"},null,null,{"$f":"IF($A1109>$J$30,NA(),IF($A1109>$N$30,0,(1-$M$35)*J1109+(2*$M$35-$M$36)*J1110-($M$35+$M$37)*J1111+$M$36*N1110+$M$37*N1111))","v":{"$error":"#N/A"}},{"$error":"#N/A"},{"$error":"#N/A"},{"$error":"#N/A"},null,null,{"$error":"#N/A"},{"$error":"#N/A"},{"$error":"#N/A"},{"$error":"#N/A"},null,null,null,null,null,null,null,null,null,null,null,null,null,null,null,null,null,null,null,null,null,null,null,null,null,null,null,null,null,null,null,"",{"$error":"#N/A"}]
[1078,{"$f":"IF(A1110>$A$8,\"\",OFFSET(InputPriceData!B$15,$A1110+$A$11,0,1,1))","v":""},{"$f":"IF(A1110>$A$8,\"\",OFFSET(InputPriceData!G$15,CalculationsAndCharts!$A1110+$A$11,IF($C$5,8,0),1,1))","v":""},{"$f":"IF(A1110>$A$8,\"\",OFFSET(InputPriceData!C$15,CalculationsAndCharts!$A1110+$A$11,IF($C$5,8,0),1,1))","v":""},{"$f":"IF(A1110>$A$8,\"\",OFFSET(InputPriceData!D$15,CalculationsAndCharts!$A1110+$A$11,IF($C$5,8,0),1,1))","v":""},{"$f":"IF(A1110>$A$8,\"\",OFFSET(InputPriceData!E$15,CalculationsAndCharts!$A1110+$A$11,IF($C$5,8,0),1,1))","v":""},{"$f":"IF(A1110>$A$8,\"\",OFFSET(InputPriceData!F$15,CalculationsAndCharts!$A1110+$A$11,IF($C$5,8,0),1,1))","v":""},{"$error":"#N/A"},{"$error":"#N/A"},{"$f":"IF($A1110>$J$30,NA(),AVERAGE(H1110:H1113))","v":{"$error":"#N/A"}},{"$error":"#N/A"},null,null,{"$f":"IF($A1110>$J$30,NA(),IF($A1110>$N$30,0,(1-$M$35)*J1110+(2*$M$35-$M$36)*J1111-($M$35+$M$37)*J1112+$M$36*N1111+$M$37*N1112))","v":{"$error":"#N/A"}},{"$error":"#N/A"},{"$error":"#N/A"},{"$error":"#N/A"},null,null,{"$error":"#N/A"},{"$error":"#N/A"},{"$error":"#N/A"},{"$error":"#N/A"},null,null,null,null,null,null,null,null,null,null,null,null,null,null,null,null,null,null,null,null,null,null,null,null,null,null,null,null,null,null,null,"",{"$error":"#N/A"}]
[1079,{"$f":"IF(A1111>$A$8,\"\",OFFSET(InputPriceData!B$15,$A1111+$A$11,0,1,1))","v":""},{"$f":"IF(A1111>$A$8,\"\",OFFSET(InputPriceData!G$15,CalculationsAndCharts!$A1111+$A$11,IF($C$5,8,0),1,1))","v":""},{"$f":"IF(A1111>$A$8,\"\",OFFSET(InputPriceData!C$15,CalculationsAndCharts!$A1111+$A$11,IF($C$5,8,0),1,1))","v":""},{"$f":"IF(A1111>$A$8,\"\",OFFSET(InputPriceData!D$15,CalculationsAndCharts!$A1111+$A$11,IF($C$5,8,0),1,1))","v":""},{"$f":"IF(A1111>$A$8,\"\",OFFSET(InputPriceData!E$15,CalculationsAndCharts!$A1111+$A$11,IF($C$5,8,0),1,1))","v":""},{"$f":"IF(A1111>$A$8,\"\",OFFSET(InputPriceData!F$15,CalculationsAndCharts!$A1111+$A$11,IF($C$5,8,0),1,1))","v":""},{"$error":"#N/A"},{"$error":"#N/A"},{"$f":"IF($A1111>$J$30,NA(),AVERAGE(H1111:H1114))","v":{"$error":"#N/A"}},{"$error":"#N/A"},null,null,{"$f":"IF($A1111>$J$30,NA(),IF($A1111>$N$30,0,(1-$M$35)*J1111+(2*$M$35-$M$36)*J1112-($M$35+$M$37)*J1113+$M$36*N1112+$M$37*N1113))","v":{"$error":"#N/A"}},{"$error":"#N/A"},{"$error":"#N/A"},{"$error":"#N/A"},null,null,{"$error":"#N/A"},{"$error":"#N/A"},{"$error":"#N/A"},{"$error":"#N/A"},null,null,null,null,null,null,null,null,null,null,null,null,null,null,null,null,null,null,null,null,null,null,null,null,null,null,null,null,null,null,null,"",{"$error":"#N/A"}]
[1080,{"$f":"IF(A1112>$A$8,\"\",OFFSET(InputPriceData!B$15,$A1112+$A$11,0,1,1))","v":""},{"$f":"IF(A1112>$A$8,\"\",OFFSET(InputPriceData!G$15,CalculationsAndCharts!$A1112+$A$11,IF($C$5,8,0),1,1))","v":""},{"$f":"IF(A1112>$A$8,\"\",OFFSET(InputPriceData!C$15,CalculationsAndCharts!$A1112+$A$11,IF($C$5,8,0),1,1))","v":""},{"$f":"IF(A1112>$A$8,\"\",OFFSET(InputPriceData!D$15,CalculationsAndCharts!$A1112+$A$11,IF($C$5,8,0),1,1))","v":""},{"$f":"IF(A1112>$A$8,\"\",OFFSET(InputPriceData!E$15,CalculationsAndCharts!$A1112+$A$11,IF($C$5,8,0),1,1))","v":""},{"$f":"IF(A1112>$A$8,\"\",OFFSET(InputPriceData!F$15,CalculationsAndCharts!$A1112+$A$11,IF($C$5,8,0),1,1))","v":""},{"$error":"#N/A"},{"$error":"#N/A"},{"$f":"IF($A1112>$J$30,NA(),AVERAGE(H1112:H1115))","v":{"$error":"#N/A"}},{"$error":"#N/A"},null,null,{"$f":"IF($A1112>$J$30,NA(),IF($A1112>$N$30,0,(1-$M$35)*J1112+(2*$M$35-$M$36)*J1113-($M$35+$M$37)*J1114+$M$36*N1113+$M$37*N1114))","v":{"$error":"#N/A"}},{"$error":"#N/A"},{"$error":"#N/A"},{"$error":"#N/A"},null,null,{"$error":"#N/A"},{"$error":"#N/A"},{"$error":"#N/A"},{"$error":"#N/A"},null,null,null,null,null,null,null,null,null,null,null,null,null,null,null,null,null,null,null,null,null,null,null,null,null,null,null,null,null,null,null,"",{"$error":"#N/A"}]
[1081,{"$f":"IF(A1113>$A$8,\"\",OFFSET(InputPriceData!B$15,$A1113+$A$11,0,1,1))","v":""},{"$f":"IF(A1113>$A$8,\"\",OFFSET(InputPriceData!G$15,CalculationsAndCharts!$A1113+$A$11,IF($C$5,8,0),1,1))","v":""},{"$f":"IF(A1113>$A$8,\"\",OFFSET(InputPriceData!C$15,CalculationsAndCharts!$A1113+$A$11,IF($C$5,8,0),1,1))","v":""},{"$f":"IF(A1113>$A$8,\"\",OFFSET(InputPriceData!D$15,CalculationsAndCharts!$A1113+$A$11,IF($C$5,8,0),1,1))","v":""},{"$f":"IF(A1113>$A$8,\"\",OFFSET(InputPriceData!E$15,CalculationsAndCharts!$A1113+$A$11,IF($C$5,8,0),1,1))","v":""},{"$f":"IF(A1113>$A$8,\"\",OFFSET(InputPriceData!F$15,CalculationsAndCharts!$A1113+$A$11,IF($C$5,8,0),1,1))","v":""},{"$error":"#N/A"},{"$error":"#N/A"},{"$f":"IF($A1113>$J$30,NA(),AVERAGE(H1113:H1116))","v":{"$error":"#N/A"}},{"$error":"#N/A"},null,null,{"$f":"IF($A1113>$J$30,NA(),IF($A1113>$N$30,0,(1-$M$35)*J1113+(2*$M$35-$M$36)*J1114-($M$35+$M$37)*J1115+$M$36*N1114+$M$37*N1115))","v":{"$error":"#N/A"}},{"$error":"#N/A"},{"$error":"#N/A"},{"$error":"#N/A"},null,null,{"$error":"#N/A"},{"$error":"#N/A"},{"$error":"#N/A"},{"$error":"#N/A"},null,null,null,null,null,null,null,null,null,null,null,null,null,null,null,null,null,null,null,null,null,null,null,null,null,null,null,null,null,null,null,"",{"$error":"#N/A"}]
[1082,{"$f":"IF(A1114>$A$8,\"\",OFFSET(InputPriceData!B$15,$A1114+$A$11,0,1,1))","v":""},{"$f":"IF(A1114>$A$8,\"\",OFFSET(InputPriceData!G$15,CalculationsAndCharts!$A1114+$A$11,IF($C$5,8,0),1,1))","v":""},{"$f":"IF(A1114>$A$8,\"\",OFFSET(InputPriceData!C$15,CalculationsAndCharts!$A1114+$A$11,IF($C$5,8,0),1,1))","v":""},{"$f":"IF(A1114>$A$8,\"\",OFFSET(InputPriceData!D$15,CalculationsAndCharts!$A1114+$A$11,IF($C$5,8,0),1,1))","v":""},{"$f":"IF(A1114>$A$8,\"\",OFFSET(InputPriceData!E$15,CalculationsAndCharts!$A1114+$A$11,IF($C$5,8,0),1,1))","v":""},{"$f":"IF(A1114>$A$8,\"\",OFFSET(InputPriceData!F$15,CalculationsAndCharts!$A1114+$A$11,IF($C$5,8,0),1,1))","v":""},{"$error":"#N/A"},{"$error":"#N/A"},{"$f":"IF($A1114>$J$30,NA(),AVERAGE(H1114:H1117))","v":{"$error":"#N/A"}},{"$error":"#N/A"},null,null,{"$f":"IF($A1114>$J$30,NA(),IF($A1114>$N$30,0,(1-$M$35)*J1114+(2*$M$35-$M$36)*J1115-($M$35+$M$37)*J1116+$M$36*N1115+$M$37*N1116))","v":{"$error":"#N/A"}},{"$error":"#N/A"},{"$error":"#N/A"},{"$error":"#N/A"},null,null,{"$error":"#N/A"},{"$error":"#N/A"},{"$error":"#N/A"},{"$error":"#N/A"},null,null,null,null,null,null,null,null,null,null,null,null,null,null,null,null,null,null,null,null,null,null,null,null,null,null,null,null,null,null,null,"",{"$error":"#N/A"}]
[1083,{"$f":"IF(A1115>$A$8,\"\",OFFSET(InputPriceData!B$15,$A1115+$A$11,0,1,1))","v":""},{"$f":"IF(A1115>$A$8,\"\",OFFSET(InputPriceData!G$15,CalculationsAndCharts!$A1115+$A$11,IF($C$5,8,0),1,1))","v":""},{"$f":"IF(A1115>$A$8,\"\",OFFSET(InputPriceData!C$15,CalculationsAndCharts!$A1115+$A$11,IF($C$5,8,0),1,1))","v":""},{"$f":"IF(A1115>$A$8,\"\",OFFSET(InputPriceData!D$15,CalculationsAndCharts!$A1115+$A$11,IF($C$5,8,0),1,1))","v":""},{"$f":"IF(A1115>$A$8,\"\",OFFSET(InputPriceData!E$15,CalculationsAndCharts!$A1115+$A$11,IF($C$5,8,0),1,1))","v":""},{"$f":"IF(A1115>$A$8,\"\",OFFSET(InputPriceData!F$15,CalculationsAndCharts!$A1115+$A$11,IF($C$5,8,0),1,1))","v":""},{"$error":"#N/A"},{"$error":"#N/A"},{"$f":"IF($A1115>$J$30,NA(),AVERAGE(H1115:H1118))","v":{"$error":"#N/A"}},{"$error":"#N/A"},null,null,{"$f":"IF($A1115>$J$30,NA(),IF($A1115>$N$30,0,(1-$M$35)*J1115+(2*$M$35-$M$36)*J1116-($M$35+$M$37)*J1117+$M$36*N1116+$M$37*N1117))","v":{"$error":"#N/A"}},{"$error":"#N/A"},{"$error":"#N/A"},{"$error":"#N/A"},null,null,{"$error":"#N/A"},{"$error":"#N/A"},{"$error":"#N/A"},{"$error":"#N/A"},null,null,null,null,null,null,null,null,null,null,null,null,null,null,null,null,null,null,null,null,null,null,null,null,null,null,null,null,null,null,null,"",{"$error":"#N/A"}]
[1084,{"$f":"IF(A1116>$A$8,\"\",OFFSET(InputPriceData!B$15,$A1116+$A$11,0,1,1))","v":""},{"$f":"IF(A1116>$A$8,\"\",OFFSET(InputPriceData!G$15,CalculationsAndCharts!$A1116+$A$11,IF($C$5,8,0),1,1))","v":""},{"$f":"IF(A1116>$A$8,\"\",OFFSET(InputPriceData!C$15,CalculationsAndCharts!$A1116+$A$11,IF($C$5,8,0),1,1))","v":""},{"$f":"IF(A1116>$A$8,\"\",OFFSET(InputPriceData!D$15,CalculationsAndCharts!$A1116+$A$11,IF($C$5,8,0),1,1))","v":""},{"$f":"IF(A1116>$A$8,\"\",OFFSET(InputPriceData!E$15,CalculationsAndCharts!$A1116+$A$11,IF($C$5,8,0),1,1))","v":""},{"$f":"IF(A1116>$A$8,\"\",OFFSET(InputPriceData!F$15,CalculationsAndCharts!$A1116+$A$11,IF($C$5,8,0),1,1))","v":""},{"$error":"#N/A"},{"$error":"#N/A"},{"$f":"IF($A1116>$J$30,NA(),AVERAGE(H1116:H1119))","v":{"$error":"#N/A"}},{"$error":"#N/A"},null,null,{"$f":"IF($A1116>$J$30,NA(),IF($A1116>$N$30,0,(1-$M$35)*J1116+(2*$M$35-$M$36)*J1117-($M$35+$M$37)*J1118+$M$36*N1117+$M$37*N1118))","v":{"$error":"#N/A"}},{"$error":"#N/A"},{"$error":"#N/A"},{"$error":"#N/A"},null,null,{"$error":"#N/A"},{"$error":"#N/A"},{"$error":"#N/A"},{"$error":"#N/A"},null,null,null,null,null,null,null,null,null,null,null,null,null,null,null,null,null,null,null,null,null,null,null,null,null,null,null,null,null,null,null,"",{"$error":"#N/A"}]
[1085,{"$f":"IF(A1117>$A$8,\"\",OFFSET(InputPriceData!B$15,$A1117+$A$11,0,1,1))","v":""},{"$f":"IF(A1117>$A$8,\"\",OFFSET(InputPriceData!G$15,CalculationsAndCharts!$A1117+$A$11,IF($C$5,8,0),1,1))","v":""},{"$f":"IF(A1117>$A$8,\"\",OFFSET(InputPriceData!C$15,CalculationsAndCharts!$A1117+$A$11,IF($C$5,8,0),1,1))","v":""},{"$f":"IF(A1117>$A$8,\"\",OFFSET(InputPriceData!D$15,CalculationsAndCharts!$A1117+$A$11,IF($C$5,8,0),1,1))","v":""},{"$f":"IF(A1117>$A$8,\"\",OFFSET(InputPriceData!E$15,CalculationsAndCharts!$A1117+$A$11,IF($C$5,8,0),1,1))","v":""},{"$f":"IF(A1117>$A$8,\"\",OFFSET(InputPriceData!F$15,CalculationsAndCharts!$A1117+$A$11,IF($C$5,8,0),1,1))","v":""},{"$error":"#N/A"},{"$error":"#N/A"},{"$f":"IF($A1117>$J$30,NA(),AVERAGE(H1117:H1120))","v":{"$error":"#N/A"}},{"$error":"#N/A"},null,null,{"$f":"IF($A1117>$J$30,NA(),IF($A1117>$N$30,0,(1-$M$35)*J1117+(2*$M$35-$M$36)*J1118-($M$35+$M$37)*J1119+$M$36*N1118+$M$37*N1119))","v":{"$error":"#N/A"}},{"$error":"#N/A"},{"$error":"#N/A"},{"$error":"#N/A"},null,null,{"$error":"#N/A"},{"$error":"#N/A"},{"$error":"#N/A"},{"$error":"#N/A"},null,null,null,null,null,null,null,null,null,null,null,null,null,null,null,null,null,null,null,null,null,null,null,null,null,null,null,null,null,null,null,"",{"$error":"#N/A"}]
[1086,{"$f":"IF(A1118>$A$8,\"\",OFFSET(InputPriceData!B$15,$A1118+$A$11,0,1,1))","v":""},{"$f":"IF(A1118>$A$8,\"\",OFFSET(InputPriceData!G$15,CalculationsAndCharts!$A1118+$A$11,IF($C$5,8,0),1,1))","v":""},{"$f":"IF(A1118>$A$8,\"\",OFFSET(InputPriceData!C$15,CalculationsAndCharts!$A1118+$A$11,IF($C$5,8,0),1,1))","v":""},{"$f":"IF(A1118>$A$8,\"\",OFFSET(InputPriceData!D$15,CalculationsAndCharts!$A1118+$A$11,IF($C$5,8,0),1,1))","v":""},{"$f":"IF(A1118>$A$8,\"\",OFFSET(InputPriceData!E$15,CalculationsAndCharts!$A1118+$A$11,IF($C$5,8,0),1,1))","v":""},{"$f":"IF(A1118>$A$8,\"\",OFFSET(InputPriceData!F$15,CalculationsAndCharts!$A1118+$A$11,IF($C$5,8,0),1,1))","v":""},{"$error":"#N/A"},{"$error":"#N/A"},{"$f":"IF($A1118>$J$30,NA(),AVERAGE(H1118:H1121))","v":{"$error":"#N/A"}},{"$error":"#N/A"},null,null,{"$f":"IF($A1118>$J$30,NA(),IF($A1118>$N$30,0,(1-$M$35)*J1118+(2*$M$35-$M$36)*J1119-($M$35+$M$37)*J1120+$M$36*N1119+$M$37*N1120))","v":{"$error":"#N/A"}},{"$error":"#N/A"},{"$error":"#N/A"},{"$error":"#N/A"},null,null,{"$error":"#N/A"},{"$error":"#N/A"},{"$error":"#N/A"},{"$error":"#N/A"},null,null,null,null,null,null,null,null,null,null,null,null,null,null,null,null,null,null,null,null,null,null,null,null,null,null,null,null,null,null,null,"",{"$error":"#N/A"}]
[1087,{"$f":"IF(A1119>$A$8,\"\",OFFSET(InputPriceData!B$15,$A1119+$A$11,0,1,1))","v":""},{"$f":"IF(A1119>$A$8,\"\",OFFSET(InputPriceData!G$15,CalculationsAndCharts!$A1119+$A$11,IF($C$5,8,0),1,1))","v":""},{"$f":"IF(A1119>$A$8,\"\",OFFSET(InputPriceData!C$15,CalculationsAndCharts!$A1119+$A$11,IF($C$5,8,0),1,1))","v":""},{"$f":"IF(A1119>$A$8,\"\",OFFSET(InputPriceData!D$15,CalculationsAndCharts!$A1119+$A$11,IF($C$5,8,0),1,1))","v":""},{"$f":"IF(A1119>$A$8,\"\",OFFSET(InputPriceData!E$15,CalculationsAndCharts!$A1119+$A$11,IF($C$5,8,0),1,1))","v":""},{"$f":"IF(A1119>$A$8,\"\",OFFSET(InputPriceData!F$15,CalculationsAndCharts!$A1119+$A$11,IF($C$5,8,0),1,1))","v":""},{"$error":"#N/A"},{"$error":"#N/A"},{"$f":"IF($A1119>$J$30,NA(),AVERAGE(H1119:H1122))","v":{"$error":"#N/A"}},{"$error":"#N/A"},null,null,{"$f":"IF($A1119>$J$30,NA(),IF($A1119>$N$30,0,(1-$M$35)*J1119+(2*$M$35-$M$36)*J1120-($M$35+$M$37)*J1121+$M$36*N1120+$M$37*N1121))","v":{"$error":"#N/A"}},{"$error":"#N/A"},{"$error":"#N/A"},{"$error":"#N/A"},null,null,{"$error":"#N/A"},{"$error":"#N/A"},{"$error":"#N/A"},{"$error":"#N/A"},null,null,null,null,null,null,null,null,null,null,null,null,null,null,null,null,null,null,null,null,null,null,null,null,null,null,null,null,null,null,null,"",{"$error":"#N/A"}]
[1088,{"$f":"IF(A1120>$A$8,\"\",OFFSET(InputPriceData!B$15,$A1120+$A$11,0,1,1))","v":""},{"$f":"IF(A1120>$A$8,\"\",OFFSET(InputPriceData!G$15,CalculationsAndCharts!$A1120+$A$11,IF($C$5,8,0),1,1))","v":""},{"$f":"IF(A1120>$A$8,\"\",OFFSET(InputPriceData!C$15,CalculationsAndCharts!$A1120+$A$11,IF($C$5,8,0),1,1))","v":""},{"$f":"IF(A1120>$A$8,\"\",OFFSET(InputPriceData!D$15,CalculationsAndCharts!$A1120+$A$11,IF($C$5,8,0),1,1))","v":""},{"$f":"IF(A1120>$A$8,\"\",OFFSET(InputPriceData!E$15,CalculationsAndCharts!$A1120+$A$11,IF($C$5,8,0),1,1))","v":""},{"$f":"IF(A1120>$A$8,\"\",OFFSET(InputPriceData!F$15,CalculationsAndCharts!$A1120+$A$11,IF($C$5,8,0),1,1))","v":""},{"$error":"#N/A"},{"$error":"#N/A"},{"$f":"IF($A1120>$J$30,NA(),AVERAGE(H1120:H1123))","v":{"$error":"#N/A"}},{"$error":"#N/A"},null,null,{"$f":"IF($A1120>$J$30,NA(),IF($A1120>$N$30,0,(1-$M$35)*J1120+(2*$M$35-$M$36)*J1121-($M$35+$M$37)*J1122+$M$36*N1121+$M$37*N1122))","v":{"$error":"#N/A"}},{"$error":"#N/A"},{"$error":"#N/A"},{"$error":"#N/A"},null,null,{"$error":"#N/A"},{"$error":"#N/A"},{"$error":"#N/A"},{"$error":"#N/A"},null,null,null,null,null,null,null,null,null,null,null,null,null,null,null,null,null,null,null,null,null,null,null,null,null,null,null,null,null,null,null,"",{"$error":"#N/A"}]
[1089,{"$f":"IF(A1121>$A$8,\"\",OFFSET(InputPriceData!B$15,$A1121+$A$11,0,1,1))","v":""},{"$f":"IF(A1121>$A$8,\"\",OFFSET(InputPriceData!G$15,CalculationsAndCharts!$A1121+$A$11,IF($C$5,8,0),1,1))","v":""},{"$f":"IF(A1121>$A$8,\"\",OFFSET(InputPriceData!C$15,CalculationsAndCharts!$A1121+$A$11,IF($C$5,8,0),1,1))","v":""},{"$f":"IF(A1121>$A$8,\"\",OFFSET(InputPriceData!D$15,CalculationsAndCharts!$A1121+$A$11,IF($C$5,8,0),1,1))","v":""},{"$f":"IF(A1121>$A$8,\"\",OFFSET(InputPriceData!E$15,CalculationsAndCharts!$A1121+$A$11,IF($C$5,8,0),1,1))","v":""},{"$f":"IF(A1121>$A$8,\"\",OFFSET(InputPriceData!F$15,CalculationsAndCharts!$A1121+$A$11,IF($C$5,8,0),1,1))","v":""},{"$error":"#N/A"},{"$error":"#N/A"},{"$f":"IF($A1121>$J$30,NA(),AVERAGE(H1121:H1124))","v":{"$error":"#N/A"}},{"$error":"#N/A"},null,null,{"$f":"IF($A1121>$J$30,NA(),IF($A1121>$N$30,0,(1-$M$35)*J1121+(2*$M$35-$M$36)*J1122-($M$35+$M$37)*J1123+$M$36*N1122+$M$37*N1123))","v":{"$error":"#N/A"}},{"$error":"#N/A"},{"$error":"#N/A"},{"$error":"#N/A"},null,null,{"$f":"IF($A1121>$J$30,NA(),IF($A1121>$N$30,0,(1-S$35)*$J1121+(2*S$35-S$36)*$J1122-(S$35+S$37)*$J1123+S$36*T1122+S$37*T1123))","v":{"$error":"#N/A"}},{"$f":"IF($A1121>$J$30,NA(),IF($A1121>$N$30,0,(1-S$35)*$K1121+(2*S$35-S$36)*$K1122-(S$35+S$37)*$K1123+S$36*U1122+S$37*U1123))","v":{"$error":"#N/A"}},{"$f":"IF($A1121>$N$30,NA(),(T1121-U1121)/(T1121+U1121))","v":{"$error":"#N/A"}},{"$f":"IF($A1121>$N$30,NA(),OFFSET(V1121,$C$18,0,1,1))","v":{"$error":"#N/A"}},null,null,null,null,null,null,null,null,null,null,null,null,null,null,null,null,null,null,null,null,null,null,null,null,null,null,null,null,null,null,null,"",{"$error":"#N/A"}]
[1090,{"$f":"IF(A1122>$A$8,\"\",OFFSET(InputPriceData!B$15,$A1122+$A$11,0,1,1))","v":""},{"$f":"IF(A1122>$A$8,\"\",OFFSET(InputPriceData!G$15,CalculationsAndCharts!$A1122+$A$11,IF($C$5,8,0),1,1))","v":""},{"$f":"IF(A1122>$A$8,\"\",OFFSET(InputPriceData!C$15,CalculationsAndCharts!$A1122+$A$11,IF($C$5,8,0),1,1))","v":""},{"$f":"IF(A1122>$A$8,\"\",OFFSET(InputPriceData!D$15,CalculationsAndCharts!$A1122+$A$11,IF($C$5,8,0),1,1))","v":""},{"$f":"IF(A1122>$A$8,\"\",OFFSET(InputPriceData!E$15,CalculationsAndCharts!$A1122+$A$11,IF($C$5,8,0),1,1))","v":""},{"$f":"IF(A1122>$A$8,\"\",OFFSET(InputPriceData!F$15,CalculationsAndCharts!$A1122+$A$11,IF($C$5,8,0),1,1))","v":""},{"$f":"IF($A1122>$H$30,NA(),IF($G1122>$G1123,$G1122-$G1123,0))","v":{"$error":"#N/A"}},{"$f":"IF($A1122>$H$30,NA(),IF(G1122<G1123,G1123-G1122,0))","v":{"$error":"#N/A"}},{"$f":"IF($A1122>$J$30,NA(),AVERAGE(H1122:H1125))","v":{"$error":"#N/A"}},{"$error":"#N/A"},null,null,{"$f":"IF($A1122>$J$30,NA(),IF($A1122>$N$30,0,(1-$M$35)*J1122+(2*$M$35-$M$36)*J1123-($M$35+$M$37)*J1124+$M$36*N1123+$M$37*N1124))","v":{"$error":"#N/A"}},{"$error":"#N/A"},{"$f":"IF($A1122>$N$30,NA(),(N1122-O1122)/(N1122+O1122))","v":{"$error":"#N/A"}},{"$f":"IF($A1122>$N$30,NA(),OFFSET(P1122,$C$17,0,1,1))","v":{"$error":"#N/A"}},null,null,{"$error":"#N/A"},{"$error":"#N/A"},{"$error":"#N/A"},{"$error":"#N/A"},null,null,null,null,null,null,null,null,null,null,null,null,null,null,null,null,null,null,null,null,null,null,null,null,null,null,null,null,null,null,null,"",{"$error":"#N/A"}]
[1091,{"$f":"IF(A1123>$A$8,\"\",OFFSET(InputPriceData!B$15,$A1123+$A$11,0,1,1))","v":""},{"$f":"IF(A1123>$A$8,\"\",OFFSET(InputPriceData!G$15,CalculationsAndCharts!$A1123+$A$11,IF($C$5,8,0),1,1))","v":""},{"$f":"IF(A1123>$A$8,\"\",OFFSET(InputPriceData!C$15,CalculationsAndCharts!$A1123+$A$11,IF($C$5,8,0),1,1))","v":""},{"$f":"IF(A1123>$A$8,\"\",OFFSET(InputPriceData!D$15,CalculationsAndCharts!$A1123+$A$11,IF($C$5,8,0),1,1))","v":""},{"$f":"IF(A1123>$A$8,\"\",OFFSET(InputPriceData!E$15,CalculationsAndCharts!$A1123+$A$11,IF($C$5,8,0),1,1))","v":""},{"$f":"IF(A1123>$A$8,\"\",OFFSET(InputPriceData!F$15,CalculationsAndCharts!$A1123+$A$11,IF($C$5,8,0),1,1))","v":""},{"$error":"#N/A"},{"$error":"#N/A"},{"$f":"IF($A1123>$J$30,NA(),AVERAGE(H1123:H1126))","v":{"$error":"#N/A"}},{"$error":"#N/A"},null,null,{"$f":"IF($A1123>$J$30,NA(),IF($A1123>$N$30,0,(1-$M$35)*J1123+(2*$M$35-$M$36)*J1124-($M$35+$M$37)*J1125+$M$36*N1124+$M$37*N1125))","v":{"$error":"#N/A"}},{"$error":"#N/A"},{"$error":"#N/A"},{"$error":"#N/A"},null,null,{"$error":"#N/A"},{"$error":"#N/A"},{"$error":"#N/A"},{"$error":"#N/A"},null,null,null,null,null,null,null,null,null,null,null,null,null,null,null,null,null,null,null,null,null,null,null,null,null,null,null,null,null,null,null,"",{"$error":"#N/A"}]
[1092,{"$f":"IF(A1124>$A$8,\"\",OFFSET(InputPriceData!B$15,$A1124+$A$11,0,1,1))","v":""},{"$f":"IF(A1124>$A$8,\"\",OFFSET(InputPriceData!G$15,CalculationsAndCharts!$A1124+$A$11,IF($C$5,8,0),1,1))","v":""},{"$f":"IF(A1124>$A$8,\"\",OFFSET(InputPriceData!C$15,CalculationsAndCharts!$A1124+$A$11,IF($C$5,8,0),1,1))","v":""},{"$f":"IF(A1124>$A$8,\"\",OFFSET(InputPriceData!D$15,CalculationsAndCharts!$A1124+$A$11,IF($C$5,8,0),1,1))","v":""},{"$f":"IF(A1124>$A$8,\"\",OFFSET(InputPriceData!E$15,CalculationsAndCharts!$A1124+$A$11,IF($C$5,8,0),1,1))","v":""},{"$f":"IF(A1124>$A$8,\"\",OFFSET(InputPriceData!F$15,CalculationsAndCharts!$A1124+$A$11,IF($C$5,8,0),1,1))","v":""},{"$error":"#N/A"},{"$error":"#N/A"},{"$f":"IF($A1124>$J$30,NA(),AVERAGE(H1124:H1127))","v":{"$error":"#N/A"}},{"$error":"#N/A"},null,null,{"$f":"IF($A1124>$J$30,NA(),IF($A1124>$N$30,0,(1-$M$35)*J1124+(2*$M$35-$M$36)*J1125-($M$35+$M$37)*J1126+$M$36*N1125+$M$37*N1126))","v":{"$error":"#N/A"}},{"$error":"#N/A"},{"$error":"#N/A"},{"$error":"#N/A"},null,null,{"$error":"#N/A"},{"$error":"#N/A"},{"$error":"#N/A"},{"$error":"#N/A"},null,null,null,null,null,null,null,null,null,null,null,null,null,null,null,null,null,null,null,null,null,null,null,null,null,null,null,null,null,null,null,"",{"$error":"#N/A"}]
[1093,{"$f":"IF(A1125>$A$8,\"\",OFFSET(InputPriceData!B$15,$A1125+$A$11,0,1,1))","v":""},{"$f":"IF(A1125>$A$8,\"\",OFFSET(InputPriceData!G$15,CalculationsAndCharts!$A1125+$A$11,IF($C$5,8,0),1,1))","v":""},{"$f":"IF(A1125>$A$8,\"\",OFFSET(InputPriceData!C$15,CalculationsAndCharts!$A1125+$A$11,IF($C$5,8,0),1,1))","v":""},{"$f":"IF(A1125>$A$8,\"\",OFFSET(InputPriceData!D$15,CalculationsAndCharts!$A1125+$A$11,IF($C$5,8,0),1,1))","v":""},{"$f":"IF(A1125>$A$8,\"\",OFFSET(InputPriceData!E$15,CalculationsAndCharts!$A1125+$A$11,IF($C$5,8,0),1,1))","v":""},{"$f":"IF(A1125>$A$8,\"\",OFFSET(InputPriceData!F$15,CalculationsAndCharts!$A1125+$A$11,IF($C$5,8,0),1,1))","v":""},{"$error":"#N/A"},{"$error":"#N/A"},{"$f":"IF($A1125>$J$30,NA(),AVERAGE(H1125:H1128))","v":{"$error":"#N/A"}},{"$error":"#N/A"},null,null,{"$f":"IF($A1125>$J$30,NA(),IF($A1125>$N$30,0,(1-$M$35)*J1125+(2*$M$35-$M$36)*J1126-($M$35+$M$37)*J1127+$M$36*N1126+$M$37*N1127))","v":{"$error":"#N/A"}},{"$error":"#N/A"},{"$error":"#N/A"},{"$error":"#N/A"},null,null,{"$error":"#N/A"},{"$error":"#N/A"},{"$error":"#N/A"},{"$error":"#N/A"},null,null,null,null,null,null,null,null,null,null,null,null,null,null,null,null,null,null,null,null,null,null,null,null,null,null,null,null,null,null,null,"",{"$error":"#N/A"}]
[1094,{"$f":"IF(A1126>$A$8,\"\",OFFSET(InputPriceData!B$15,$A1126+$A$11,0,1,1))","v":""},{"$f":"IF(A1126>$A$8,\"\",OFFSET(InputPriceData!G$15,CalculationsAndCharts!$A1126+$A$11,IF($C$5,8,0),1,1))","v":""},{"$f":"IF(A1126>$A$8,\"\",OFFSET(InputPriceData!C$15,CalculationsAndCharts!$A1126+$A$11,IF($C$5,8,0),1,1))","v":""},{"$f":"IF(A1126>$A$8,\"\",OFFSET(InputPriceData!D$15,CalculationsAndCharts!$A1126+$A$11,IF($C$5,8,0),1,1))","v":""},{"$f":"IF(A1126>$A$8,\"\",OFFSET(InputPriceData!E$15,CalculationsAndCharts!$A1126+$A$11,IF($C$5,8,0),1,1))","v":""},{"$f":"IF(A1126>$A$8,\"\",OFFSET(InputPriceData!F$15,CalculationsAndCharts!$A1126+$A$11,IF($C$5,8,0),1,1))","v":""},{"$error":"#N/A"},{"$error":"#N/A"},{"$f":"IF($A1126>$J$30,NA(),AVERAGE(H1126:H1129))","v":{"$error":"#N/A"}},{"$error":"#N/A"},null,null,{"$f":"IF($A1126>$J$30,NA(),IF($A1126>$N$30,0,(1-$M$35)*J1126+(2*$M$35-$M$36)*J1127-($M$35+$M$37)*J1128+$M$36*N1127+$M$37*N1128))","v":{"$error":"#N/A"}},{"$error":"#N/A"},{"$error":"#N/A"},{"$error":"#N/A"},null,null,{"$error":"#N/A"},{"$error":"#N/A"},{"$error":"#N/A"},{"$error":"#N/A"},null,null,null,null,null,null,null,null,null,null,null,null,null,null,null,null,null,null,null,null,null,null,null,null,null,null,null,null,null,null,null,"",{"$error":"#N/A"}]
[1095,{"$f":"IF(A1127>$A$8,\"\",OFFSET(InputPriceData!B$15,$A1127+$A$11,0,1,1))","v":""},{"$f":"IF(A1127>$A$8,\"\",OFFSET(InputPriceData!G$15,CalculationsAndCharts!$A1127+$A$11,IF($C$5,8,0),1,1))","v":""},{"$f":"IF(A1127>$A$8,\"\",OFFSET(InputPriceData!C$15,CalculationsAndCharts!$A1127+$A$11,IF($C$5,8,0),1,1))","v":""},{"$f":"IF(A1127>$A$8,\"\",OFFSET(InputPriceData!D$15,CalculationsAndCharts!$A1127+$A$11,IF($C$5,8,0),1,1))","v":""},{"$f":"IF(A1127>$A$8,\"\",OFFSET(InputPriceData!E$15,CalculationsAndCharts!$A1127+$A$11,IF($C$5,8,0),1,1))","v":""},{"$f":"IF(A1127>$A$8,\"\",OFFSET(InputPriceData!F$15,CalculationsAndCharts!$A1127+$A$11,IF($C$5,8,0),1,1))","v":""},{"$error":"#N/A"},{"$error":"#N/A"},{"$f":"IF($A1127>$J$30,NA(),AVERAGE(H1127:H1130))","v":{"$error":"#N/A"}},{"$error":"#N/A"},null,null,{"$f":"IF($A1127>$J$30,NA(),IF($A1127>$N$30,0,(1-$M$35)*J1127+(2*$M$35-$M$36)*J1128-($M$35+$M$37)*J1129+$M$36*N1128+$M$37*N1129))","v":{"$error":"#N/A"}},{"$error":"#N/A"},{"$error":"#N/A"},{"$error":"#N/A"},null,null,{"$error":"#N/A"},{"$error":"#N/A"},{"$error":"#N/A"},{"$error":"#N/A"},null,null,null,null,null,null,null,null,null,null,null,null,null,null,null,null,null,null,null,null,null,null,null,null,null,null,null,null,null,null,null,"",{"$error":"#N/A"}]
[1096,{"$f":"IF(A1128>$A$8,\"\",OFFSET(InputPriceData!B$15,$A1128+$A$11,0,1,1))","v":""},{"$f":"IF(A1128>$A$8,\"\",OFFSET(InputPriceData!G$15,CalculationsAndCharts!$A1128+$A$11,IF($C$5,8,0),1,1))","v":""},{"$f":"IF(A1128>$A$8,\"\",OFFSET(InputPriceData!C$15,CalculationsAndCharts!$A1128+$A$11,IF($C$5,8,0),1,1))","v":""},{"$f":"IF(A1128>$A$8,\"\",OFFSET(InputPriceData!D$15,CalculationsAndCharts!$A1128+$A$11,IF($C$5,8,0),1,1))","v":""},{"$f":"IF(A1128>$A$8,\"\",OFFSET(InputPriceData!E$15,CalculationsAndCharts!$A1128+$A$11,IF($C$5,8,0),1,1))","v":""},{"$f":"IF(A1128>$A$8,\"\",OFFSET(InputPriceData!F$15,CalculationsAndCharts!$A1128+$A$11,IF($C$5,8,0),1,1))","v":""},{"$error":"#N/A"},{"$error":"#N/A"},{"$f":"IF($A1128>$J$30,NA(),AVERAGE(H1128:H1131))","v":{"$error":"#N/A"}},{"$error":"#N/A"},null,null,{"$f":"IF($A1128>$J$30,NA(),IF($A1128>$N$30,0,(1-$M$35)*J1128+(2*$M$35-$M$36)*J1129-($M$35+$M$37)*J1130+$M$36*N1129+$M$37*N1130))","v":{"$error":"#N/A"}},{"$error":"#N/A"},{"$error":"#N/A"},{"$error":"#N/A"},null,null,{"$error":"#N/A"},{"$error":"#N/A"},{"$error":"#N/A"},{"$error":"#N/A"},null,null,null,null,null,null,null,null,null,null,null,null,null,null,null,null,null,null,null,null,null,null,null,null,null,null,null,null,null,null,null,"",{"$error":"#N/A"}]
[1097,{"$f":"IF(A1129>$A$8,\"\",OFFSET(InputPriceData!B$15,$A1129+$A$11,0,1,1))","v":""},{"$f":"IF(A1129>$A$8,\"\",OFFSET(InputPriceData!G$15,CalculationsAndCharts!$A1129+$A$11,IF($C$5,8,0),1,1))","v":""},{"$f":"IF(A1129>$A$8,\"\",OFFSET(InputPriceData!C$15,CalculationsAndCharts!$A1129+$A$11,IF($C$5,8,0),1,1))","v":""},{"$f":"IF(A1129>$A$8,\"\",OFFSET(InputPriceData!D$15,CalculationsAndCharts!$A1129+$A$11,IF($C$5,8,0),1,1))","v":""},{"$f":"IF(A1129>$A$8,\"\",OFFSET(InputPriceData!E$15,CalculationsAndCharts!$A1129+$A$11,IF($C$5,8,0),1,1))","v":""},{"$f":"IF(A1129>$A$8,\"\",OFFSET(InputPriceData!F$15,CalculationsAndCharts!$A1129+$A$11,IF($C$5,8,0),1,1))","v":""},{"$error":"#N/A"},{"$error":"#N/A"},{"$f":"IF($A1129>$J$30,NA(),AVERAGE(H1129:H1132))","v":{"$error":"#N/A"}},{"$error":"#N/A"},null,null,{"$f":"IF($A1129>$J$30,NA(),IF($A1129>$N$30,0,(1-$M$35)*J1129+(2*$M$35-$M$36)*J1130-($M$35+$M$37)*J1131+$M$36*N1130+$M$37*N1131))","v":{"$error":"#N/A"}},{"$error":"#N/A"},{"$error":"#N/A"},{"$error":"#N/A"},null,null,{"$error":"#N/A"},{"$error":"#N/A"},{"$error":"#N/A"},{"$error":"#N/A"},null,null,null,null,null,null,null,null,null,null,null,null,null,null,null,null,null,null,null,null,null,null,null,null,null,null,null,null,null,null,null,"",{"$error":"#N/A"}]
[1098,{"$f":"IF(A1130>$A$8,\"\",OFFSET(InputPriceData!B$15,$A1130+$A$11,0,1,1))","v":""},{"$f":"IF(A1130>$A$8,\"\",OFFSET(InputPriceData!G$15,CalculationsAndCharts!$A1130+$A$11,IF($C$5,8,0),1,1))","v":""},{"$f":"IF(A1130>$A$8,\"\",OFFSET(InputPriceData!C$15,CalculationsAndCharts!$A1130+$A$11,IF($C$5,8,0),1,1))","v":""},{"$f":"IF(A1130>$A$8,\"\",OFFSET(InputPriceData!D$15,CalculationsAndCharts!$A1130+$A$11,IF($C$5,8,0),1,1))","v":""},{"$f":"IF(A1130>$A$8,\"\",OFFSET(InputPriceData!E$15,CalculationsAndCharts!$A1130+$A$11,IF($C$5,8,0),1,1))","v":""},{"$f":"IF(A1130>$A$8,\"\",OFFSET(InputPriceData!F$15,CalculationsAndCharts!$A1130+$A$11,IF($C$5,8,0),1,1))","v":""},{"$error":"#N/A"},{"$error":"#N/A"},{"$f":"IF($A1130>$J$30,NA(),AVERAGE(H1130:H1133))","v":{"$error":"#N/A"}},{"$error":"#N/A"},null,null,{"$f":"IF($A1130>$J$30,NA(),IF($A1130>$N$30,0,(1-$M$35)*J1130+(2*$M$35-$M$36)*J1131-($M$35+$M$37)*J1132+$M$36*N1131+$M$37*N1132))","v":{"$error":"#N/A"}},{"$error":"#N/A"},{"$error":"#N/A"},{"$error":"#N/A"},null,null,{"$error":"#N/A"},{"$error":"#N/A"},{"$error":"#N/A"},{"$error":"#N/A"},null,null,null,null,null,null,null,null,null,null,null,null,null,null,null,null,null,null,null,null,null,null,null,null,null,null,null,null,null,null,null,"",{"$error":"#N/A"}]
[1099,{"$f":"IF(A1131>$A$8,\"\",OFFSET(InputPriceData!B$15,$A1131+$A$11,0,1,1))","v":""},{"$f":"IF(A1131>$A$8,\"\",OFFSET(InputPriceData!G$15,CalculationsAndCharts!$A1131+$A$11,IF($C$5,8,0),1,1))","v":""},{"$f":"IF(A1131>$A$8,\"\",OFFSET(InputPriceData!C$15,CalculationsAndCharts!$A1131+$A$11,IF($C$5,8,0),1,1))","v":""},{"$f":"IF(A1131>$A$8,\"\",OFFSET(InputPriceData!D$15,CalculationsAndCharts!$A1131+$A$11,IF($C$5,8,0),1,1))","v":""},{"$f":"IF(A1131>$A$8,\"\",OFFSET(InputPriceData!E$15,CalculationsAndCharts!$A1131+$A$11,IF($C$5,8,0),1,1))","v":""},{"$f":"IF(A1131>$A$8,\"\",OFFSET(InputPriceData!F$15,CalculationsAndCharts!$A1131+$A$11,IF($C$5,8,0),1,1))","v":""},{"$error":"#N/A"},{"$error":"#N/A"},{"$f":"IF($A1131>$J$30,NA(),AVERAGE(H1131:H1134))","v":{"$error":"#N/A"}},{"$error":"#N/A"},null,null,{"$f":"IF($A1131>$J$30,NA(),IF($A1131>$N$30,0,(1-$M$35)*J1131+(2*$M$35-$M$36)*J1132-($M$35+$M$37)*J1133+$M$36*N1132+$M$37*N1133))","v":{"$error":"#N/A"}},{"$error":"#N/A"},{"$error":"#N/A"},{"$error":"#N/A"},null,null,{"$error":"#N/A"},{"$error":"#N/A"},{"$error":"#N/A"},{"$error":"#N/A"},null,null,null,null,null,null,null,null,null,null,null,null,null,null,null,null,null,null,null,null,null,null,null,null,null,null,null,null,null,null,null,"",{"$error":"#N/A"}]
[1100,{"$f":"IF(A1132>$A$8,\"\",OFFSET(InputPriceData!B$15,$A1132+$A$11,0,1,1))","v":""},{"$f":"IF(A1132>$A$8,\"\",OFFSET(InputPriceData!G$15,CalculationsAndCharts!$A1132+$A$11,IF($C$5,8,0),1,1))","v":""},{"$f":"IF(A1132>$A$8,\"\",OFFSET(InputPriceData!C$15,CalculationsAndCharts!$A1132+$A$11,IF($C$5,8,0),1,1))","v":""},{"$f":"IF(A1132>$A$8,\"\",OFFSET(InputPriceData!D$15,CalculationsAndCharts!$A1132+$A$11,IF($C$5,8,0),1,1))","v":""},{"$f":"IF(A1132>$A$8,\"\",OFFSET(InputPriceData!E$15,CalculationsAndCharts!$A1132+$A$11,IF($C$5,8,0),1,1))","v":""},{"$f":"IF(A1132>$A$8,\"\",OFFSET(InputPriceData!F$15,CalculationsAndCharts!$A1132+$A$11,IF($C$5,8,0),1,1))","v":""},{"$error":"#N/A"},{"$error":"#N/A"},{"$f":"IF($A1132>$J$30,NA(),AVERAGE(H1132:H1135))","v":{"$error":"#N/A"}},{"$error":"#N/A"},null,null,{"$f":"IF($A1132>$J$30,NA(),IF($A1132>$N$30,0,(1-$M$35)*J1132+(2*$M$35-$M$36)*J1133-($M$35+$M$37)*J1134+$M$36*N1133+$M$37*N1134))","v":{"$error":"#N/A"}},{"$error":"#N/A"},{"$error":"#N/A"},{"$error":"#N/A"},null,null,{"$error":"#N/A"},{"$error":"#N/A"},{"$error":"#N/A"},{"$error":"#N/A"},null,null,null,null,null,null,null,null,null,null,null,null,null,null,null,null,null,null,null,null,null,null,null,null,null,null,null,null,null,null,null,"",{"$error":"#N/A"}]
[1101,{"$f":"IF(A1133>$A$8,\"\",OFFSET(InputPriceData!B$15,$A1133+$A$11,0,1,1))","v":""},{"$f":"IF(A1133>$A$8,\"\",OFFSET(InputPriceData!G$15,CalculationsAndCharts!$A1133+$A$11,IF($C$5,8,0),1,1))","v":""},{"$f":"IF(A1133>$A$8,\"\",OFFSET(InputPriceData!C$15,CalculationsAndCharts!$A1133+$A$11,IF($C$5,8,0),1,1))","v":""},{"$f":"IF(A1133>$A$8,\"\",OFFSET(InputPriceData!D$15,CalculationsAndCharts!$A1133+$A$11,IF($C$5,8,0),1,1))","v":""},{"$f":"IF(A1133>$A$8,\"\",OFFSET(InputPriceData!E$15,CalculationsAndCharts!$A1133+$A$11,IF($C$5,8,0),1,1))","v":""},{"$f":"IF(A1133>$A$8,\"\",OFFSET(InputPriceData!F$15,CalculationsAndCharts!$A1133+$A$11,IF($C$5,8,0),1,1))","v":""},{"$error":"#N/A"},{"$error":"#N/A"},{"$f":"IF($A1133>$J$30,NA(),AVERAGE(H1133:H1136))","v":{"$error":"#N/A"}},{"$error":"#N/A"},null,null,{"$f":"IF($A1133>$J$30,NA(),IF($A1133>$N$30,0,(1-$M$35)*J1133+(2*$M$35-$M$36)*J1134-($M$35+$M$37)*J1135+$M$36*N1134+$M$37*N1135))","v":{"$error":"#N/A"}},{"$error":"#N/A"},{"$error":"#N/A"},{"$error":"#N/A"},null,null,{"$error":"#N/A"},{"$error":"#N/A"},{"$error":"#N/A"},{"$error":"#N/A"},null,null,null,null,null,null,null,null,null,null,null,null,null,null,null,null,null,null,null,null,null,null,null,null,null,null,null,null,null,null,null,{"$f":"IF(G1133>=G1134,C1133,NA())","v":""},{"$f":"IF(G1133<G1134,C1133,NA())","v":{"$error":"#N/A"}}]
[1102,{"$f":"IF(A1134>$A$8,\"\",OFFSET(InputPriceData!B$15,$A1134+$A$11,0,1,1))","v":""},{"$f":"IF(A1134>$A$8,\"\",OFFSET(InputPriceData!G$15,CalculationsAndCharts!$A1134+$A$11,IF($C$5,8,0),1,1))","v":""},{"$f":"IF(A1134>$A$8,\"\",OFFSET(InputPriceData!C$15,CalculationsAndCharts!$A1134+$A$11,IF($C$5,8,0),1,1))","v":""},{"$f":"IF(A1134>$A$8,\"\",OFFSET(InputPriceData!D$15,CalculationsAndCharts!$A1134+$A$11,IF($C$5,8,0),1,1))","v":""},{"$f":"IF(A1134>$A$8,\"\",OFFSET(InputPriceData!E$15,CalculationsAndCharts!$A1134+$A$11,IF($C$5,8,0),1,1))","v":""},{"$f":"IF(A1134>$A$8,\"\",OFFSET(InputPriceData!F$15,CalculationsAndCharts!$A1134+$A$11,IF($C$5,8,0),1,1))","v":""},{"$error":"#N/A"},{"$error":"#N/A"},{"$f":"IF($A1134>$J$30,NA(),AVERAGE(H1134:H1137))","v":{"$error":"#N/A"}},{"$error":"#N/A"},null,null,{"$f":"IF($A1134>$J$30,NA(),IF($A1134>$N$30,0,(1-$M$35)*J1134+(2*$M$35-$M$36)*J1135-($M$35+$M$37)*J1136+$M$36*N1135+$M$37*N1136))","v":{"$error":"#N/A"}},{"$error":"#N/A"},{"$error":"#N/A"},{"$error":"#N/A"},null,null,{"$error":"#N/A"},{"$error":"#N/A"},{"$error":"#N/A"},{"$error":"#N/A"},null,null,null,null,null,null,null,null,null,null,null,null,null,null,null,null,null,null,null,null,null,null,null,null,null,null,null,null,null,null,null,"",{"$error":"#N/A"}]
[1103,{"$f":"IF(A1135>$A$8,\"\",OFFSET(InputPriceData!B$15,$A1135+$A$11,0,1,1))","v":""},{"$f":"IF(A1135>$A$8,\"\",OFFSET(InputPriceData!G$15,CalculationsAndCharts!$A1135+$A$11,IF($C$5,8,0),1,1))","v":""},{"$f":"IF(A1135>$A$8,\"\",OFFSET(InputPriceData!C$15,CalculationsAndCharts!$A1135+$A$11,IF($C$5,8,0),1,1))","v":""},{"$f":"IF(A1135>$A$8,\"\",OFFSET(InputPriceData!D$15,CalculationsAndCharts!$A1135+$A$11,IF($C$5,8,0),1,1))","v":""},{"$f":"IF(A1135>$A$8,\"\",OFFSET(InputPriceData!E$15,CalculationsAndCharts!$A1135+$A$11,IF($C$5,8,0),1,1))","v":""},{"$f":"IF(A1135>$A$8,\"\",OFFSET(InputPriceData!F$15,CalculationsAndCharts!$A1135+$A$11,IF($C$5,8,0),1,1))","v":""},{"$error":"#N/A"},{"$error":"#N/A"},{"$f":"IF($A1135>$J$30,NA(),AVERAGE(H1135:H1138))","v":{"$error":"#N/A"}},{"$error":"#N/A"},null,null,{"$f":"IF($A1135>$J$30,NA(),IF($A1135>$N$30,0,(1-$M$35)*J1135+(2*$M$35-$M$36)*J1136-($M$35+$M$37)*J1137+$M$36*N1136+$M$37*N1137))","v":{"$error":"#N/A"}},{"$error":"#N/A"},{"$error":"#N/A"},{"$error":"#N/A"},null,null,{"$error":"#N/A"},{"$error":"#N/A"},{"$error":"#N/A"},{"$error":"#N/A"},null,null,null,null,null,null,null,null,null,null,null,null,null,null,null,null,null,null,null,null,null,null,null,null,null,null,null,null,null,null,null,"",{"$error":"#N/A"}]
[1104,{"$f":"IF(A1136>$A$8,\"\",OFFSET(InputPriceData!B$15,$A1136+$A$11,0,1,1))","v":""},{"$f":"IF(A1136>$A$8,\"\",OFFSET(InputPriceData!G$15,CalculationsAndCharts!$A1136+$A$11,IF($C$5,8,0),1,1))","v":""},{"$f":"IF(A1136>$A$8,\"\",OFFSET(InputPriceData!C$15,CalculationsAndCharts!$A1136+$A$11,IF($C$5,8,0),1,1))","v":""},{"$f":"IF(A1136>$A$8,\"\",OFFSET(InputPriceData!D$15,CalculationsAndCharts!$A1136+$A$11,IF($C$5,8,0),1,1))","v":""},{"$f":"IF(A1136>$A$8,\"\",OFFSET(InputPriceData!E$15,CalculationsAndCharts!$A1136+$A$11,IF($C$5,8,0),1,1))","v":""},{"$f":"IF(A1136>$A$8,\"\",OFFSET(InputPriceData!F$15,CalculationsAndCharts!$A1136+$A$11,IF($C$5,8,0),1,1))","v":""},{"$error":"#N/A"},{"$error":"#N/A"},{"$f":"IF($A1136>$J$30,NA(),AVERAGE(H1136:H1139))","v":{"$error":"#N/A"}},{"$error":"#N/A"},null,null,{"$f":"IF($A1136>$J$30,NA(),IF($A1136>$N$30,0,(1-$M$35)*J1136+(2*$M$35-$M$36)*J1137-($M$35+$M$37)*J1138+$M$36*N1137+$M$37*N1138))","v":{"$error":"#N/A"}},{"$error":"#N/A"},{"$error":"#N/A"},{"$error":"#N/A"},null,null,{"$error":"#N/A"},{"$error":"#N/A"},{"$error":"#N/A"},{"$error":"#N/A"},null,null,null,null,null,null,null,null,null,null,null,null,null,null,null,null,null,null,null,null,null,null,null,null,null,null,null,null,null,null,null,"",{"$error":"#N/A"}]
[1105,{"$f":"IF(A1137>$A$8,\"\",OFFSET(InputPriceData!B$15,$A1137+$A$11,0,1,1))","v":""},{"$f":"IF(A1137>$A$8,\"\",OFFSET(InputPriceData!G$15,CalculationsAndCharts!$A1137+$A$11,IF($C$5,8,0),1,1))","v":""},{"$f":"IF(A1137>$A$8,\"\",OFFSET(InputPriceData!C$15,CalculationsAndCharts!$A1137+$A$11,IF($C$5,8,0),1,1))","v":""},{"$f":"IF(A1137>$A$8,\"\",OFFSET(InputPriceData!D$15,CalculationsAndCharts!$A1137+$A$11,IF($C$5,8,0),1,1))","v":""},{"$f":"IF(A1137>$A$8,\"\",OFFSET(InputPriceData!E$15,CalculationsAndCharts!$A1137+$A$11,IF($C$5,8,0),1,1))","v":""},{"$f":"IF(A1137>$A$8,\"\",OFFSET(InputPriceData!F$15,CalculationsAndCharts!$A1137+$A$11,IF($C$5,8,0),1,1))","v":""},{"$error":"#N/A"},{"$error":"#N/A"},{"$f":"IF($A1137>$J$30,NA(),AVERAGE(H1137:H1140))","v":{"$error":"#N/A"}},{"$error":"#N/A"},null,null,{"$f":"IF($A1137>$J$30,NA(),IF($A1137>$N$30,0,(1-$M$35)*J1137+(2*$M$35-$M$36)*J1138-($M$35+$M$37)*J1139+$M$36*N1138+$M$37*N1139))","v":{"$error":"#N/A"}},{"$error":"#N/A"},{"$error":"#N/A"},{"$error":"#N/A"},null,null,{"$error":"#N/A"},{"$error":"#N/A"},{"$error":"#N/A"},{"$error":"#N/A"},null,null,null,null,null,null,null,null,null,null,null,null,null,null,null,null,null,null,null,null,null,null,null,null,null,null,null,null,null,null,null,"",{"$error":"#N/A"}]
[1106,{"$f":"IF(A1138>$A$8,\"\",OFFSET(InputPriceData!B$15,$A1138+$A$11,0,1,1))","v":""},{"$f":"IF(A1138>$A$8,\"\",OFFSET(InputPriceData!G$15,CalculationsAndCharts!$A1138+$A$11,IF($C$5,8,0),1,1))","v":""},{"$f":"IF(A1138>$A$8,\"\",OFFSET(InputPriceData!C$15,CalculationsAndCharts!$A1138+$A$11,IF($C$5,8,0),1,1))","v":""},{"$f":"IF(A1138>$A$8,\"\",OFFSET(InputPriceData!D$15,CalculationsAndCharts!$A1138+$A$11,IF($C$5,8,0),1,1))","v":""},{"$f":"IF(A1138>$A$8,\"\",OFFSET(InputPriceData!E$15,CalculationsAndCharts!$A1138+$A$11,IF($C$5,8,0),1,1))","v":""},{"$f":"IF(A1138>$A$8,\"\",OFFSET(InputPriceData!F$15,CalculationsAndCharts!$A1138+$A$11,IF($C$5,8,0),1,1))","v":""},{"$error":"#N/A"},{"$error":"#N/A"},{"$f":"IF($A1138>$J$30,NA(),AVERAGE(H1138:H1141))","v":{"$error":"#N/A"}},{"$error":"#N/A"},null,null,{"$f":"IF($A1138>$J$30,NA(),IF($A1138>$N$30,0,(1-$M$35)*J1138+(2*$M$35-$M$36)*J1139-($M$35+$M$37)*J1140+$M$36*N1139+$M$37*N1140))","v":{"$error":"#N/A"}},{"$error":"#N/A"},{"$error":"#N/A"},{"$error":"#N/A"},null,null,{"$error":"#N/A"},{"$error":"#N/A"},{"$error":"#N/A"},{"$error":"#N/A"},null,null,null,null,null,null,null,null,null,null,null,null,null,null,null,null,null,null,null,null,null,null,null,null,null,null,null,null,null,null,null,"",{"$error":"#N/A"}]
[1107,{"$f":"IF(A1139>$A$8,\"\",OFFSET(InputPriceData!B$15,$A1139+$A$11,0,1,1))","v":""},{"$f":"IF(A1139>$A$8,\"\",OFFSET(InputPriceData!G$15,CalculationsAndCharts!$A1139+$A$11,IF($C$5,8,0),1,1))","v":""},{"$f":"IF(A1139>$A$8,\"\",OFFSET(InputPriceData!C$15,CalculationsAndCharts!$A1139+$A$11,IF($C$5,8,0),1,1))","v":""},{"$f":"IF(A1139>$A$8,\"\",OFFSET(InputPriceData!D$15,CalculationsAndCharts!$A1139+$A$11,IF($C$5,8,0),1,1))","v":""},{"$f":"IF(A1139>$A$8,\"\",OFFSET(InputPriceData!E$15,CalculationsAndCharts!$A1139+$A$11,IF($C$5,8,0),1,1))","v":""},{"$f":"IF(A1139>$A$8,\"\",OFFSET(InputPriceData!F$15,CalculationsAndCharts!$A1139+$A$11,IF($C$5,8,0),1,1))","v":""},{"$error":"#N/A"},{"$error":"#N/A"},{"$f":"IF($A1139>$J$30,NA(),AVERAGE(H1139:H1142))","v":{"$error":"#N/A"}},{"$error":"#N/A"},null,null,{"$f":"IF($A1139>$J$30,NA(),IF($A1139>$N$30,0,(1-$M$35)*J1139+(2*$M$35-$M$36)*J1140-($M$35+$M$37)*J1141+$M$36*N1140+$M$37*N1141))","v":{"$error":"#N/A"}},{"$error":"#N/A"},{"$error":"#N/A"},{"$error":"#N/A"},null,null,{"$error":"#N/A"},{"$error":"#N/A"},{"$error":"#N/A"},{"$error":"#N/A"},null,null,null,null,null,null,null,null,null,null,null,null,null,null,null,null,null,null,null,null,null,null,null,null,null,null,null,null,null,null,null,"",{"$error":"#N/A"}]
[1108,{"$f":"IF(A1140>$A$8,\"\",OFFSET(InputPriceData!B$15,$A1140+$A$11,0,1,1))","v":""},{"$f":"IF(A1140>$A$8,\"\",OFFSET(InputPriceData!G$15,CalculationsAndCharts!$A1140+$A$11,IF($C$5,8,0),1,1))","v":""},{"$f":"IF(A1140>$A$8,\"\",OFFSET(InputPriceData!C$15,CalculationsAndCharts!$A1140+$A$11,IF($C$5,8,0),1,1))","v":""},{"$f":"IF(A1140>$A$8,\"\",OFFSET(InputPriceData!D$15,CalculationsAndCharts!$A1140+$A$11,IF($C$5,8,0),1,1))","v":""},{"$f":"IF(A1140>$A$8,\"\",OFFSET(InputPriceData!E$15,CalculationsAndCharts!$A1140+$A$11,IF($C$5,8,0),1,1))","v":""},{"$f":"IF(A1140>$A$8,\"\",OFFSET(InputPriceData!F$15,CalculationsAndCharts!$A1140+$A$11,IF($C$5,8,0),1,1))","v":""},{"$error":"#N/A"},{"$error":"#N/A"},{"$f":"IF($A1140>$J$30,NA(),AVERAGE(H1140:H1143))","v":{"$error":"#N/A"}},{"$error":"#N/A"},null,null,{"$f":"IF($A1140>$J$30,NA(),IF($A1140>$N$30,0,(1-$M$35)*J1140+(2*$M$35-$M$36)*J1141-($M$35+$M$37)*J1142+$M$36*N1141+$M$37*N1142))","v":{"$error":"#N/A"}},{"$error":"#N/A"},{"$error":"#N/A"},{"$error":"#N/A"},null,null,{"$error":"#N/A"},{"$error":"#N/A"},{"$error":"#N/A"},{"$error":"#N/A"},null,null,null,null,null,null,null,null,null,null,null,null,null,null,null,null,null,null,null,null,null,null,null,null,null,null,null,null,null,null,null,"",{"$error":"#N/A"}]
[1109,{"$f":"IF(A1141>$A$8,\"\",OFFSET(InputPriceData!B$15,$A1141+$A$11,0,1,1))","v":""},{"$f":"IF(A1141>$A$8,\"\",OFFSET(InputPriceData!G$15,CalculationsAndCharts!$A1141+$A$11,IF($C$5,8,0),1,1))","v":""},{"$f":"IF(A1141>$A$8,\"\",OFFSET(InputPriceData!C$15,CalculationsAndCharts!$A1141+$A$11,IF($C$5,8,0),1,1))","v":""},{"$f":"IF(A1141>$A$8,\"\",OFFSET(InputPriceData!D$15,CalculationsAndCharts!$A1141+$A$11,IF($C$5,8,0),1,1))","v":""},{"$f":"IF(A1141>$A$8,\"\",OFFSET(InputPriceData!E$15,CalculationsAndCharts!$A1141+$A$11,IF($C$5,8,0),1,1))","v":""},{"$f":"IF(A1141>$A$8,\"\",OFFSET(InputPriceData!F$15,CalculationsAndCharts!$A1141+$A$11,IF($C$5,8,0),1,1))","v":""},{"$error":"#N/A"},{"$error":"#N/A"},{"$f":"IF($A1141>$J$30,NA(),AVERAGE(H1141:H1144))","v":{"$error":"#N/A"}},{"$error":"#N/A"},null,null,{"$f":"IF($A1141>$J$30,NA(),IF($A1141>$N$30,0,(1-$M$35)*J1141+(2*$M$35-$M$36)*J1142-($M$35+$M$37)*J1143+$M$36*N1142+$M$37*N1143))","v":{"$error":"#N/A"}},{"$error":"#N/A"},{"$error":"#N/A"},{"$error":"#N/A"},null,null,{"$error":"#N/A"},{"$error":"#N/A"},{"$error":"#N/A"},{"$error":"#N/A"},null,null,null,null,null,null,null,null,null,null,null,null,null,null,null,null,null,null,null,null,null,null,null,null,null,null,null,null,null,null,null,"",{"$error":"#N/A"}]
[1110,{"$f":"IF(A1142>$A$8,\"\",OFFSET(InputPriceData!B$15,$A1142+$A$11,0,1,1))","v":""},{"$f":"IF(A1142>$A$8,\"\",OFFSET(InputPriceData!G$15,CalculationsAndCharts!$A1142+$A$11,IF($C$5,8,0),1,1))","v":""},{"$f":"IF(A1142>$A$8,\"\",OFFSET(InputPriceData!C$15,CalculationsAndCharts!$A1142+$A$11,IF($C$5,8,0),1,1))","v":""},{"$f":"IF(A1142>$A$8,\"\",OFFSET(InputPriceData!D$15,CalculationsAndCharts!$A1142+$A$11,IF($C$5,8,0),1,1))","v":""},{"$f":"IF(A1142>$A$8,\"\",OFFSET(InputPriceData!E$15,CalculationsAndCharts!$A1142+$A$11,IF($C$5,8,0),1,1))","v":""},{"$f":"IF(A1142>$A$8,\"\",OFFSET(InputPriceData!F$15,CalculationsAndCharts!$A1142+$A$11,IF($C$5,8,0),1,1))","v":""},{"$error":"#N/A"},{"$error":"#N/A"},{"$f":"IF($A1142>$J$30,NA(),AVERAGE(H1142:H1145))","v":{"$error":"#N/A"}},{"$error":"#N/A"},null,null,{"$f":"IF($A1142>$J$30,NA(),IF($A1142>$N$30,0,(1-$M$35)*J1142+(2*$M$35-$M$36)*J1143-($M$35+$M$37)*J1144+$M$36*N1143+$M$37*N1144))","v":{"$error":"#N/A"}},{"$error":"#N/A"},{"$error":"#N/A"},{"$error":"#N/A"},null,null,{"$error":"#N/A"},{"$error":"#N/A"},{"$error":"#N/A"},{"$error":"#N/A"},null,null,null,null,null,null,null,null,null,null,null,null,null,null,null,null,null,null,null,null,null,null,null,null,null,null,null,null,null,null,null,"",{"$error":"#N/A"}]
[1111,{"$f":"IF(A1143>$A$8,\"\",OFFSET(InputPriceData!B$15,$A1143+$A$11,0,1,1))","v":""},{"$f":"IF(A1143>$A$8,\"\",OFFSET(InputPriceData!G$15,CalculationsAndCharts!$A1143+$A$11,IF($C$5,8,0),1,1))","v":""},{"$f":"IF(A1143>$A$8,\"\",OFFSET(InputPriceData!C$15,CalculationsAndCharts!$A1143+$A$11,IF($C$5,8,0),1,1))","v":""},{"$f":"IF(A1143>$A$8,\"\",OFFSET(InputPriceData!D$15,CalculationsAndCharts!$A1143+$A$11,IF($C$5,8,0),1,1))","v":""},{"$f":"IF(A1143>$A$8,\"\",OFFSET(InputPriceData!E$15,CalculationsAndCharts!$A1143+$A$11,IF($C$5,8,0),1,1))","v":""},{"$f":"IF(A1143>$A$8,\"\",OFFSET(InputPriceData!F$15,CalculationsAndCharts!$A1143+$A$11,IF($C$5,8,0),1,1))","v":""},{"$error":"#N/A"},{"$error":"#N/A"},{"$f":"IF($A1143>$J$30,NA(),AVERAGE(H1143:H1146))","v":{"$error":"#N/A"}},{"$error":"#N/A"},null,null,{"$f":"IF($A1143>$J$30,NA(),IF($A1143>$N$30,0,(1-$M$35)*J1143+(2*$M$35-$M$36)*J1144-($M$35+$M$37)*J1145+$M$36*N1144+$M$37*N1145))","v":{"$error":"#N/A"}},{"$error":"#N/A"},{"$error":"#N/A"},{"$error":"#N/A"},null,null,{"$error":"#N/A"},{"$error":"#N/A"},{"$error":"#N/A"},{"$error":"#N/A"},null,null,null,null,null,null,null,null,null,null,null,null,null,null,null,null,null,null,null,null,null,null,null,null,null,null,null,null,null,null,null,"",{"$error":"#N/A"}]
[1112,{"$f":"IF(A1144>$A$8,\"\",OFFSET(InputPriceData!B$15,$A1144+$A$11,0,1,1))","v":""},{"$f":"IF(A1144>$A$8,\"\",OFFSET(InputPriceData!G$15,CalculationsAndCharts!$A1144+$A$11,IF($C$5,8,0),1,1))","v":""},{"$f":"IF(A1144>$A$8,\"\",OFFSET(InputPriceData!C$15,CalculationsAndCharts!$A1144+$A$11,IF($C$5,8,0),1,1))","v":""},{"$f":"IF(A1144>$A$8,\"\",OFFSET(InputPriceData!D$15,CalculationsAndCharts!$A1144+$A$11,IF($C$5,8,0),1,1))","v":""},{"$f":"IF(A1144>$A$8,\"\",OFFSET(InputPriceData!E$15,CalculationsAndCharts!$A1144+$A$11,IF($C$5,8,0),1,1))","v":""},{"$f":"IF(A1144>$A$8,\"\",OFFSET(InputPriceData!F$15,CalculationsAndCharts!$A1144+$A$11,IF($C$5,8,0),1,1))","v":""},{"$error":"#N/A"},{"$error":"#N/A"},{"$f":"IF($A1144>$J$30,NA(),AVERAGE(H1144:H1147))","v":{"$error":"#N/A"}},{"$error":"#N/A"},null,null,{"$f":"IF($A1144>$J$30,NA(),IF($A1144>$N$30,0,(1-$M$35)*J1144+(2*$M$35-$M$36)*J1145-($M$35+$M$37)*J1146+$M$36*N1145+$M$37*N1146))","v":{"$error":"#N/A"}},{"$error":"#N/A"},{"$error":"#N/A"},{"$error":"#N/A"},null,null,{"$error":"#N/A"},{"$error":"#N/A"},{"$error":"#N/A"},{"$error":"#N/A"},null,null,null,null,null,null,null,null,null,null,null,null,null,null,null,null,null,null,null,null,null,null,null,null,null,null,null,null,null,null,null,"",{"$error":"#N/A"}]
[1113,{"$f":"IF(A1145>$A$8,\"\",OFFSET(InputPriceData!B$15,$A1145+$A$11,0,1,1))","v":""},{"$f":"IF(A1145>$A$8,\"\",OFFSET(InputPriceData!G$15,CalculationsAndCharts!$A1145+$A$11,IF($C$5,8,0),1,1))","v":""},{"$f":"IF(A1145>$A$8,\"\",OFFSET(InputPriceData!C$15,CalculationsAndCharts!$A1145+$A$11,IF($C$5,8,0),1,1))","v":""},{"$f":"IF(A1145>$A$8,\"\",OFFSET(InputPriceData!D$15,CalculationsAndCharts!$A1145+$A$11,IF($C$5,8,0),1,1))","v":""},{"$f":"IF(A1145>$A$8,\"\",OFFSET(InputPriceData!E$15,CalculationsAndCharts!$A1145+$A$11,IF($C$5,8,0),1,1))","v":""},{"$f":"IF(A1145>$A$8,\"\",OFFSET(InputPriceData!F$15,CalculationsAndCharts!$A1145+$A$11,IF($C$5,8,0),1,1))","v":""},{"$error":"#N/A"},{"$error":"#N/A"},{"$f":"IF($A1145>$J$30,NA(),AVERAGE(H1145:H1148))","v":{"$error":"#N/A"}},{"$error":"#N/A"},null,null,{"$f":"IF($A1145>$J$30,NA(),IF($A1145>$N$30,0,(1-$M$35)*J1145+(2*$M$35-$M$36)*J1146-($M$35+$M$37)*J1147+$M$36*N1146+$M$37*N1147))","v":{"$error":"#N/A"}},{"$error":"#N/A"},{"$error":"#N/A"},{"$error":"#N/A"},null,null,{"$error":"#N/A"},{"$error":"#N/A"},{"$error":"#N/A"},{"$error":"#N/A"},null,null,null,null,null,null,null,null,null,null,null,null,null,null,null,null,null,null,null,null,null,null,null,null,null,null,null,null,null,null,null,"",{"$error":"#N/A"}]
[1114,{"$f":"IF(A1146>$A$8,\"\",OFFSET(InputPriceData!B$15,$A1146+$A$11,0,1,1))","v":""},{"$f":"IF(A1146>$A$8,\"\",OFFSET(InputPriceData!G$15,CalculationsAndCharts!$A1146+$A$11,IF($C$5,8,0),1,1))","v":""},{"$f":"IF(A1146>$A$8,\"\",OFFSET(InputPriceData!C$15,CalculationsAndCharts!$A1146+$A$11,IF($C$5,8,0),1,1))","v":""},{"$f":"IF(A1146>$A$8,\"\",OFFSET(InputPriceData!D$15,CalculationsAndCharts!$A1146+$A$11,IF($C$5,8,0),1,1))","v":""},{"$f":"IF(A1146>$A$8,\"\",OFFSET(InputPriceData!E$15,CalculationsAndCharts!$A1146+$A$11,IF($C$5,8,0),1,1))","v":""},{"$f":"IF(A1146>$A$8,\"\",OFFSET(InputPriceData!F$15,CalculationsAndCharts!$A1146+$A$11,IF($C$5,8,0),1,1))","v":""},{"$error":"#N/A"},{"$error":"#N/A"},{"$f":"IF($A1146>$J$30,NA(),AVERAGE(H1146:H1149))","v":{"$error":"#N/A"}},{"$error":"#N/A"},null,null,{"$f":"IF($A1146>$J$30,NA(),IF($A1146>$N$30,0,(1-$M$35)*J1146+(2*$M$35-$M$36)*J1147-($M$35+$M$37)*J1148+$M$36*N1147+$M$37*N1148))","v":{"$error":"#N/A"}},{"$error":"#N/A"},{"$error":"#N/A"},{"$error":"#N/A"},null,null,{"$error":"#N/A"},{"$error":"#N/A"},{"$error":"#N/A"},{"$error":"#N/A"},null,null,null,null,null,null,null,null,null,null,null,null,null,null,null,null,null,null,null,null,null,null,null,null,null,null,null,null,null,null,null,"",{"$error":"#N/A"}]
[1115,{"$f":"IF(A1147>$A$8,\"\",OFFSET(InputPriceData!B$15,$A1147+$A$11,0,1,1))","v":""},{"$f":"IF(A1147>$A$8,\"\",OFFSET(InputPriceData!G$15,CalculationsAndCharts!$A1147+$A$11,IF($C$5,8,0),1,1))","v":""},{"$f":"IF(A1147>$A$8,\"\",OFFSET(InputPriceData!C$15,CalculationsAndCharts!$A1147+$A$11,IF($C$5,8,0),1,1))","v":""},{"$f":"IF(A1147>$A$8,\"\",OFFSET(InputPriceData!D$15,CalculationsAndCharts!$A1147+$A$11,IF($C$5,8,0),1,1))","v":""},{"$f":"IF(A1147>$A$8,\"\",OFFSET(InputPriceData!E$15,CalculationsAndCharts!$A1147+$A$11,IF($C$5,8,0),1,1))","v":""},{"$f":"IF(A1147>$A$8,\"\",OFFSET(InputPriceData!F$15,CalculationsAndCharts!$A1147+$A$11,IF($C$5,8,0),1,1))","v":""},{"$error":"#N/A"},{"$error":"#N/A"},{"$f":"IF($A1147>$J$30,NA(),AVERAGE(H1147:H1150))","v":{"$error":"#N/A"}},{"$error":"#N/A"},null,null,{"$f":"IF($A1147>$J$30,NA(),IF($A1147>$N$30,0,(1-$M$35)*J1147+(2*$M$35-$M$36)*J1148-($M$35+$M$37)*J1149+$M$36*N1148+$M$37*N1149))","v":{"$error":"#N/A"}},{"$error":"#N/A"},{"$error":"#N/A"},{"$error":"#N/A"},null,null,{"$error":"#N/A"},{"$error":"#N/A"},{"$error":"#N/A"},{"$error":"#N/A"},null,null,null,null,null,null,null,null,null,null,null,null,null,null,null,null,null,null,null,null,null,null,null,null,null,null,null,null,null,null,null,"",{"$error":"#N/A"}]
[1116,{"$f":"IF(A1148>$A$8,\"\",OFFSET(InputPriceData!B$15,$A1148+$A$11,0,1,1))","v":""},{"$f":"IF(A1148>$A$8,\"\",OFFSET(InputPriceData!G$15,CalculationsAndCharts!$A1148+$A$11,IF($C$5,8,0),1,1))","v":""},{"$f":"IF(A1148>$A$8,\"\",OFFSET(InputPriceData!C$15,CalculationsAndCharts!$A1148+$A$11,IF($C$5,8,0),1,1))","v":""},{"$f":"IF(A1148>$A$8,\"\",OFFSET(InputPriceData!D$15,CalculationsAndCharts!$A1148+$A$11,IF($C$5,8,0),1,1))","v":""},{"$f":"IF(A1148>$A$8,\"\",OFFSET(InputPriceData!E$15,CalculationsAndCharts!$A1148+$A$11,IF($C$5,8,0),1,1))","v":""},{"$f":"IF(A1148>$A$8,\"\",OFFSET(InputPriceData!F$15,CalculationsAndCharts!$A1148+$A$11,IF($C$5,8,0),1,1))","v":""},{"$error":"#N/A"},{"$error":"#N/A"},{"$f":"IF($A1148>$J$30,NA(),AVERAGE(H1148:H1151))","v":{"$error":"#N/A"}},{"$error":"#N/A"},null,null,{"$f":"IF($A1148>$J$30,NA(),IF($A1148>$N$30,0,(1-$M$35)*J1148+(2*$M$35-$M$36)*J1149-($M$35+$M$37)*J1150+$M$36*N1149+$M$37*N1150))","v":{"$error":"#N/A"}},{"$error":"#N/A"},{"$error":"#N/A"},{"$error":"#N/A"},null,null,{"$error":"#N/A"},{"$error":"#N/A"},{"$error":"#N/A"},{"$error":"#N/A"},null,null,null,null,null,null,null,null,null,null,null,null,null,null,null,null,null,null,null,null,null,null,null,null,null,null,null,null,null,null,null,"",{"$error":"#N/A"}]
[1117,{"$f":"IF(A1149>$A$8,\"\",OFFSET(InputPriceData!B$15,$A1149+$A$11,0,1,1))","v":""},{"$f":"IF(A1149>$A$8,\"\",OFFSET(InputPriceData!G$15,CalculationsAndCharts!$A1149+$A$11,IF($C$5,8,0),1,1))","v":""},{"$f":"IF(A1149>$A$8,\"\",OFFSET(InputPriceData!C$15,CalculationsAndCharts!$A1149+$A$11,IF($C$5,8,0),1,1))","v":""},{"$f":"IF(A1149>$A$8,\"\",OFFSET(InputPriceData!D$15,CalculationsAndCharts!$A1149+$A$11,IF($C$5,8,0),1,1))","v":""},{"$f":"IF(A1149>$A$8,\"\",OFFSET(InputPriceData!E$15,CalculationsAndCharts!$A1149+$A$11,IF($C$5,8,0),1,1))","v":""},{"$f":"IF(A1149>$A$8,\"\",OFFSET(InputPriceData!F$15,CalculationsAndCharts!$A1149+$A$11,IF($C$5,8,0),1,1))","v":""},{"$error":"#N/A"},{"$error":"#N/A"},{"$f":"IF($A1149>$J$30,NA(),AVERAGE(H1149:H1152))","v":{"$error":"#N/A"}},{"$error":"#N/A"},null,null,{"$f":"IF($A1149>$J$30,NA(),IF($A1149>$N$30,0,(1-$M$35)*J1149+(2*$M$35-$M$36)*J1150-($M$35+$M$37)*J1151+$M$36*N1150+$M$37*N1151))","v":{"$error":"#N/A"}},{"$error":"#N/A"},{"$error":"#N/A"},{"$error":"#N/A"},null,null,{"$error":"#N/A"},{"$error":"#N/A"},{"$error":"#N/A"},{"$error":"#N/A"},null,null,null,null,null,null,null,null,null,null,null,null,null,null,null,null,null,null,null,null,null,null,null,null,null,null,null,null,null,null,null,"",{"$error":"#N/A"}]
[1118,{"$f":"IF(A1150>$A$8,\"\",OFFSET(InputPriceData!B$15,$A1150+$A$11,0,1,1))","v":""},{"$f":"IF(A1150>$A$8,\"\",OFFSET(InputPriceData!G$15,CalculationsAndCharts!$A1150+$A$11,IF($C$5,8,0),1,1))","v":""},{"$f":"IF(A1150>$A$8,\"\",OFFSET(InputPriceData!C$15,CalculationsAndCharts!$A1150+$A$11,IF($C$5,8,0),1,1))","v":""},{"$f":"IF(A1150>$A$8,\"\",OFFSET(InputPriceData!D$15,CalculationsAndCharts!$A1150+$A$11,IF($C$5,8,0),1,1))","v":""},{"$f":"IF(A1150>$A$8,\"\",OFFSET(InputPriceData!E$15,CalculationsAndCharts!$A1150+$A$11,IF($C$5,8,0),1,1))","v":""},{"$f":"IF(A1150>$A$8,\"\",OFFSET(InputPriceData!F$15,CalculationsAndCharts!$A1150+$A$11,IF($C$5,8,0),1,1))","v":""},{"$error":"#N/A"},{"$error":"#N/A"},{"$f":"IF($A1150>$J$30,NA(),AVERAGE(H1150:H1153))","v":{"$error":"#N/A"}},{"$error":"#N/A"},null,null,{"$f":"IF($A1150>$J$30,NA(),IF($A1150>$N$30,0,(1-$M$35)*J1150+(2*$M$35-$M$36)*J1151-($M$35+$M$37)*J1152+$M$36*N1151+$M$37*N1152))","v":{"$error":"#N/A"}},{"$error":"#N/A"},{"$error":"#N/A"},{"$error":"#N/A"},null,null,{"$error":"#N/A"},{"$error":"#N/A"},{"$error":"#N/A"},{"$error":"#N/A"},null,null,null,null,null,null,null,null,null,null,null,null,null,null,null,null,null,null,null,null,null,null,null,null,null,null,null,null,null,null,null,"",{"$error":"#N/A"}]
[1119,{"$f":"IF(A1151>$A$8,\"\",OFFSET(InputPriceData!B$15,$A1151+$A$11,0,1,1))","v":""},{"$f":"IF(A1151>$A$8,\"\",OFFSET(InputPriceData!G$15,CalculationsAndCharts!$A1151+$A$11,IF($C$5,8,0),1,1))","v":""},{"$f":"IF(A1151>$A$8,\"\",OFFSET(InputPriceData!C$15,CalculationsAndCharts!$A1151+$A$11,IF($C$5,8,0),1,1))","v":""},{"$f":"IF(A1151>$A$8,\"\",OFFSET(InputPriceData!D$15,CalculationsAndCharts!$A1151+$A$11,IF($C$5,8,0),1,1))","v":""},{"$f":"IF(A1151>$A$8,\"\",OFFSET(InputPriceData!E$15,CalculationsAndCharts!$A1151+$A$11,IF($C$5,8,0),1,1))","v":""},{"$f":"IF(A1151>$A$8,\"\",OFFSET(InputPriceData!F$15,CalculationsAndCharts!$A1151+$A$11,IF($C$5,8,0),1,1))","v":""},{"$error":"#N/A"},{"$error":"#N/A"},{"$f":"IF($A1151>$J$30,NA(),AVERAGE(H1151:H1154))","v":{"$error":"#N/A"}},{"$error":"#N/A"},null,null,{"$f":"IF($A1151>$J$30,NA(),IF($A1151>$N$30,0,(1-$M$35)*J1151+(2*$M$35-$M$36)*J1152-($M$35+$M$37)*J1153+$M$36*N1152+$M$37*N1153))","v":{"$error":"#N/A"}},{"$error":"#N/A"},{"$error":"#N/A"},{"$error":"#N/A"},null,null,{"$error":"#N/A"},{"$error":"#N/A"},{"$error":"#N/A"},{"$error":"#N/A"},null,null,null,null,null,null,null,null,null,null,null,null,null,null,null,null,null,null,null,null,null,null,null,null,null,null,null,null,null,null,null,"",{"$error":"#N/A"}]
[1120,{"$f":"IF(A1152>$A$8,\"\",OFFSET(InputPriceData!B$15,$A1152+$A$11,0,1,1))","v":""},{"$f":"IF(A1152>$A$8,\"\",OFFSET(InputPriceData!G$15,CalculationsAndCharts!$A1152+$A$11,IF($C$5,8,0),1,1))","v":""},{"$f":"IF(A1152>$A$8,\"\",OFFSET(InputPriceData!C$15,CalculationsAndCharts!$A1152+$A$11,IF($C$5,8,0),1,1))","v":""},{"$f":"IF(A1152>$A$8,\"\",OFFSET(InputPriceData!D$15,CalculationsAndCharts!$A1152+$A$11,IF($C$5,8,0),1,1))","v":""},{"$f":"IF(A1152>$A$8,\"\",OFFSET(InputPriceData!E$15,CalculationsAndCharts!$A1152+$A$11,IF($C$5,8,0),1,1))","v":""},{"$f":"IF(A1152>$A$8,\"\",OFFSET(InputPriceData!F$15,CalculationsAndCharts!$A1152+$A$11,IF($C$5,8,0),1,1))","v":""},{"$error":"#N/A"},{"$error":"#N/A"},{"$f":"IF($A1152>$J$30,NA(),AVERAGE(H1152:H1155))","v":{"$error":"#N/A"}},{"$error":"#N/A"},null,null,{"$f":"IF($A1152>$J$30,NA(),IF($A1152>$N$30,0,(1-$M$35)*J1152+(2*$M$35-$M$36)*J1153-($M$35+$M$37)*J1154+$M$36*N1153+$M$37*N1154))","v":{"$error":"#N/A"}},{"$error":"#N/A"},{"$error":"#N/A"},{"$error":"#N/A"},null,null,{"$error":"#N/A"},{"$error":"#N/A"},{"$error":"#N/A"},{"$error":"#N/A"},null,null,null,null,null,null,null,null,null,null,null,null,null,null,null,null,null,null,null,null,null,null,null,null,null,null,null,null,null,null,null,"",{"$error":"#N/A"}]
[1121,{"$f":"IF(A1153>$A$8,\"\",OFFSET(InputPriceData!B$15,$A1153+$A$11,0,1,1))","v":""},{"$f":"IF(A1153>$A$8,\"\",OFFSET(InputPriceData!G$15,CalculationsAndCharts!$A1153+$A$11,IF($C$5,8,0),1,1))","v":""},{"$f":"IF(A1153>$A$8,\"\",OFFSET(InputPriceData!C$15,CalculationsAndCharts!$A1153+$A$11,IF($C$5,8,0),1,1))","v":""},{"$f":"IF(A1153>$A$8,\"\",OFFSET(InputPriceData!D$15,CalculationsAndCharts!$A1153+$A$11,IF($C$5,8,0),1,1))","v":""},{"$f":"IF(A1153>$A$8,\"\",OFFSET(InputPriceData!E$15,CalculationsAndCharts!$A1153+$A$11,IF($C$5,8,0),1,1))","v":""},{"$f":"IF(A1153>$A$8,\"\",OFFSET(InputPriceData!F$15,CalculationsAndCharts!$A1153+$A$11,IF($C$5,8,0),1,1))","v":""},{"$error":"#N/A"},{"$error":"#N/A"},{"$f":"IF($A1153>$J$30,NA(),AVERAGE(H1153:H1156))","v":{"$error":"#N/A"}},{"$error":"#N/A"},null,null,{"$f":"IF($A1153>$J$30,NA(),IF($A1153>$N$30,0,(1-$M$35)*J1153+(2*$M$35-$M$36)*J1154-($M$35+$M$37)*J1155+$M$36*N1154+$M$37*N1155))","v":{"$error":"#N/A"}},{"$error":"#N/A"},{"$error":"#N/A"},{"$error":"#N/A"},null,null,{"$error":"#N/A"},{"$error":"#N/A"},{"$error":"#N/A"},{"$error":"#N/A"},null,null,null,null,null,null,null,null,null,null,null,null,null,null,null,null,null,null,null,null,null,null,null,null,null,null,null,null,null,null,null,"",{"$error":"#N/A"}]
[1122,{"$f":"IF(A1154>$A$8,\"\",OFFSET(InputPriceData!B$15,$A1154+$A$11,0,1,1))","v":""},{"$f":"IF(A1154>$A$8,\"\",OFFSET(InputPriceData!G$15,CalculationsAndCharts!$A1154+$A$11,IF($C$5,8,0),1,1))","v":""},{"$f":"IF(A1154>$A$8,\"\",OFFSET(InputPriceData!C$15,CalculationsAndCharts!$A1154+$A$11,IF($C$5,8,0),1,1))","v":""},{"$f":"IF(A1154>$A$8,\"\",OFFSET(InputPriceData!D$15,CalculationsAndCharts!$A1154+$A$11,IF($C$5,8,0),1,1))","v":""},{"$f":"IF(A1154>$A$8,\"\",OFFSET(InputPriceData!E$15,CalculationsAndCharts!$A1154+$A$11,IF($C$5,8,0),1,1))","v":""},{"$f":"IF(A1154>$A$8,\"\",OFFSET(InputPriceData!F$15,CalculationsAndCharts!$A1154+$A$11,IF($C$5,8,0),1,1))","v":""},{"$error":"#N/A"},{"$error":"#N/A"},{"$f":"IF($A1154>$J$30,NA(),AVERAGE(H1154:H1157))","v":{"$error":"#N/A"}},{"$error":"#N/A"},null,null,{"$f":"IF($A1154>$J$30,NA(),IF($A1154>$N$30,0,(1-$M$35)*J1154+(2*$M$35-$M$36)*J1155-($M$35+$M$37)*J1156+$M$36*N1155+$M$37*N1156))","v":{"$error":"#N/A"}},{"$error":"#N/A"},{"$error":"#N/A"},{"$error":"#N/A"},null,null,{"$error":"#N/A"},{"$error":"#N/A"},{"$error":"#N/A"},{"$error":"#N/A"},null,null,null,null,null,null,null,null,null,null,null,null,null,null,null,null,null,null,null,null,null,null,null,null,null,null,null,null,null,null,null,"",{"$error":"#N/A"}]
[1123,{"$f":"IF(A1155>$A$8,\"\",OFFSET(InputPriceData!B$15,$A1155+$A$11,0,1,1))","v":""},{"$f":"IF(A1155>$A$8,\"\",OFFSET(InputPriceData!G$15,CalculationsAndCharts!$A1155+$A$11,IF($C$5,8,0),1,1))","v":""},{"$f":"IF(A1155>$A$8,\"\",OFFSET(InputPriceData!C$15,CalculationsAndCharts!$A1155+$A$11,IF($C$5,8,0),1,1))","v":""},{"$f":"IF(A1155>$A$8,\"\",OFFSET(InputPriceData!D$15,CalculationsAndCharts!$A1155+$A$11,IF($C$5,8,0),1,1))","v":""},{"$f":"IF(A1155>$A$8,\"\",OFFSET(InputPriceData!E$15,CalculationsAndCharts!$A1155+$A$11,IF($C$5,8,0),1,1))","v":""},{"$f":"IF(A1155>$A$8,\"\",OFFSET(InputPriceData!F$15,CalculationsAndCharts!$A1155+$A$11,IF($C$5,8,0),1,1))","v":""},{"$error":"#N/A"},{"$error":"#N/A"},{"$f":"IF($A1155>$J$30,NA(),AVERAGE(H1155:H1158))","v":{"$error":"#N/A"}},{"$error":"#N/A"},null,null,{"$f":"IF($A1155>$J$30,NA(),IF($A1155>$N$30,0,(1-$M$35)*J1155+(2*$M$35-$M$36)*J1156-($M$35+$M$37)*J1157+$M$36*N1156+$M$37*N1157))","v":{"$error":"#N/A"}},{"$error":"#N/A"},{"$error":"#N/A"},{"$error":"#N/A"},null,null,{"$error":"#N/A"},{"$error":"#N/A"},{"$error":"#N/A"},{"$error":"#N/A"},null,null,null,null,null,null,null,null,null,null,null,null,null,null,null,null,null,null,null,null,null,null,null,null,null,null,null,null,null,null,null,"",{"$error":"#N/A"}]
[1124,{"$f":"IF(A1156>$A$8,\"\",OFFSET(InputPriceData!B$15,$A1156+$A$11,0,1,1))","v":""},{"$f":"IF(A1156>$A$8,\"\",OFFSET(InputPriceData!G$15,CalculationsAndCharts!$A1156+$A$11,IF($C$5,8,0),1,1))","v":""},{"$f":"IF(A1156>$A$8,\"\",OFFSET(InputPriceData!C$15,CalculationsAndCharts!$A1156+$A$11,IF($C$5,8,0),1,1))","v":""},{"$f":"IF(A1156>$A$8,\"\",OFFSET(InputPriceData!D$15,CalculationsAndCharts!$A1156+$A$11,IF($C$5,8,0),1,1))","v":""},{"$f":"IF(A1156>$A$8,\"\",OFFSET(InputPriceData!E$15,CalculationsAndCharts!$A1156+$A$11,IF($C$5,8,0),1,1))","v":""},{"$f":"IF(A1156>$A$8,\"\",OFFSET(InputPriceData!F$15,CalculationsAndCharts!$A1156+$A$11,IF($C$5,8,0),1,1))","v":""},{"$error":"#N/A"},{"$error":"#N/A"},{"$f":"IF($A1156>$J$30,NA(),AVERAGE(H1156:H1159))","v":{"$error":"#N/A"}},{"$error":"#N/A"},null,null,{"$f":"IF($A1156>$J$30,NA(),IF($A1156>$N$30,0,(1-$M$35)*J1156+(2*$M$35-$M$36)*J1157-($M$35+$M$37)*J1158+$M$36*N1157+$M$37*N1158))","v":{"$error":"#N/A"}},{"$error":"#N/A"},{"$error":"#N/A"},{"$error":"#N/A"},null,null,{"$error":"#N/A"},{"$error":"#N/A"},{"$error":"#N/A"},{"$error":"#N/A"},null,null,null,null,null,null,null,null,null,null,null,null,null,null,null,null,null,null,null,null,null,null,null,null,null,null,null,null,null,null,null,"",{"$error":"#N/A"}]
[1125,{"$f":"IF(A1157>$A$8,\"\",OFFSET(InputPriceData!B$15,$A1157+$A$11,0,1,1))","v":""},{"$f":"IF(A1157>$A$8,\"\",OFFSET(InputPriceData!G$15,CalculationsAndCharts!$A1157+$A$11,IF($C$5,8,0),1,1))","v":""},{"$f":"IF(A1157>$A$8,\"\",OFFSET(InputPriceData!C$15,CalculationsAndCharts!$A1157+$A$11,IF($C$5,8,0),1,1))","v":""},{"$f":"IF(A1157>$A$8,\"\",OFFSET(InputPriceData!D$15,CalculationsAndCharts!$A1157+$A$11,IF($C$5,8,0),1,1))","v":""},{"$f":"IF(A1157>$A$8,\"\",OFFSET(InputPriceData!E$15,CalculationsAndCharts!$A1157+$A$11,IF($C$5,8,0),1,1))","v":""},{"$f":"IF(A1157>$A$8,\"\",OFFSET(InputPriceData!F$15,CalculationsAndCharts!$A1157+$A$11,IF($C$5,8,0),1,1))","v":""},{"$error":"#N/A"},{"$error":"#N/A"},{"$f":"IF($A1157>$J$30,NA(),AVERAGE(H1157:H1160))","v":{"$error":"#N/A"}},{"$error":"#N/A"},null,null,{"$f":"IF($A1157>$J$30,NA(),IF($A1157>$N$30,0,(1-$M$35)*J1157+(2*$M$35-$M$36)*J1158-($M$35+$M$37)*J1159+$M$36*N1158+$M$37*N1159))","v":{"$error":"#N/A"}},{"$error":"#N/A"},{"$error":"#N/A"},{"$error":"#N/A"},null,null,{"$error":"#N/A"},{"$error":"#N/A"},{"$error":"#N/A"},{"$error":"#N/A"},null,null,null,null,null,null,null,null,null,null,null,null,null,null,null,null,null,null,null,null,null,null,null,null,null,null,null,null,null,null,null,"",{"$error":"#N/A"}]
[1126,{"$f":"IF(A1158>$A$8,\"\",OFFSET(InputPriceData!B$15,$A1158+$A$11,0,1,1))","v":""},{"$f":"IF(A1158>$A$8,\"\",OFFSET(InputPriceData!G$15,CalculationsAndCharts!$A1158+$A$11,IF($C$5,8,0),1,1))","v":""},{"$f":"IF(A1158>$A$8,\"\",OFFSET(InputPriceData!C$15,CalculationsAndCharts!$A1158+$A$11,IF($C$5,8,0),1,1))","v":""},{"$f":"IF(A1158>$A$8,\"\",OFFSET(InputPriceData!D$15,CalculationsAndCharts!$A1158+$A$11,IF($C$5,8,0),1,1))","v":""},{"$f":"IF(A1158>$A$8,\"\",OFFSET(InputPriceData!E$15,CalculationsAndCharts!$A1158+$A$11,IF($C$5,8,0),1,1))","v":""},{"$f":"IF(A1158>$A$8,\"\",OFFSET(InputPriceData!F$15,CalculationsAndCharts!$A1158+$A$11,IF($C$5,8,0),1,1))","v":""},{"$error":"#N/A"},{"$error":"#N/A"},{"$f":"IF($A1158>$J$30,NA(),AVERAGE(H1158:H1161))","v":{"$error":"#N/A"}},{"$error":"#N/A"},null,null,{"$f":"IF($A1158>$J$30,NA(),IF($A1158>$N$30,0,(1-$M$35)*J1158+(2*$M$35-$M$36)*J1159-($M$35+$M$37)*J1160+$M$36*N1159+$M$37*N1160))","v":{"$error":"#N/A"}},{"$error":"#N/A"},{"$error":"#N/A"},{"$error":"#N/A"},null,null,{"$error":"#N/A"},{"$error":"#N/A"},{"$error":"#N/A"},{"$error":"#N/A"},null,null,null,null,null,null,null,null,null,null,null,null,null,null,null,null,null,null,null,null,null,null,null,null,null,null,null,null,null,null,null,"",{"$error":"#N/A"}]
[1127,{"$f":"IF(A1159>$A$8,\"\",OFFSET(InputPriceData!B$15,$A1159+$A$11,0,1,1))","v":""},{"$f":"IF(A1159>$A$8,\"\",OFFSET(InputPriceData!G$15,CalculationsAndCharts!$A1159+$A$11,IF($C$5,8,0),1,1))","v":""},{"$f":"IF(A1159>$A$8,\"\",OFFSET(InputPriceData!C$15,CalculationsAndCharts!$A1159+$A$11,IF($C$5,8,0),1,1))","v":""},{"$f":"IF(A1159>$A$8,\"\",OFFSET(InputPriceData!D$15,CalculationsAndCharts!$A1159+$A$11,IF($C$5,8,0),1,1))","v":""},{"$f":"IF(A1159>$A$8,\"\",OFFSET(InputPriceData!E$15,CalculationsAndCharts!$A1159+$A$11,IF($C$5,8,0),1,1))","v":""},{"$f":"IF(A1159>$A$8,\"\",OFFSET(InputPriceData!F$15,CalculationsAndCharts!$A1159+$A$11,IF($C$5,8,0),1,1))","v":""},{"$error":"#N/A"},{"$error":"#N/A"},{"$f":"IF($A1159>$J$30,NA(),AVERAGE(H1159:H1162))","v":{"$error":"#N/A"}},{"$error":"#N/A"},null,null,{"$f":"IF($A1159>$J$30,NA(),IF($A1159>$N$30,0,(1-$M$35)*J1159+(2*$M$35-$M$36)*J1160-($M$35+$M$37)*J1161+$M$36*N1160+$M$37*N1161))","v":{"$error":"#N/A"}},{"$error":"#N/A"},{"$error":"#N/A"},{"$error":"#N/A"},null,null,{"$error":"#N/A"},{"$error":"#N/A"},{"$error":"#N/A"},{"$error":"#N/A"},null,null,null,null,null,null,null,null,null,null,null,null,null,null,null,null,null,null,null,null,null,null,null,null,null,null,null,null,null,null,null,"",{"$error":"#N/A"}]
[1128,{"$f":"IF(A1160>$A$8,\"\",OFFSET(InputPriceData!B$15,$A1160+$A$11,0,1,1))","v":""},{"$f":"IF(A1160>$A$8,\"\",OFFSET(InputPriceData!G$15,CalculationsAndCharts!$A1160+$A$11,IF($C$5,8,0),1,1))","v":""},{"$f":"IF(A1160>$A$8,\"\",OFFSET(InputPriceData!C$15,CalculationsAndCharts!$A1160+$A$11,IF($C$5,8,0),1,1))","v":""},{"$f":"IF(A1160>$A$8,\"\",OFFSET(InputPriceData!D$15,CalculationsAndCharts!$A1160+$A$11,IF($C$5,8,0),1,1))","v":""},{"$f":"IF(A1160>$A$8,\"\",OFFSET(InputPriceData!E$15,CalculationsAndCharts!$A1160+$A$11,IF($C$5,8,0),1,1))","v":""},{"$f":"IF(A1160>$A$8,\"\",OFFSET(InputPriceData!F$15,CalculationsAndCharts!$A1160+$A$11,IF($C$5,8,0),1,1))","v":""},{"$error":"#N/A"},{"$error":"#N/A"},{"$f":"IF($A1160>$J$30,NA(),AVERAGE(H1160:H1163))","v":{"$error":"#N/A"}},{"$error":"#N/A"},null,null,{"$f":"IF($A1160>$J$30,NA(),IF($A1160>$N$30,0,(1-$M$35)*J1160+(2*$M$35-$M$36)*J1161-($M$35+$M$37)*J1162+$M$36*N1161+$M$37*N1162))","v":{"$error":"#N/A"}},{"$error":"#N/A"},{"$error":"#N/A"},{"$error":"#N/A"},null,null,{"$error":"#N/A"},{"$error":"#N/A"},{"$error":"#N/A"},{"$error":"#N/A"},null,null,null,null,null,null,null,null,null,null,null,null,null,null,null,null,null,null,null,null,null,null,null,null,null,null,null,null,null,null,null,"",{"$error":"#N/A"}]
[1129,{"$f":"IF(A1161>$A$8,\"\",OFFSET(InputPriceData!B$15,$A1161+$A$11,0,1,1))","v":""},{"$f":"IF(A1161>$A$8,\"\",OFFSET(InputPriceData!G$15,CalculationsAndCharts!$A1161+$A$11,IF($C$5,8,0),1,1))","v":""},{"$f":"IF(A1161>$A$8,\"\",OFFSET(InputPriceData!C$15,CalculationsAndCharts!$A1161+$A$11,IF($C$5,8,0),1,1))","v":""},{"$f":"IF(A1161>$A$8,\"\",OFFSET(InputPriceData!D$15,CalculationsAndCharts!$A1161+$A$11,IF($C$5,8,0),1,1))","v":""},{"$f":"IF(A1161>$A$8,\"\",OFFSET(InputPriceData!E$15,CalculationsAndCharts!$A1161+$A$11,IF($C$5,8,0),1,1))","v":""},{"$f":"IF(A1161>$A$8,\"\",OFFSET(InputPriceData!F$15,CalculationsAndCharts!$A1161+$A$11,IF($C$5,8,0),1,1))","v":""},{"$error":"#N/A"},{"$error":"#N/A"},{"$f":"IF($A1161>$J$30,NA(),AVERAGE(H1161:H1164))","v":{"$error":"#N/A"}},{"$error":"#N/A"},null,null,{"$f":"IF($A1161>$J$30,NA(),IF($A1161>$N$30,0,(1-$M$35)*J1161+(2*$M$35-$M$36)*J1162-($M$35+$M$37)*J1163+$M$36*N1162+$M$37*N1163))","v":{"$error":"#N/A"}},{"$error":"#N/A"},{"$error":"#N/A"},{"$error":"#N/A"},null,null,{"$error":"#N/A"},{"$error":"#N/A"},{"$error":"#N/A"},{"$error":"#N/A"},null,null,null,null,null,null,null,null,null,null,null,null,null,null,null,null,null,null,null,null,null,null,null,null,null,null,null,null,null,null,null,"",{"$error":"#N/A"}]
[1130,{"$f":"IF(A1162>$A$8,\"\",OFFSET(InputPriceData!B$15,$A1162+$A$11,0,1,1))","v":""},{"$f":"IF(A1162>$A$8,\"\",OFFSET(InputPriceData!G$15,CalculationsAndCharts!$A1162+$A$11,IF($C$5,8,0),1,1))","v":""},{"$f":"IF(A1162>$A$8,\"\",OFFSET(InputPriceData!C$15,CalculationsAndCharts!$A1162+$A$11,IF($C$5,8,0),1,1))","v":""},{"$f":"IF(A1162>$A$8,\"\",OFFSET(InputPriceData!D$15,CalculationsAndCharts!$A1162+$A$11,IF($C$5,8,0),1,1))","v":""},{"$f":"IF(A1162>$A$8,\"\",OFFSET(InputPriceData!E$15,CalculationsAndCharts!$A1162+$A$11,IF($C$5,8,0),1,1))","v":""},{"$f":"IF(A1162>$A$8,\"\",OFFSET(InputPriceData!F$15,CalculationsAndCharts!$A1162+$A$11,IF($C$5,8,0),1,1))","v":""},{"$error":"#N/A"},{"$error":"#N/A"},{"$f":"IF($A1162>$J$30,NA(),AVERAGE(H1162:H1165))","v":{"$error":"#N/A"}},{"$error":"#N/A"},null,null,{"$f":"IF($A1162>$J$30,NA(),IF($A1162>$N$30,0,(1-$M$35)*J1162+(2*$M$35-$M$36)*J1163-($M$35+$M$37)*J1164+$M$36*N1163+$M$37*N1164))","v":{"$error":"#N/A"}},{"$error":"#N/A"},{"$error":"#N/A"},{"$error":"#N/A"},null,null,{"$error":"#N/A"},{"$error":"#N/A"},{"$error":"#N/A"},{"$error":"#N/A"},null,null,null,null,null,null,null,null,null,null,null,null,null,null,null,null,null,null,null,null,null,null,null,null,null,null,null,null,null,null,null,"",{"$error":"#N/A"}]
[1131,{"$f":"IF(A1163>$A$8,\"\",OFFSET(InputPriceData!B$15,$A1163+$A$11,0,1,1))","v":""},{"$f":"IF(A1163>$A$8,\"\",OFFSET(InputPriceData!G$15,CalculationsAndCharts!$A1163+$A$11,IF($C$5,8,0),1,1))","v":""},{"$f":"IF(A1163>$A$8,\"\",OFFSET(InputPriceData!C$15,CalculationsAndCharts!$A1163+$A$11,IF($C$5,8,0),1,1))","v":""},{"$f":"IF(A1163>$A$8,\"\",OFFSET(InputPriceData!D$15,CalculationsAndCharts!$A1163+$A$11,IF($C$5,8,0),1,1))","v":""},{"$f":"IF(A1163>$A$8,\"\",OFFSET(InputPriceData!E$15,CalculationsAndCharts!$A1163+$A$11,IF($C$5,8,0),1,1))","v":""},{"$f":"IF(A1163>$A$8,\"\",OFFSET(InputPriceData!F$15,CalculationsAndCharts!$A1163+$A$11,IF($C$5,8,0),1,1))","v":""},{"$error":"#N/A"},{"$error":"#N/A"},{"$f":"IF($A1163>$J$30,NA(),AVERAGE(H1163:H1166))","v":{"$error":"#N/A"}},{"$error":"#N/A"},null,null,{"$f":"IF($A1163>$J$30,NA(),IF($A1163>$N$30,0,(1-$M$35)*J1163+(2*$M$35-$M$36)*J1164-($M$35+$M$37)*J1165+$M$36*N1164+$M$37*N1165))","v":{"$error":"#N/A"}},{"$error":"#N/A"},{"$error":"#N/A"},{"$error":"#N/A"},null,null,{"$error":"#N/A"},{"$error":"#N/A"},{"$error":"#N/A"},{"$error":"#N/A"},null,null,null,null,null,null,null,null,null,null,null,null,null,null,null,null,null,null,null,null,null,null,null,null,null,null,null,null,null,null,null,"",{"$error":"#N/A"}]
[1132,{"$f":"IF(A1164>$A$8,\"\",OFFSET(InputPriceData!B$15,$A1164+$A$11,0,1,1))","v":""},{"$f":"IF(A1164>$A$8,\"\",OFFSET(InputPriceData!G$15,CalculationsAndCharts!$A1164+$A$11,IF($C$5,8,0),1,1))","v":""},{"$f":"IF(A1164>$A$8,\"\",OFFSET(InputPriceData!C$15,CalculationsAndCharts!$A1164+$A$11,IF($C$5,8,0),1,1))","v":""},{"$f":"IF(A1164>$A$8,\"\",OFFSET(InputPriceData!D$15,CalculationsAndCharts!$A1164+$A$11,IF($C$5,8,0),1,1))","v":""},{"$f":"IF(A1164>$A$8,\"\",OFFSET(InputPriceData!E$15,CalculationsAndCharts!$A1164+$A$11,IF($C$5,8,0),1,1))","v":""},{"$f":"IF(A1164>$A$8,\"\",OFFSET(InputPriceData!F$15,CalculationsAndCharts!$A1164+$A$11,IF($C$5,8,0),1,1))","v":""},{"$error":"#N/A"},{"$error":"#N/A"},{"$f":"IF($A1164>$J$30,NA(),AVERAGE(H1164:H1167))","v":{"$error":"#N/A"}},{"$error":"#N/A"},null,null,{"$f":"IF($A1164>$J$30,NA(),IF($A1164>$N$30,0,(1-$M$35)*J1164+(2*$M$35-$M$36)*J1165-($M$35+$M$37)*J1166+$M$36*N1165+$M$37*N1166))","v":{"$error":"#N/A"}},{"$error":"#N/A"},{"$error":"#N/A"},{"$error":"#N/A"},null,null,{"$error":"#N/A"},{"$error":"#N/A"},{"$error":"#N/A"},{"$error":"#N/A"},null,null,null,null,null,null,null,null,null,null,null,null,null,null,null,null,null,null,null,null,null,null,null,null,null,null,null,null,null,null,null,"",{"$error":"#N/A"}]
[1133,{"$f":"IF(A1165>$A$8,\"\",OFFSET(InputPriceData!B$15,$A1165+$A$11,0,1,1))","v":""},{"$f":"IF(A1165>$A$8,\"\",OFFSET(InputPriceData!G$15,CalculationsAndCharts!$A1165+$A$11,IF($C$5,8,0),1,1))","v":""},{"$f":"IF(A1165>$A$8,\"\",OFFSET(InputPriceData!C$15,CalculationsAndCharts!$A1165+$A$11,IF($C$5,8,0),1,1))","v":""},{"$f":"IF(A1165>$A$8,\"\",OFFSET(InputPriceData!D$15,CalculationsAndCharts!$A1165+$A$11,IF($C$5,8,0),1,1))","v":""},{"$f":"IF(A1165>$A$8,\"\",OFFSET(InputPriceData!E$15,CalculationsAndCharts!$A1165+$A$11,IF($C$5,8,0),1,1))","v":""},{"$f":"IF(A1165>$A$8,\"\",OFFSET(InputPriceData!F$15,CalculationsAndCharts!$A1165+$A$11,IF($C$5,8,0),1,1))","v":""},{"$error":"#N/A"},{"$error":"#N/A"},{"$f":"IF($A1165>$J$30,NA(),AVERAGE(H1165:H1168))","v":{"$error":"#N/A"}},{"$error":"#N/A"},null,null,{"$f":"IF($A1165>$J$30,NA(),IF($A1165>$N$30,0,(1-$M$35)*J1165+(2*$M$35-$M$36)*J1166-($M$35+$M$37)*J1167+$M$36*N1166+$M$37*N1167))","v":{"$error":"#N/A"}},{"$error":"#N/A"},{"$error":"#N/A"},{"$error":"#N/A"},null,null,{"$error":"#N/A"},{"$error":"#N/A"},{"$error":"#N/A"},{"$error":"#N/A"},null,null,null,null,null,null,null,null,null,null,null,null,null,null,null,null,null,null,null,null,null,null,null,null,null,null,null,null,null,null,null,"",{"$error":"#N/A"}]
[1134,{"$f":"IF(A1166>$A$8,\"\",OFFSET(InputPriceData!B$15,$A1166+$A$11,0,1,1))","v":""},{"$f":"IF(A1166>$A$8,\"\",OFFSET(InputPriceData!G$15,CalculationsAndCharts!$A1166+$A$11,IF($C$5,8,0),1,1))","v":""},{"$f":"IF(A1166>$A$8,\"\",OFFSET(InputPriceData!C$15,CalculationsAndCharts!$A1166+$A$11,IF($C$5,8,0),1,1))","v":""},{"$f":"IF(A1166>$A$8,\"\",OFFSET(InputPriceData!D$15,CalculationsAndCharts!$A1166+$A$11,IF($C$5,8,0),1,1))","v":""},{"$f":"IF(A1166>$A$8,\"\",OFFSET(InputPriceData!E$15,CalculationsAndCharts!$A1166+$A$11,IF($C$5,8,0),1,1))","v":""},{"$f":"IF(A1166>$A$8,\"\",OFFSET(InputPriceData!F$15,CalculationsAndCharts!$A1166+$A$11,IF($C$5,8,0),1,1))","v":""},{"$error":"#N/A"},{"$error":"#N/A"},{"$f":"IF($A1166>$J$30,NA(),AVERAGE(H1166:H1169))","v":{"$error":"#N/A"}},{"$error":"#N/A"},null,null,{"$f":"IF($A1166>$J$30,NA(),IF($A1166>$N$30,0,(1-$M$35)*J1166+(2*$M$35-$M$36)*J1167-($M$35+$M$37)*J1168+$M$36*N1167+$M$37*N1168))","v":{"$error":"#N/A"}},{"$error":"#N/A"},{"$error":"#N/A"},{"$error":"#N/A"},null,null,{"$error":"#N/A"},{"$error":"#N/A"},{"$error":"#N/A"},{"$error":"#N/A"},null,null,null,null,null,null,null,null,null,null,null,null,null,null,null,null,null,null,null,null,null,null,null,null,null,null,null,null,null,null,null,"",{"$error":"#N/A"}]
[1135,{"$f":"IF(A1167>$A$8,\"\",OFFSET(InputPriceData!B$15,$A1167+$A$11,0,1,1))","v":""},{"$f":"IF(A1167>$A$8,\"\",OFFSET(InputPriceData!G$15,CalculationsAndCharts!$A1167+$A$11,IF($C$5,8,0),1,1))","v":""},{"$f":"IF(A1167>$A$8,\"\",OFFSET(InputPriceData!C$15,CalculationsAndCharts!$A1167+$A$11,IF($C$5,8,0),1,1))","v":""},{"$f":"IF(A1167>$A$8,\"\",OFFSET(InputPriceData!D$15,CalculationsAndCharts!$A1167+$A$11,IF($C$5,8,0),1,1))","v":""},{"$f":"IF(A1167>$A$8,\"\",OFFSET(InputPriceData!E$15,CalculationsAndCharts!$A1167+$A$11,IF($C$5,8,0),1,1))","v":""},{"$f":"IF(A1167>$A$8,\"\",OFFSET(InputPriceData!F$15,CalculationsAndCharts!$A1167+$A$11,IF($C$5,8,0),1,1))","v":""},{"$error":"#N/A"},{"$error":"#N/A"},{"$f":"IF($A1167>$J$30,NA(),AVERAGE(H1167:H1170))","v":{"$error":"#N/A"}},{"$error":"#N/A"},null,null,{"$f":"IF($A1167>$J$30,NA(),IF($A1167>$N$30,0,(1-$M$35)*J1167+(2*$M$35-$M$36)*J1168-($M$35+$M$37)*J1169+$M$36*N1168+$M$37*N1169))","v":{"$error":"#N/A"}},{"$error":"#N/A"},{"$error":"#N/A"},{"$error":"#N/A"},null,null,{"$error":"#N/A"},{"$error":"#N/A"},{"$error":"#N/A"},{"$error":"#N/A"},null,null,null,null,null,null,null,null,null,null,null,null,null,null,null,null,null,null,null,null,null,null,null,null,null,null,null,null,null,null,null,"",{"$error":"#N/A"}]
[1136,{"$f":"IF(A1168>$A$8,\"\",OFFSET(InputPriceData!B$15,$A1168+$A$11,0,1,1))","v":""},{"$f":"IF(A1168>$A$8,\"\",OFFSET(InputPriceData!G$15,CalculationsAndCharts!$A1168+$A$11,IF($C$5,8,0),1,1))","v":""},{"$f":"IF(A1168>$A$8,\"\",OFFSET(InputPriceData!C$15,CalculationsAndCharts!$A1168+$A$11,IF($C$5,8,0),1,1))","v":""},{"$f":"IF(A1168>$A$8,\"\",OFFSET(InputPriceData!D$15,CalculationsAndCharts!$A1168+$A$11,IF($C$5,8,0),1,1))","v":""},{"$f":"IF(A1168>$A$8,\"\",OFFSET(InputPriceData!E$15,CalculationsAndCharts!$A1168+$A$11,IF($C$5,8,0),1,1))","v":""},{"$f":"IF(A1168>$A$8,\"\",OFFSET(InputPriceData!F$15,CalculationsAndCharts!$A1168+$A$11,IF($C$5,8,0),1,1))","v":""},{"$error":"#N/A"},{"$error":"#N/A"},{"$f":"IF($A1168>$J$30,NA(),AVERAGE(H1168:H1171))","v":{"$error":"#N/A"}},{"$error":"#N/A"},null,null,{"$f":"IF($A1168>$J$30,NA(),IF($A1168>$N$30,0,(1-$M$35)*J1168+(2*$M$35-$M$36)*J1169-($M$35+$M$37)*J1170+$M$36*N1169+$M$37*N1170))","v":{"$error":"#N/A"}},{"$error":"#N/A"},{"$error":"#N/A"},{"$error":"#N/A"},null,null,{"$error":"#N/A"},{"$error":"#N/A"},{"$error":"#N/A"},{"$error":"#N/A"},null,null,null,null,null,null,null,null,null,null,null,null,null,null,null,null,null,null,null,null,null,null,null,null,null,null,null,null,null,null,null,"",{"$error":"#N/A"}]
[1137,{"$f":"IF(A1169>$A$8,\"\",OFFSET(InputPriceData!B$15,$A1169+$A$11,0,1,1))","v":""},{"$f":"IF(A1169>$A$8,\"\",OFFSET(InputPriceData!G$15,CalculationsAndCharts!$A1169+$A$11,IF($C$5,8,0),1,1))","v":""},{"$f":"IF(A1169>$A$8,\"\",OFFSET(InputPriceData!C$15,CalculationsAndCharts!$A1169+$A$11,IF($C$5,8,0),1,1))","v":""},{"$f":"IF(A1169>$A$8,\"\",OFFSET(InputPriceData!D$15,CalculationsAndCharts!$A1169+$A$11,IF($C$5,8,0),1,1))","v":""},{"$f":"IF(A1169>$A$8,\"\",OFFSET(InputPriceData!E$15,CalculationsAndCharts!$A1169+$A$11,IF($C$5,8,0),1,1))","v":""},{"$f":"IF(A1169>$A$8,\"\",OFFSET(InputPriceData!F$15,CalculationsAndCharts!$A1169+$A$11,IF($C$5,8,0),1,1))","v":""},{"$error":"#N/A"},{"$error":"#N/A"},{"$f":"IF($A1169>$J$30,NA(),AVERAGE(H1169:H1172))","v":{"$error":"#N/A"}},{"$error":"#N/A"},null,null,{"$f":"IF($A1169>$J$30,NA(),IF($A1169>$N$30,0,(1-$M$35)*J1169+(2*$M$35-$M$36)*J1170-($M$35+$M$37)*J1171+$M$36*N1170+$M$37*N1171))","v":{"$error":"#N/A"}},{"$error":"#N/A"},{"$error":"#N/A"},{"$error":"#N/A"},null,null,{"$error":"#N/A"},{"$error":"#N/A"},{"$error":"#N/A"},{"$error":"#N/A"},null,null,null,null,null,null,null,null,null,null,null,null,null,null,null,null,null,null,null,null,null,null,null,null,null,null,null,null,null,null,null,"",{"$error":"#N/A"}]
[1138,{"$f":"IF(A1170>$A$8,\"\",OFFSET(InputPriceData!B$15,$A1170+$A$11,0,1,1))","v":""},{"$f":"IF(A1170>$A$8,\"\",OFFSET(InputPriceData!G$15,CalculationsAndCharts!$A1170+$A$11,IF($C$5,8,0),1,1))","v":""},{"$f":"IF(A1170>$A$8,\"\",OFFSET(InputPriceData!C$15,CalculationsAndCharts!$A1170+$A$11,IF($C$5,8,0),1,1))","v":""},{"$f":"IF(A1170>$A$8,\"\",OFFSET(InputPriceData!D$15,CalculationsAndCharts!$A1170+$A$11,IF($C$5,8,0),1,1))","v":""},{"$f":"IF(A1170>$A$8,\"\",OFFSET(InputPriceData!E$15,CalculationsAndCharts!$A1170+$A$11,IF($C$5,8,0),1,1))","v":""},{"$f":"IF(A1170>$A$8,\"\",OFFSET(InputPriceData!F$15,CalculationsAndCharts!$A1170+$A$11,IF($C$5,8,0),1,1))","v":""},{"$error":"#N/A"},{"$error":"#N/A"},{"$f":"IF($A1170>$J$30,NA(),AVERAGE(H1170:H1173))","v":{"$error":"#N/A"}},{"$error":"#N/A"},null,null,{"$f":"IF($A1170>$J$30,NA(),IF($A1170>$N$30,0,(1-$M$35)*J1170+(2*$M$35-$M$36)*J1171-($M$35+$M$37)*J1172+$M$36*N1171+$M$37*N1172))","v":{"$error":"#N/A"}},{"$error":"#N/A"},{"$error":"#N/A"},{"$error":"#N/A"},null,null,{"$error":"#N/A"},{"$error":"#N/A"},{"$error":"#N/A"},{"$error":"#N/A"},null,null,null,null,null,null,null,null,null,null,null,null,null,null,null,null,null,null,null,null,null,null,null,null,null,null,null,null,null,null,null,"",{"$error":"#N/A"}]
[1139,{"$f":"IF(A1171>$A$8,\"\",OFFSET(InputPriceData!B$15,$A1171+$A$11,0,1,1))","v":""},{"$f":"IF(A1171>$A$8,\"\",OFFSET(InputPriceData!G$15,CalculationsAndCharts!$A1171+$A$11,IF($C$5,8,0),1,1))","v":""},{"$f":"IF(A1171>$A$8,\"\",OFFSET(InputPriceData!C$15,CalculationsAndCharts!$A1171+$A$11,IF($C$5,8,0),1,1))","v":""},{"$f":"IF(A1171>$A$8,\"\",OFFSET(InputPriceData!D$15,CalculationsAndCharts!$A1171+$A$11,IF($C$5,8,0),1,1))","v":""},{"$f":"IF(A1171>$A$8,\"\",OFFSET(InputPriceData!E$15,CalculationsAndCharts!$A1171+$A$11,IF($C$5,8,0),1,1))","v":""},{"$f":"IF(A1171>$A$8,\"\",OFFSET(InputPriceData!F$15,CalculationsAndCharts!$A1171+$A$11,IF($C$5,8,0),1,1))","v":""},{"$error":"#N/A"},{"$error":"#N/A"},{"$f":"IF($A1171>$J$30,NA(),AVERAGE(H1171:H1174))","v":{"$error":"#N/A"}},{"$error":"#N/A"},null,null,{"$f":"IF($A1171>$J$30,NA(),IF($A1171>$N$30,0,(1-$M$35)*J1171+(2*$M$35-$M$36)*J1172-($M$35+$M$37)*J1173+$M$36*N1172+$M$37*N1173))","v":{"$error":"#N/A"}},{"$error":"#N/A"},{"$error":"#N/A"},{"$error":"#N/A"},null,null,{"$error":"#N/A"},{"$error":"#N/A"},{"$error":"#N/A"},{"$error":"#N/A"},null,null,null,null,null,null,null,null,null,null,null,null,null,null,null,null,null,null,null,null,null,null,null,null,null,null,null,null,null,null,null,"",{"$error":"#N/A"}]
[1140,{"$f":"IF(A1172>$A$8,\"\",OFFSET(InputPriceData!B$15,$A1172+$A$11,0,1,1))","v":""},{"$f":"IF(A1172>$A$8,\"\",OFFSET(InputPriceData!G$15,CalculationsAndCharts!$A1172+$A$11,IF($C$5,8,0),1,1))","v":""},{"$f":"IF(A1172>$A$8,\"\",OFFSET(InputPriceData!C$15,CalculationsAndCharts!$A1172+$A$11,IF($C$5,8,0),1,1))","v":""},{"$f":"IF(A1172>$A$8,\"\",OFFSET(InputPriceData!D$15,CalculationsAndCharts!$A1172+$A$11,IF($C$5,8,0),1,1))","v":""},{"$f":"IF(A1172>$A$8,\"\",OFFSET(InputPriceData!E$15,CalculationsAndCharts!$A1172+$A$11,IF($C$5,8,0),1,1))","v":""},{"$f":"IF(A1172>$A$8,\"\",OFFSET(InputPriceData!F$15,CalculationsAndCharts!$A1172+$A$11,IF($C$5,8,0),1,1))","v":""},{"$error":"#N/A"},{"$error":"#N/A"},{"$f":"IF($A1172>$J$30,NA(),AVERAGE(H1172:H1175))","v":{"$error":"#N/A"}},{"$error":"#N/A"},null,null,{"$f":"IF($A1172>$J$30,NA(),IF($A1172>$N$30,0,(1-$M$35)*J1172+(2*$M$35-$M$36)*J1173-($M$35+$M$37)*J1174+$M$36*N1173+$M$37*N1174))","v":{"$error":"#N/A"}},{"$error":"#N/A"},{"$error":"#N/A"},{"$error":"#N/A"},null,null,{"$error":"#N/A"},{"$error":"#N/A"},{"$error":"#N/A"},{"$error":"#N/A"},null,null,null,null,null,null,null,null,null,null,null,null,null,null,null,null,null,null,null,null,null,null,null,null,null,null,null,null,null,null,null,"",{"$error":"#N/A"}]
[1141,{"$f":"IF(A1173>$A$8,\"\",OFFSET(InputPriceData!B$15,$A1173+$A$11,0,1,1))","v":""},{"$f":"IF(A1173>$A$8,\"\",OFFSET(InputPriceData!G$15,CalculationsAndCharts!$A1173+$A$11,IF($C$5,8,0),1,1))","v":""},{"$f":"IF(A1173>$A$8,\"\",OFFSET(InputPriceData!C$15,CalculationsAndCharts!$A1173+$A$11,IF($C$5,8,0),1,1))","v":""},{"$f":"IF(A1173>$A$8,\"\",OFFSET(InputPriceData!D$15,CalculationsAndCharts!$A1173+$A$11,IF($C$5,8,0),1,1))","v":""},{"$f":"IF(A1173>$A$8,\"\",OFFSET(InputPriceData!E$15,CalculationsAndCharts!$A1173+$A$11,IF($C$5,8,0),1,1))","v":""},{"$f":"IF(A1173>$A$8,\"\",OFFSET(InputPriceData!F$15,CalculationsAndCharts!$A1173+$A$11,IF($C$5,8,0),1,1))","v":""},{"$error":"#N/A"},{"$error":"#N/A"},{"$f":"IF($A1173>$J$30,NA(),AVERAGE(H1173:H1176))","v":{"$error":"#N/A"}},{"$error":"#N/A"},null,null,{"$f":"IF($A1173>$J$30,NA(),IF($A1173>$N$30,0,(1-$M$35)*J1173+(2*$M$35-$M$36)*J1174-($M$35+$M$37)*J1175+$M$36*N1174+$M$37*N1175))","v":{"$error":"#N/A"}},{"$error":"#N/A"},{"$error":"#N/A"},{"$error":"#N/A"},null,null,{"$error":"#N/A"},{"$error":"#N/A"},{"$error":"#N/A"},{"$error":"#N/A"},null,null,null,null,null,null,null,null,null,null,null,null,null,null,null,null,null,null,null,null,null,null,null,null,null,null,null,null,null,null,null,"",{"$error":"#N/A"}]
[1142,{"$f":"IF(A1174>$A$8,\"\",OFFSET(InputPriceData!B$15,$A1174+$A$11,0,1,1))","v":""},{"$f":"IF(A1174>$A$8,\"\",OFFSET(InputPriceData!G$15,CalculationsAndCharts!$A1174+$A$11,IF($C$5,8,0),1,1))","v":""},{"$f":"IF(A1174>$A$8,\"\",OFFSET(InputPriceData!C$15,CalculationsAndCharts!$A1174+$A$11,IF($C$5,8,0),1,1))","v":""},{"$f":"IF(A1174>$A$8,\"\",OFFSET(InputPriceData!D$15,CalculationsAndCharts!$A1174+$A$11,IF($C$5,8,0),1,1))","v":""},{"$f":"IF(A1174>$A$8,\"\",OFFSET(InputPriceData!E$15,CalculationsAndCharts!$A1174+$A$11,IF($C$5,8,0),1,1))","v":""},{"$f":"IF(A1174>$A$8,\"\",OFFSET(InputPriceData!F$15,CalculationsAndCharts!$A1174+$A$11,IF($C$5,8,0),1,1))","v":""},{"$error":"#N/A"},{"$error":"#N/A"},{"$f":"IF($A1174>$J$30,NA(),AVERAGE(H1174:H1177))","v":{"$error":"#N/A"}},{"$error":"#N/A"},null,null,{"$f":"IF($A1174>$J$30,NA(),IF($A1174>$N$30,0,(1-$M$35)*J1174+(2*$M$35-$M$36)*J1175-($M$35+$M$37)*J1176+$M$36*N1175+$M$37*N1176))","v":{"$error":"#N/A"}},{"$error":"#N/A"},{"$error":"#N/A"},{"$error":"#N/A"},null,null,{"$error":"#N/A"},{"$error":"#N/A"},{"$error":"#N/A"},{"$error":"#N/A"},null,null,null,null,null,null,null,null,null,null,null,null,null,null,null,null,null,null,null,null,null,null,null,null,null,null,null,null,null,null,null,"",{"$error":"#N/A"}]
[1143,{"$f":"IF(A1175>$A$8,\"\",OFFSET(InputPriceData!B$15,$A1175+$A$11,0,1,1))","v":""},{"$f":"IF(A1175>$A$8,\"\",OFFSET(InputPriceData!G$15,CalculationsAndCharts!$A1175+$A$11,IF($C$5,8,0),1,1))","v":""},{"$f":"IF(A1175>$A$8,\"\",OFFSET(InputPriceData!C$15,CalculationsAndCharts!$A1175+$A$11,IF($C$5,8,0),1,1))","v":""},{"$f":"IF(A1175>$A$8,\"\",OFFSET(InputPriceData!D$15,CalculationsAndCharts!$A1175+$A$11,IF($C$5,8,0),1,1))","v":""},{"$f":"IF(A1175>$A$8,\"\",OFFSET(InputPriceData!E$15,CalculationsAndCharts!$A1175+$A$11,IF($C$5,8,0),1,1))","v":""},{"$f":"IF(A1175>$A$8,\"\",OFFSET(InputPriceData!F$15,CalculationsAndCharts!$A1175+$A$11,IF($C$5,8,0),1,1))","v":""},{"$error":"#N/A"},{"$error":"#N/A"},{"$f":"IF($A1175>$J$30,NA(),AVERAGE(H1175:H1178))","v":{"$error":"#N/A"}},{"$error":"#N/A"},null,null,{"$f":"IF($A1175>$J$30,NA(),IF($A1175>$N$30,0,(1-$M$35)*J1175+(2*$M$35-$M$36)*J1176-($M$35+$M$37)*J1177+$M$36*N1176+$M$37*N1177))","v":{"$error":"#N/A"}},{"$error":"#N/A"},{"$error":"#N/A"},{"$error":"#N/A"},null,null,{"$error":"#N/A"},{"$error":"#N/A"},{"$error":"#N/A"},{"$error":"#N/A"},null,null,null,null,null,null,null,null,null,null,null,null,null,null,null,null,null,null,null,null,null,null,null,null,null,null,null,null,null,null,null,"",{"$error":"#N/A"}]
[1144,{"$f":"IF(A1176>$A$8,\"\",OFFSET(InputPriceData!B$15,$A1176+$A$11,0,1,1))","v":""},{"$f":"IF(A1176>$A$8,\"\",OFFSET(InputPriceData!G$15,CalculationsAndCharts!$A1176+$A$11,IF($C$5,8,0),1,1))","v":""},{"$f":"IF(A1176>$A$8,\"\",OFFSET(InputPriceData!C$15,CalculationsAndCharts!$A1176+$A$11,IF($C$5,8,0),1,1))","v":""},{"$f":"IF(A1176>$A$8,\"\",OFFSET(InputPriceData!D$15,CalculationsAndCharts!$A1176+$A$11,IF($C$5,8,0),1,1))","v":""},{"$f":"IF(A1176>$A$8,\"\",OFFSET(InputPriceData!E$15,CalculationsAndCharts!$A1176+$A$11,IF($C$5,8,0),1,1))","v":""},{"$f":"IF(A1176>$A$8,\"\",OFFSET(InputPriceData!F$15,CalculationsAndCharts!$A1176+$A$11,IF($C$5,8,0),1,1))","v":""},{"$error":"#N/A"},{"$error":"#N/A"},{"$f":"IF($A1176>$J$30,NA(),AVERAGE(H1176:H1179))","v":{"$error":"#N/A"}},{"$error":"#N/A"},null,null,{"$f":"IF($A1176>$J$30,NA(),IF($A1176>$N$30,0,(1-$M$35)*J1176+(2*$M$35-$M$36)*J1177-($M$35+$M$37)*J1178+$M$36*N1177+$M$37*N1178))","v":{"$error":"#N/A"}},{"$error":"#N/A"},{"$error":"#N/A"},{"$error":"#N/A"},null,null,{"$error":"#N/A"},{"$error":"#N/A"},{"$error":"#N/A"},{"$error":"#N/A"},null,null,null,null,null,null,null,null,null,null,null,null,null,null,null,null,null,null,null,null,null,null,null,null,null,null,null,null,null,null,null,"",{"$error":"#N/A"}]
[1145,{"$f":"IF(A1177>$A$8,\"\",OFFSET(InputPriceData!B$15,$A1177+$A$11,0,1,1))","v":""},{"$f":"IF(A1177>$A$8,\"\",OFFSET(InputPriceData!G$15,CalculationsAndCharts!$A1177+$A$11,IF($C$5,8,0),1,1))","v":""},{"$f":"IF(A1177>$A$8,\"\",OFFSET(InputPriceData!C$15,CalculationsAndCharts!$A1177+$A$11,IF($C$5,8,0),1,1))","v":""},{"$f":"IF(A1177>$A$8,\"\",OFFSET(InputPriceData!D$15,CalculationsAndCharts!$A1177+$A$11,IF($C$5,8,0),1,1))","v":""},{"$f":"IF(A1177>$A$8,\"\",OFFSET(InputPriceData!E$15,CalculationsAndCharts!$A1177+$A$11,IF($C$5,8,0),1,1))","v":""},{"$f":"IF(A1177>$A$8,\"\",OFFSET(InputPriceData!F$15,CalculationsAndCharts!$A1177+$A$11,IF($C$5,8,0),1,1))","v":""},{"$error":"#N/A"},{"$error":"#N/A"},{"$f":"IF($A1177>$J$30,NA(),AVERAGE(H1177:H1180))","v":{"$error":"#N/A"}},{"$error":"#N/A"},null,null,{"$f":"IF($A1177>$J$30,NA(),IF($A1177>$N$30,0,(1-$M$35)*J1177+(2*$M$35-$M$36)*J1178-($M$35+$M$37)*J1179+$M$36*N1178+$M$37*N1179))","v":{"$error":"#N/A"}},{"$error":"#N/A"},{"$error":"#N/A"},{"$error":"#N/A"},null,null,{"$error":"#N/A"},{"$error":"#N/A"},{"$error":"#N/A"},{"$error":"#N/A"},null,null,null,null,null,null,null,null,null,null,null,null,null,null,null,null,null,null,null,null,null,null,null,null,null,null,null,null,null,null,null,"",{"$error":"#N/A"}]
[1146,{"$f":"IF(A1178>$A$8,\"\",OFFSET(InputPriceData!B$15,$A1178+$A$11,0,1,1))","v":""},{"$f":"IF(A1178>$A$8,\"\",OFFSET(InputPriceData!G$15,CalculationsAndCharts!$A1178+$A$11,IF($C$5,8,0),1,1))","v":""},{"$f":"IF(A1178>$A$8,\"\",OFFSET(InputPriceData!C$15,CalculationsAndCharts!$A1178+$A$11,IF($C$5,8,0),1,1))","v":""},{"$f":"IF(A1178>$A$8,\"\",OFFSET(InputPriceData!D$15,CalculationsAndCharts!$A1178+$A$11,IF($C$5,8,0),1,1))","v":""},{"$f":"IF(A1178>$A$8,\"\",OFFSET(InputPriceData!E$15,CalculationsAndCharts!$A1178+$A$11,IF($C$5,8,0),1,1))","v":""},{"$f":"IF(A1178>$A$8,\"\",OFFSET(InputPriceData!F$15,CalculationsAndCharts!$A1178+$A$11,IF($C$5,8,0),1,1))","v":""},{"$error":"#N/A"},{"$error":"#N/A"},{"$f":"IF($A1178>$J$30,NA(),AVERAGE(H1178:H1181))","v":{"$error":"#N/A"}},{"$error":"#N/A"},null,null,{"$f":"IF($A1178>$J$30,NA(),IF($A1178>$N$30,0,(1-$M$35)*J1178+(2*$M$35-$M$36)*J1179-($M$35+$M$37)*J1180+$M$36*N1179+$M$37*N1180))","v":{"$error":"#N/A"}},{"$error":"#N/A"},{"$error":"#N/A"},{"$error":"#N/A"},null,null,{"$error":"#N/A"},{"$error":"#N/A"},{"$error":"#N/A"},{"$error":"#N/A"},null,null,null,null,null,null,null,null,null,null,null,null,null,null,null,null,null,null,null,null,null,null,null,null,null,null,null,null,null,null,null,"",{"$error":"#N/A"}]
[1147,{"$f":"IF(A1179>$A$8,\"\",OFFSET(InputPriceData!B$15,$A1179+$A$11,0,1,1))","v":""},{"$f":"IF(A1179>$A$8,\"\",OFFSET(InputPriceData!G$15,CalculationsAndCharts!$A1179+$A$11,IF($C$5,8,0),1,1))","v":""},{"$f":"IF(A1179>$A$8,\"\",OFFSET(InputPriceData!C$15,CalculationsAndCharts!$A1179+$A$11,IF($C$5,8,0),1,1))","v":""},{"$f":"IF(A1179>$A$8,\"\",OFFSET(InputPriceData!D$15,CalculationsAndCharts!$A1179+$A$11,IF($C$5,8,0),1,1))","v":""},{"$f":"IF(A1179>$A$8,\"\",OFFSET(InputPriceData!E$15,CalculationsAndCharts!$A1179+$A$11,IF($C$5,8,0),1,1))","v":""},{"$f":"IF(A1179>$A$8,\"\",OFFSET(InputPriceData!F$15,CalculationsAndCharts!$A1179+$A$11,IF($C$5,8,0),1,1))","v":""},{"$error":"#N/A"},{"$error":"#N/A"},{"$f":"IF($A1179>$J$30,NA(),AVERAGE(H1179:H1182))","v":{"$error":"#N/A"}},{"$error":"#N/A"},null,null,{"$f":"IF($A1179>$J$30,NA(),IF($A1179>$N$30,0,(1-$M$35)*J1179+(2*$M$35-$M$36)*J1180-($M$35+$M$37)*J1181+$M$36*N1180+$M$37*N1181))","v":{"$error":"#N/A"}},{"$error":"#N/A"},{"$error":"#N/A"},{"$error":"#N/A"},null,null,{"$error":"#N/A"},{"$error":"#N/A"},{"$error":"#N/A"},{"$error":"#N/A"},null,null,null,null,null,null,null,null,null,null,null,null,null,null,null,null,null,null,null,null,null,null,null,null,null,null,null,null,null,null,null,"",{"$error":"#N/A"}]
[1148,{"$f":"IF(A1180>$A$8,\"\",OFFSET(InputPriceData!B$15,$A1180+$A$11,0,1,1))","v":""},{"$f":"IF(A1180>$A$8,\"\",OFFSET(InputPriceData!G$15,CalculationsAndCharts!$A1180+$A$11,IF($C$5,8,0),1,1))","v":""},{"$f":"IF(A1180>$A$8,\"\",OFFSET(InputPriceData!C$15,CalculationsAndCharts!$A1180+$A$11,IF($C$5,8,0),1,1))","v":""},{"$f":"IF(A1180>$A$8,\"\",OFFSET(InputPriceData!D$15,CalculationsAndCharts!$A1180+$A$11,IF($C$5,8,0),1,1))","v":""},{"$f":"IF(A1180>$A$8,\"\",OFFSET(InputPriceData!E$15,CalculationsAndCharts!$A1180+$A$11,IF($C$5,8,0),1,1))","v":""},{"$f":"IF(A1180>$A$8,\"\",OFFSET(InputPriceData!F$15,CalculationsAndCharts!$A1180+$A$11,IF($C$5,8,0),1,1))","v":""},{"$error":"#N/A"},{"$error":"#N/A"},{"$f":"IF($A1180>$J$30,NA(),AVERAGE(H1180:H1183))","v":{"$error":"#N/A"}},{"$error":"#N/A"},null,null,{"$f":"IF($A1180>$J$30,NA(),IF($A1180>$N$30,0,(1-$M$35)*J1180+(2*$M$35-$M$36)*J1181-($M$35+$M$37)*J1182+$M$36*N1181+$M$37*N1182))","v":{"$error":"#N/A"}},{"$error":"#N/A"},{"$error":"#N/A"},{"$error":"#N/A"},null,null,{"$error":"#N/A"},{"$error":"#N/A"},{"$error":"#N/A"},{"$error":"#N/A"},null,null,null,null,null,null,null,null,null,null,null,null,null,null,null,null,null,null,null,null,null,null,null,null,null,null,null,null,null,null,null,"",{"$error":"#N/A"}]
[1149,{"$f":"IF(A1181>$A$8,\"\",OFFSET(InputPriceData!B$15,$A1181+$A$11,0,1,1))","v":""},{"$f":"IF(A1181>$A$8,\"\",OFFSET(InputPriceData!G$15,CalculationsAndCharts!$A1181+$A$11,IF($C$5,8,0),1,1))","v":""},{"$f":"IF(A1181>$A$8,\"\",OFFSET(InputPriceData!C$15,CalculationsAndCharts!$A1181+$A$11,IF($C$5,8,0),1,1))","v":""},{"$f":"IF(A1181>$A$8,\"\",OFFSET(InputPriceData!D$15,CalculationsAndCharts!$A1181+$A$11,IF($C$5,8,0),1,1))","v":""},{"$f":"IF(A1181>$A$8,\"\",OFFSET(InputPriceData!E$15,CalculationsAndCharts!$A1181+$A$11,IF($C$5,8,0),1,1))","v":""},{"$f":"IF(A1181>$A$8,\"\",OFFSET(InputPriceData!F$15,CalculationsAndCharts!$A1181+$A$11,IF($C$5,8,0),1,1))","v":""},{"$error":"#N/A"},{"$error":"#N/A"},{"$f":"IF($A1181>$J$30,NA(),AVERAGE(H1181:H1184))","v":{"$error":"#N/A"}},{"$error":"#N/A"},null,null,{"$f":"IF($A1181>$J$30,NA(),IF($A1181>$N$30,0,(1-$M$35)*J1181+(2*$M$35-$M$36)*J1182-($M$35+$M$37)*J1183+$M$36*N1182+$M$37*N1183))","v":{"$error":"#N/A"}},{"$error":"#N/A"},{"$error":"#N/A"},{"$error":"#N/A"},null,null,{"$error":"#N/A"},{"$error":"#N/A"},{"$error":"#N/A"},{"$error":"#N/A"},null,null,null,null,null,null,null,null,null,null,null,null,null,null,null,null,null,null,null,null,null,null,null,null,null,null,null,null,null,null,null,"",{"$error":"#N/A"}]
[1150,{"$f":"IF(A1182>$A$8,\"\",OFFSET(InputPriceData!B$15,$A1182+$A$11,0,1,1))","v":""},{"$f":"IF(A1182>$A$8,\"\",OFFSET(InputPriceData!G$15,CalculationsAndCharts!$A1182+$A$11,IF($C$5,8,0),1,1))","v":""},{"$f":"IF(A1182>$A$8,\"\",OFFSET(InputPriceData!C$15,CalculationsAndCharts!$A1182+$A$11,IF($C$5,8,0),1,1))","v":""},{"$f":"IF(A1182>$A$8,\"\",OFFSET(InputPriceData!D$15,CalculationsAndCharts!$A1182+$A$11,IF($C$5,8,0),1,1))","v":""},{"$f":"IF(A1182>$A$8,\"\",OFFSET(InputPriceData!E$15,CalculationsAndCharts!$A1182+$A$11,IF($C$5,8,0),1,1))","v":""},{"$f":"IF(A1182>$A$8,\"\",OFFSET(InputPriceData!F$15,CalculationsAndCharts!$A1182+$A$11,IF($C$5,8,0),1,1))","v":""},{"$error":"#N/A"},{"$error":"#N/A"},{"$f":"IF($A1182>$J$30,NA(),AVERAGE(H1182:H1185))","v":{"$error":"#N/A"}},{"$error":"#N/A"},null,null,{"$f":"IF($A1182>$J$30,NA(),IF($A1182>$N$30,0,(1-$M$35)*J1182+(2*$M$35-$M$36)*J1183-($M$35+$M$37)*J1184+$M$36*N1183+$M$37*N1184))","v":{"$error":"#N/A"}},{"$error":"#N/A"},{"$error":"#N/A"},{"$error":"#N/A"},null,null,{"$error":"#N/A"},{"$error":"#N/A"},{"$error":"#N/A"},{"$error":"#N/A"},null,null,null,null,null,null,null,null,null,null,null,null,null,null,null,null,null,null,null,null,null,null,null,null,null,null,null,null,null,null,null,"",{"$error":"#N/A"}]
[1151,{"$f":"IF(A1183>$A$8,\"\",OFFSET(InputPriceData!B$15,$A1183+$A$11,0,1,1))","v":""},{"$f":"IF(A1183>$A$8,\"\",OFFSET(InputPriceData!G$15,CalculationsAndCharts!$A1183+$A$11,IF($C$5,8,0),1,1))","v":""},{"$f":"IF(A1183>$A$8,\"\",OFFSET(InputPriceData!C$15,CalculationsAndCharts!$A1183+$A$11,IF($C$5,8,0),1,1))","v":""},{"$f":"IF(A1183>$A$8,\"\",OFFSET(InputPriceData!D$15,CalculationsAndCharts!$A1183+$A$11,IF($C$5,8,0),1,1))","v":""},{"$f":"IF(A1183>$A$8,\"\",OFFSET(InputPriceData!E$15,CalculationsAndCharts!$A1183+$A$11,IF($C$5,8,0),1,1))","v":""},{"$f":"IF(A1183>$A$8,\"\",OFFSET(InputPriceData!F$15,CalculationsAndCharts!$A1183+$A$11,IF($C$5,8,0),1,1))","v":""},{"$error":"#N/A"},{"$error":"#N/A"},{"$f":"IF($A1183>$J$30,NA(),AVERAGE(H1183:H1186))","v":{"$error":"#N/A"}},{"$error":"#N/A"},null,null,{"$f":"IF($A1183>$J$30,NA(),IF($A1183>$N$30,0,(1-$M$35)*J1183+(2*$M$35-$M$36)*J1184-($M$35+$M$37)*J1185+$M$36*N1184+$M$37*N1185))","v":{"$error":"#N/A"}},{"$error":"#N/A"},{"$error":"#N/A"},{"$error":"#N/A"},null,null,{"$error":"#N/A"},{"$error":"#N/A"},{"$error":"#N/A"},{"$error":"#N/A"},null,null,null,null,null,null,null,null,null,null,null,null,null,null,null,null,null,null,null,null,null,null,null,null,null,null,null,null,null,null,null,"",{"$error":"#N/A"}]
[1152,{"$f":"IF(A1184>$A$8,\"\",OFFSET(InputPriceData!B$15,$A1184+$A$11,0,1,1))","v":""},{"$f":"IF(A1184>$A$8,\"\",OFFSET(InputPriceData!G$15,CalculationsAndCharts!$A1184+$A$11,IF($C$5,8,0),1,1))","v":""},{"$f":"IF(A1184>$A$8,\"\",OFFSET(InputPriceData!C$15,CalculationsAndCharts!$A1184+$A$11,IF($C$5,8,0),1,1))","v":""},{"$f":"IF(A1184>$A$8,\"\",OFFSET(InputPriceData!D$15,CalculationsAndCharts!$A1184+$A$11,IF($C$5,8,0),1,1))","v":""},{"$f":"IF(A1184>$A$8,\"\",OFFSET(InputPriceData!E$15,CalculationsAndCharts!$A1184+$A$11,IF($C$5,8,0),1,1))","v":""},{"$f":"IF(A1184>$A$8,\"\",OFFSET(InputPriceData!F$15,CalculationsAndCharts!$A1184+$A$11,IF($C$5,8,0),1,1))","v":""},{"$error":"#N/A"},{"$error":"#N/A"},{"$f":"IF($A1184>$J$30,NA(),AVERAGE(H1184:H1187))","v":{"$error":"#N/A"}},{"$error":"#N/A"},null,null,{"$f":"IF($A1184>$J$30,NA(),IF($A1184>$N$30,0,(1-$M$35)*J1184+(2*$M$35-$M$36)*J1185-($M$35+$M$37)*J1186+$M$36*N1185+$M$37*N1186))","v":{"$error":"#N/A"}},{"$error":"#N/A"},{"$error":"#N/A"},{"$error":"#N/A"},null,null,{"$error":"#N/A"},{"$error":"#N/A"},{"$error":"#N/A"},{"$error":"#N/A"},null,null,null,null,null,null,null,null,null,null,null,null,null,null,null,null,null,null,null,null,null,null,null,null,null,null,null,null,null,null,null,"",{"$error":"#N/A"}]
[1153,{"$f":"IF(A1185>$A$8,\"\",OFFSET(InputPriceData!B$15,$A1185+$A$11,0,1,1))","v":""},{"$f":"IF(A1185>$A$8,\"\",OFFSET(InputPriceData!G$15,CalculationsAndCharts!$A1185+$A$11,IF($C$5,8,0),1,1))","v":""},{"$f":"IF(A1185>$A$8,\"\",OFFSET(InputPriceData!C$15,CalculationsAndCharts!$A1185+$A$11,IF($C$5,8,0),1,1))","v":""},{"$f":"IF(A1185>$A$8,\"\",OFFSET(InputPriceData!D$15,CalculationsAndCharts!$A1185+$A$11,IF($C$5,8,0),1,1))","v":""},{"$f":"IF(A1185>$A$8,\"\",OFFSET(InputPriceData!E$15,CalculationsAndCharts!$A1185+$A$11,IF($C$5,8,0),1,1))","v":""},{"$f":"IF(A1185>$A$8,\"\",OFFSET(InputPriceData!F$15,CalculationsAndCharts!$A1185+$A$11,IF($C$5,8,0),1,1))","v":""},{"$error":"#N/A"},{"$error":"#N/A"},{"$f":"IF($A1185>$J$30,NA(),AVERAGE(H1185:H1188))","v":{"$error":"#N/A"}},{"$error":"#N/A"},null,null,{"$f":"IF($A1185>$J$30,NA(),IF($A1185>$N$30,0,(1-$M$35)*J1185+(2*$M$35-$M$36)*J1186-($M$35+$M$37)*J1187+$M$36*N1186+$M$37*N1187))","v":{"$error":"#N/A"}},{"$error":"#N/A"},{"$error":"#N/A"},{"$error":"#N/A"},null,null,{"$f":"IF($A1185>$J$30,NA(),IF($A1185>$N$30,0,(1-S$35)*$J1185+(2*S$35-S$36)*$J1186-(S$35+S$37)*$J1187+S$36*T1186+S$37*T1187))","v":{"$error":"#N/A"}},{"$f":"IF($A1185>$J$30,NA(),IF($A1185>$N$30,0,(1-S$35)*$K1185+(2*S$35-S$36)*$K1186-(S$35+S$37)*$K1187+S$36*U1186+S$37*U1187))","v":{"$error":"#N/A"}},{"$f":"IF($A1185>$N$30,NA(),(T1185-U1185)/(T1185+U1185))","v":{"$error":"#N/A"}},{"$f":"IF($A1185>$N$30,NA(),OFFSET(V1185,$C$18,0,1,1))","v":{"$error":"#N/A"}},null,null,null,null,null,null,null,null,null,null,null,null,null,null,null,null,null,null,null,null,null,null,null,null,null,null,null,null,null,null,null,"",{"$error":"#N/A"}]
[1154,{"$f":"IF(A1186>$A$8,\"\",OFFSET(InputPriceData!B$15,$A1186+$A$11,0,1,1))","v":""},{"$f":"IF(A1186>$A$8,\"\",OFFSET(InputPriceData!G$15,CalculationsAndCharts!$A1186+$A$11,IF($C$5,8,0),1,1))","v":""},{"$f":"IF(A1186>$A$8,\"\",OFFSET(InputPriceData!C$15,CalculationsAndCharts!$A1186+$A$11,IF($C$5,8,0),1,1))","v":""},{"$f":"IF(A1186>$A$8,\"\",OFFSET(InputPriceData!D$15,CalculationsAndCharts!$A1186+$A$11,IF($C$5,8,0),1,1))","v":""},{"$f":"IF(A1186>$A$8,\"\",OFFSET(InputPriceData!E$15,CalculationsAndCharts!$A1186+$A$11,IF($C$5,8,0),1,1))","v":""},{"$f":"IF(A1186>$A$8,\"\",OFFSET(InputPriceData!F$15,CalculationsAndCharts!$A1186+$A$11,IF($C$5,8,0),1,1))","v":""},{"$f":"IF($A1186>$H$30,NA(),IF($G1186>$G1187,$G1186-$G1187,0))","v":{"$error":"#N/A"}},{"$f":"IF($A1186>$H$30,NA(),IF(G1186<G1187,G1187-G1186,0))","v":{"$error":"#N/A"}},{"$f":"IF($A1186>$J$30,NA(),AVERAGE(H1186:H1189))","v":{"$error":"#N/A"}},{"$error":"#N/A"},null,null,{"$f":"IF($A1186>$J$30,NA(),IF($A1186>$N$30,0,(1-$M$35)*J1186+(2*$M$35-$M$36)*J1187-($M$35+$M$37)*J1188+$M$36*N1187+$M$37*N1188))","v":{"$error":"#N/A"}},{"$error":"#N/A"},{"$f":"IF($A1186>$N$30,NA(),(N1186-O1186)/(N1186+O1186))","v":{"$error":"#N/A"}},{"$f":"IF($A1186>$N$30,NA(),OFFSET(P1186,$C$17,0,1,1))","v":{"$error":"#N/A"}},null,null,{"$error":"#N/A"},{"$error":"#N/A"},{"$error":"#N/A"},{"$error":"#N/A"},null,null,null,null,null,null,null,null,null,null,null,null,null,null,null,null,null,null,null,null,null,null,null,null,null,null,null,null,null,null,null,"",{"$error":"#N/A"}]
[1155,{"$f":"IF(A1187>$A$8,\"\",OFFSET(InputPriceData!B$15,$A1187+$A$11,0,1,1))","v":""},{"$f":"IF(A1187>$A$8,\"\",OFFSET(InputPriceData!G$15,CalculationsAndCharts!$A1187+$A$11,IF($C$5,8,0),1,1))","v":""},{"$f":"IF(A1187>$A$8,\"\",OFFSET(InputPriceData!C$15,CalculationsAndCharts!$A1187+$A$11,IF($C$5,8,0),1,1))","v":""},{"$f":"IF(A1187>$A$8,\"\",OFFSET(InputPriceData!D$15,CalculationsAndCharts!$A1187+$A$11,IF($C$5,8,0),1,1))","v":""},{"$f":"IF(A1187>$A$8,\"\",OFFSET(InputPriceData!E$15,CalculationsAndCharts!$A1187+$A$11,IF($C$5,8,0),1,1))","v":""},{"$f":"IF(A1187>$A$8,\"\",OFFSET(InputPriceData!F$15,CalculationsAndCharts!$A1187+$A$11,IF($C$5,8,0),1,1))","v":""},{"$error":"#N/A"},{"$error":"#N/A"},{"$f":"IF($A1187>$J$30,NA(),AVERAGE(H1187:H1190))","v":{"$error":"#N/A"}},{"$error":"#N/A"},null,null,{"$f":"IF($A1187>$J$30,NA(),IF($A1187>$N$30,0,(1-$M$35)*J1187+(2*$M$35-$M$36)*J1188-($M$35+$M$37)*J1189+$M$36*N1188+$M$37*N1189))","v":{"$error":"#N/A"}},{"$error":"#N/A"},{"$error":"#N/A"},{"$error":"#N/A"},null,null,{"$error":"#N/A"},{"$error":"#N/A"},{"$error":"#N/A"},{"$error":"#N/A"},null,null,null,null,null,null,null,null,null,null,null,null,null,null,null,null,null,null,null,null,null,null,null,null,null,null,null,null,null,null,null,"",{"$error":"#N/A"}]
[1156,{"$f":"IF(A1188>$A$8,\"\",OFFSET(InputPriceData!B$15,$A1188+$A$11,0,1,1))","v":""},{"$f":"IF(A1188>$A$8,\"\",OFFSET(InputPriceData!G$15,CalculationsAndCharts!$A1188+$A$11,IF($C$5,8,0),1,1))","v":""},{"$f":"IF(A1188>$A$8,\"\",OFFSET(InputPriceData!C$15,CalculationsAndCharts!$A1188+$A$11,IF($C$5,8,0),1,1))","v":""},{"$f":"IF(A1188>$A$8,\"\",OFFSET(InputPriceData!D$15,CalculationsAndCharts!$A1188+$A$11,IF($C$5,8,0),1,1))","v":""},{"$f":"IF(A1188>$A$8,\"\",OFFSET(InputPriceData!E$15,CalculationsAndCharts!$A1188+$A$11,IF($C$5,8,0),1,1))","v":""},{"$f":"IF(A1188>$A$8,\"\",OFFSET(InputPriceData!F$15,CalculationsAndCharts!$A1188+$A$11,IF($C$5,8,0),1,1))","v":""},{"$error":"#N/A"},{"$error":"#N/A"},{"$f":"IF($A1188>$J$30,NA(),AVERAGE(H1188:H1191))","v":{"$error":"#N/A"}},{"$error":"#N/A"},null,null,{"$f":"IF($A1188>$J$30,NA(),IF($A1188>$N$30,0,(1-$M$35)*J1188+(2*$M$35-$M$36)*J1189-($M$35+$M$37)*J1190+$M$36*N1189+$M$37*N1190))","v":{"$error":"#N/A"}},{"$error":"#N/A"},{"$error":"#N/A"},{"$error":"#N/A"},null,null,{"$error":"#N/A"},{"$error":"#N/A"},{"$error":"#N/A"},{"$error":"#N/A"},null,null,null,null,null,null,null,null,null,null,null,null,null,null,null,null,null,null,null,null,null,null,null,null,null,null,null,null,null,null,null,"",{"$error":"#N/A"}]
[1157,{"$f":"IF(A1189>$A$8,\"\",OFFSET(InputPriceData!B$15,$A1189+$A$11,0,1,1))","v":""},{"$f":"IF(A1189>$A$8,\"\",OFFSET(InputPriceData!G$15,CalculationsAndCharts!$A1189+$A$11,IF($C$5,8,0),1,1))","v":""},{"$f":"IF(A1189>$A$8,\"\",OFFSET(InputPriceData!C$15,CalculationsAndCharts!$A1189+$A$11,IF($C$5,8,0),1,1))","v":""},{"$f":"IF(A1189>$A$8,\"\",OFFSET(InputPriceData!D$15,CalculationsAndCharts!$A1189+$A$11,IF($C$5,8,0),1,1))","v":""},{"$f":"IF(A1189>$A$8,\"\",OFFSET(InputPriceData!E$15,CalculationsAndCharts!$A1189+$A$11,IF($C$5,8,0),1,1))","v":""},{"$f":"IF(A1189>$A$8,\"\",OFFSET(InputPriceData!F$15,CalculationsAndCharts!$A1189+$A$11,IF($C$5,8,0),1,1))","v":""},{"$error":"#N/A"},{"$error":"#N/A"},{"$f":"IF($A1189>$J$30,NA(),AVERAGE(H1189:H1192))","v":{"$error":"#N/A"}},{"$error":"#N/A"},null,null,{"$f":"IF($A1189>$J$30,NA(),IF($A1189>$N$30,0,(1-$M$35)*J1189+(2*$M$35-$M$36)*J1190-($M$35+$M$37)*J1191+$M$36*N1190+$M$37*N1191))","v":{"$error":"#N/A"}},{"$error":"#N/A"},{"$error":"#N/A"},{"$error":"#N/A"},null,null,{"$error":"#N/A"},{"$error":"#N/A"},{"$error":"#N/A"},{"$error":"#N/A"},null,null,null,null,null,null,null,null,null,null,null,null,null,null,null,null,null,null,null,null,null,null,null,null,null,null,null,null,null,null,null,"",{"$error":"#N/A"}]
[1158,{"$f":"IF(A1190>$A$8,\"\",OFFSET(InputPriceData!B$15,$A1190+$A$11,0,1,1))","v":""},{"$f":"IF(A1190>$A$8,\"\",OFFSET(InputPriceData!G$15,CalculationsAndCharts!$A1190+$A$11,IF($C$5,8,0),1,1))","v":""},{"$f":"IF(A1190>$A$8,\"\",OFFSET(InputPriceData!C$15,CalculationsAndCharts!$A1190+$A$11,IF($C$5,8,0),1,1))","v":""},{"$f":"IF(A1190>$A$8,\"\",OFFSET(InputPriceData!D$15,CalculationsAndCharts!$A1190+$A$11,IF($C$5,8,0),1,1))","v":""},{"$f":"IF(A1190>$A$8,\"\",OFFSET(InputPriceData!E$15,CalculationsAndCharts!$A1190+$A$11,IF($C$5,8,0),1,1))","v":""},{"$f":"IF(A1190>$A$8,\"\",OFFSET(InputPriceData!F$15,CalculationsAndCharts!$A1190+$A$11,IF($C$5,8,0),1,1))","v":""},{"$error":"#N/A"},{"$error":"#N/A"},{"$f":"IF($A1190>$J$30,NA(),AVERAGE(H1190:H1193))","v":{"$error":"#N/A"}},{"$error":"#N/A"},null,null,{"$f":"IF($A1190>$J$30,NA(),IF($A1190>$N$30,0,(1-$M$35)*J1190+(2*$M$35-$M$36)*J1191-($M$35+$M$37)*J1192+$M$36*N1191+$M$37*N1192))","v":{"$error":"#N/A"}},{"$error":"#N/A"},{"$error":"#N/A"},{"$error":"#N/A"},null,null,{"$error":"#N/A"},{"$error":"#N/A"},{"$error":"#N/A"},{"$error":"#N/A"},null,null,null,null,null,null,null,null,null,null,null,null,null,null,null,null,null,null,null,null,null,null,null,null,null,null,null,null,null,null,null,"",{"$error":"#N/A"}]
[1159,{"$f":"IF(A1191>$A$8,\"\",OFFSET(InputPriceData!B$15,$A1191+$A$11,0,1,1))","v":""},{"$f":"IF(A1191>$A$8,\"\",OFFSET(InputPriceData!G$15,CalculationsAndCharts!$A1191+$A$11,IF($C$5,8,0),1,1))","v":""},{"$f":"IF(A1191>$A$8,\"\",OFFSET(InputPriceData!C$15,CalculationsAndCharts!$A1191+$A$11,IF($C$5,8,0),1,1))","v":""},{"$f":"IF(A1191>$A$8,\"\",OFFSET(InputPriceData!D$15,CalculationsAndCharts!$A1191+$A$11,IF($C$5,8,0),1,1))","v":""},{"$f":"IF(A1191>$A$8,\"\",OFFSET(InputPriceData!E$15,CalculationsAndCharts!$A1191+$A$11,IF($C$5,8,0),1,1))","v":""},{"$f":"IF(A1191>$A$8,\"\",OFFSET(InputPriceData!F$15,CalculationsAndCharts!$A1191+$A$11,IF($C$5,8,0),1,1))","v":""},{"$error":"#N/A"},{"$error":"#N/A"},{"$f":"IF($A1191>$J$30,NA(),AVERAGE(H1191:H1194))","v":{"$error":"#N/A"}},{"$error":"#N/A"},null,null,{"$f":"IF($A1191>$J$30,NA(),IF($A1191>$N$30,0,(1-$M$35)*J1191+(2*$M$35-$M$36)*J1192-($M$35+$M$37)*J1193+$M$36*N1192+$M$37*N1193))","v":{"$error":"#N/A"}},{"$error":"#N/A"},{"$error":"#N/A"},{"$error":"#N/A"},null,null,{"$error":"#N/A"},{"$error":"#N/A"},{"$error":"#N/A"},{"$error":"#N/A"},null,null,null,null,null,null,null,null,null,null,null,null,null,null,null,null,null,null,null,null,null,null,null,null,null,null,null,null,null,null,null,"",{"$error":"#N/A"}]
[1160,{"$f":"IF(A1192>$A$8,\"\",OFFSET(InputPriceData!B$15,$A1192+$A$11,0,1,1))","v":""},{"$f":"IF(A1192>$A$8,\"\",OFFSET(InputPriceData!G$15,CalculationsAndCharts!$A1192+$A$11,IF($C$5,8,0),1,1))","v":""},{"$f":"IF(A1192>$A$8,\"\",OFFSET(InputPriceData!C$15,CalculationsAndCharts!$A1192+$A$11,IF($C$5,8,0),1,1))","v":""},{"$f":"IF(A1192>$A$8,\"\",OFFSET(InputPriceData!D$15,CalculationsAndCharts!$A1192+$A$11,IF($C$5,8,0),1,1))","v":""},{"$f":"IF(A1192>$A$8,\"\",OFFSET(InputPriceData!E$15,CalculationsAndCharts!$A1192+$A$11,IF($C$5,8,0),1,1))","v":""},{"$f":"IF(A1192>$A$8,\"\",OFFSET(InputPriceData!F$15,CalculationsAndCharts!$A1192+$A$11,IF($C$5,8,0),1,1))","v":""},{"$error":"#N/A"},{"$error":"#N/A"},{"$f":"IF($A1192>$J$30,NA(),AVERAGE(H1192:H1195))","v":{"$error":"#N/A"}},{"$error":"#N/A"},null,null,{"$f":"IF($A1192>$J$30,NA(),IF($A1192>$N$30,0,(1-$M$35)*J1192+(2*$M$35-$M$36)*J1193-($M$35+$M$37)*J1194+$M$36*N1193+$M$37*N1194))","v":{"$error":"#N/A"}},{"$error":"#N/A"},{"$error":"#N/A"},{"$error":"#N/A"},null,null,{"$error":"#N/A"},{"$error":"#N/A"},{"$error":"#N/A"},{"$error":"#N/A"},null,null,null,null,null,null,null,null,null,null,null,null,null,null,null,null,null,null,null,null,null,null,null,null,null,null,null,null,null,null,null,"",{"$error":"#N/A"}]
[1161,{"$f":"IF(A1193>$A$8,\"\",OFFSET(InputPriceData!B$15,$A1193+$A$11,0,1,1))","v":""},{"$f":"IF(A1193>$A$8,\"\",OFFSET(InputPriceData!G$15,CalculationsAndCharts!$A1193+$A$11,IF($C$5,8,0),1,1))","v":""},{"$f":"IF(A1193>$A$8,\"\",OFFSET(InputPriceData!C$15,CalculationsAndCharts!$A1193+$A$11,IF($C$5,8,0),1,1))","v":""},{"$f":"IF(A1193>$A$8,\"\",OFFSET(InputPriceData!D$15,CalculationsAndCharts!$A1193+$A$11,IF($C$5,8,0),1,1))","v":""},{"$f":"IF(A1193>$A$8,\"\",OFFSET(InputPriceData!E$15,CalculationsAndCharts!$A1193+$A$11,IF($C$5,8,0),1,1))","v":""},{"$f":"IF(A1193>$A$8,\"\",OFFSET(InputPriceData!F$15,CalculationsAndCharts!$A1193+$A$11,IF($C$5,8,0),1,1))","v":""},{"$error":"#N/A"},{"$error":"#N/A"},{"$f":"IF($A1193>$J$30,NA(),AVERAGE(H1193:H1196))","v":{"$error":"#N/A"}},{"$error":"#N/A"},null,null,{"$f":"IF($A1193>$J$30,NA(),IF($A1193>$N$30,0,(1-$M$35)*J1193+(2*$M$35-$M$36)*J1194-($M$35+$M$37)*J1195+$M$36*N1194+$M$37*N1195))","v":{"$error":"#N/A"}},{"$error":"#N/A"},{"$error":"#N/A"},{"$error":"#N/A"},null,null,{"$error":"#N/A"},{"$error":"#N/A"},{"$error":"#N/A"},{"$error":"#N/A"},null,null,null,null,null,null,null,null,null,null,null,null,null,null,null,null,null,null,null,null,null,null,null,null,null,null,null,null,null,null,null,"",{"$error":"#N/A"}]
[1162,{"$f":"IF(A1194>$A$8,\"\",OFFSET(InputPriceData!B$15,$A1194+$A$11,0,1,1))","v":""},{"$f":"IF(A1194>$A$8,\"\",OFFSET(InputPriceData!G$15,CalculationsAndCharts!$A1194+$A$11,IF($C$5,8,0),1,1))","v":""},{"$f":"IF(A1194>$A$8,\"\",OFFSET(InputPriceData!C$15,CalculationsAndCharts!$A1194+$A$11,IF($C$5,8,0),1,1))","v":""},{"$f":"IF(A1194>$A$8,\"\",OFFSET(InputPriceData!D$15,CalculationsAndCharts!$A1194+$A$11,IF($C$5,8,0),1,1))","v":""},{"$f":"IF(A1194>$A$8,\"\",OFFSET(InputPriceData!E$15,CalculationsAndCharts!$A1194+$A$11,IF($C$5,8,0),1,1))","v":""},{"$f":"IF(A1194>$A$8,\"\",OFFSET(InputPriceData!F$15,CalculationsAndCharts!$A1194+$A$11,IF($C$5,8,0),1,1))","v":""},{"$error":"#N/A"},{"$error":"#N/A"},{"$f":"IF($A1194>$J$30,NA(),AVERAGE(H1194:H1197))","v":{"$error":"#N/A"}},{"$error":"#N/A"},null,null,{"$f":"IF($A1194>$J$30,NA(),IF($A1194>$N$30,0,(1-$M$35)*J1194+(2*$M$35-$M$36)*J1195-($M$35+$M$37)*J1196+$M$36*N1195+$M$37*N1196))","v":{"$error":"#N/A"}},{"$error":"#N/A"},{"$error":"#N/A"},{"$error":"#N/A"},null,null,{"$error":"#N/A"},{"$error":"#N/A"},{"$error":"#N/A"},{"$error":"#N/A"},null,null,null,null,null,null,null,null,null,null,null,null,null,null,null,null,null,null,null,null,null,null,null,null,null,null,null,null,null,null,null,"",{"$error":"#N/A"}]
[1163,{"$f":"IF(A1195>$A$8,\"\",OFFSET(InputPriceData!B$15,$A1195+$A$11,0,1,1))","v":""},{"$f":"IF(A1195>$A$8,\"\",OFFSET(InputPriceData!G$15,CalculationsAndCharts!$A1195+$A$11,IF($C$5,8,0),1,1))","v":""},{"$f":"IF(A1195>$A$8,\"\",OFFSET(InputPriceData!C$15,CalculationsAndCharts!$A1195+$A$11,IF($C$5,8,0),1,1))","v":""},{"$f":"IF(A1195>$A$8,\"\",OFFSET(InputPriceData!D$15,CalculationsAndCharts!$A1195+$A$11,IF($C$5,8,0),1,1))","v":""},{"$f":"IF(A1195>$A$8,\"\",OFFSET(InputPriceData!E$15,CalculationsAndCharts!$A1195+$A$11,IF($C$5,8,0),1,1))","v":""},{"$f":"IF(A1195>$A$8,\"\",OFFSET(InputPriceData!F$15,CalculationsAndCharts!$A1195+$A$11,IF($C$5,8,0),1,1))","v":""},{"$error":"#N/A"},{"$error":"#N/A"},{"$f":"IF($A1195>$J$30,NA(),AVERAGE(H1195:H1198))","v":{"$error":"#N/A"}},{"$error":"#N/A"},null,null,{"$f":"IF($A1195>$J$30,NA(),IF($A1195>$N$30,0,(1-$M$35)*J1195+(2*$M$35-$M$36)*J1196-($M$35+$M$37)*J1197+$M$36*N1196+$M$37*N1197))","v":{"$error":"#N/A"}},{"$error":"#N/A"},{"$error":"#N/A"},{"$error":"#N/A"},null,null,{"$error":"#N/A"},{"$error":"#N/A"},{"$error":"#N/A"},{"$error":"#N/A"},null,null,null,null,null,null,null,null,null,null,null,null,null,null,null,null,null,null,null,null,null,null,null,null,null,null,null,null,null,null,null,"",{"$error":"#N/A"}]
[1164,{"$f":"IF(A1196>$A$8,\"\",OFFSET(InputPriceData!B$15,$A1196+$A$11,0,1,1))","v":""},{"$f":"IF(A1196>$A$8,\"\",OFFSET(InputPriceData!G$15,CalculationsAndCharts!$A1196+$A$11,IF($C$5,8,0),1,1))","v":""},{"$f":"IF(A1196>$A$8,\"\",OFFSET(InputPriceData!C$15,CalculationsAndCharts!$A1196+$A$11,IF($C$5,8,0),1,1))","v":""},{"$f":"IF(A1196>$A$8,\"\",OFFSET(InputPriceData!D$15,CalculationsAndCharts!$A1196+$A$11,IF($C$5,8,0),1,1))","v":""},{"$f":"IF(A1196>$A$8,\"\",OFFSET(InputPriceData!E$15,CalculationsAndCharts!$A1196+$A$11,IF($C$5,8,0),1,1))","v":""},{"$f":"IF(A1196>$A$8,\"\",OFFSET(InputPriceData!F$15,CalculationsAndCharts!$A1196+$A$11,IF($C$5,8,0),1,1))","v":""},{"$error":"#N/A"},{"$error":"#N/A"},{"$f":"IF($A1196>$J$30,NA(),AVERAGE(H1196:H1199))","v":{"$error":"#N/A"}},{"$error":"#N/A"},null,null,{"$f":"IF($A1196>$J$30,NA(),IF($A1196>$N$30,0,(1-$M$35)*J1196+(2*$M$35-$M$36)*J1197-($M$35+$M$37)*J1198+$M$36*N1197+$M$37*N1198))","v":{"$error":"#N/A"}},{"$error":"#N/A"},{"$error":"#N/A"},{"$error":"#N/A"},null,null,{"$error":"#N/A"},{"$error":"#N/A"},{"$error":"#N/A"},{"$error":"#N/A"},null,null,null,null,null,null,null,null,null,null,null,null,null,null,null,null,null,null,null,null,null,null,null,null,null,null,null,null,null,null,null,"",{"$error":"#N/A"}]
[1165,{"$f":"IF(A1197>$A$8,\"\",OFFSET(InputPriceData!B$15,$A1197+$A$11,0,1,1))","v":""},{"$f":"IF(A1197>$A$8,\"\",OFFSET(InputPriceData!G$15,CalculationsAndCharts!$A1197+$A$11,IF($C$5,8,0),1,1))","v":""},{"$f":"IF(A1197>$A$8,\"\",OFFSET(InputPriceData!C$15,CalculationsAndCharts!$A1197+$A$11,IF($C$5,8,0),1,1))","v":""},{"$f":"IF(A1197>$A$8,\"\",OFFSET(InputPriceData!D$15,CalculationsAndCharts!$A1197+$A$11,IF($C$5,8,0),1,1))","v":""},{"$f":"IF(A1197>$A$8,\"\",OFFSET(InputPriceData!E$15,CalculationsAndCharts!$A1197+$A$11,IF($C$5,8,0),1,1))","v":""},{"$f":"IF(A1197>$A$8,\"\",OFFSET(InputPriceData!F$15,CalculationsAndCharts!$A1197+$A$11,IF($C$5,8,0),1,1))","v":""},{"$error":"#N/A"},{"$error":"#N/A"},{"$f":"IF($A1197>$J$30,NA(),AVERAGE(H1197:H1200))","v":{"$error":"#N/A"}},{"$error":"#N/A"},null,null,{"$f":"IF($A1197>$J$30,NA(),IF($A1197>$N$30,0,(1-$M$35)*J1197+(2*$M$35-$M$36)*J1198-($M$35+$M$37)*J1199+$M$36*N1198+$M$37*N1199))","v":{"$error":"#N/A"}},{"$error":"#N/A"},{"$error":"#N/A"},{"$error":"#N/A"},null,null,{"$error":"#N/A"},{"$error":"#N/A"},{"$error":"#N/A"},{"$error":"#N/A"},null,null,null,null,null,null,null,null,null,null,null,null,null,null,null,null,null,null,null,null,null,null,null,null,null,null,null,null,null,null,null,{"$f":"IF(G1197>=G1198,C1197,NA())","v":""},{"$f":"IF(G1197<G1198,C1197,NA())","v":{"$error":"#N/A"}}]
[1166,{"$f":"IF(A1198>$A$8,\"\",OFFSET(InputPriceData!B$15,$A1198+$A$11,0,1,1))","v":""},{"$f":"IF(A1198>$A$8,\"\",OFFSET(InputPriceData!G$15,CalculationsAndCharts!$A1198+$A$11,IF($C$5,8,0),1,1))","v":""},{"$f":"IF(A1198>$A$8,\"\",OFFSET(InputPriceData!C$15,CalculationsAndCharts!$A1198+$A$11,IF($C$5,8,0),1,1))","v":""},{"$f":"IF(A1198>$A$8,\"\",OFFSET(InputPriceData!D$15,CalculationsAndCharts!$A1198+$A$11,IF($C$5,8,0),1,1))","v":""},{"$f":"IF(A1198>$A$8,\"\",OFFSET(InputPriceData!E$15,CalculationsAndCharts!$A1198+$A$11,IF($C$5,8,0),1,1))","v":""},{"$f":"IF(A1198>$A$8,\"\",OFFSET(InputPriceData!F$15,CalculationsAndCharts!$A1198+$A$11,IF($C$5,8,0),1,1))","v":""},{"$error":"#N/A"},{"$error":"#N/A"},{"$f":"IF($A1198>$J$30,NA(),AVERAGE(H1198:H1201))","v":{"$error":"#N/A"}},{"$error":"#N/A"},null,null,{"$f":"IF($A1198>$J$30,NA(),IF($A1198>$N$30,0,(1-$M$35)*J1198+(2*$M$35-$M$36)*J1199-($M$35+$M$37)*J1200+$M$36*N1199+$M$37*N1200))","v":{"$error":"#N/A"}},{"$error":"#N/A"},{"$error":"#N/A"},{"$error":"#N/A"},null,null,{"$error":"#N/A"},{"$error":"#N/A"},{"$error":"#N/A"},{"$error":"#N/A"},null,null,null,null,null,null,null,null,null,null,null,null,null,null,null,null,null,null,null,null,null,null,null,null,null,null,null,null,null,null,null,"",{"$error":"#N/A"}]
[1167,{"$f":"IF(A1199>$A$8,\"\",OFFSET(InputPriceData!B$15,$A1199+$A$11,0,1,1))","v":""},{"$f":"IF(A1199>$A$8,\"\",OFFSET(InputPriceData!G$15,CalculationsAndCharts!$A1199+$A$11,IF($C$5,8,0),1,1))","v":""},{"$f":"IF(A1199>$A$8,\"\",OFFSET(InputPriceData!C$15,CalculationsAndCharts!$A1199+$A$11,IF($C$5,8,0),1,1))","v":""},{"$f":"IF(A1199>$A$8,\"\",OFFSET(InputPriceData!D$15,CalculationsAndCharts!$A1199+$A$11,IF($C$5,8,0),1,1))","v":""},{"$f":"IF(A1199>$A$8,\"\",OFFSET(InputPriceData!E$15,CalculationsAndCharts!$A1199+$A$11,IF($C$5,8,0),1,1))","v":""},{"$f":"IF(A1199>$A$8,\"\",OFFSET(InputPriceData!F$15,CalculationsAndCharts!$A1199+$A$11,IF($C$5,8,0),1,1))","v":""},{"$error":"#N/A"},{"$error":"#N/A"},{"$f":"IF($A1199>$J$30,NA(),AVERAGE(H1199:H1202))","v":{"$error":"#N/A"}},{"$error":"#N/A"},null,null,{"$f":"IF($A1199>$J$30,NA(),IF($A1199>$N$30,0,(1-$M$35)*J1199+(2*$M$35-$M$36)*J1200-($M$35+$M$37)*J1201+$M$36*N1200+$M$37*N1201))","v":{"$error":"#N/A"}},{"$error":"#N/A"},{"$error":"#N/A"},{"$error":"#N/A"},null,null,{"$error":"#N/A"},{"$error":"#N/A"},{"$error":"#N/A"},{"$error":"#N/A"},null,null,null,null,null,null,null,null,null,null,null,null,null,null,null,null,null,null,null,null,null,null,null,null,null,null,null,null,null,null,null,"",{"$error":"#N/A"}]
[1168,{"$f":"IF(A1200>$A$8,\"\",OFFSET(InputPriceData!B$15,$A1200+$A$11,0,1,1))","v":""},{"$f":"IF(A1200>$A$8,\"\",OFFSET(InputPriceData!G$15,CalculationsAndCharts!$A1200+$A$11,IF($C$5,8,0),1,1))","v":""},{"$f":"IF(A1200>$A$8,\"\",OFFSET(InputPriceData!C$15,CalculationsAndCharts!$A1200+$A$11,IF($C$5,8,0),1,1))","v":""},{"$f":"IF(A1200>$A$8,\"\",OFFSET(InputPriceData!D$15,CalculationsAndCharts!$A1200+$A$11,IF($C$5,8,0),1,1))","v":""},{"$f":"IF(A1200>$A$8,\"\",OFFSET(InputPriceData!E$15,CalculationsAndCharts!$A1200+$A$11,IF($C$5,8,0),1,1))","v":""},{"$f":"IF(A1200>$A$8,\"\",OFFSET(InputPriceData!F$15,CalculationsAndCharts!$A1200+$A$11,IF($C$5,8,0),1,1))","v":""},{"$error":"#N/A"},{"$error":"#N/A"},{"$f":"IF($A1200>$J$30,NA(),AVERAGE(H1200:H1203))","v":{"$error":"#N/A"}},{"$error":"#N/A"},null,null,{"$f":"IF($A1200>$J$30,NA(),IF($A1200>$N$30,0,(1-$M$35)*J1200+(2*$M$35-$M$36)*J1201-($M$35+$M$37)*J1202+$M$36*N1201+$M$37*N1202))","v":{"$error":"#N/A"}},{"$error":"#N/A"},{"$error":"#N/A"},{"$error":"#N/A"},null,null,{"$error":"#N/A"},{"$error":"#N/A"},{"$error":"#N/A"},{"$error":"#N/A"},null,null,null,null,null,null,null,null,null,null,null,null,null,null,null,null,null,null,null,null,null,null,null,null,null,null,null,null,null,null,null,"",{"$error":"#N/A"}]
[1169,{"$f":"IF(A1201>$A$8,\"\",OFFSET(InputPriceData!B$15,$A1201+$A$11,0,1,1))","v":""},{"$f":"IF(A1201>$A$8,\"\",OFFSET(InputPriceData!G$15,CalculationsAndCharts!$A1201+$A$11,IF($C$5,8,0),1,1))","v":""},{"$f":"IF(A1201>$A$8,\"\",OFFSET(InputPriceData!C$15,CalculationsAndCharts!$A1201+$A$11,IF($C$5,8,0),1,1))","v":""},{"$f":"IF(A1201>$A$8,\"\",OFFSET(InputPriceData!D$15,CalculationsAndCharts!$A1201+$A$11,IF($C$5,8,0),1,1))","v":""},{"$f":"IF(A1201>$A$8,\"\",OFFSET(InputPriceData!E$15,CalculationsAndCharts!$A1201+$A$11,IF($C$5,8,0),1,1))","v":""},{"$f":"IF(A1201>$A$8,\"\",OFFSET(InputPriceData!F$15,CalculationsAndCharts!$A1201+$A$11,IF($C$5,8,0),1,1))","v":""},{"$error":"#N/A"},{"$error":"#N/A"},{"$f":"IF($A1201>$J$30,NA(),AVERAGE(H1201:H1204))","v":{"$error":"#N/A"}},{"$error":"#N/A"},null,null,{"$f":"IF($A1201>$J$30,NA(),IF($A1201>$N$30,0,(1-$M$35)*J1201+(2*$M$35-$M$36)*J1202-($M$35+$M$37)*J1203+$M$36*N1202+$M$37*N1203))","v":{"$error":"#N/A"}},{"$error":"#N/A"},{"$error":"#N/A"},{"$error":"#N/A"},null,null,{"$error":"#N/A"},{"$error":"#N/A"},{"$error":"#N/A"},{"$error":"#N/A"},null,null,null,null,null,null,null,null,null,null,null,null,null,null,null,null,null,null,null,null,null,null,null,null,null,null,null,null,null,null,null,"",{"$error":"#N/A"}]
[1170,{"$f":"IF(A1202>$A$8,\"\",OFFSET(InputPriceData!B$15,$A1202+$A$11,0,1,1))","v":""},{"$f":"IF(A1202>$A$8,\"\",OFFSET(InputPriceData!G$15,CalculationsAndCharts!$A1202+$A$11,IF($C$5,8,0),1,1))","v":""},{"$f":"IF(A1202>$A$8,\"\",OFFSET(InputPriceData!C$15,CalculationsAndCharts!$A1202+$A$11,IF($C$5,8,0),1,1))","v":""},{"$f":"IF(A1202>$A$8,\"\",OFFSET(InputPriceData!D$15,CalculationsAndCharts!$A1202+$A$11,IF($C$5,8,0),1,1))","v":""},{"$f":"IF(A1202>$A$8,\"\",OFFSET(InputPriceData!E$15,CalculationsAndCharts!$A1202+$A$11,IF($C$5,8,0),1,1))","v":""},{"$f":"IF(A1202>$A$8,\"\",OFFSET(InputPriceData!F$15,CalculationsAndCharts!$A1202+$A$11,IF($C$5,8,0),1,1))","v":""},{"$error":"#N/A"},{"$error":"#N/A"},{"$f":"IF($A1202>$J$30,NA(),AVERAGE(H1202:H1205))","v":{"$error":"#N/A"}},{"$error":"#N/A"},null,null,{"$f":"IF($A1202>$J$30,NA(),IF($A1202>$N$30,0,(1-$M$35)*J1202+(2*$M$35-$M$36)*J1203-($M$35+$M$37)*J1204+$M$36*N1203+$M$37*N1204))","v":{"$error":"#N/A"}},{"$error":"#N/A"},{"$error":"#N/A"},{"$error":"#N/A"},null,null,{"$error":"#N/A"},{"$error":"#N/A"},{"$error":"#N/A"},{"$error":"#N/A"},null,null,null,null,null,null,null,null,null,null,null,null,null,null,null,null,null,null,null,null,null,null,null,null,null,null,null,null,null,null,null,"",{"$error":"#N/A"}]
[1171,{"$f":"IF(A1203>$A$8,\"\",OFFSET(InputPriceData!B$15,$A1203+$A$11,0,1,1))","v":""},{"$f":"IF(A1203>$A$8,\"\",OFFSET(InputPriceData!G$15,CalculationsAndCharts!$A1203+$A$11,IF($C$5,8,0),1,1))","v":""},{"$f":"IF(A1203>$A$8,\"\",OFFSET(InputPriceData!C$15,CalculationsAndCharts!$A1203+$A$11,IF($C$5,8,0),1,1))","v":""},{"$f":"IF(A1203>$A$8,\"\",OFFSET(InputPriceData!D$15,CalculationsAndCharts!$A1203+$A$11,IF($C$5,8,0),1,1))","v":""},{"$f":"IF(A1203>$A$8,\"\",OFFSET(InputPriceData!E$15,CalculationsAndCharts!$A1203+$A$11,IF($C$5,8,0),1,1))","v":""},{"$f":"IF(A1203>$A$8,\"\",OFFSET(InputPriceData!F$15,CalculationsAndCharts!$A1203+$A$11,IF($C$5,8,0),1,1))","v":""},{"$error":"#N/A"},{"$error":"#N/A"},{"$f":"IF($A1203>$J$30,NA(),AVERAGE(H1203:H1206))","v":{"$error":"#N/A"}},{"$error":"#N/A"},null,null,{"$f":"IF($A1203>$J$30,NA(),IF($A1203>$N$30,0,(1-$M$35)*J1203+(2*$M$35-$M$36)*J1204-($M$35+$M$37)*J1205+$M$36*N1204+$M$37*N1205))","v":{"$error":"#N/A"}},{"$error":"#N/A"},{"$error":"#N/A"},{"$error":"#N/A"},null,null,{"$error":"#N/A"},{"$error":"#N/A"},{"$error":"#N/A"},{"$error":"#N/A"},null,null,null,null,null,null,null,null,null,null,null,null,null,null,null,null,null,null,null,null,null,null,null,null,null,null,null,null,null,null,null,"",{"$error":"#N/A"}]
[1172,{"$f":"IF(A1204>$A$8,\"\",OFFSET(InputPriceData!B$15,$A1204+$A$11,0,1,1))","v":""},{"$f":"IF(A1204>$A$8,\"\",OFFSET(InputPriceData!G$15,CalculationsAndCharts!$A1204+$A$11,IF($C$5,8,0),1,1))","v":""},{"$f":"IF(A1204>$A$8,\"\",OFFSET(InputPriceData!C$15,CalculationsAndCharts!$A1204+$A$11,IF($C$5,8,0),1,1))","v":""},{"$f":"IF(A1204>$A$8,\"\",OFFSET(InputPriceData!D$15,CalculationsAndCharts!$A1204+$A$11,IF($C$5,8,0),1,1))","v":""},{"$f":"IF(A1204>$A$8,\"\",OFFSET(InputPriceData!E$15,CalculationsAndCharts!$A1204+$A$11,IF($C$5,8,0),1,1))","v":""},{"$f":"IF(A1204>$A$8,\"\",OFFSET(InputPriceData!F$15,CalculationsAndCharts!$A1204+$A$11,IF($C$5,8,0),1,1))","v":""},{"$error":"#N/A"},{"$error":"#N/A"},{"$f":"IF($A1204>$J$30,NA(),AVERAGE(H1204:H1207))","v":{"$error":"#N/A"}},{"$error":"#N/A"},null,null,{"$f":"IF($A1204>$J$30,NA(),IF($A1204>$N$30,0,(1-$M$35)*J1204+(2*$M$35-$M$36)*J1205-($M$35+$M$37)*J1206+$M$36*N1205+$M$37*N1206))","v":{"$error":"#N/A"}},{"$error":"#N/A"},{"$error":"#N/A"},{"$error":"#N/A"},null,null,{"$error":"#N/A"},{"$error":"#N/A"},{"$error":"#N/A"},{"$error":"#N/A"},null,null,null,null,null,null,null,null,null,null,null,null,null,null,null,null,null,null,null,null,null,null,null,null,null,null,null,null,null,null,null,"",{"$error":"#N/A"}]
[1173,{"$f":"IF(A1205>$A$8,\"\",OFFSET(InputPriceData!B$15,$A1205+$A$11,0,1,1))","v":""},{"$f":"IF(A1205>$A$8,\"\",OFFSET(InputPriceData!G$15,CalculationsAndCharts!$A1205+$A$11,IF($C$5,8,0),1,1))","v":""},{"$f":"IF(A1205>$A$8,\"\",OFFSET(InputPriceData!C$15,CalculationsAndCharts!$A1205+$A$11,IF($C$5,8,0),1,1))","v":""},{"$f":"IF(A1205>$A$8,\"\",OFFSET(InputPriceData!D$15,CalculationsAndCharts!$A1205+$A$11,IF($C$5,8,0),1,1))","v":""},{"$f":"IF(A1205>$A$8,\"\",OFFSET(InputPriceData!E$15,CalculationsAndCharts!$A1205+$A$11,IF($C$5,8,0),1,1))","v":""},{"$f":"IF(A1205>$A$8,\"\",OFFSET(InputPriceData!F$15,CalculationsAndCharts!$A1205+$A$11,IF($C$5,8,0),1,1))","v":""},{"$error":"#N/A"},{"$error":"#N/A"},{"$f":"IF($A1205>$J$30,NA(),AVERAGE(H1205:H1208))","v":{"$error":"#N/A"}},{"$error":"#N/A"},null,null,{"$f":"IF($A1205>$J$30,NA(),IF($A1205>$N$30,0,(1-$M$35)*J1205+(2*$M$35-$M$36)*J1206-($M$35+$M$37)*J1207+$M$36*N1206+$M$37*N1207))","v":{"$error":"#N/A"}},{"$error":"#N/A"},{"$error":"#N/A"},{"$error":"#N/A"},null,null,{"$error":"#N/A"},{"$error":"#N/A"},{"$error":"#N/A"},{"$error":"#N/A"},null,null,null,null,null,null,null,null,null,null,null,null,null,null,null,null,null,null,null,null,null,null,null,null,null,null,null,null,null,null,null,"",{"$error":"#N/A"}]
[1174,{"$f":"IF(A1206>$A$8,\"\",OFFSET(InputPriceData!B$15,$A1206+$A$11,0,1,1))","v":""},{"$f":"IF(A1206>$A$8,\"\",OFFSET(InputPriceData!G$15,CalculationsAndCharts!$A1206+$A$11,IF($C$5,8,0),1,1))","v":""},{"$f":"IF(A1206>$A$8,\"\",OFFSET(InputPriceData!C$15,CalculationsAndCharts!$A1206+$A$11,IF($C$5,8,0),1,1))","v":""},{"$f":"IF(A1206>$A$8,\"\",OFFSET(InputPriceData!D$15,CalculationsAndCharts!$A1206+$A$11,IF($C$5,8,0),1,1))","v":""},{"$f":"IF(A1206>$A$8,\"\",OFFSET(InputPriceData!E$15,CalculationsAndCharts!$A1206+$A$11,IF($C$5,8,0),1,1))","v":""},{"$f":"IF(A1206>$A$8,\"\",OFFSET(InputPriceData!F$15,CalculationsAndCharts!$A1206+$A$11,IF($C$5,8,0),1,1))","v":""},{"$error":"#N/A"},{"$error":"#N/A"},{"$f":"IF($A1206>$J$30,NA(),AVERAGE(H1206:H1209))","v":{"$error":"#N/A"}},{"$error":"#N/A"},null,null,{"$f":"IF($A1206>$J$30,NA(),IF($A1206>$N$30,0,(1-$M$35)*J1206+(2*$M$35-$M$36)*J1207-($M$35+$M$37)*J1208+$M$36*N1207+$M$37*N1208))","v":{"$error":"#N/A"}},{"$error":"#N/A"},{"$error":"#N/A"},{"$error":"#N/A"},null,null,{"$error":"#N/A"},{"$error":"#N/A"},{"$error":"#N/A"},{"$error":"#N/A"},null,null,null,null,null,null,null,null,null,null,null,null,null,null,null,null,null,null,null,null,null,null,null,null,null,null,null,null,null,null,null,"",{"$error":"#N/A"}]
[1175,{"$f":"IF(A1207>$A$8,\"\",OFFSET(InputPriceData!B$15,$A1207+$A$11,0,1,1))","v":""},{"$f":"IF(A1207>$A$8,\"\",OFFSET(InputPriceData!G$15,CalculationsAndCharts!$A1207+$A$11,IF($C$5,8,0),1,1))","v":""},{"$f":"IF(A1207>$A$8,\"\",OFFSET(InputPriceData!C$15,CalculationsAndCharts!$A1207+$A$11,IF($C$5,8,0),1,1))","v":""},{"$f":"IF(A1207>$A$8,\"\",OFFSET(InputPriceData!D$15,CalculationsAndCharts!$A1207+$A$11,IF($C$5,8,0),1,1))","v":""},{"$f":"IF(A1207>$A$8,\"\",OFFSET(InputPriceData!E$15,CalculationsAndCharts!$A1207+$A$11,IF($C$5,8,0),1,1))","v":""},{"$f":"IF(A1207>$A$8,\"\",OFFSET(InputPriceData!F$15,CalculationsAndCharts!$A1207+$A$11,IF($C$5,8,0),1,1))","v":""},{"$error":"#N/A"},{"$error":"#N/A"},{"$f":"IF($A1207>$J$30,NA(),AVERAGE(H1207:H1210))","v":{"$error":"#N/A"}},{"$error":"#N/A"},null,null,{"$f":"IF($A1207>$J$30,NA(),IF($A1207>$N$30,0,(1-$M$35)*J1207+(2*$M$35-$M$36)*J1208-($M$35+$M$37)*J1209+$M$36*N1208+$M$37*N1209))","v":{"$error":"#N/A"}},{"$error":"#N/A"},{"$error":"#N/A"},{"$error":"#N/A"},null,null,{"$error":"#N/A"},{"$error":"#N/A"},{"$error":"#N/A"},{"$error":"#N/A"},null,null,null,null,null,null,null,null,null,null,null,null,null,null,null,null,null,null,null,null,null,null,null,null,null,null,null,null,null,null,null,"",{"$error":"#N/A"}]
[1176,{"$f":"IF(A1208>$A$8,\"\",OFFSET(InputPriceData!B$15,$A1208+$A$11,0,1,1))","v":""},{"$f":"IF(A1208>$A$8,\"\",OFFSET(InputPriceData!G$15,CalculationsAndCharts!$A1208+$A$11,IF($C$5,8,0),1,1))","v":""},{"$f":"IF(A1208>$A$8,\"\",OFFSET(InputPriceData!C$15,CalculationsAndCharts!$A1208+$A$11,IF($C$5,8,0),1,1))","v":""},{"$f":"IF(A1208>$A$8,\"\",OFFSET(InputPriceData!D$15,CalculationsAndCharts!$A1208+$A$11,IF($C$5,8,0),1,1))","v":""},{"$f":"IF(A1208>$A$8,\"\",OFFSET(InputPriceData!E$15,CalculationsAndCharts!$A1208+$A$11,IF($C$5,8,0),1,1))","v":""},{"$f":"IF(A1208>$A$8,\"\",OFFSET(InputPriceData!F$15,CalculationsAndCharts!$A1208+$A$11,IF($C$5,8,0),1,1))","v":""},{"$error":"#N/A"},{"$error":"#N/A"},{"$f":"IF($A1208>$J$30,NA(),AVERAGE(H1208:H1211))","v":{"$error":"#N/A"}},{"$error":"#N/A"},null,null,{"$f":"IF($A1208>$J$30,NA(),IF($A1208>$N$30,0,(1-$M$35)*J1208+(2*$M$35-$M$36)*J1209-($M$35+$M$37)*J1210+$M$36*N1209+$M$37*N1210))","v":{"$error":"#N/A"}},{"$error":"#N/A"},{"$error":"#N/A"},{"$error":"#N/A"},null,null,{"$error":"#N/A"},{"$error":"#N/A"},{"$error":"#N/A"},{"$error":"#N/A"},null,null,null,null,null,null,null,null,null,null,null,null,null,null,null,null,null,null,null,null,null,null,null,null,null,null,null,null,null,null,null,"",{"$error":"#N/A"}]
[1177,{"$f":"IF(A1209>$A$8,\"\",OFFSET(InputPriceData!B$15,$A1209+$A$11,0,1,1))","v":""},{"$f":"IF(A1209>$A$8,\"\",OFFSET(InputPriceData!G$15,CalculationsAndCharts!$A1209+$A$11,IF($C$5,8,0),1,1))","v":""},{"$f":"IF(A1209>$A$8,\"\",OFFSET(InputPriceData!C$15,CalculationsAndCharts!$A1209+$A$11,IF($C$5,8,0),1,1))","v":""},{"$f":"IF(A1209>$A$8,\"\",OFFSET(InputPriceData!D$15,CalculationsAndCharts!$A1209+$A$11,IF($C$5,8,0),1,1))","v":""},{"$f":"IF(A1209>$A$8,\"\",OFFSET(InputPriceData!E$15,CalculationsAndCharts!$A1209+$A$11,IF($C$5,8,0),1,1))","v":""},{"$f":"IF(A1209>$A$8,\"\",OFFSET(InputPriceData!F$15,CalculationsAndCharts!$A1209+$A$11,IF($C$5,8,0),1,1))","v":""},{"$error":"#N/A"},{"$error":"#N/A"},{"$f":"IF($A1209>$J$30,NA(),AVERAGE(H1209:H1212))","v":{"$error":"#N/A"}},{"$error":"#N/A"},null,null,{"$f":"IF($A1209>$J$30,NA(),IF($A1209>$N$30,0,(1-$M$35)*J1209+(2*$M$35-$M$36)*J1210-($M$35+$M$37)*J1211+$M$36*N1210+$M$37*N1211))","v":{"$error":"#N/A"}},{"$error":"#N/A"},{"$error":"#N/A"},{"$error":"#N/A"},null,null,{"$error":"#N/A"},{"$error":"#N/A"},{"$error":"#N/A"},{"$error":"#N/A"},null,null,null,null,null,null,null,null,null,null,null,null,null,null,null,null,null,null,null,null,null,null,null,null,null,null,null,null,null,null,null,"",{"$error":"#N/A"}]
[1178,{"$f":"IF(A1210>$A$8,\"\",OFFSET(InputPriceData!B$15,$A1210+$A$11,0,1,1))","v":""},{"$f":"IF(A1210>$A$8,\"\",OFFSET(InputPriceData!G$15,CalculationsAndCharts!$A1210+$A$11,IF($C$5,8,0),1,1))","v":""},{"$f":"IF(A1210>$A$8,\"\",OFFSET(InputPriceData!C$15,CalculationsAndCharts!$A1210+$A$11,IF($C$5,8,0),1,1))","v":""},{"$f":"IF(A1210>$A$8,\"\",OFFSET(InputPriceData!D$15,CalculationsAndCharts!$A1210+$A$11,IF($C$5,8,0),1,1))","v":""},{"$f":"IF(A1210>$A$8,\"\",OFFSET(InputPriceData!E$15,CalculationsAndCharts!$A1210+$A$11,IF($C$5,8,0),1,1))","v":""},{"$f":"IF(A1210>$A$8,\"\",OFFSET(InputPriceData!F$15,CalculationsAndCharts!$A1210+$A$11,IF($C$5,8,0),1,1))","v":""},{"$error":"#N/A"},{"$error":"#N/A"},{"$f":"IF($A1210>$J$30,NA(),AVERAGE(H1210:H1213))","v":{"$error":"#N/A"}},{"$error":"#N/A"},null,null,{"$f":"IF($A1210>$J$30,NA(),IF($A1210>$N$30,0,(1-$M$35)*J1210+(2*$M$35-$M$36)*J1211-($M$35+$M$37)*J1212+$M$36*N1211+$M$37*N1212))","v":{"$error":"#N/A"}},{"$error":"#N/A"},{"$error":"#N/A"},{"$error":"#N/A"},null,null,{"$error":"#N/A"},{"$error":"#N/A"},{"$error":"#N/A"},{"$error":"#N/A"},null,null,null,null,null,null,null,null,null,null,null,null,null,null,null,null,null,null,null,null,null,null,null,null,null,null,null,null,null,null,null,"",{"$error":"#N/A"}]
[1179,{"$f":"IF(A1211>$A$8,\"\",OFFSET(InputPriceData!B$15,$A1211+$A$11,0,1,1))","v":""},{"$f":"IF(A1211>$A$8,\"\",OFFSET(InputPriceData!G$15,CalculationsAndCharts!$A1211+$A$11,IF($C$5,8,0),1,1))","v":""},{"$f":"IF(A1211>$A$8,\"\",OFFSET(InputPriceData!C$15,CalculationsAndCharts!$A1211+$A$11,IF($C$5,8,0),1,1))","v":""},{"$f":"IF(A1211>$A$8,\"\",OFFSET(InputPriceData!D$15,CalculationsAndCharts!$A1211+$A$11,IF($C$5,8,0),1,1))","v":""},{"$f":"IF(A1211>$A$8,\"\",OFFSET(InputPriceData!E$15,CalculationsAndCharts!$A1211+$A$11,IF($C$5,8,0),1,1))","v":""},{"$f":"IF(A1211>$A$8,\"\",OFFSET(InputPriceData!F$15,CalculationsAndCharts!$A1211+$A$11,IF($C$5,8,0),1,1))","v":""},{"$error":"#N/A"},{"$error":"#N/A"},{"$f":"IF($A1211>$J$30,NA(),AVERAGE(H1211:H1214))","v":{"$error":"#N/A"}},{"$error":"#N/A"},null,null,{"$f":"IF($A1211>$J$30,NA(),IF($A1211>$N$30,0,(1-$M$35)*J1211+(2*$M$35-$M$36)*J1212-($M$35+$M$37)*J1213+$M$36*N1212+$M$37*N1213))","v":{"$error":"#N/A"}},{"$error":"#N/A"},{"$error":"#N/A"},{"$error":"#N/A"},null,null,{"$error":"#N/A"},{"$error":"#N/A"},{"$error":"#N/A"},{"$error":"#N/A"},null,null,null,null,null,null,null,null,null,null,null,null,null,null,null,null,null,null,null,null,null,null,null,null,null,null,null,null,null,null,null,"",{"$error":"#N/A"}]
[1180,{"$f":"IF(A1212>$A$8,\"\",OFFSET(InputPriceData!B$15,$A1212+$A$11,0,1,1))","v":""},{"$f":"IF(A1212>$A$8,\"\",OFFSET(InputPriceData!G$15,CalculationsAndCharts!$A1212+$A$11,IF($C$5,8,0),1,1))","v":""},{"$f":"IF(A1212>$A$8,\"\",OFFSET(InputPriceData!C$15,CalculationsAndCharts!$A1212+$A$11,IF($C$5,8,0),1,1))","v":""},{"$f":"IF(A1212>$A$8,\"\",OFFSET(InputPriceData!D$15,CalculationsAndCharts!$A1212+$A$11,IF($C$5,8,0),1,1))","v":""},{"$f":"IF(A1212>$A$8,\"\",OFFSET(InputPriceData!E$15,CalculationsAndCharts!$A1212+$A$11,IF($C$5,8,0),1,1))","v":""},{"$f":"IF(A1212>$A$8,\"\",OFFSET(InputPriceData!F$15,CalculationsAndCharts!$A1212+$A$11,IF($C$5,8,0),1,1))","v":""},{"$error":"#N/A"},{"$error":"#N/A"},{"$f":"IF($A1212>$J$30,NA(),AVERAGE(H1212:H1215))","v":{"$error":"#N/A"}},{"$error":"#N/A"},null,null,{"$f":"IF($A1212>$J$30,NA(),IF($A1212>$N$30,0,(1-$M$35)*J1212+(2*$M$35-$M$36)*J1213-($M$35+$M$37)*J1214+$M$36*N1213+$M$37*N1214))","v":{"$error":"#N/A"}},{"$error":"#N/A"},{"$error":"#N/A"},{"$error":"#N/A"},null,null,{"$error":"#N/A"},{"$error":"#N/A"},{"$error":"#N/A"},{"$error":"#N/A"},null,null,null,null,null,null,null,null,null,null,null,null,null,null,null,null,null,null,null,null,null,null,null,null,null,null,null,null,null,null,null,"",{"$error":"#N/A"}]
[1181,{"$f":"IF(A1213>$A$8,\"\",OFFSET(InputPriceData!B$15,$A1213+$A$11,0,1,1))","v":""},{"$f":"IF(A1213>$A$8,\"\",OFFSET(InputPriceData!G$15,CalculationsAndCharts!$A1213+$A$11,IF($C$5,8,0),1,1))","v":""},{"$f":"IF(A1213>$A$8,\"\",OFFSET(InputPriceData!C$15,CalculationsAndCharts!$A1213+$A$11,IF($C$5,8,0),1,1))","v":""},{"$f":"IF(A1213>$A$8,\"\",OFFSET(InputPriceData!D$15,CalculationsAndCharts!$A1213+$A$11,IF($C$5,8,0),1,1))","v":""},{"$f":"IF(A1213>$A$8,\"\",OFFSET(InputPriceData!E$15,CalculationsAndCharts!$A1213+$A$11,IF($C$5,8,0),1,1))","v":""},{"$f":"IF(A1213>$A$8,\"\",OFFSET(InputPriceData!F$15,CalculationsAndCharts!$A1213+$A$11,IF($C$5,8,0),1,1))","v":""},{"$error":"#N/A"},{"$error":"#N/A"},{"$f":"IF($A1213>$J$30,NA(),AVERAGE(H1213:H1216))","v":{"$error":"#N/A"}},{"$error":"#N/A"},null,null,{"$f":"IF($A1213>$J$30,NA(),IF($A1213>$N$30,0,(1-$M$35)*J1213+(2*$M$35-$M$36)*J1214-($M$35+$M$37)*J1215+$M$36*N1214+$M$37*N1215))","v":{"$error":"#N/A"}},{"$error":"#N/A"},{"$error":"#N/A"},{"$error":"#N/A"},null,null,{"$error":"#N/A"},{"$error":"#N/A"},{"$error":"#N/A"},{"$error":"#N/A"},null,null,null,null,null,null,null,null,null,null,null,null,null,null,null,null,null,null,null,null,null,null,null,null,null,null,null,null,null,null,null,"",{"$error":"#N/A"}]
[1182,{"$f":"IF(A1214>$A$8,\"\",OFFSET(InputPriceData!B$15,$A1214+$A$11,0,1,1))","v":""},{"$f":"IF(A1214>$A$8,\"\",OFFSET(InputPriceData!G$15,CalculationsAndCharts!$A1214+$A$11,IF($C$5,8,0),1,1))","v":""},{"$f":"IF(A1214>$A$8,\"\",OFFSET(InputPriceData!C$15,CalculationsAndCharts!$A1214+$A$11,IF($C$5,8,0),1,1))","v":""},{"$f":"IF(A1214>$A$8,\"\",OFFSET(InputPriceData!D$15,CalculationsAndCharts!$A1214+$A$11,IF($C$5,8,0),1,1))","v":""},{"$f":"IF(A1214>$A$8,\"\",OFFSET(InputPriceData!E$15,CalculationsAndCharts!$A1214+$A$11,IF($C$5,8,0),1,1))","v":""},{"$f":"IF(A1214>$A$8,\"\",OFFSET(InputPriceData!F$15,CalculationsAndCharts!$A1214+$A$11,IF($C$5,8,0),1,1))","v":""},{"$error":"#N/A"},{"$error":"#N/A"},{"$f":"IF($A1214>$J$30,NA(),AVERAGE(H1214:H1217))","v":{"$error":"#N/A"}},{"$error":"#N/A"},null,null,{"$f":"IF($A1214>$J$30,NA(),IF($A1214>$N$30,0,(1-$M$35)*J1214+(2*$M$35-$M$36)*J1215-($M$35+$M$37)*J1216+$M$36*N1215+$M$37*N1216))","v":{"$error":"#N/A"}},{"$error":"#N/A"},{"$error":"#N/A"},{"$error":"#N/A"},null,null,{"$error":"#N/A"},{"$error":"#N/A"},{"$error":"#N/A"},{"$error":"#N/A"},null,null,null,null,null,null,null,null,null,null,null,null,null,null,null,null,null,null,null,null,null,null,null,null,null,null,null,null,null,null,null,"",{"$error":"#N/A"}]
[1183,{"$f":"IF(A1215>$A$8,\"\",OFFSET(InputPriceData!B$15,$A1215+$A$11,0,1,1))","v":""},{"$f":"IF(A1215>$A$8,\"\",OFFSET(InputPriceData!G$15,CalculationsAndCharts!$A1215+$A$11,IF($C$5,8,0),1,1))","v":""},{"$f":"IF(A1215>$A$8,\"\",OFFSET(InputPriceData!C$15,CalculationsAndCharts!$A1215+$A$11,IF($C$5,8,0),1,1))","v":""},{"$f":"IF(A1215>$A$8,\"\",OFFSET(InputPriceData!D$15,CalculationsAndCharts!$A1215+$A$11,IF($C$5,8,0),1,1))","v":""},{"$f":"IF(A1215>$A$8,\"\",OFFSET(InputPriceData!E$15,CalculationsAndCharts!$A1215+$A$11,IF($C$5,8,0),1,1))","v":""},{"$f":"IF(A1215>$A$8,\"\",OFFSET(InputPriceData!F$15,CalculationsAndCharts!$A1215+$A$11,IF($C$5,8,0),1,1))","v":""},{"$error":"#N/A"},{"$error":"#N/A"},{"$f":"IF($A1215>$J$30,NA(),AVERAGE(H1215:H1218))","v":{"$error":"#N/A"}},{"$error":"#N/A"},null,null,{"$f":"IF($A1215>$J$30,NA(),IF($A1215>$N$30,0,(1-$M$35)*J1215+(2*$M$35-$M$36)*J1216-($M$35+$M$37)*J1217+$M$36*N1216+$M$37*N1217))","v":{"$error":"#N/A"}},{"$error":"#N/A"},{"$error":"#N/A"},{"$error":"#N/A"},null,null,{"$error":"#N/A"},{"$error":"#N/A"},{"$error":"#N/A"},{"$error":"#N/A"},null,null,null,null,null,null,null,null,null,null,null,null,null,null,null,null,null,null,null,null,null,null,null,null,null,null,null,null,null,null,null,"",{"$error":"#N/A"}]
[1184,{"$f":"IF(A1216>$A$8,\"\",OFFSET(InputPriceData!B$15,$A1216+$A$11,0,1,1))","v":""},{"$f":"IF(A1216>$A$8,\"\",OFFSET(InputPriceData!G$15,CalculationsAndCharts!$A1216+$A$11,IF($C$5,8,0),1,1))","v":""},{"$f":"IF(A1216>$A$8,\"\",OFFSET(InputPriceData!C$15,CalculationsAndCharts!$A1216+$A$11,IF($C$5,8,0),1,1))","v":""},{"$f":"IF(A1216>$A$8,\"\",OFFSET(InputPriceData!D$15,CalculationsAndCharts!$A1216+$A$11,IF($C$5,8,0),1,1))","v":""},{"$f":"IF(A1216>$A$8,\"\",OFFSET(InputPriceData!E$15,CalculationsAndCharts!$A1216+$A$11,IF($C$5,8,0),1,1))","v":""},{"$f":"IF(A1216>$A$8,\"\",OFFSET(InputPriceData!F$15,CalculationsAndCharts!$A1216+$A$11,IF($C$5,8,0),1,1))","v":""},{"$error":"#N/A"},{"$error":"#N/A"},{"$f":"IF($A1216>$J$30,NA(),AVERAGE(H1216:H1219))","v":{"$error":"#N/A"}},{"$error":"#N/A"},null,null,{"$f":"IF($A1216>$J$30,NA(),IF($A1216>$N$30,0,(1-$M$35)*J1216+(2*$M$35-$M$36)*J1217-($M$35+$M$37)*J1218+$M$36*N1217+$M$37*N1218))","v":{"$error":"#N/A"}},{"$error":"#N/A"},{"$error":"#N/A"},{"$error":"#N/A"},null,null,{"$error":"#N/A"},{"$error":"#N/A"},{"$error":"#N/A"},{"$error":"#N/A"},null,null,null,null,null,null,null,null,null,null,null,null,null,null,null,null,null,null,null,null,null,null,null,null,null,null,null,null,null,null,null,"",{"$error":"#N/A"}]
[1185,{"$f":"IF(A1217>$A$8,\"\",OFFSET(InputPriceData!B$15,$A1217+$A$11,0,1,1))","v":""},{"$f":"IF(A1217>$A$8,\"\",OFFSET(InputPriceData!G$15,CalculationsAndCharts!$A1217+$A$11,IF($C$5,8,0),1,1))","v":""},{"$f":"IF(A1217>$A$8,\"\",OFFSET(InputPriceData!C$15,CalculationsAndCharts!$A1217+$A$11,IF($C$5,8,0),1,1))","v":""},{"$f":"IF(A1217>$A$8,\"\",OFFSET(InputPriceData!D$15,CalculationsAndCharts!$A1217+$A$11,IF($C$5,8,0),1,1))","v":""},{"$f":"IF(A1217>$A$8,\"\",OFFSET(InputPriceData!E$15,CalculationsAndCharts!$A1217+$A$11,IF($C$5,8,0),1,1))","v":""},{"$f":"IF(A1217>$A$8,\"\",OFFSET(InputPriceData!F$15,CalculationsAndCharts!$A1217+$A$11,IF($C$5,8,0),1,1))","v":""},{"$error":"#N/A"},{"$error":"#N/A"},{"$f":"IF($A1217>$J$30,NA(),AVERAGE(H1217:H1220))","v":{"$error":"#N/A"}},{"$error":"#N/A"},null,null,{"$f":"IF($A1217>$J$30,NA(),IF($A1217>$N$30,0,(1-$M$35)*J1217+(2*$M$35-$M$36)*J1218-($M$35+$M$37)*J1219+$M$36*N1218+$M$37*N1219))","v":{"$error":"#N/A"}},{"$error":"#N/A"},{"$error":"#N/A"},{"$error":"#N/A"},null,null,{"$error":"#N/A"},{"$error":"#N/A"},{"$error":"#N/A"},{"$error":"#N/A"},null,null,null,null,null,null,null,null,null,null,null,null,null,null,null,null,null,null,null,null,null,null,null,null,null,null,null,null,null,null,null,"",{"$error":"#N/A"}]
[1186,{"$f":"IF(A1218>$A$8,\"\",OFFSET(InputPriceData!B$15,$A1218+$A$11,0,1,1))","v":""},{"$f":"IF(A1218>$A$8,\"\",OFFSET(InputPriceData!G$15,CalculationsAndCharts!$A1218+$A$11,IF($C$5,8,0),1,1))","v":""},{"$f":"IF(A1218>$A$8,\"\",OFFSET(InputPriceData!C$15,CalculationsAndCharts!$A1218+$A$11,IF($C$5,8,0),1,1))","v":""},{"$f":"IF(A1218>$A$8,\"\",OFFSET(InputPriceData!D$15,CalculationsAndCharts!$A1218+$A$11,IF($C$5,8,0),1,1))","v":""},{"$f":"IF(A1218>$A$8,\"\",OFFSET(InputPriceData!E$15,CalculationsAndCharts!$A1218+$A$11,IF($C$5,8,0),1,1))","v":""},{"$f":"IF(A1218>$A$8,\"\",OFFSET(InputPriceData!F$15,CalculationsAndCharts!$A1218+$A$11,IF($C$5,8,0),1,1))","v":""},{"$error":"#N/A"},{"$error":"#N/A"},{"$f":"IF($A1218>$J$30,NA(),AVERAGE(H1218:H1221))","v":{"$error":"#N/A"}},{"$error":"#N/A"},null,null,{"$f":"IF($A1218>$J$30,NA(),IF($A1218>$N$30,0,(1-$M$35)*J1218+(2*$M$35-$M$36)*J1219-($M$35+$M$37)*J1220+$M$36*N1219+$M$37*N1220))","v":{"$error":"#N/A"}},{"$error":"#N/A"},{"$error":"#N/A"},{"$error":"#N/A"},null,null,{"$error":"#N/A"},{"$error":"#N/A"},{"$error":"#N/A"},{"$error":"#N/A"},null,null,null,null,null,null,null,null,null,null,null,null,null,null,null,null,null,null,null,null,null,null,null,null,null,null,null,null,null,null,null,"",{"$error":"#N/A"}]
[1187,{"$f":"IF(A1219>$A$8,\"\",OFFSET(InputPriceData!B$15,$A1219+$A$11,0,1,1))","v":""},{"$f":"IF(A1219>$A$8,\"\",OFFSET(InputPriceData!G$15,CalculationsAndCharts!$A1219+$A$11,IF($C$5,8,0),1,1))","v":""},{"$f":"IF(A1219>$A$8,\"\",OFFSET(InputPriceData!C$15,CalculationsAndCharts!$A1219+$A$11,IF($C$5,8,0),1,1))","v":""},{"$f":"IF(A1219>$A$8,\"\",OFFSET(InputPriceData!D$15,CalculationsAndCharts!$A1219+$A$11,IF($C$5,8,0),1,1))","v":""},{"$f":"IF(A1219>$A$8,\"\",OFFSET(InputPriceData!E$15,CalculationsAndCharts!$A1219+$A$11,IF($C$5,8,0),1,1))","v":""},{"$f":"IF(A1219>$A$8,\"\",OFFSET(InputPriceData!F$15,CalculationsAndCharts!$A1219+$A$11,IF($C$5,8,0),1,1))","v":""},{"$error":"#N/A"},{"$error":"#N/A"},{"$f":"IF($A1219>$J$30,NA(),AVERAGE(H1219:H1222))","v":{"$error":"#N/A"}},{"$error":"#N/A"},null,null,{"$f":"IF($A1219>$J$30,NA(),IF($A1219>$N$30,0,(1-$M$35)*J1219+(2*$M$35-$M$36)*J1220-($M$35+$M$37)*J1221+$M$36*N1220+$M$37*N1221))","v":{"$error":"#N/A"}},{"$error":"#N/A"},{"$error":"#N/A"},{"$error":"#N/A"},null,null,{"$error":"#N/A"},{"$error":"#N/A"},{"$error":"#N/A"},{"$error":"#N/A"},null,null,null,null,null,null,null,null,null,null,null,null,null,null,null,null,null,null,null,null,null,null,null,null,null,null,null,null,null,null,null,"",{"$error":"#N/A"}]
[1188,{"$f":"IF(A1220>$A$8,\"\",OFFSET(InputPriceData!B$15,$A1220+$A$11,0,1,1))","v":""},{"$f":"IF(A1220>$A$8,\"\",OFFSET(InputPriceData!G$15,CalculationsAndCharts!$A1220+$A$11,IF($C$5,8,0),1,1))","v":""},{"$f":"IF(A1220>$A$8,\"\",OFFSET(InputPriceData!C$15,CalculationsAndCharts!$A1220+$A$11,IF($C$5,8,0),1,1))","v":""},{"$f":"IF(A1220>$A$8,\"\",OFFSET(InputPriceData!D$15,CalculationsAndCharts!$A1220+$A$11,IF($C$5,8,0),1,1))","v":""},{"$f":"IF(A1220>$A$8,\"\",OFFSET(InputPriceData!E$15,CalculationsAndCharts!$A1220+$A$11,IF($C$5,8,0),1,1))","v":""},{"$f":"IF(A1220>$A$8,\"\",OFFSET(InputPriceData!F$15,CalculationsAndCharts!$A1220+$A$11,IF($C$5,8,0),1,1))","v":""},{"$error":"#N/A"},{"$error":"#N/A"},{"$f":"IF($A1220>$J$30,NA(),AVERAGE(H1220:H1223))","v":{"$error":"#N/A"}},{"$error":"#N/A"},null,null,{"$f":"IF($A1220>$J$30,NA(),IF($A1220>$N$30,0,(1-$M$35)*J1220+(2*$M$35-$M$36)*J1221-($M$35+$M$37)*J1222+$M$36*N1221+$M$37*N1222))","v":{"$error":"#N/A"}},{"$error":"#N/A"},{"$error":"#N/A"},{"$error":"#N/A"},null,null,{"$error":"#N/A"},{"$error":"#N/A"},{"$error":"#N/A"},{"$error":"#N/A"},null,null,null,null,null,null,null,null,null,null,null,null,null,null,null,null,null,null,null,null,null,null,null,null,null,null,null,null,null,null,null,"",{"$error":"#N/A"}]
[1189,{"$f":"IF(A1221>$A$8,\"\",OFFSET(InputPriceData!B$15,$A1221+$A$11,0,1,1))","v":""},{"$f":"IF(A1221>$A$8,\"\",OFFSET(InputPriceData!G$15,CalculationsAndCharts!$A1221+$A$11,IF($C$5,8,0),1,1))","v":""},{"$f":"IF(A1221>$A$8,\"\",OFFSET(InputPriceData!C$15,CalculationsAndCharts!$A1221+$A$11,IF($C$5,8,0),1,1))","v":""},{"$f":"IF(A1221>$A$8,\"\",OFFSET(InputPriceData!D$15,CalculationsAndCharts!$A1221+$A$11,IF($C$5,8,0),1,1))","v":""},{"$f":"IF(A1221>$A$8,\"\",OFFSET(InputPriceData!E$15,CalculationsAndCharts!$A1221+$A$11,IF($C$5,8,0),1,1))","v":""},{"$f":"IF(A1221>$A$8,\"\",OFFSET(InputPriceData!F$15,CalculationsAndCharts!$A1221+$A$11,IF($C$5,8,0),1,1))","v":""},{"$error":"#N/A"},{"$error":"#N/A"},{"$f":"IF($A1221>$J$30,NA(),AVERAGE(H1221:H1224))","v":{"$error":"#N/A"}},{"$error":"#N/A"},null,null,{"$f":"IF($A1221>$J$30,NA(),IF($A1221>$N$30,0,(1-$M$35)*J1221+(2*$M$35-$M$36)*J1222-($M$35+$M$37)*J1223+$M$36*N1222+$M$37*N1223))","v":{"$error":"#N/A"}},{"$error":"#N/A"},{"$error":"#N/A"},{"$error":"#N/A"},null,null,{"$error":"#N/A"},{"$error":"#N/A"},{"$error":"#N/A"},{"$error":"#N/A"},null,null,null,null,null,null,null,null,null,null,null,null,null,null,null,null,null,null,null,null,null,null,null,null,null,null,null,null,null,null,null,"",{"$error":"#N/A"}]
[1190,{"$f":"IF(A1222>$A$8,\"\",OFFSET(InputPriceData!B$15,$A1222+$A$11,0,1,1))","v":""},{"$f":"IF(A1222>$A$8,\"\",OFFSET(InputPriceData!G$15,CalculationsAndCharts!$A1222+$A$11,IF($C$5,8,0),1,1))","v":""},{"$f":"IF(A1222>$A$8,\"\",OFFSET(InputPriceData!C$15,CalculationsAndCharts!$A1222+$A$11,IF($C$5,8,0),1,1))","v":""},{"$f":"IF(A1222>$A$8,\"\",OFFSET(InputPriceData!D$15,CalculationsAndCharts!$A1222+$A$11,IF($C$5,8,0),1,1))","v":""},{"$f":"IF(A1222>$A$8,\"\",OFFSET(InputPriceData!E$15,CalculationsAndCharts!$A1222+$A$11,IF($C$5,8,0),1,1))","v":""},{"$f":"IF(A1222>$A$8,\"\",OFFSET(InputPriceData!F$15,CalculationsAndCharts!$A1222+$A$11,IF($C$5,8,0),1,1))","v":""},{"$error":"#N/A"},{"$error":"#N/A"},{"$f":"IF($A1222>$J$30,NA(),AVERAGE(H1222:H1225))","v":{"$error":"#N/A"}},{"$error":"#N/A"},null,null,{"$f":"IF($A1222>$J$30,NA(),IF($A1222>$N$30,0,(1-$M$35)*J1222+(2*$M$35-$M$36)*J1223-($M$35+$M$37)*J1224+$M$36*N1223+$M$37*N1224))","v":{"$error":"#N/A"}},{"$error":"#N/A"},{"$error":"#N/A"},{"$error":"#N/A"},null,null,{"$error":"#N/A"},{"$error":"#N/A"},{"$error":"#N/A"},{"$error":"#N/A"},null,null,null,null,null,null,null,null,null,null,null,null,null,null,null,null,null,null,null,null,null,null,null,null,null,null,null,null,null,null,null,"",{"$error":"#N/A"}]
[1191,{"$f":"IF(A1223>$A$8,\"\",OFFSET(InputPriceData!B$15,$A1223+$A$11,0,1,1))","v":""},{"$f":"IF(A1223>$A$8,\"\",OFFSET(InputPriceData!G$15,CalculationsAndCharts!$A1223+$A$11,IF($C$5,8,0),1,1))","v":""},{"$f":"IF(A1223>$A$8,\"\",OFFSET(InputPriceData!C$15,CalculationsAndCharts!$A1223+$A$11,IF($C$5,8,0),1,1))","v":""},{"$f":"IF(A1223>$A$8,\"\",OFFSET(InputPriceData!D$15,CalculationsAndCharts!$A1223+$A$11,IF($C$5,8,0),1,1))","v":""},{"$f":"IF(A1223>$A$8,\"\",OFFSET(InputPriceData!E$15,CalculationsAndCharts!$A1223+$A$11,IF($C$5,8,0),1,1))","v":""},{"$f":"IF(A1223>$A$8,\"\",OFFSET(InputPriceData!F$15,CalculationsAndCharts!$A1223+$A$11,IF($C$5,8,0),1,1))","v":""},{"$error":"#N/A"},{"$error":"#N/A"},{"$f":"IF($A1223>$J$30,NA(),AVERAGE(H1223:H1226))","v":{"$error":"#N/A"}},{"$error":"#N/A"},null,null,{"$f":"IF($A1223>$J$30,NA(),IF($A1223>$N$30,0,(1-$M$35)*J1223+(2*$M$35-$M$36)*J1224-($M$35+$M$37)*J1225+$M$36*N1224+$M$37*N1225))","v":{"$error":"#N/A"}},{"$error":"#N/A"},{"$error":"#N/A"},{"$error":"#N/A"},null,null,{"$error":"#N/A"},{"$error":"#N/A"},{"$error":"#N/A"},{"$error":"#N/A"},null,null,null,null,null,null,null,null,null,null,null,null,null,null,null,null,null,null,null,null,null,null,null,null,null,null,null,null,null,null,null,"",{"$error":"#N/A"}]
[1192,{"$f":"IF(A1224>$A$8,\"\",OFFSET(InputPriceData!B$15,$A1224+$A$11,0,1,1))","v":""},{"$f":"IF(A1224>$A$8,\"\",OFFSET(InputPriceData!G$15,CalculationsAndCharts!$A1224+$A$11,IF($C$5,8,0),1,1))","v":""},{"$f":"IF(A1224>$A$8,\"\",OFFSET(InputPriceData!C$15,CalculationsAndCharts!$A1224+$A$11,IF($C$5,8,0),1,1))","v":""},{"$f":"IF(A1224>$A$8,\"\",OFFSET(InputPriceData!D$15,CalculationsAndCharts!$A1224+$A$11,IF($C$5,8,0),1,1))","v":""},{"$f":"IF(A1224>$A$8,\"\",OFFSET(InputPriceData!E$15,CalculationsAndCharts!$A1224+$A$11,IF($C$5,8,0),1,1))","v":""},{"$f":"IF(A1224>$A$8,\"\",OFFSET(InputPriceData!F$15,CalculationsAndCharts!$A1224+$A$11,IF($C$5,8,0),1,1))","v":""},{"$error":"#N/A"},{"$error":"#N/A"},{"$f":"IF($A1224>$J$30,NA(),AVERAGE(H1224:H1227))","v":{"$error":"#N/A"}},{"$error":"#N/A"},null,null,{"$f":"IF($A1224>$J$30,NA(),IF($A1224>$N$30,0,(1-$M$35)*J1224+(2*$M$35-$M$36)*J1225-($M$35+$M$37)*J1226+$M$36*N1225+$M$37*N1226))","v":{"$error":"#N/A"}},{"$error":"#N/A"},{"$error":"#N/A"},{"$error":"#N/A"},null,null,{"$error":"#N/A"},{"$error":"#N/A"},{"$error":"#N/A"},{"$error":"#N/A"},null,null,null,null,null,null,null,null,null,null,null,null,null,null,null,null,null,null,null,null,null,null,null,null,null,null,null,null,null,null,null,"",{"$error":"#N/A"}]
[1193,{"$f":"IF(A1225>$A$8,\"\",OFFSET(InputPriceData!B$15,$A1225+$A$11,0,1,1))","v":""},{"$f":"IF(A1225>$A$8,\"\",OFFSET(InputPriceData!G$15,CalculationsAndCharts!$A1225+$A$11,IF($C$5,8,0),1,1))","v":""},{"$f":"IF(A1225>$A$8,\"\",OFFSET(InputPriceData!C$15,CalculationsAndCharts!$A1225+$A$11,IF($C$5,8,0),1,1))","v":""},{"$f":"IF(A1225>$A$8,\"\",OFFSET(InputPriceData!D$15,CalculationsAndCharts!$A1225+$A$11,IF($C$5,8,0),1,1))","v":""},{"$f":"IF(A1225>$A$8,\"\",OFFSET(InputPriceData!E$15,CalculationsAndCharts!$A1225+$A$11,IF($C$5,8,0),1,1))","v":""},{"$f":"IF(A1225>$A$8,\"\",OFFSET(InputPriceData!F$15,CalculationsAndCharts!$A1225+$A$11,IF($C$5,8,0),1,1))","v":""},{"$error":"#N/A"},{"$error":"#N/A"},{"$f":"IF($A1225>$J$30,NA(),AVERAGE(H1225:H1228))","v":{"$error":"#N/A"}},{"$error":"#N/A"},null,null,{"$f":"IF($A1225>$J$30,NA(),IF($A1225>$N$30,0,(1-$M$35)*J1225+(2*$M$35-$M$36)*J1226-($M$35+$M$37)*J1227+$M$36*N1226+$M$37*N1227))","v":{"$error":"#N/A"}},{"$error":"#N/A"},{"$error":"#N/A"},{"$error":"#N/A"},null,null,{"$error":"#N/A"},{"$error":"#N/A"},{"$error":"#N/A"},{"$error":"#N/A"},null,null,null,null,null,null,null,null,null,null,null,null,null,null,null,null,null,null,null,null,null,null,null,null,null,null,null,null,null,null,null,"",{"$error":"#N/A"}]
[1194,{"$f":"IF(A1226>$A$8,\"\",OFFSET(InputPriceData!B$15,$A1226+$A$11,0,1,1))","v":""},{"$f":"IF(A1226>$A$8,\"\",OFFSET(InputPriceData!G$15,CalculationsAndCharts!$A1226+$A$11,IF($C$5,8,0),1,1))","v":""},{"$f":"IF(A1226>$A$8,\"\",OFFSET(InputPriceData!C$15,CalculationsAndCharts!$A1226+$A$11,IF($C$5,8,0),1,1))","v":""},{"$f":"IF(A1226>$A$8,\"\",OFFSET(InputPriceData!D$15,CalculationsAndCharts!$A1226+$A$11,IF($C$5,8,0),1,1))","v":""},{"$f":"IF(A1226>$A$8,\"\",OFFSET(InputPriceData!E$15,CalculationsAndCharts!$A1226+$A$11,IF($C$5,8,0),1,1))","v":""},{"$f":"IF(A1226>$A$8,\"\",OFFSET(InputPriceData!F$15,CalculationsAndCharts!$A1226+$A$11,IF($C$5,8,0),1,1))","v":""},{"$error":"#N/A"},{"$error":"#N/A"},{"$f":"IF($A1226>$J$30,NA(),AVERAGE(H1226:H1229))","v":{"$error":"#N/A"}},{"$error":"#N/A"},null,null,{"$f":"IF($A1226>$J$30,NA(),IF($A1226>$N$30,0,(1-$M$35)*J1226+(2*$M$35-$M$36)*J1227-($M$35+$M$37)*J1228+$M$36*N1227+$M$37*N1228))","v":{"$error":"#N/A"}},{"$error":"#N/A"},{"$error":"#N/A"},{"$error":"#N/A"},null,null,{"$error":"#N/A"},{"$error":"#N/A"},{"$error":"#N/A"},{"$error":"#N/A"},null,null,null,null,null,null,null,null,null,null,null,null,null,null,null,null,null,null,null,null,null,null,null,null,null,null,null,null,null,null,null,"",{"$error":"#N/A"}]
[1195,{"$f":"IF(A1227>$A$8,\"\",OFFSET(InputPriceData!B$15,$A1227+$A$11,0,1,1))","v":""},{"$f":"IF(A1227>$A$8,\"\",OFFSET(InputPriceData!G$15,CalculationsAndCharts!$A1227+$A$11,IF($C$5,8,0),1,1))","v":""},{"$f":"IF(A1227>$A$8,\"\",OFFSET(InputPriceData!C$15,CalculationsAndCharts!$A1227+$A$11,IF($C$5,8,0),1,1))","v":""},{"$f":"IF(A1227>$A$8,\"\",OFFSET(InputPriceData!D$15,CalculationsAndCharts!$A1227+$A$11,IF($C$5,8,0),1,1))","v":""},{"$f":"IF(A1227>$A$8,\"\",OFFSET(InputPriceData!E$15,CalculationsAndCharts!$A1227+$A$11,IF($C$5,8,0),1,1))","v":""},{"$f":"IF(A1227>$A$8,\"\",OFFSET(InputPriceData!F$15,CalculationsAndCharts!$A1227+$A$11,IF($C$5,8,0),1,1))","v":""},{"$error":"#N/A"},{"$error":"#N/A"},{"$f":"IF($A1227>$J$30,NA(),AVERAGE(H1227:H1230))","v":{"$error":"#N/A"}},{"$error":"#N/A"},null,null,{"$f":"IF($A1227>$J$30,NA(),IF($A1227>$N$30,0,(1-$M$35)*J1227+(2*$M$35-$M$36)*J1228-($M$35+$M$37)*J1229+$M$36*N1228+$M$37*N1229))","v":{"$error":"#N/A"}},{"$error":"#N/A"},{"$error":"#N/A"},{"$error":"#N/A"},null,null,{"$error":"#N/A"},{"$error":"#N/A"},{"$error":"#N/A"},{"$error":"#N/A"},null,null,null,null,null,null,null,null,null,null,null,null,null,null,null,null,null,null,null,null,null,null,null,null,null,null,null,null,null,null,null,"",{"$error":"#N/A"}]
[1196,{"$f":"IF(A1228>$A$8,\"\",OFFSET(InputPriceData!B$15,$A1228+$A$11,0,1,1))","v":""},{"$f":"IF(A1228>$A$8,\"\",OFFSET(InputPriceData!G$15,CalculationsAndCharts!$A1228+$A$11,IF($C$5,8,0),1,1))","v":""},{"$f":"IF(A1228>$A$8,\"\",OFFSET(InputPriceData!C$15,CalculationsAndCharts!$A1228+$A$11,IF($C$5,8,0),1,1))","v":""},{"$f":"IF(A1228>$A$8,\"\",OFFSET(InputPriceData!D$15,CalculationsAndCharts!$A1228+$A$11,IF($C$5,8,0),1,1))","v":""},{"$f":"IF(A1228>$A$8,\"\",OFFSET(InputPriceData!E$15,CalculationsAndCharts!$A1228+$A$11,IF($C$5,8,0),1,1))","v":""},{"$f":"IF(A1228>$A$8,\"\",OFFSET(InputPriceData!F$15,CalculationsAndCharts!$A1228+$A$11,IF($C$5,8,0),1,1))","v":""},{"$error":"#N/A"},{"$error":"#N/A"},{"$f":"IF($A1228>$J$30,NA(),AVERAGE(H1228:H1231))","v":{"$error":"#N/A"}},{"$error":"#N/A"},null,null,{"$f":"IF($A1228>$J$30,NA(),IF($A1228>$N$30,0,(1-$M$35)*J1228+(2*$M$35-$M$36)*J1229-($M$35+$M$37)*J1230+$M$36*N1229+$M$37*N1230))","v":{"$error":"#N/A"}},{"$error":"#N/A"},{"$error":"#N/A"},{"$error":"#N/A"},null,null,{"$error":"#N/A"},{"$error":"#N/A"},{"$error":"#N/A"},{"$error":"#N/A"},null,null,null,null,null,null,null,null,null,null,null,null,null,null,null,null,null,null,null,null,null,null,null,null,null,null,null,null,null,null,null,"",{"$error":"#N/A"}]
[1197,{"$f":"IF(A1229>$A$8,\"\",OFFSET(InputPriceData!B$15,$A1229+$A$11,0,1,1))","v":""},{"$f":"IF(A1229>$A$8,\"\",OFFSET(InputPriceData!G$15,CalculationsAndCharts!$A1229+$A$11,IF($C$5,8,0),1,1))","v":""},{"$f":"IF(A1229>$A$8,\"\",OFFSET(InputPriceData!C$15,CalculationsAndCharts!$A1229+$A$11,IF($C$5,8,0),1,1))","v":""},{"$f":"IF(A1229>$A$8,\"\",OFFSET(InputPriceData!D$15,CalculationsAndCharts!$A1229+$A$11,IF($C$5,8,0),1,1))","v":""},{"$f":"IF(A1229>$A$8,\"\",OFFSET(InputPriceData!E$15,CalculationsAndCharts!$A1229+$A$11,IF($C$5,8,0),1,1))","v":""},{"$f":"IF(A1229>$A$8,\"\",OFFSET(InputPriceData!F$15,CalculationsAndCharts!$A1229+$A$11,IF($C$5,8,0),1,1))","v":""},{"$error":"#N/A"},{"$error":"#N/A"},{"$f":"IF($A1229>$J$30,NA(),AVERAGE(H1229:H1232))","v":{"$error":"#N/A"}},{"$error":"#N/A"},null,null,{"$f":"IF($A1229>$J$30,NA(),IF($A1229>$N$30,0,(1-$M$35)*J1229+(2*$M$35-$M$36)*J1230-($M$35+$M$37)*J1231+$M$36*N1230+$M$37*N1231))","v":{"$error":"#N/A"}},{"$error":"#N/A"},{"$error":"#N/A"},{"$error":"#N/A"},null,null,{"$error":"#N/A"},{"$error":"#N/A"},{"$error":"#N/A"},{"$error":"#N/A"},null,null,null,null,null,null,null,null,null,null,null,null,null,null,null,null,null,null,null,null,null,null,null,null,null,null,null,null,null,null,null,"",{"$error":"#N/A"}]
[1198,{"$f":"IF(A1230>$A$8,\"\",OFFSET(InputPriceData!B$15,$A1230+$A$11,0,1,1))","v":""},{"$f":"IF(A1230>$A$8,\"\",OFFSET(InputPriceData!G$15,CalculationsAndCharts!$A1230+$A$11,IF($C$5,8,0),1,1))","v":""},{"$f":"IF(A1230>$A$8,\"\",OFFSET(InputPriceData!C$15,CalculationsAndCharts!$A1230+$A$11,IF($C$5,8,0),1,1))","v":""},{"$f":"IF(A1230>$A$8,\"\",OFFSET(InputPriceData!D$15,CalculationsAndCharts!$A1230+$A$11,IF($C$5,8,0),1,1))","v":""},{"$f":"IF(A1230>$A$8,\"\",OFFSET(InputPriceData!E$15,CalculationsAndCharts!$A1230+$A$11,IF($C$5,8,0),1,1))","v":""},{"$f":"IF(A1230>$A$8,\"\",OFFSET(InputPriceData!F$15,CalculationsAndCharts!$A1230+$A$11,IF($C$5,8,0),1,1))","v":""},{"$error":"#N/A"},{"$error":"#N/A"},{"$f":"IF($A1230>$J$30,NA(),AVERAGE(H1230:H1233))","v":{"$error":"#N/A"}},{"$error":"#N/A"},null,null,{"$f":"IF($A1230>$J$30,NA(),IF($A1230>$N$30,0,(1-$M$35)*J1230+(2*$M$35-$M$36)*J1231-($M$35+$M$37)*J1232+$M$36*N1231+$M$37*N1232))","v":{"$error":"#N/A"}},{"$error":"#N/A"},{"$error":"#N/A"},{"$error":"#N/A"},null,null,{"$error":"#N/A"},{"$error":"#N/A"},{"$error":"#N/A"},{"$error":"#N/A"},null,null,null,null,null,null,null,null,null,null,null,null,null,null,null,null,null,null,null,null,null,null,null,null,null,null,null,null,null,null,null,"",{"$error":"#N/A"}]
[1199,{"$f":"IF(A1231>$A$8,\"\",OFFSET(InputPriceData!B$15,$A1231+$A$11,0,1,1))","v":""},{"$f":"IF(A1231>$A$8,\"\",OFFSET(InputPriceData!G$15,CalculationsAndCharts!$A1231+$A$11,IF($C$5,8,0),1,1))","v":""},{"$f":"IF(A1231>$A$8,\"\",OFFSET(InputPriceData!C$15,CalculationsAndCharts!$A1231+$A$11,IF($C$5,8,0),1,1))","v":""},{"$f":"IF(A1231>$A$8,\"\",OFFSET(InputPriceData!D$15,CalculationsAndCharts!$A1231+$A$11,IF($C$5,8,0),1,1))","v":""},{"$f":"IF(A1231>$A$8,\"\",OFFSET(InputPriceData!E$15,CalculationsAndCharts!$A1231+$A$11,IF($C$5,8,0),1,1))","v":""},{"$f":"IF(A1231>$A$8,\"\",OFFSET(InputPriceData!F$15,CalculationsAndCharts!$A1231+$A$11,IF($C$5,8,0),1,1))","v":""},{"$error":"#N/A"},{"$error":"#N/A"},{"$f":"IF($A1231>$J$30,NA(),AVERAGE(H1231:H1234))","v":{"$error":"#N/A"}},{"$error":"#N/A"},null,null,{"$f":"IF($A1231>$J$30,NA(),IF($A1231>$N$30,0,(1-$M$35)*J1231+(2*$M$35-$M$36)*J1232-($M$35+$M$37)*J1233+$M$36*N1232+$M$37*N1233))","v":{"$error":"#N/A"}},{"$error":"#N/A"},{"$error":"#N/A"},{"$error":"#N/A"},null,null,{"$error":"#N/A"},{"$error":"#N/A"},{"$error":"#N/A"},{"$error":"#N/A"},null,null,null,null,null,null,null,null,null,null,null,null,null,null,null,null,null,null,null,null,null,null,null,null,null,null,null,null,null,null,null,"",{"$error":"#N/A"}]
[1200,{"$f":"IF(A1232>$A$8,\"\",OFFSET(InputPriceData!B$15,$A1232+$A$11,0,1,1))","v":""},{"$f":"IF(A1232>$A$8,\"\",OFFSET(InputPriceData!G$15,CalculationsAndCharts!$A1232+$A$11,IF($C$5,8,0),1,1))","v":""},{"$f":"IF(A1232>$A$8,\"\",OFFSET(InputPriceData!C$15,CalculationsAndCharts!$A1232+$A$11,IF($C$5,8,0),1,1))","v":""},{"$f":"IF(A1232>$A$8,\"\",OFFSET(InputPriceData!D$15,CalculationsAndCharts!$A1232+$A$11,IF($C$5,8,0),1,1))","v":""},{"$f":"IF(A1232>$A$8,\"\",OFFSET(InputPriceData!E$15,CalculationsAndCharts!$A1232+$A$11,IF($C$5,8,0),1,1))","v":""},{"$f":"IF(A1232>$A$8,\"\",OFFSET(InputPriceData!F$15,CalculationsAndCharts!$A1232+$A$11,IF($C$5,8,0),1,1))","v":""},{"$error":"#N/A"},{"$error":"#N/A"},{"$f":"IF($A1232>$J$30,NA(),AVERAGE(H1232:H1235))","v":{"$error":"#N/A"}},{"$error":"#N/A"},null,null,{"$f":"IF($A1232>$J$30,NA(),IF($A1232>$N$30,0,(1-$M$35)*J1232+(2*$M$35-$M$36)*J1233-($M$35+$M$37)*J1234+$M$36*N1233+$M$37*N1234))","v":{"$error":"#N/A"}},{"$error":"#N/A"},{"$error":"#N/A"},{"$error":"#N/A"},null,null,{"$error":"#N/A"},{"$error":"#N/A"},{"$error":"#N/A"},{"$error":"#N/A"},null,null,null,null,null,null,null,null,null,null,null,null,null,null,null,null,null,null,null,null,null,null,null,null,null,null,null,null,null,null,null,"",{"$error":"#N/A"}]
[1201,{"$f":"IF(A1233>$A$8,\"\",OFFSET(InputPriceData!B$15,$A1233+$A$11,0,1,1))","v":""},{"$f":"IF(A1233>$A$8,\"\",OFFSET(InputPriceData!G$15,CalculationsAndCharts!$A1233+$A$11,IF($C$5,8,0),1,1))","v":""},{"$f":"IF(A1233>$A$8,\"\",OFFSET(InputPriceData!C$15,CalculationsAndCharts!$A1233+$A$11,IF($C$5,8,0),1,1))","v":""},{"$f":"IF(A1233>$A$8,\"\",OFFSET(InputPriceData!D$15,CalculationsAndCharts!$A1233+$A$11,IF($C$5,8,0),1,1))","v":""},{"$f":"IF(A1233>$A$8,\"\",OFFSET(InputPriceData!E$15,CalculationsAndCharts!$A1233+$A$11,IF($C$5,8,0),1,1))","v":""},{"$f":"IF(A1233>$A$8,\"\",OFFSET(InputPriceData!F$15,CalculationsAndCharts!$A1233+$A$11,IF($C$5,8,0),1,1))","v":""},{"$error":"#N/A"},{"$error":"#N/A"},{"$f":"IF($A1233>$J$30,NA(),AVERAGE(H1233:H1236))","v":{"$error":"#N/A"}},{"$error":"#N/A"},null,null,{"$f":"IF($A1233>$J$30,NA(),IF($A1233>$N$30,0,(1-$M$35)*J1233+(2*$M$35-$M$36)*J1234-($M$35+$M$37)*J1235+$M$36*N1234+$M$37*N1235))","v":{"$error":"#N/A"}},{"$error":"#N/A"},{"$error":"#N/A"},{"$error":"#N/A"},null,null,{"$error":"#N/A"},{"$error":"#N/A"},{"$error":"#N/A"},{"$error":"#N/A"},null,null,null,null,null,null,null,null,null,null,null,null,null,null,null,null,null,null,null,null,null,null,null,null,null,null,null,null,null,null,null,"",{"$error":"#N/A"}]
[1202,{"$f":"IF(A1234>$A$8,\"\",OFFSET(InputPriceData!B$15,$A1234+$A$11,0,1,1))","v":""},{"$f":"IF(A1234>$A$8,\"\",OFFSET(InputPriceData!G$15,CalculationsAndCharts!$A1234+$A$11,IF($C$5,8,0),1,1))","v":""},{"$f":"IF(A1234>$A$8,\"\",OFFSET(InputPriceData!C$15,CalculationsAndCharts!$A1234+$A$11,IF($C$5,8,0),1,1))","v":""},{"$f":"IF(A1234>$A$8,\"\",OFFSET(InputPriceData!D$15,CalculationsAndCharts!$A1234+$A$11,IF($C$5,8,0),1,1))","v":""},{"$f":"IF(A1234>$A$8,\"\",OFFSET(InputPriceData!E$15,CalculationsAndCharts!$A1234+$A$11,IF($C$5,8,0),1,1))","v":""},{"$f":"IF(A1234>$A$8,\"\",OFFSET(InputPriceData!F$15,CalculationsAndCharts!$A1234+$A$11,IF($C$5,8,0),1,1))","v":""},{"$error":"#N/A"},{"$error":"#N/A"},{"$f":"IF($A1234>$J$30,NA(),AVERAGE(H1234:H1237))","v":{"$error":"#N/A"}},{"$error":"#N/A"},null,null,{"$f":"IF($A1234>$J$30,NA(),IF($A1234>$N$30,0,(1-$M$35)*J1234+(2*$M$35-$M$36)*J1235-($M$35+$M$37)*J1236+$M$36*N1235+$M$37*N1236))","v":{"$error":"#N/A"}},{"$error":"#N/A"},{"$error":"#N/A"},{"$error":"#N/A"},null,null,{"$error":"#N/A"},{"$error":"#N/A"},{"$error":"#N/A"},{"$error":"#N/A"},null,null,null,null,null,null,null,null,null,null,null,null,null,null,null,null,null,null,null,null,null,null,null,null,null,null,null,null,null,null,null,"",{"$error":"#N/A"}]
[1203,{"$f":"IF(A1235>$A$8,\"\",OFFSET(InputPriceData!B$15,$A1235+$A$11,0,1,1))","v":""},{"$f":"IF(A1235>$A$8,\"\",OFFSET(InputPriceData!G$15,CalculationsAndCharts!$A1235+$A$11,IF($C$5,8,0),1,1))","v":""},{"$f":"IF(A1235>$A$8,\"\",OFFSET(InputPriceData!C$15,CalculationsAndCharts!$A1235+$A$11,IF($C$5,8,0),1,1))","v":""},{"$f":"IF(A1235>$A$8,\"\",OFFSET(InputPriceData!D$15,CalculationsAndCharts!$A1235+$A$11,IF($C$5,8,0),1,1))","v":""},{"$f":"IF(A1235>$A$8,\"\",OFFSET(InputPriceData!E$15,CalculationsAndCharts!$A1235+$A$11,IF($C$5,8,0),1,1))","v":""},{"$f":"IF(A1235>$A$8,\"\",OFFSET(InputPriceData!F$15,CalculationsAndCharts!$A1235+$A$11,IF($C$5,8,0),1,1))","v":""},{"$error":"#N/A"},{"$error":"#N/A"},{"$f":"IF($A1235>$J$30,NA(),AVERAGE(H1235:H1238))","v":{"$error":"#N/A"}},{"$error":"#N/A"},null,null,{"$f":"IF($A1235>$J$30,NA(),IF($A1235>$N$30,0,(1-$M$35)*J1235+(2*$M$35-$M$36)*J1236-($M$35+$M$37)*J1237+$M$36*N1236+$M$37*N1237))","v":{"$error":"#N/A"}},{"$error":"#N/A"},{"$error":"#N/A"},{"$error":"#N/A"},null,null,{"$error":"#N/A"},{"$error":"#N/A"},{"$error":"#N/A"},{"$error":"#N/A"},null,null,null,null,null,null,null,null,null,null,null,null,null,null,null,null,null,null,null,null,null,null,null,null,null,null,null,null,null,null,null,"",{"$error":"#N/A"}]
[1204,{"$f":"IF(A1236>$A$8,\"\",OFFSET(InputPriceData!B$15,$A1236+$A$11,0,1,1))","v":""},{"$f":"IF(A1236>$A$8,\"\",OFFSET(InputPriceData!G$15,CalculationsAndCharts!$A1236+$A$11,IF($C$5,8,0),1,1))","v":""},{"$f":"IF(A1236>$A$8,\"\",OFFSET(InputPriceData!C$15,CalculationsAndCharts!$A1236+$A$11,IF($C$5,8,0),1,1))","v":""},{"$f":"IF(A1236>$A$8,\"\",OFFSET(InputPriceData!D$15,CalculationsAndCharts!$A1236+$A$11,IF($C$5,8,0),1,1))","v":""},{"$f":"IF(A1236>$A$8,\"\",OFFSET(InputPriceData!E$15,CalculationsAndCharts!$A1236+$A$11,IF($C$5,8,0),1,1))","v":""},{"$f":"IF(A1236>$A$8,\"\",OFFSET(InputPriceData!F$15,CalculationsAndCharts!$A1236+$A$11,IF($C$5,8,0),1,1))","v":""},{"$error":"#N/A"},{"$error":"#N/A"},{"$f":"IF($A1236>$J$30,NA(),AVERAGE(H1236:H1239))","v":{"$error":"#N/A"}},{"$error":"#N/A"},null,null,{"$f":"IF($A1236>$J$30,NA(),IF($A1236>$N$30,0,(1-$M$35)*J1236+(2*$M$35-$M$36)*J1237-($M$35+$M$37)*J1238+$M$36*N1237+$M$37*N1238))","v":{"$error":"#N/A"}},{"$error":"#N/A"},{"$error":"#N/A"},{"$error":"#N/A"},null,null,{"$error":"#N/A"},{"$error":"#N/A"},{"$error":"#N/A"},{"$error":"#N/A"},null,null,null,null,null,null,null,null,null,null,null,null,null,null,null,null,null,null,null,null,null,null,null,null,null,null,null,null,null,null,null,"",{"$error":"#N/A"}]
[1205,{"$f":"IF(A1237>$A$8,\"\",OFFSET(InputPriceData!B$15,$A1237+$A$11,0,1,1))","v":""},{"$f":"IF(A1237>$A$8,\"\",OFFSET(InputPriceData!G$15,CalculationsAndCharts!$A1237+$A$11,IF($C$5,8,0),1,1))","v":""},{"$f":"IF(A1237>$A$8,\"\",OFFSET(InputPriceData!C$15,CalculationsAndCharts!$A1237+$A$11,IF($C$5,8,0),1,1))","v":""},{"$f":"IF(A1237>$A$8,\"\",OFFSET(InputPriceData!D$15,CalculationsAndCharts!$A1237+$A$11,IF($C$5,8,0),1,1))","v":""},{"$f":"IF(A1237>$A$8,\"\",OFFSET(InputPriceData!E$15,CalculationsAndCharts!$A1237+$A$11,IF($C$5,8,0),1,1))","v":""},{"$f":"IF(A1237>$A$8,\"\",OFFSET(InputPriceData!F$15,CalculationsAndCharts!$A1237+$A$11,IF($C$5,8,0),1,1))","v":""},{"$error":"#N/A"},{"$error":"#N/A"},{"$f":"IF($A1237>$J$30,NA(),AVERAGE(H1237:H1240))","v":{"$error":"#N/A"}},{"$error":"#N/A"},null,null,{"$f":"IF($A1237>$J$30,NA(),IF($A1237>$N$30,0,(1-$M$35)*J1237+(2*$M$35-$M$36)*J1238-($M$35+$M$37)*J1239+$M$36*N1238+$M$37*N1239))","v":{"$error":"#N/A"}},{"$error":"#N/A"},{"$error":"#N/A"},{"$error":"#N/A"},null,null,{"$error":"#N/A"},{"$error":"#N/A"},{"$error":"#N/A"},{"$error":"#N/A"},null,null,null,null,null,null,null,null,null,null,null,null,null,null,null,null,null,null,null,null,null,null,null,null,null,null,null,null,null,null,null,"",{"$error":"#N/A"}]
[1206,{"$f":"IF(A1238>$A$8,\"\",OFFSET(InputPriceData!B$15,$A1238+$A$11,0,1,1))","v":""},{"$f":"IF(A1238>$A$8,\"\",OFFSET(InputPriceData!G$15,CalculationsAndCharts!$A1238+$A$11,IF($C$5,8,0),1,1))","v":""},{"$f":"IF(A1238>$A$8,\"\",OFFSET(InputPriceData!C$15,CalculationsAndCharts!$A1238+$A$11,IF($C$5,8,0),1,1))","v":""},{"$f":"IF(A1238>$A$8,\"\",OFFSET(InputPriceData!D$15,CalculationsAndCharts!$A1238+$A$11,IF($C$5,8,0),1,1))","v":""},{"$f":"IF(A1238>$A$8,\"\",OFFSET(InputPriceData!E$15,CalculationsAndCharts!$A1238+$A$11,IF($C$5,8,0),1,1))","v":""},{"$f":"IF(A1238>$A$8,\"\",OFFSET(InputPriceData!F$15,CalculationsAndCharts!$A1238+$A$11,IF($C$5,8,0),1,1))","v":""},{"$error":"#N/A"},{"$error":"#N/A"},{"$f":"IF($A1238>$J$30,NA(),AVERAGE(H1238:H1241))","v":{"$error":"#N/A"}},{"$error":"#N/A"},null,null,{"$f":"IF($A1238>$J$30,NA(),IF($A1238>$N$30,0,(1-$M$35)*J1238+(2*$M$35-$M$36)*J1239-($M$35+$M$37)*J1240+$M$36*N1239+$M$37*N1240))","v":{"$error":"#N/A"}},{"$error":"#N/A"},{"$error":"#N/A"},{"$error":"#N/A"},null,null,{"$error":"#N/A"},{"$error":"#N/A"},{"$error":"#N/A"},{"$error":"#N/A"},null,null,null,null,null,null,null,null,null,null,null,null,null,null,null,null,null,null,null,null,null,null,null,null,null,null,null,null,null,null,null,"",{"$error":"#N/A"}]
[1207,{"$f":"IF(A1239>$A$8,\"\",OFFSET(InputPriceData!B$15,$A1239+$A$11,0,1,1))","v":""},{"$f":"IF(A1239>$A$8,\"\",OFFSET(InputPriceData!G$15,CalculationsAndCharts!$A1239+$A$11,IF($C$5,8,0),1,1))","v":""},{"$f":"IF(A1239>$A$8,\"\",OFFSET(InputPriceData!C$15,CalculationsAndCharts!$A1239+$A$11,IF($C$5,8,0),1,1))","v":""},{"$f":"IF(A1239>$A$8,\"\",OFFSET(InputPriceData!D$15,CalculationsAndCharts!$A1239+$A$11,IF($C$5,8,0),1,1))","v":""},{"$f":"IF(A1239>$A$8,\"\",OFFSET(InputPriceData!E$15,CalculationsAndCharts!$A1239+$A$11,IF($C$5,8,0),1,1))","v":""},{"$f":"IF(A1239>$A$8,\"\",OFFSET(InputPriceData!F$15,CalculationsAndCharts!$A1239+$A$11,IF($C$5,8,0),1,1))","v":""},{"$error":"#N/A"},{"$error":"#N/A"},{"$f":"IF($A1239>$J$30,NA(),AVERAGE(H1239:H1242))","v":{"$error":"#N/A"}},{"$error":"#N/A"},null,null,{"$f":"IF($A1239>$J$30,NA(),IF($A1239>$N$30,0,(1-$M$35)*J1239+(2*$M$35-$M$36)*J1240-($M$35+$M$37)*J1241+$M$36*N1240+$M$37*N1241))","v":{"$error":"#N/A"}},{"$error":"#N/A"},{"$error":"#N/A"},{"$error":"#N/A"},null,null,{"$error":"#N/A"},{"$error":"#N/A"},{"$error":"#N/A"},{"$error":"#N/A"},null,null,null,null,null,null,null,null,null,null,null,null,null,null,null,null,null,null,null,null,null,null,null,null,null,null,null,null,null,null,null,"",{"$error":"#N/A"}]
[1208,{"$f":"IF(A1240>$A$8,\"\",OFFSET(InputPriceData!B$15,$A1240+$A$11,0,1,1))","v":""},{"$f":"IF(A1240>$A$8,\"\",OFFSET(InputPriceData!G$15,CalculationsAndCharts!$A1240+$A$11,IF($C$5,8,0),1,1))","v":""},{"$f":"IF(A1240>$A$8,\"\",OFFSET(InputPriceData!C$15,CalculationsAndCharts!$A1240+$A$11,IF($C$5,8,0),1,1))","v":""},{"$f":"IF(A1240>$A$8,\"\",OFFSET(InputPriceData!D$15,CalculationsAndCharts!$A1240+$A$11,IF($C$5,8,0),1,1))","v":""},{"$f":"IF(A1240>$A$8,\"\",OFFSET(InputPriceData!E$15,CalculationsAndCharts!$A1240+$A$11,IF($C$5,8,0),1,1))","v":""},{"$f":"IF(A1240>$A$8,\"\",OFFSET(InputPriceData!F$15,CalculationsAndCharts!$A1240+$A$11,IF($C$5,8,0),1,1))","v":""},{"$error":"#N/A"},{"$error":"#N/A"},{"$f":"IF($A1240>$J$30,NA(),AVERAGE(H1240:H1243))","v":{"$error":"#N/A"}},{"$error":"#N/A"},null,null,{"$f":"IF($A1240>$J$30,NA(),IF($A1240>$N$30,0,(1-$M$35)*J1240+(2*$M$35-$M$36)*J1241-($M$35+$M$37)*J1242+$M$36*N1241+$M$37*N1242))","v":{"$error":"#N/A"}},{"$error":"#N/A"},{"$error":"#N/A"},{"$error":"#N/A"},null,null,{"$error":"#N/A"},{"$error":"#N/A"},{"$error":"#N/A"},{"$error":"#N/A"},null,null,null,null,null,null,null,null,null,null,null,null,null,null,null,null,null,null,null,null,null,null,null,null,null,null,null,null,null,null,null,"",{"$error":"#N/A"}]
[1209,{"$f":"IF(A1241>$A$8,\"\",OFFSET(InputPriceData!B$15,$A1241+$A$11,0,1,1))","v":""},{"$f":"IF(A1241>$A$8,\"\",OFFSET(InputPriceData!G$15,CalculationsAndCharts!$A1241+$A$11,IF($C$5,8,0),1,1))","v":""},{"$f":"IF(A1241>$A$8,\"\",OFFSET(InputPriceData!C$15,CalculationsAndCharts!$A1241+$A$11,IF($C$5,8,0),1,1))","v":""},{"$f":"IF(A1241>$A$8,\"\",OFFSET(InputPriceData!D$15,CalculationsAndCharts!$A1241+$A$11,IF($C$5,8,0),1,1))","v":""},{"$f":"IF(A1241>$A$8,\"\",OFFSET(InputPriceData!E$15,CalculationsAndCharts!$A1241+$A$11,IF($C$5,8,0),1,1))","v":""},{"$f":"IF(A1241>$A$8,\"\",OFFSET(InputPriceData!F$15,CalculationsAndCharts!$A1241+$A$11,IF($C$5,8,0),1,1))","v":""},{"$error":"#N/A"},{"$error":"#N/A"},{"$f":"IF($A1241>$J$30,NA(),AVERAGE(H1241:H1244))","v":{"$error":"#N/A"}},{"$error":"#N/A"},null,null,{"$f":"IF($A1241>$J$30,NA(),IF($A1241>$N$30,0,(1-$M$35)*J1241+(2*$M$35-$M$36)*J1242-($M$35+$M$37)*J1243+$M$36*N1242+$M$37*N1243))","v":{"$error":"#N/A"}},{"$error":"#N/A"},{"$error":"#N/A"},{"$error":"#N/A"},null,null,{"$error":"#N/A"},{"$error":"#N/A"},{"$error":"#N/A"},{"$error":"#N/A"},null,null,null,null,null,null,null,null,null,null,null,null,null,null,null,null,null,null,null,null,null,null,null,null,null,null,null,null,null,null,null,"",{"$error":"#N/A"}]
[1210,{"$f":"IF(A1242>$A$8,\"\",OFFSET(InputPriceData!B$15,$A1242+$A$11,0,1,1))","v":""},{"$f":"IF(A1242>$A$8,\"\",OFFSET(InputPriceData!G$15,CalculationsAndCharts!$A1242+$A$11,IF($C$5,8,0),1,1))","v":""},{"$f":"IF(A1242>$A$8,\"\",OFFSET(InputPriceData!C$15,CalculationsAndCharts!$A1242+$A$11,IF($C$5,8,0),1,1))","v":""},{"$f":"IF(A1242>$A$8,\"\",OFFSET(InputPriceData!D$15,CalculationsAndCharts!$A1242+$A$11,IF($C$5,8,0),1,1))","v":""},{"$f":"IF(A1242>$A$8,\"\",OFFSET(InputPriceData!E$15,CalculationsAndCharts!$A1242+$A$11,IF($C$5,8,0),1,1))","v":""},{"$f":"IF(A1242>$A$8,\"\",OFFSET(InputPriceData!F$15,CalculationsAndCharts!$A1242+$A$11,IF($C$5,8,0),1,1))","v":""},{"$error":"#N/A"},{"$error":"#N/A"},{"$f":"IF($A1242>$J$30,NA(),AVERAGE(H1242:H1245))","v":{"$error":"#N/A"}},{"$error":"#N/A"},null,null,{"$f":"IF($A1242>$J$30,NA(),IF($A1242>$N$30,0,(1-$M$35)*J1242+(2*$M$35-$M$36)*J1243-($M$35+$M$37)*J1244+$M$36*N1243+$M$37*N1244))","v":{"$error":"#N/A"}},{"$error":"#N/A"},{"$error":"#N/A"},{"$error":"#N/A"},null,null,{"$error":"#N/A"},{"$error":"#N/A"},{"$error":"#N/A"},{"$error":"#N/A"},null,null,null,null,null,null,null,null,null,null,null,null,null,null,null,null,null,null,null,null,null,null,null,null,null,null,null,null,null,null,null,"",{"$error":"#N/A"}]
[1211,{"$f":"IF(A1243>$A$8,\"\",OFFSET(InputPriceData!B$15,$A1243+$A$11,0,1,1))","v":""},{"$f":"IF(A1243>$A$8,\"\",OFFSET(InputPriceData!G$15,CalculationsAndCharts!$A1243+$A$11,IF($C$5,8,0),1,1))","v":""},{"$f":"IF(A1243>$A$8,\"\",OFFSET(InputPriceData!C$15,CalculationsAndCharts!$A1243+$A$11,IF($C$5,8,0),1,1))","v":""},{"$f":"IF(A1243>$A$8,\"\",OFFSET(InputPriceData!D$15,CalculationsAndCharts!$A1243+$A$11,IF($C$5,8,0),1,1))","v":""},{"$f":"IF(A1243>$A$8,\"\",OFFSET(InputPriceData!E$15,CalculationsAndCharts!$A1243+$A$11,IF($C$5,8,0),1,1))","v":""},{"$f":"IF(A1243>$A$8,\"\",OFFSET(InputPriceData!F$15,CalculationsAndCharts!$A1243+$A$11,IF($C$5,8,0),1,1))","v":""},{"$error":"#N/A"},{"$error":"#N/A"},{"$f":"IF($A1243>$J$30,NA(),AVERAGE(H1243:H1246))","v":{"$error":"#N/A"}},{"$error":"#N/A"},null,null,{"$f":"IF($A1243>$J$30,NA(),IF($A1243>$N$30,0,(1-$M$35)*J1243+(2*$M$35-$M$36)*J1244-($M$35+$M$37)*J1245+$M$36*N1244+$M$37*N1245))","v":{"$error":"#N/A"}},{"$error":"#N/A"},{"$error":"#N/A"},{"$error":"#N/A"},null,null,{"$error":"#N/A"},{"$error":"#N/A"},{"$error":"#N/A"},{"$error":"#N/A"},null,null,null,null,null,null,null,null,null,null,null,null,null,null,null,null,null,null,null,null,null,null,null,null,null,null,null,null,null,null,null,"",{"$error":"#N/A"}]
[1212,{"$f":"IF(A1244>$A$8,\"\",OFFSET(InputPriceData!B$15,$A1244+$A$11,0,1,1))","v":""},{"$f":"IF(A1244>$A$8,\"\",OFFSET(InputPriceData!G$15,CalculationsAndCharts!$A1244+$A$11,IF($C$5,8,0),1,1))","v":""},{"$f":"IF(A1244>$A$8,\"\",OFFSET(InputPriceData!C$15,CalculationsAndCharts!$A1244+$A$11,IF($C$5,8,0),1,1))","v":""},{"$f":"IF(A1244>$A$8,\"\",OFFSET(InputPriceData!D$15,CalculationsAndCharts!$A1244+$A$11,IF($C$5,8,0),1,1))","v":""},{"$f":"IF(A1244>$A$8,\"\",OFFSET(InputPriceData!E$15,CalculationsAndCharts!$A1244+$A$11,IF($C$5,8,0),1,1))","v":""},{"$f":"IF(A1244>$A$8,\"\",OFFSET(InputPriceData!F$15,CalculationsAndCharts!$A1244+$A$11,IF($C$5,8,0),1,1))","v":""},{"$error":"#N/A"},{"$error":"#N/A"},{"$f":"IF($A1244>$J$30,NA(),AVERAGE(H1244:H1247))","v":{"$error":"#N/A"}},{"$error":"#N/A"},null,null,{"$f":"IF($A1244>$J$30,NA(),IF($A1244>$N$30,0,(1-$M$35)*J1244+(2*$M$35-$M$36)*J1245-($M$35+$M$37)*J1246+$M$36*N1245+$M$37*N1246))","v":{"$error":"#N/A"}},{"$error":"#N/A"},{"$error":"#N/A"},{"$error":"#N/A"},null,null,{"$error":"#N/A"},{"$error":"#N/A"},{"$error":"#N/A"},{"$error":"#N/A"},null,null,null,null,null,null,null,null,null,null,null,null,null,null,null,null,null,null,null,null,null,null,null,null,null,null,null,null,null,null,null,"",{"$error":"#N/A"}]
[1213,{"$f":"IF(A1245>$A$8,\"\",OFFSET(InputPriceData!B$15,$A1245+$A$11,0,1,1))","v":""},{"$f":"IF(A1245>$A$8,\"\",OFFSET(InputPriceData!G$15,CalculationsAndCharts!$A1245+$A$11,IF($C$5,8,0),1,1))","v":""},{"$f":"IF(A1245>$A$8,\"\",OFFSET(InputPriceData!C$15,CalculationsAndCharts!$A1245+$A$11,IF($C$5,8,0),1,1))","v":""},{"$f":"IF(A1245>$A$8,\"\",OFFSET(InputPriceData!D$15,CalculationsAndCharts!$A1245+$A$11,IF($C$5,8,0),1,1))","v":""},{"$f":"IF(A1245>$A$8,\"\",OFFSET(InputPriceData!E$15,CalculationsAndCharts!$A1245+$A$11,IF($C$5,8,0),1,1))","v":""},{"$f":"IF(A1245>$A$8,\"\",OFFSET(InputPriceData!F$15,CalculationsAndCharts!$A1245+$A$11,IF($C$5,8,0),1,1))","v":""},{"$error":"#N/A"},{"$error":"#N/A"},{"$f":"IF($A1245>$J$30,NA(),AVERAGE(H1245:H1248))","v":{"$error":"#N/A"}},{"$error":"#N/A"},null,null,{"$f":"IF($A1245>$J$30,NA(),IF($A1245>$N$30,0,(1-$M$35)*J1245+(2*$M$35-$M$36)*J1246-($M$35+$M$37)*J1247+$M$36*N1246+$M$37*N1247))","v":{"$error":"#N/A"}},{"$error":"#N/A"},{"$error":"#N/A"},{"$error":"#N/A"},null,null,{"$error":"#N/A"},{"$error":"#N/A"},{"$error":"#N/A"},{"$error":"#N/A"},null,null,null,null,null,null,null,null,null,null,null,null,null,null,null,null,null,null,null,null,null,null,null,null,null,null,null,null,null,null,null,"",{"$error":"#N/A"}]
[1214,{"$f":"IF(A1246>$A$8,\"\",OFFSET(InputPriceData!B$15,$A1246+$A$11,0,1,1))","v":""},{"$f":"IF(A1246>$A$8,\"\",OFFSET(InputPriceData!G$15,CalculationsAndCharts!$A1246+$A$11,IF($C$5,8,0),1,1))","v":""},{"$f":"IF(A1246>$A$8,\"\",OFFSET(InputPriceData!C$15,CalculationsAndCharts!$A1246+$A$11,IF($C$5,8,0),1,1))","v":""},{"$f":"IF(A1246>$A$8,\"\",OFFSET(InputPriceData!D$15,CalculationsAndCharts!$A1246+$A$11,IF($C$5,8,0),1,1))","v":""},{"$f":"IF(A1246>$A$8,\"\",OFFSET(InputPriceData!E$15,CalculationsAndCharts!$A1246+$A$11,IF($C$5,8,0),1,1))","v":""},{"$f":"IF(A1246>$A$8,\"\",OFFSET(InputPriceData!F$15,CalculationsAndCharts!$A1246+$A$11,IF($C$5,8,0),1,1))","v":""},{"$error":"#N/A"},{"$error":"#N/A"},{"$f":"IF($A1246>$J$30,NA(),AVERAGE(H1246:H1249))","v":{"$error":"#N/A"}},{"$error":"#N/A"},null,null,{"$f":"IF($A1246>$J$30,NA(),IF($A1246>$N$30,0,(1-$M$35)*J1246+(2*$M$35-$M$36)*J1247-($M$35+$M$37)*J1248+$M$36*N1247+$M$37*N1248))","v":{"$error":"#N/A"}},{"$error":"#N/A"},{"$error":"#N/A"},{"$error":"#N/A"},null,null,{"$error":"#N/A"},{"$error":"#N/A"},{"$error":"#N/A"},{"$error":"#N/A"},null,null,null,null,null,null,null,null,null,null,null,null,null,null,null,null,null,null,null,null,null,null,null,null,null,null,null,null,null,null,null,"",{"$error":"#N/A"}]
[1215,{"$f":"IF(A1247>$A$8,\"\",OFFSET(InputPriceData!B$15,$A1247+$A$11,0,1,1))","v":""},{"$f":"IF(A1247>$A$8,\"\",OFFSET(InputPriceData!G$15,CalculationsAndCharts!$A1247+$A$11,IF($C$5,8,0),1,1))","v":""},{"$f":"IF(A1247>$A$8,\"\",OFFSET(InputPriceData!C$15,CalculationsAndCharts!$A1247+$A$11,IF($C$5,8,0),1,1))","v":""},{"$f":"IF(A1247>$A$8,\"\",OFFSET(InputPriceData!D$15,CalculationsAndCharts!$A1247+$A$11,IF($C$5,8,0),1,1))","v":""},{"$f":"IF(A1247>$A$8,\"\",OFFSET(InputPriceData!E$15,CalculationsAndCharts!$A1247+$A$11,IF($C$5,8,0),1,1))","v":""},{"$f":"IF(A1247>$A$8,\"\",OFFSET(InputPriceData!F$15,CalculationsAndCharts!$A1247+$A$11,IF($C$5,8,0),1,1))","v":""},{"$error":"#N/A"},{"$error":"#N/A"},{"$f":"IF($A1247>$J$30,NA(),AVERAGE(H1247:H1250))","v":{"$error":"#N/A"}},{"$error":"#N/A"},null,null,{"$f":"IF($A1247>$J$30,NA(),IF($A1247>$N$30,0,(1-$M$35)*J1247+(2*$M$35-$M$36)*J1248-($M$35+$M$37)*J1249+$M$36*N1248+$M$37*N1249))","v":{"$error":"#N/A"}},{"$error":"#N/A"},{"$error":"#N/A"},{"$error":"#N/A"},null,null,{"$error":"#N/A"},{"$error":"#N/A"},{"$error":"#N/A"},{"$error":"#N/A"},null,null,null,null,null,null,null,null,null,null,null,null,null,null,null,null,null,null,null,null,null,null,null,null,null,null,null,null,null,null,null,"",{"$error":"#N/A"}]
[1216,{"$f":"IF(A1248>$A$8,\"\",OFFSET(InputPriceData!B$15,$A1248+$A$11,0,1,1))","v":""},{"$f":"IF(A1248>$A$8,\"\",OFFSET(InputPriceData!G$15,CalculationsAndCharts!$A1248+$A$11,IF($C$5,8,0),1,1))","v":""},{"$f":"IF(A1248>$A$8,\"\",OFFSET(InputPriceData!C$15,CalculationsAndCharts!$A1248+$A$11,IF($C$5,8,0),1,1))","v":""},{"$f":"IF(A1248>$A$8,\"\",OFFSET(InputPriceData!D$15,CalculationsAndCharts!$A1248+$A$11,IF($C$5,8,0),1,1))","v":""},{"$f":"IF(A1248>$A$8,\"\",OFFSET(InputPriceData!E$15,CalculationsAndCharts!$A1248+$A$11,IF($C$5,8,0),1,1))","v":""},{"$f":"IF(A1248>$A$8,\"\",OFFSET(InputPriceData!F$15,CalculationsAndCharts!$A1248+$A$11,IF($C$5,8,0),1,1))","v":""},{"$error":"#N/A"},{"$error":"#N/A"},{"$f":"IF($A1248>$J$30,NA(),AVERAGE(H1248:H1251))","v":{"$error":"#N/A"}},{"$error":"#N/A"},null,null,{"$f":"IF($A1248>$J$30,NA(),IF($A1248>$N$30,0,(1-$M$35)*J1248+(2*$M$35-$M$36)*J1249-($M$35+$M$37)*J1250+$M$36*N1249+$M$37*N1250))","v":{"$error":"#N/A"}},{"$error":"#N/A"},{"$error":"#N/A"},{"$error":"#N/A"},null,null,{"$error":"#N/A"},{"$error":"#N/A"},{"$error":"#N/A"},{"$error":"#N/A"},null,null,null,null,null,null,null,null,null,null,null,null,null,null,null,null,null,null,null,null,null,null,null,null,null,null,null,null,null,null,null,"",{"$error":"#N/A"}]
[1217,{"$f":"IF(A1249>$A$8,\"\",OFFSET(InputPriceData!B$15,$A1249+$A$11,0,1,1))","v":""},{"$f":"IF(A1249>$A$8,\"\",OFFSET(InputPriceData!G$15,CalculationsAndCharts!$A1249+$A$11,IF($C$5,8,0),1,1))","v":""},{"$f":"IF(A1249>$A$8,\"\",OFFSET(InputPriceData!C$15,CalculationsAndCharts!$A1249+$A$11,IF($C$5,8,0),1,1))","v":""},{"$f":"IF(A1249>$A$8,\"\",OFFSET(InputPriceData!D$15,CalculationsAndCharts!$A1249+$A$11,IF($C$5,8,0),1,1))","v":""},{"$f":"IF(A1249>$A$8,\"\",OFFSET(InputPriceData!E$15,CalculationsAndCharts!$A1249+$A$11,IF($C$5,8,0),1,1))","v":""},{"$f":"IF(A1249>$A$8,\"\",OFFSET(InputPriceData!F$15,CalculationsAndCharts!$A1249+$A$11,IF($C$5,8,0),1,1))","v":""},{"$error":"#N/A"},{"$error":"#N/A"},{"$f":"IF($A1249>$J$30,NA(),AVERAGE(H1249:H1252))","v":{"$error":"#N/A"}},{"$error":"#N/A"},null,null,{"$f":"IF($A1249>$J$30,NA(),IF($A1249>$N$30,0,(1-$M$35)*J1249+(2*$M$35-$M$36)*J1250-($M$35+$M$37)*J1251+$M$36*N1250+$M$37*N1251))","v":{"$error":"#N/A"}},{"$error":"#N/A"},{"$error":"#N/A"},{"$error":"#N/A"},null,null,{"$f":"IF($A1249>$J$30,NA(),IF($A1249>$N$30,0,(1-S$35)*$J1249+(2*S$35-S$36)*$J1250-(S$35+S$37)*$J1251+S$36*T1250+S$37*T1251))","v":{"$error":"#N/A"}},{"$f":"IF($A1249>$J$30,NA(),IF($A1249>$N$30,0,(1-S$35)*$K1249+(2*S$35-S$36)*$K1250-(S$35+S$37)*$K1251+S$36*U1250+S$37*U1251))","v":{"$error":"#N/A"}},{"$f":"IF($A1249>$N$30,NA(),(T1249-U1249)/(T1249+U1249))","v":{"$error":"#N/A"}},{"$f":"IF($A1249>$N$30,NA(),OFFSET(V1249,$C$18,0,1,1))","v":{"$error":"#N/A"}},null,null,null,null,null,null,null,null,null,null,null,null,null,null,null,null,null,null,null,null,null,null,null,null,null,null,null,null,null,null,null,"",{"$error":"#N/A"}]
[1218,{"$f":"IF(A1250>$A$8,\"\",OFFSET(InputPriceData!B$15,$A1250+$A$11,0,1,1))","v":""},{"$f":"IF(A1250>$A$8,\"\",OFFSET(InputPriceData!G$15,CalculationsAndCharts!$A1250+$A$11,IF($C$5,8,0),1,1))","v":""},{"$f":"IF(A1250>$A$8,\"\",OFFSET(InputPriceData!C$15,CalculationsAndCharts!$A1250+$A$11,IF($C$5,8,0),1,1))","v":""},{"$f":"IF(A1250>$A$8,\"\",OFFSET(InputPriceData!D$15,CalculationsAndCharts!$A1250+$A$11,IF($C$5,8,0),1,1))","v":""},{"$f":"IF(A1250>$A$8,\"\",OFFSET(InputPriceData!E$15,CalculationsAndCharts!$A1250+$A$11,IF($C$5,8,0),1,1))","v":""},{"$f":"IF(A1250>$A$8,\"\",OFFSET(InputPriceData!F$15,CalculationsAndCharts!$A1250+$A$11,IF($C$5,8,0),1,1))","v":""},{"$f":"IF($A1250>$H$30,NA(),IF($G1250>$G1251,$G1250-$G1251,0))","v":{"$error":"#N/A"}},{"$f":"IF($A1250>$H$30,NA(),IF(G1250<G1251,G1251-G1250,0))","v":{"$error":"#N/A"}},{"$f":"IF($A1250>$J$30,NA(),AVERAGE(H1250:H1253))","v":{"$error":"#N/A"}},{"$error":"#N/A"},null,null,{"$f":"IF($A1250>$J$30,NA(),IF($A1250>$N$30,0,(1-$M$35)*J1250+(2*$M$35-$M$36)*J1251-($M$35+$M$37)*J1252+$M$36*N1251+$M$37*N1252))","v":{"$error":"#N/A"}},{"$error":"#N/A"},{"$f":"IF($A1250>$N$30,NA(),(N1250-O1250)/(N1250+O1250))","v":{"$error":"#N/A"}},{"$f":"IF($A1250>$N$30,NA(),OFFSET(P1250,$C$17,0,1,1))","v":{"$error":"#N/A"}},null,null,{"$error":"#N/A"},{"$error":"#N/A"},{"$error":"#N/A"},{"$error":"#N/A"},null,null,null,null,null,null,null,null,null,null,null,null,null,null,null,null,null,null,null,null,null,null,null,null,null,null,null,null,null,null,null,"",{"$error":"#N/A"}]
[1219,{"$f":"IF(A1251>$A$8,\"\",OFFSET(InputPriceData!B$15,$A1251+$A$11,0,1,1))","v":""},{"$f":"IF(A1251>$A$8,\"\",OFFSET(InputPriceData!G$15,CalculationsAndCharts!$A1251+$A$11,IF($C$5,8,0),1,1))","v":""},{"$f":"IF(A1251>$A$8,\"\",OFFSET(InputPriceData!C$15,CalculationsAndCharts!$A1251+$A$11,IF($C$5,8,0),1,1))","v":""},{"$f":"IF(A1251>$A$8,\"\",OFFSET(InputPriceData!D$15,CalculationsAndCharts!$A1251+$A$11,IF($C$5,8,0),1,1))","v":""},{"$f":"IF(A1251>$A$8,\"\",OFFSET(InputPriceData!E$15,CalculationsAndCharts!$A1251+$A$11,IF($C$5,8,0),1,1))","v":""},{"$f":"IF(A1251>$A$8,\"\",OFFSET(InputPriceData!F$15,CalculationsAndCharts!$A1251+$A$11,IF($C$5,8,0),1,1))","v":""},{"$error":"#N/A"},{"$error":"#N/A"},{"$f":"IF($A1251>$J$30,NA(),AVERAGE(H1251:H1254))","v":{"$error":"#N/A"}},{"$error":"#N/A"},null,null,{"$f":"IF($A1251>$J$30,NA(),IF($A1251>$N$30,0,(1-$M$35)*J1251+(2*$M$35-$M$36)*J1252-($M$35+$M$37)*J1253+$M$36*N1252+$M$37*N1253))","v":{"$error":"#N/A"}},{"$error":"#N/A"},{"$error":"#N/A"},{"$error":"#N/A"},null,null,{"$error":"#N/A"},{"$error":"#N/A"},{"$error":"#N/A"},{"$error":"#N/A"},null,null,null,null,null,null,null,null,null,null,null,null,null,null,null,null,null,null,null,null,null,null,null,null,null,null,null,null,null,null,null,"",{"$error":"#N/A"}]
[1220,{"$f":"IF(A1252>$A$8,\"\",OFFSET(InputPriceData!B$15,$A1252+$A$11,0,1,1))","v":""},{"$f":"IF(A1252>$A$8,\"\",OFFSET(InputPriceData!G$15,CalculationsAndCharts!$A1252+$A$11,IF($C$5,8,0),1,1))","v":""},{"$f":"IF(A1252>$A$8,\"\",OFFSET(InputPriceData!C$15,CalculationsAndCharts!$A1252+$A$11,IF($C$5,8,0),1,1))","v":""},{"$f":"IF(A1252>$A$8,\"\",OFFSET(InputPriceData!D$15,CalculationsAndCharts!$A1252+$A$11,IF($C$5,8,0),1,1))","v":""},{"$f":"IF(A1252>$A$8,\"\",OFFSET(InputPriceData!E$15,CalculationsAndCharts!$A1252+$A$11,IF($C$5,8,0),1,1))","v":""},{"$f":"IF(A1252>$A$8,\"\",OFFSET(InputPriceData!F$15,CalculationsAndCharts!$A1252+$A$11,IF($C$5,8,0),1,1))","v":""},{"$error":"#N/A"},{"$error":"#N/A"},{"$f":"IF($A1252>$J$30,NA(),AVERAGE(H1252:H1255))","v":{"$error":"#N/A"}},{"$error":"#N/A"},null,null,{"$f":"IF($A1252>$J$30,NA(),IF($A1252>$N$30,0,(1-$M$35)*J1252+(2*$M$35-$M$36)*J1253-($M$35+$M$37)*J1254+$M$36*N1253+$M$37*N1254))","v":{"$error":"#N/A"}},{"$error":"#N/A"},{"$error":"#N/A"},{"$error":"#N/A"},null,null,{"$error":"#N/A"},{"$error":"#N/A"},{"$error":"#N/A"},{"$error":"#N/A"},null,null,null,null,null,null,null,null,null,null,null,null,null,null,null,null,null,null,null,null,null,null,null,null,null,null,null,null,null,null,null,"",{"$error":"#N/A"}]
[1221,{"$f":"IF(A1253>$A$8,\"\",OFFSET(InputPriceData!B$15,$A1253+$A$11,0,1,1))","v":""},{"$f":"IF(A1253>$A$8,\"\",OFFSET(InputPriceData!G$15,CalculationsAndCharts!$A1253+$A$11,IF($C$5,8,0),1,1))","v":""},{"$f":"IF(A1253>$A$8,\"\",OFFSET(InputPriceData!C$15,CalculationsAndCharts!$A1253+$A$11,IF($C$5,8,0),1,1))","v":""},{"$f":"IF(A1253>$A$8,\"\",OFFSET(InputPriceData!D$15,CalculationsAndCharts!$A1253+$A$11,IF($C$5,8,0),1,1))","v":""},{"$f":"IF(A1253>$A$8,\"\",OFFSET(InputPriceData!E$15,CalculationsAndCharts!$A1253+$A$11,IF($C$5,8,0),1,1))","v":""},{"$f":"IF(A1253>$A$8,\"\",OFFSET(InputPriceData!F$15,CalculationsAndCharts!$A1253+$A$11,IF($C$5,8,0),1,1))","v":""},{"$error":"#N/A"},{"$error":"#N/A"},{"$f":"IF($A1253>$J$30,NA(),AVERAGE(H1253:H1256))","v":{"$error":"#N/A"}},{"$error":"#N/A"},null,null,{"$f":"IF($A1253>$J$30,NA(),IF($A1253>$N$30,0,(1-$M$35)*J1253+(2*$M$35-$M$36)*J1254-($M$35+$M$37)*J1255+$M$36*N1254+$M$37*N1255))","v":{"$error":"#N/A"}},{"$error":"#N/A"},{"$error":"#N/A"},{"$error":"#N/A"},null,null,{"$error":"#N/A"},{"$error":"#N/A"},{"$error":"#N/A"},{"$error":"#N/A"},null,null,null,null,null,null,null,null,null,null,null,null,null,null,null,null,null,null,null,null,null,null,null,null,null,null,null,null,null,null,null,"",{"$error":"#N/A"}]
[1222,{"$f":"IF(A1254>$A$8,\"\",OFFSET(InputPriceData!B$15,$A1254+$A$11,0,1,1))","v":""},{"$f":"IF(A1254>$A$8,\"\",OFFSET(InputPriceData!G$15,CalculationsAndCharts!$A1254+$A$11,IF($C$5,8,0),1,1))","v":""},{"$f":"IF(A1254>$A$8,\"\",OFFSET(InputPriceData!C$15,CalculationsAndCharts!$A1254+$A$11,IF($C$5,8,0),1,1))","v":""},{"$f":"IF(A1254>$A$8,\"\",OFFSET(InputPriceData!D$15,CalculationsAndCharts!$A1254+$A$11,IF($C$5,8,0),1,1))","v":""},{"$f":"IF(A1254>$A$8,\"\",OFFSET(InputPriceData!E$15,CalculationsAndCharts!$A1254+$A$11,IF($C$5,8,0),1,1))","v":""},{"$f":"IF(A1254>$A$8,\"\",OFFSET(InputPriceData!F$15,CalculationsAndCharts!$A1254+$A$11,IF($C$5,8,0),1,1))","v":""},{"$error":"#N/A"},{"$error":"#N/A"},{"$f":"IF($A1254>$J$30,NA(),AVERAGE(H1254:H1257))","v":{"$error":"#N/A"}},{"$error":"#N/A"},null,null,{"$f":"IF($A1254>$J$30,NA(),IF($A1254>$N$30,0,(1-$M$35)*J1254+(2*$M$35-$M$36)*J1255-($M$35+$M$37)*J1256+$M$36*N1255+$M$37*N1256))","v":{"$error":"#N/A"}},{"$error":"#N/A"},{"$error":"#N/A"},{"$error":"#N/A"},null,null,{"$error":"#N/A"},{"$error":"#N/A"},{"$error":"#N/A"},{"$error":"#N/A"},null,null,null,null,null,null,null,null,null,null,null,null,null,null,null,null,null,null,null,null,null,null,null,null,null,null,null,null,null,null,null,"",{"$error":"#N/A"}]
[1223,{"$f":"IF(A1255>$A$8,\"\",OFFSET(InputPriceData!B$15,$A1255+$A$11,0,1,1))","v":""},{"$f":"IF(A1255>$A$8,\"\",OFFSET(InputPriceData!G$15,CalculationsAndCharts!$A1255+$A$11,IF($C$5,8,0),1,1))","v":""},{"$f":"IF(A1255>$A$8,\"\",OFFSET(InputPriceData!C$15,CalculationsAndCharts!$A1255+$A$11,IF($C$5,8,0),1,1))","v":""},{"$f":"IF(A1255>$A$8,\"\",OFFSET(InputPriceData!D$15,CalculationsAndCharts!$A1255+$A$11,IF($C$5,8,0),1,1))","v":""},{"$f":"IF(A1255>$A$8,\"\",OFFSET(InputPriceData!E$15,CalculationsAndCharts!$A1255+$A$11,IF($C$5,8,0),1,1))","v":""},{"$f":"IF(A1255>$A$8,\"\",OFFSET(InputPriceData!F$15,CalculationsAndCharts!$A1255+$A$11,IF($C$5,8,0),1,1))","v":""},{"$error":"#N/A"},{"$error":"#N/A"},{"$f":"IF($A1255>$J$30,NA(),AVERAGE(H1255:H1258))","v":{"$error":"#N/A"}},{"$error":"#N/A"},null,null,{"$f":"IF($A1255>$J$30,NA(),IF($A1255>$N$30,0,(1-$M$35)*J1255+(2*$M$35-$M$36)*J1256-($M$35+$M$37)*J1257+$M$36*N1256+$M$37*N1257))","v":{"$error":"#N/A"}},{"$error":"#N/A"},{"$error":"#N/A"},{"$error":"#N/A"},null,null,{"$error":"#N/A"},{"$error":"#N/A"},{"$error":"#N/A"},{"$error":"#N/A"},null,null,null,null,null,null,null,null,null,null,null,null,null,null,null,null,null,null,null,null,null,null,null,null,null,null,null,null,null,null,null,"",{"$error":"#N/A"}]
[1224,{"$f":"IF(A1256>$A$8,\"\",OFFSET(InputPriceData!B$15,$A1256+$A$11,0,1,1))","v":""},{"$f":"IF(A1256>$A$8,\"\",OFFSET(InputPriceData!G$15,CalculationsAndCharts!$A1256+$A$11,IF($C$5,8,0),1,1))","v":""},{"$f":"IF(A1256>$A$8,\"\",OFFSET(InputPriceData!C$15,CalculationsAndCharts!$A1256+$A$11,IF($C$5,8,0),1,1))","v":""},{"$f":"IF(A1256>$A$8,\"\",OFFSET(InputPriceData!D$15,CalculationsAndCharts!$A1256+$A$11,IF($C$5,8,0),1,1))","v":""},{"$f":"IF(A1256>$A$8,\"\",OFFSET(InputPriceData!E$15,CalculationsAndCharts!$A1256+$A$11,IF($C$5,8,0),1,1))","v":""},{"$f":"IF(A1256>$A$8,\"\",OFFSET(InputPriceData!F$15,CalculationsAndCharts!$A1256+$A$11,IF($C$5,8,0),1,1))","v":""},{"$error":"#N/A"},{"$error":"#N/A"},{"$f":"IF($A1256>$J$30,NA(),AVERAGE(H1256:H1259))","v":{"$error":"#N/A"}},{"$error":"#N/A"},null,null,{"$f":"IF($A1256>$J$30,NA(),IF($A1256>$N$30,0,(1-$M$35)*J1256+(2*$M$35-$M$36)*J1257-($M$35+$M$37)*J1258+$M$36*N1257+$M$37*N1258))","v":{"$error":"#N/A"}},{"$error":"#N/A"},{"$error":"#N/A"},{"$error":"#N/A"},null,null,{"$error":"#N/A"},{"$error":"#N/A"},{"$error":"#N/A"},{"$error":"#N/A"},null,null,null,null,null,null,null,null,null,null,null,null,null,null,null,null,null,null,null,null,null,null,null,null,null,null,null,null,null,null,null,"",{"$error":"#N/A"}]
[1225,{"$f":"IF(A1257>$A$8,\"\",OFFSET(InputPriceData!B$15,$A1257+$A$11,0,1,1))","v":""},{"$f":"IF(A1257>$A$8,\"\",OFFSET(InputPriceData!G$15,CalculationsAndCharts!$A1257+$A$11,IF($C$5,8,0),1,1))","v":""},{"$f":"IF(A1257>$A$8,\"\",OFFSET(InputPriceData!C$15,CalculationsAndCharts!$A1257+$A$11,IF($C$5,8,0),1,1))","v":""},{"$f":"IF(A1257>$A$8,\"\",OFFSET(InputPriceData!D$15,CalculationsAndCharts!$A1257+$A$11,IF($C$5,8,0),1,1))","v":""},{"$f":"IF(A1257>$A$8,\"\",OFFSET(InputPriceData!E$15,CalculationsAndCharts!$A1257+$A$11,IF($C$5,8,0),1,1))","v":""},{"$f":"IF(A1257>$A$8,\"\",OFFSET(InputPriceData!F$15,CalculationsAndCharts!$A1257+$A$11,IF($C$5,8,0),1,1))","v":""},{"$error":"#N/A"},{"$error":"#N/A"},{"$f":"IF($A1257>$J$30,NA(),AVERAGE(H1257:H1260))","v":{"$error":"#N/A"}},{"$error":"#N/A"},null,null,{"$f":"IF($A1257>$J$30,NA(),IF($A1257>$N$30,0,(1-$M$35)*J1257+(2*$M$35-$M$36)*J1258-($M$35+$M$37)*J1259+$M$36*N1258+$M$37*N1259))","v":{"$error":"#N/A"}},{"$error":"#N/A"},{"$error":"#N/A"},{"$error":"#N/A"},null,null,{"$error":"#N/A"},{"$error":"#N/A"},{"$error":"#N/A"},{"$error":"#N/A"},null,null,null,null,null,null,null,null,null,null,null,null,null,null,null,null,null,null,null,null,null,null,null,null,null,null,null,null,null,null,null,"",{"$error":"#N/A"}]
[1226,{"$f":"IF(A1258>$A$8,\"\",OFFSET(InputPriceData!B$15,$A1258+$A$11,0,1,1))","v":""},{"$f":"IF(A1258>$A$8,\"\",OFFSET(InputPriceData!G$15,CalculationsAndCharts!$A1258+$A$11,IF($C$5,8,0),1,1))","v":""},{"$f":"IF(A1258>$A$8,\"\",OFFSET(InputPriceData!C$15,CalculationsAndCharts!$A1258+$A$11,IF($C$5,8,0),1,1))","v":""},{"$f":"IF(A1258>$A$8,\"\",OFFSET(InputPriceData!D$15,CalculationsAndCharts!$A1258+$A$11,IF($C$5,8,0),1,1))","v":""},{"$f":"IF(A1258>$A$8,\"\",OFFSET(InputPriceData!E$15,CalculationsAndCharts!$A1258+$A$11,IF($C$5,8,0),1,1))","v":""},{"$f":"IF(A1258>$A$8,\"\",OFFSET(InputPriceData!F$15,CalculationsAndCharts!$A1258+$A$11,IF($C$5,8,0),1,1))","v":""},{"$error":"#N/A"},{"$error":"#N/A"},{"$f":"IF($A1258>$J$30,NA(),AVERAGE(H1258:H1261))","v":{"$error":"#N/A"}},{"$error":"#N/A"},null,null,{"$f":"IF($A1258>$J$30,NA(),IF($A1258>$N$30,0,(1-$M$35)*J1258+(2*$M$35-$M$36)*J1259-($M$35+$M$37)*J1260+$M$36*N1259+$M$37*N1260))","v":{"$error":"#N/A"}},{"$error":"#N/A"},{"$error":"#N/A"},{"$error":"#N/A"},null,null,{"$error":"#N/A"},{"$error":"#N/A"},{"$error":"#N/A"},{"$error":"#N/A"},null,null,null,null,null,null,null,null,null,null,null,null,null,null,null,null,null,null,null,null,null,null,null,null,null,null,null,null,null,null,null,"",{"$error":"#N/A"}]
[1227,{"$f":"IF(A1259>$A$8,\"\",OFFSET(InputPriceData!B$15,$A1259+$A$11,0,1,1))","v":""},{"$f":"IF(A1259>$A$8,\"\",OFFSET(InputPriceData!G$15,CalculationsAndCharts!$A1259+$A$11,IF($C$5,8,0),1,1))","v":""},{"$f":"IF(A1259>$A$8,\"\",OFFSET(InputPriceData!C$15,CalculationsAndCharts!$A1259+$A$11,IF($C$5,8,0),1,1))","v":""},{"$f":"IF(A1259>$A$8,\"\",OFFSET(InputPriceData!D$15,CalculationsAndCharts!$A1259+$A$11,IF($C$5,8,0),1,1))","v":""},{"$f":"IF(A1259>$A$8,\"\",OFFSET(InputPriceData!E$15,CalculationsAndCharts!$A1259+$A$11,IF($C$5,8,0),1,1))","v":""},{"$f":"IF(A1259>$A$8,\"\",OFFSET(InputPriceData!F$15,CalculationsAndCharts!$A1259+$A$11,IF($C$5,8,0),1,1))","v":""},{"$error":"#N/A"},{"$error":"#N/A"},{"$f":"IF($A1259>$J$30,NA(),AVERAGE(H1259:H1262))","v":{"$error":"#N/A"}},{"$error":"#N/A"},null,null,{"$f":"IF($A1259>$J$30,NA(),IF($A1259>$N$30,0,(1-$M$35)*J1259+(2*$M$35-$M$36)*J1260-($M$35+$M$37)*J1261+$M$36*N1260+$M$37*N1261))","v":{"$error":"#N/A"}},{"$error":"#N/A"},{"$error":"#N/A"},{"$error":"#N/A"},null,null,{"$error":"#N/A"},{"$error":"#N/A"},{"$error":"#N/A"},{"$error":"#N/A"},null,null,null,null,null,null,null,null,null,null,null,null,null,null,null,null,null,null,null,null,null,null,null,null,null,null,null,null,null,null,null,"",{"$error":"#N/A"}]
[1228,{"$f":"IF(A1260>$A$8,\"\",OFFSET(InputPriceData!B$15,$A1260+$A$11,0,1,1))","v":""},{"$f":"IF(A1260>$A$8,\"\",OFFSET(InputPriceData!G$15,CalculationsAndCharts!$A1260+$A$11,IF($C$5,8,0),1,1))","v":""},{"$f":"IF(A1260>$A$8,\"\",OFFSET(InputPriceData!C$15,CalculationsAndCharts!$A1260+$A$11,IF($C$5,8,0),1,1))","v":""},{"$f":"IF(A1260>$A$8,\"\",OFFSET(InputPriceData!D$15,CalculationsAndCharts!$A1260+$A$11,IF($C$5,8,0),1,1))","v":""},{"$f":"IF(A1260>$A$8,\"\",OFFSET(InputPriceData!E$15,CalculationsAndCharts!$A1260+$A$11,IF($C$5,8,0),1,1))","v":""},{"$f":"IF(A1260>$A$8,\"\",OFFSET(InputPriceData!F$15,CalculationsAndCharts!$A1260+$A$11,IF($C$5,8,0),1,1))","v":""},{"$error":"#N/A"},{"$error":"#N/A"},{"$f":"IF($A1260>$J$30,NA(),AVERAGE(H1260:H1263))","v":{"$error":"#N/A"}},{"$error":"#N/A"},null,null,{"$f":"IF($A1260>$J$30,NA(),IF($A1260>$N$30,0,(1-$M$35)*J1260+(2*$M$35-$M$36)*J1261-($M$35+$M$37)*J1262+$M$36*N1261+$M$37*N1262))","v":{"$error":"#N/A"}},{"$error":"#N/A"},{"$error":"#N/A"},{"$error":"#N/A"},null,null,{"$error":"#N/A"},{"$error":"#N/A"},{"$error":"#N/A"},{"$error":"#N/A"},null,null,null,null,null,null,null,null,null,null,null,null,null,null,null,null,null,null,null,null,null,null,null,null,null,null,null,null,null,null,null,"",{"$error":"#N/A"}]
[1229,{"$f":"IF(A1261>$A$8,\"\",OFFSET(InputPriceData!B$15,$A1261+$A$11,0,1,1))","v":""},{"$f":"IF(A1261>$A$8,\"\",OFFSET(InputPriceData!G$15,CalculationsAndCharts!$A1261+$A$11,IF($C$5,8,0),1,1))","v":""},{"$f":"IF(A1261>$A$8,\"\",OFFSET(InputPriceData!C$15,CalculationsAndCharts!$A1261+$A$11,IF($C$5,8,0),1,1))","v":""},{"$f":"IF(A1261>$A$8,\"\",OFFSET(InputPriceData!D$15,CalculationsAndCharts!$A1261+$A$11,IF($C$5,8,0),1,1))","v":""},{"$f":"IF(A1261>$A$8,\"\",OFFSET(InputPriceData!E$15,CalculationsAndCharts!$A1261+$A$11,IF($C$5,8,0),1,1))","v":""},{"$f":"IF(A1261>$A$8,\"\",OFFSET(InputPriceData!F$15,CalculationsAndCharts!$A1261+$A$11,IF($C$5,8,0),1,1))","v":""},{"$error":"#N/A"},{"$error":"#N/A"},{"$f":"IF($A1261>$J$30,NA(),AVERAGE(H1261:H1264))","v":{"$error":"#N/A"}},{"$error":"#N/A"},null,null,{"$f":"IF($A1261>$J$30,NA(),IF($A1261>$N$30,0,(1-$M$35)*J1261+(2*$M$35-$M$36)*J1262-($M$35+$M$37)*J1263+$M$36*N1262+$M$37*N1263))","v":{"$error":"#N/A"}},{"$error":"#N/A"},{"$error":"#N/A"},{"$error":"#N/A"},null,null,{"$error":"#N/A"},{"$error":"#N/A"},{"$error":"#N/A"},{"$error":"#N/A"},null,null,null,null,null,null,null,null,null,null,null,null,null,null,null,null,null,null,null,null,null,null,null,null,null,null,null,null,null,null,null,{"$f":"IF(G1261>=G1262,C1261,NA())","v":""},{"$f":"IF(G1261<G1262,C1261,NA())","v":{"$error":"#N/A"}}]
[1230,{"$f":"IF(A1262>$A$8,\"\",OFFSET(InputPriceData!B$15,$A1262+$A$11,0,1,1))","v":""},{"$f":"IF(A1262>$A$8,\"\",OFFSET(InputPriceData!G$15,CalculationsAndCharts!$A1262+$A$11,IF($C$5,8,0),1,1))","v":""},{"$f":"IF(A1262>$A$8,\"\",OFFSET(InputPriceData!C$15,CalculationsAndCharts!$A1262+$A$11,IF($C$5,8,0),1,1))","v":""},{"$f":"IF(A1262>$A$8,\"\",OFFSET(InputPriceData!D$15,CalculationsAndCharts!$A1262+$A$11,IF($C$5,8,0),1,1))","v":""},{"$f":"IF(A1262>$A$8,\"\",OFFSET(InputPriceData!E$15,CalculationsAndCharts!$A1262+$A$11,IF($C$5,8,0),1,1))","v":""},{"$f":"IF(A1262>$A$8,\"\",OFFSET(InputPriceData!F$15,CalculationsAndCharts!$A1262+$A$11,IF($C$5,8,0),1,1))","v":""},{"$error":"#N/A"},{"$error":"#N/A"},{"$f":"IF($A1262>$J$30,NA(),AVERAGE(H1262:H1265))","v":{"$error":"#N/A"}},{"$error":"#N/A"},null,null,{"$f":"IF($A1262>$J$30,NA(),IF($A1262>$N$30,0,(1-$M$35)*J1262+(2*$M$35-$M$36)*J1263-($M$35+$M$37)*J1264+$M$36*N1263+$M$37*N1264))","v":{"$error":"#N/A"}},{"$error":"#N/A"},{"$error":"#N/A"},{"$error":"#N/A"},null,null,{"$error":"#N/A"},{"$error":"#N/A"},{"$error":"#N/A"},{"$error":"#N/A"},null,null,null,null,null,null,null,null,null,null,null,null,null,null,null,null,null,null,null,null,null,null,null,null,null,null,null,null,null,null,null,"",{"$error":"#N/A"}]
[1231,{"$f":"IF(A1263>$A$8,\"\",OFFSET(InputPriceData!B$15,$A1263+$A$11,0,1,1))","v":""},{"$f":"IF(A1263>$A$8,\"\",OFFSET(InputPriceData!G$15,CalculationsAndCharts!$A1263+$A$11,IF($C$5,8,0),1,1))","v":""},{"$f":"IF(A1263>$A$8,\"\",OFFSET(InputPriceData!C$15,CalculationsAndCharts!$A1263+$A$11,IF($C$5,8,0),1,1))","v":""},{"$f":"IF(A1263>$A$8,\"\",OFFSET(InputPriceData!D$15,CalculationsAndCharts!$A1263+$A$11,IF($C$5,8,0),1,1))","v":""},{"$f":"IF(A1263>$A$8,\"\",OFFSET(InputPriceData!E$15,CalculationsAndCharts!$A1263+$A$11,IF($C$5,8,0),1,1))","v":""},{"$f":"IF(A1263>$A$8,\"\",OFFSET(InputPriceData!F$15,CalculationsAndCharts!$A1263+$A$11,IF($C$5,8,0),1,1))","v":""},{"$error":"#N/A"},{"$error":"#N/A"},{"$f":"IF($A1263>$J$30,NA(),AVERAGE(H1263:H1266))","v":{"$error":"#N/A"}},{"$error":"#N/A"},null,null,{"$f":"IF($A1263>$J$30,NA(),IF($A1263>$N$30,0,(1-$M$35)*J1263+(2*$M$35-$M$36)*J1264-($M$35+$M$37)*J1265+$M$36*N1264+$M$37*N1265))","v":{"$error":"#N/A"}},{"$error":"#N/A"},{"$error":"#N/A"},{"$error":"#N/A"},null,null,{"$error":"#N/A"},{"$error":"#N/A"},{"$error":"#N/A"},{"$error":"#N/A"},null,null,null,null,null,null,null,null,null,null,null,null,null,null,null,null,null,null,null,null,null,null,null,null,null,null,null,null,null,null,null,"",{"$error":"#N/A"}]
[1232,{"$f":"IF(A1264>$A$8,\"\",OFFSET(InputPriceData!B$15,$A1264+$A$11,0,1,1))","v":""},{"$f":"IF(A1264>$A$8,\"\",OFFSET(InputPriceData!G$15,CalculationsAndCharts!$A1264+$A$11,IF($C$5,8,0),1,1))","v":""},{"$f":"IF(A1264>$A$8,\"\",OFFSET(InputPriceData!C$15,CalculationsAndCharts!$A1264+$A$11,IF($C$5,8,0),1,1))","v":""},{"$f":"IF(A1264>$A$8,\"\",OFFSET(InputPriceData!D$15,CalculationsAndCharts!$A1264+$A$11,IF($C$5,8,0),1,1))","v":""},{"$f":"IF(A1264>$A$8,\"\",OFFSET(InputPriceData!E$15,CalculationsAndCharts!$A1264+$A$11,IF($C$5,8,0),1,1))","v":""},{"$f":"IF(A1264>$A$8,\"\",OFFSET(InputPriceData!F$15,CalculationsAndCharts!$A1264+$A$11,IF($C$5,8,0),1,1))","v":""},{"$error":"#N/A"},{"$error":"#N/A"},{"$f":"IF($A1264>$J$30,NA(),AVERAGE(H1264:H1267))","v":{"$error":"#N/A"}},{"$error":"#N/A"},null,null,{"$f":"IF($A1264>$J$30,NA(),IF($A1264>$N$30,0,(1-$M$35)*J1264+(2*$M$35-$M$36)*J1265-($M$35+$M$37)*J1266+$M$36*N1265+$M$37*N1266))","v":{"$error":"#N/A"}},{"$error":"#N/A"},{"$error":"#N/A"},{"$error":"#N/A"},null,null,{"$error":"#N/A"},{"$error":"#N/A"},{"$error":"#N/A"},{"$error":"#N/A"},null,null,null,null,null,null,null,null,null,null,null,null,null,null,null,null,null,null,null,null,null,null,null,null,null,null,null,null,null,null,null,"",{"$error":"#N/A"}]
[1233,{"$f":"IF(A1265>$A$8,\"\",OFFSET(InputPriceData!B$15,$A1265+$A$11,0,1,1))","v":""},{"$f":"IF(A1265>$A$8,\"\",OFFSET(InputPriceData!G$15,CalculationsAndCharts!$A1265+$A$11,IF($C$5,8,0),1,1))","v":""},{"$f":"IF(A1265>$A$8,\"\",OFFSET(InputPriceData!C$15,CalculationsAndCharts!$A1265+$A$11,IF($C$5,8,0),1,1))","v":""},{"$f":"IF(A1265>$A$8,\"\",OFFSET(InputPriceData!D$15,CalculationsAndCharts!$A1265+$A$11,IF($C$5,8,0),1,1))","v":""},{"$f":"IF(A1265>$A$8,\"\",OFFSET(InputPriceData!E$15,CalculationsAndCharts!$A1265+$A$11,IF($C$5,8,0),1,1))","v":""},{"$f":"IF(A1265>$A$8,\"\",OFFSET(InputPriceData!F$15,CalculationsAndCharts!$A1265+$A$11,IF($C$5,8,0),1,1))","v":""},{"$error":"#N/A"},{"$error":"#N/A"},{"$f":"IF($A1265>$J$30,NA(),AVERAGE(H1265:H1268))","v":{"$error":"#N/A"}},{"$error":"#N/A"},null,null,{"$f":"IF($A1265>$J$30,NA(),IF($A1265>$N$30,0,(1-$M$35)*J1265+(2*$M$35-$M$36)*J1266-($M$35+$M$37)*J1267+$M$36*N1266+$M$37*N1267))","v":{"$error":"#N/A"}},{"$error":"#N/A"},{"$error":"#N/A"},{"$error":"#N/A"},null,null,{"$error":"#N/A"},{"$error":"#N/A"},{"$error":"#N/A"},{"$error":"#N/A"},null,null,null,null,null,null,null,null,null,null,null,null,null,null,null,null,null,null,null,null,null,null,null,null,null,null,null,null,null,null,null,"",{"$error":"#N/A"}]
[1234,{"$f":"IF(A1266>$A$8,\"\",OFFSET(InputPriceData!B$15,$A1266+$A$11,0,1,1))","v":""},{"$f":"IF(A1266>$A$8,\"\",OFFSET(InputPriceData!G$15,CalculationsAndCharts!$A1266+$A$11,IF($C$5,8,0),1,1))","v":""},{"$f":"IF(A1266>$A$8,\"\",OFFSET(InputPriceData!C$15,CalculationsAndCharts!$A1266+$A$11,IF($C$5,8,0),1,1))","v":""},{"$f":"IF(A1266>$A$8,\"\",OFFSET(InputPriceData!D$15,CalculationsAndCharts!$A1266+$A$11,IF($C$5,8,0),1,1))","v":""},{"$f":"IF(A1266>$A$8,\"\",OFFSET(InputPriceData!E$15,CalculationsAndCharts!$A1266+$A$11,IF($C$5,8,0),1,1))","v":""},{"$f":"IF(A1266>$A$8,\"\",OFFSET(InputPriceData!F$15,CalculationsAndCharts!$A1266+$A$11,IF($C$5,8,0),1,1))","v":""},{"$error":"#N/A"},{"$error":"#N/A"},{"$f":"IF($A1266>$J$30,NA(),AVERAGE(H1266:H1269))","v":{"$error":"#N/A"}},{"$error":"#N/A"},null,null,{"$f":"IF($A1266>$J$30,NA(),IF($A1266>$N$30,0,(1-$M$35)*J1266+(2*$M$35-$M$36)*J1267-($M$35+$M$37)*J1268+$M$36*N1267+$M$37*N1268))","v":{"$error":"#N/A"}},{"$error":"#N/A"},{"$error":"#N/A"},{"$error":"#N/A"},null,null,{"$error":"#N/A"},{"$error":"#N/A"},{"$error":"#N/A"},{"$error":"#N/A"},null,null,null,null,null,null,null,null,null,null,null,null,null,null,null,null,null,null,null,null,null,null,null,null,null,null,null,null,null,null,null,"",{"$error":"#N/A"}]
[1235,{"$f":"IF(A1267>$A$8,\"\",OFFSET(InputPriceData!B$15,$A1267+$A$11,0,1,1))","v":""},{"$f":"IF(A1267>$A$8,\"\",OFFSET(InputPriceData!G$15,CalculationsAndCharts!$A1267+$A$11,IF($C$5,8,0),1,1))","v":""},{"$f":"IF(A1267>$A$8,\"\",OFFSET(InputPriceData!C$15,CalculationsAndCharts!$A1267+$A$11,IF($C$5,8,0),1,1))","v":""},{"$f":"IF(A1267>$A$8,\"\",OFFSET(InputPriceData!D$15,CalculationsAndCharts!$A1267+$A$11,IF($C$5,8,0),1,1))","v":""},{"$f":"IF(A1267>$A$8,\"\",OFFSET(InputPriceData!E$15,CalculationsAndCharts!$A1267+$A$11,IF($C$5,8,0),1,1))","v":""},{"$f":"IF(A1267>$A$8,\"\",OFFSET(InputPriceData!F$15,CalculationsAndCharts!$A1267+$A$11,IF($C$5,8,0),1,1))","v":""},{"$error":"#N/A"},{"$error":"#N/A"},{"$f":"IF($A1267>$J$30,NA(),AVERAGE(H1267:H1270))","v":{"$error":"#N/A"}},{"$error":"#N/A"},null,null,{"$f":"IF($A1267>$J$30,NA(),IF($A1267>$N$30,0,(1-$M$35)*J1267+(2*$M$35-$M$36)*J1268-($M$35+$M$37)*J1269+$M$36*N1268+$M$37*N1269))","v":{"$error":"#N/A"}},{"$error":"#N/A"},{"$error":"#N/A"},{"$error":"#N/A"},null,null,{"$error":"#N/A"},{"$error":"#N/A"},{"$error":"#N/A"},{"$error":"#N/A"},null,null,null,null,null,null,null,null,null,null,null,null,null,null,null,null,null,null,null,null,null,null,null,null,null,null,null,null,null,null,null,"",{"$error":"#N/A"}]
[1236,{"$f":"IF(A1268>$A$8,\"\",OFFSET(InputPriceData!B$15,$A1268+$A$11,0,1,1))","v":""},{"$f":"IF(A1268>$A$8,\"\",OFFSET(InputPriceData!G$15,CalculationsAndCharts!$A1268+$A$11,IF($C$5,8,0),1,1))","v":""},{"$f":"IF(A1268>$A$8,\"\",OFFSET(InputPriceData!C$15,CalculationsAndCharts!$A1268+$A$11,IF($C$5,8,0),1,1))","v":""},{"$f":"IF(A1268>$A$8,\"\",OFFSET(InputPriceData!D$15,CalculationsAndCharts!$A1268+$A$11,IF($C$5,8,0),1,1))","v":""},{"$f":"IF(A1268>$A$8,\"\",OFFSET(InputPriceData!E$15,CalculationsAndCharts!$A1268+$A$11,IF($C$5,8,0),1,1))","v":""},{"$f":"IF(A1268>$A$8,\"\",OFFSET(InputPriceData!F$15,CalculationsAndCharts!$A1268+$A$11,IF($C$5,8,0),1,1))","v":""},{"$error":"#N/A"},{"$error":"#N/A"},{"$f":"IF($A1268>$J$30,NA(),AVERAGE(H1268:H1271))","v":{"$error":"#N/A"}},{"$error":"#N/A"},null,null,{"$f":"IF($A1268>$J$30,NA(),IF($A1268>$N$30,0,(1-$M$35)*J1268+(2*$M$35-$M$36)*J1269-($M$35+$M$37)*J1270+$M$36*N1269+$M$37*N1270))","v":{"$error":"#N/A"}},{"$error":"#N/A"},{"$error":"#N/A"},{"$error":"#N/A"},null,null,{"$error":"#N/A"},{"$error":"#N/A"},{"$error":"#N/A"},{"$error":"#N/A"},null,null,null,null,null,null,null,null,null,null,null,null,null,null,null,null,null,null,null,null,null,null,null,null,null,null,null,null,null,null,null,"",{"$error":"#N/A"}]
[1237,{"$f":"IF(A1269>$A$8,\"\",OFFSET(InputPriceData!B$15,$A1269+$A$11,0,1,1))","v":""},{"$f":"IF(A1269>$A$8,\"\",OFFSET(InputPriceData!G$15,CalculationsAndCharts!$A1269+$A$11,IF($C$5,8,0),1,1))","v":""},{"$f":"IF(A1269>$A$8,\"\",OFFSET(InputPriceData!C$15,CalculationsAndCharts!$A1269+$A$11,IF($C$5,8,0),1,1))","v":""},{"$f":"IF(A1269>$A$8,\"\",OFFSET(InputPriceData!D$15,CalculationsAndCharts!$A1269+$A$11,IF($C$5,8,0),1,1))","v":""},{"$f":"IF(A1269>$A$8,\"\",OFFSET(InputPriceData!E$15,CalculationsAndCharts!$A1269+$A$11,IF($C$5,8,0),1,1))","v":""},{"$f":"IF(A1269>$A$8,\"\",OFFSET(InputPriceData!F$15,CalculationsAndCharts!$A1269+$A$11,IF($C$5,8,0),1,1))","v":""},{"$error":"#N/A"},{"$error":"#N/A"},{"$f":"IF($A1269>$J$30,NA(),AVERAGE(H1269:H1272))","v":{"$error":"#N/A"}},{"$error":"#N/A"},null,null,{"$f":"IF($A1269>$J$30,NA(),IF($A1269>$N$30,0,(1-$M$35)*J1269+(2*$M$35-$M$36)*J1270-($M$35+$M$37)*J1271+$M$36*N1270+$M$37*N1271))","v":{"$error":"#N/A"}},{"$error":"#N/A"},{"$error":"#N/A"},{"$error":"#N/A"},null,null,{"$error":"#N/A"},{"$error":"#N/A"},{"$error":"#N/A"},{"$error":"#N/A"},null,null,null,null,null,null,null,null,null,null,null,null,null,null,null,null,null,null,null,null,null,null,null,null,null,null,null,null,null,null,null,"",{"$error":"#N/A"}]
[1238,{"$f":"IF(A1270>$A$8,\"\",OFFSET(InputPriceData!B$15,$A1270+$A$11,0,1,1))","v":""},{"$f":"IF(A1270>$A$8,\"\",OFFSET(InputPriceData!G$15,CalculationsAndCharts!$A1270+$A$11,IF($C$5,8,0),1,1))","v":""},{"$f":"IF(A1270>$A$8,\"\",OFFSET(InputPriceData!C$15,CalculationsAndCharts!$A1270+$A$11,IF($C$5,8,0),1,1))","v":""},{"$f":"IF(A1270>$A$8,\"\",OFFSET(InputPriceData!D$15,CalculationsAndCharts!$A1270+$A$11,IF($C$5,8,0),1,1))","v":""},{"$f":"IF(A1270>$A$8,\"\",OFFSET(InputPriceData!E$15,CalculationsAndCharts!$A1270+$A$11,IF($C$5,8,0),1,1))","v":""},{"$f":"IF(A1270>$A$8,\"\",OFFSET(InputPriceData!F$15,CalculationsAndCharts!$A1270+$A$11,IF($C$5,8,0),1,1))","v":""},{"$error":"#N/A"},{"$error":"#N/A"},{"$f":"IF($A1270>$J$30,NA(),AVERAGE(H1270:H1273))","v":{"$error":"#N/A"}},{"$error":"#N/A"},null,null,{"$f":"IF($A1270>$J$30,NA(),IF($A1270>$N$30,0,(1-$M$35)*J1270+(2*$M$35-$M$36)*J1271-($M$35+$M$37)*J1272+$M$36*N1271+$M$37*N1272))","v":{"$error":"#N/A"}},{"$error":"#N/A"},{"$error":"#N/A"},{"$error":"#N/A"},null,null,{"$error":"#N/A"},{"$error":"#N/A"},{"$error":"#N/A"},{"$error":"#N/A"},null,null,null,null,null,null,null,null,null,null,null,null,null,null,null,null,null,null,null,null,null,null,null,null,null,null,null,null,null,null,null,"",{"$error":"#N/A"}]
[1239,{"$f":"IF(A1271>$A$8,\"\",OFFSET(InputPriceData!B$15,$A1271+$A$11,0,1,1))","v":""},{"$f":"IF(A1271>$A$8,\"\",OFFSET(InputPriceData!G$15,CalculationsAndCharts!$A1271+$A$11,IF($C$5,8,0),1,1))","v":""},{"$f":"IF(A1271>$A$8,\"\",OFFSET(InputPriceData!C$15,CalculationsAndCharts!$A1271+$A$11,IF($C$5,8,0),1,1))","v":""},{"$f":"IF(A1271>$A$8,\"\",OFFSET(InputPriceData!D$15,CalculationsAndCharts!$A1271+$A$11,IF($C$5,8,0),1,1))","v":""},{"$f":"IF(A1271>$A$8,\"\",OFFSET(InputPriceData!E$15,CalculationsAndCharts!$A1271+$A$11,IF($C$5,8,0),1,1))","v":""},{"$f":"IF(A1271>$A$8,\"\",OFFSET(InputPriceData!F$15,CalculationsAndCharts!$A1271+$A$11,IF($C$5,8,0),1,1))","v":""},{"$error":"#N/A"},{"$error":"#N/A"},{"$f":"IF($A1271>$J$30,NA(),AVERAGE(H1271:H1274))","v":{"$error":"#N/A"}},{"$error":"#N/A"},null,null,{"$f":"IF($A1271>$J$30,NA(),IF($A1271>$N$30,0,(1-$M$35)*J1271+(2*$M$35-$M$36)*J1272-($M$35+$M$37)*J1273+$M$36*N1272+$M$37*N1273))","v":{"$error":"#N/A"}},{"$error":"#N/A"},{"$error":"#N/A"},{"$error":"#N/A"},null,null,{"$error":"#N/A"},{"$error":"#N/A"},{"$error":"#N/A"},{"$error":"#N/A"},null,null,null,null,null,null,null,null,null,null,null,null,null,null,null,null,null,null,null,null,null,null,null,null,null,null,null,null,null,null,null,"",{"$error":"#N/A"}]
[1240,{"$f":"IF(A1272>$A$8,\"\",OFFSET(InputPriceData!B$15,$A1272+$A$11,0,1,1))","v":""},{"$f":"IF(A1272>$A$8,\"\",OFFSET(InputPriceData!G$15,CalculationsAndCharts!$A1272+$A$11,IF($C$5,8,0),1,1))","v":""},{"$f":"IF(A1272>$A$8,\"\",OFFSET(InputPriceData!C$15,CalculationsAndCharts!$A1272+$A$11,IF($C$5,8,0),1,1))","v":""},{"$f":"IF(A1272>$A$8,\"\",OFFSET(InputPriceData!D$15,CalculationsAndCharts!$A1272+$A$11,IF($C$5,8,0),1,1))","v":""},{"$f":"IF(A1272>$A$8,\"\",OFFSET(InputPriceData!E$15,CalculationsAndCharts!$A1272+$A$11,IF($C$5,8,0),1,1))","v":""},{"$f":"IF(A1272>$A$8,\"\",OFFSET(InputPriceData!F$15,CalculationsAndCharts!$A1272+$A$11,IF($C$5,8,0),1,1))","v":""},{"$error":"#N/A"},{"$error":"#N/A"},{"$f":"IF($A1272>$J$30,NA(),AVERAGE(H1272:H1275))","v":{"$error":"#N/A"}},{"$error":"#N/A"},null,null,{"$f":"IF($A1272>$J$30,NA(),IF($A1272>$N$30,0,(1-$M$35)*J1272+(2*$M$35-$M$36)*J1273-($M$35+$M$37)*J1274+$M$36*N1273+$M$37*N1274))","v":{"$error":"#N/A"}},{"$error":"#N/A"},{"$error":"#N/A"},{"$error":"#N/A"},null,null,{"$error":"#N/A"},{"$error":"#N/A"},{"$error":"#N/A"},{"$error":"#N/A"},null,null,null,null,null,null,null,null,null,null,null,null,null,null,null,null,null,null,null,null,null,null,null,null,null,null,null,null,null,null,null,"",{"$error":"#N/A"}]
[1241,{"$f":"IF(A1273>$A$8,\"\",OFFSET(InputPriceData!B$15,$A1273+$A$11,0,1,1))","v":""},{"$f":"IF(A1273>$A$8,\"\",OFFSET(InputPriceData!G$15,CalculationsAndCharts!$A1273+$A$11,IF($C$5,8,0),1,1))","v":""},{"$f":"IF(A1273>$A$8,\"\",OFFSET(InputPriceData!C$15,CalculationsAndCharts!$A1273+$A$11,IF($C$5,8,0),1,1))","v":""},{"$f":"IF(A1273>$A$8,\"\",OFFSET(InputPriceData!D$15,CalculationsAndCharts!$A1273+$A$11,IF($C$5,8,0),1,1))","v":""},{"$f":"IF(A1273>$A$8,\"\",OFFSET(InputPriceData!E$15,CalculationsAndCharts!$A1273+$A$11,IF($C$5,8,0),1,1))","v":""},{"$f":"IF(A1273>$A$8,\"\",OFFSET(InputPriceData!F$15,CalculationsAndCharts!$A1273+$A$11,IF($C$5,8,0),1,1))","v":""},{"$error":"#N/A"},{"$error":"#N/A"},{"$f":"IF($A1273>$J$30,NA(),AVERAGE(H1273:H1276))","v":{"$error":"#N/A"}},{"$error":"#N/A"},null,null,{"$f":"IF($A1273>$J$30,NA(),IF($A1273>$N$30,0,(1-$M$35)*J1273+(2*$M$35-$M$36)*J1274-($M$35+$M$37)*J1275+$M$36*N1274+$M$37*N1275))","v":{"$error":"#N/A"}},{"$error":"#N/A"},{"$error":"#N/A"},{"$error":"#N/A"},null,null,{"$error":"#N/A"},{"$error":"#N/A"},{"$error":"#N/A"},{"$error":"#N/A"},null,null,null,null,null,null,null,null,null,null,null,null,null,null,null,null,null,null,null,null,null,null,null,null,null,null,null,null,null,null,null,"",{"$error":"#N/A"}]
[1242,{"$f":"IF(A1274>$A$8,\"\",OFFSET(InputPriceData!B$15,$A1274+$A$11,0,1,1))","v":""},{"$f":"IF(A1274>$A$8,\"\",OFFSET(InputPriceData!G$15,CalculationsAndCharts!$A1274+$A$11,IF($C$5,8,0),1,1))","v":""},{"$f":"IF(A1274>$A$8,\"\",OFFSET(InputPriceData!C$15,CalculationsAndCharts!$A1274+$A$11,IF($C$5,8,0),1,1))","v":""},{"$f":"IF(A1274>$A$8,\"\",OFFSET(InputPriceData!D$15,CalculationsAndCharts!$A1274+$A$11,IF($C$5,8,0),1,1))","v":""},{"$f":"IF(A1274>$A$8,\"\",OFFSET(InputPriceData!E$15,CalculationsAndCharts!$A1274+$A$11,IF($C$5,8,0),1,1))","v":""},{"$f":"IF(A1274>$A$8,\"\",OFFSET(InputPriceData!F$15,CalculationsAndCharts!$A1274+$A$11,IF($C$5,8,0),1,1))","v":""},{"$error":"#N/A"},{"$error":"#N/A"},{"$f":"IF($A1274>$J$30,NA(),AVERAGE(H1274:H1277))","v":{"$error":"#N/A"}},{"$error":"#N/A"},null,null,{"$f":"IF($A1274>$J$30,NA(),IF($A1274>$N$30,0,(1-$M$35)*J1274+(2*$M$35-$M$36)*J1275-($M$35+$M$37)*J1276+$M$36*N1275+$M$37*N1276))","v":{"$error":"#N/A"}},{"$error":"#N/A"},{"$error":"#N/A"},{"$error":"#N/A"},null,null,{"$error":"#N/A"},{"$error":"#N/A"},{"$error":"#N/A"},{"$error":"#N/A"},null,null,null,null,null,null,null,null,null,null,null,null,null,null,null,null,null,null,null,null,null,null,null,null,null,null,null,null,null,null,null,"",{"$error":"#N/A"}]
[1243,{"$f":"IF(A1275>$A$8,\"\",OFFSET(InputPriceData!B$15,$A1275+$A$11,0,1,1))","v":""},{"$f":"IF(A1275>$A$8,\"\",OFFSET(InputPriceData!G$15,CalculationsAndCharts!$A1275+$A$11,IF($C$5,8,0),1,1))","v":""},{"$f":"IF(A1275>$A$8,\"\",OFFSET(InputPriceData!C$15,CalculationsAndCharts!$A1275+$A$11,IF($C$5,8,0),1,1))","v":""},{"$f":"IF(A1275>$A$8,\"\",OFFSET(InputPriceData!D$15,CalculationsAndCharts!$A1275+$A$11,IF($C$5,8,0),1,1))","v":""},{"$f":"IF(A1275>$A$8,\"\",OFFSET(InputPriceData!E$15,CalculationsAndCharts!$A1275+$A$11,IF($C$5,8,0),1,1))","v":""},{"$f":"IF(A1275>$A$8,\"\",OFFSET(InputPriceData!F$15,CalculationsAndCharts!$A1275+$A$11,IF($C$5,8,0),1,1))","v":""},{"$error":"#N/A"},{"$error":"#N/A"},{"$f":"IF($A1275>$J$30,NA(),AVERAGE(H1275:H1278))","v":{"$error":"#N/A"}},{"$error":"#N/A"},null,null,{"$f":"IF($A1275>$J$30,NA(),IF($A1275>$N$30,0,(1-$M$35)*J1275+(2*$M$35-$M$36)*J1276-($M$35+$M$37)*J1277+$M$36*N1276+$M$37*N1277))","v":{"$error":"#N/A"}},{"$error":"#N/A"},{"$error":"#N/A"},{"$error":"#N/A"},null,null,{"$error":"#N/A"},{"$error":"#N/A"},{"$error":"#N/A"},{"$error":"#N/A"},null,null,null,null,null,null,null,null,null,null,null,null,null,null,null,null,null,null,null,null,null,null,null,null,null,null,null,null,null,null,null,"",{"$error":"#N/A"}]
[1244,{"$f":"IF(A1276>$A$8,\"\",OFFSET(InputPriceData!B$15,$A1276+$A$11,0,1,1))","v":""},{"$f":"IF(A1276>$A$8,\"\",OFFSET(InputPriceData!G$15,CalculationsAndCharts!$A1276+$A$11,IF($C$5,8,0),1,1))","v":""},{"$f":"IF(A1276>$A$8,\"\",OFFSET(InputPriceData!C$15,CalculationsAndCharts!$A1276+$A$11,IF($C$5,8,0),1,1))","v":""},{"$f":"IF(A1276>$A$8,\"\",OFFSET(InputPriceData!D$15,CalculationsAndCharts!$A1276+$A$11,IF($C$5,8,0),1,1))","v":""},{"$f":"IF(A1276>$A$8,\"\",OFFSET(InputPriceData!E$15,CalculationsAndCharts!$A1276+$A$11,IF($C$5,8,0),1,1))","v":""},{"$f":"IF(A1276>$A$8,\"\",OFFSET(InputPriceData!F$15,CalculationsAndCharts!$A1276+$A$11,IF($C$5,8,0),1,1))","v":""},{"$error":"#N/A"},{"$error":"#N/A"},{"$f":"IF($A1276>$J$30,NA(),AVERAGE(H1276:H1279))","v":{"$error":"#N/A"}},{"$error":"#N/A"},null,null,{"$f":"IF($A1276>$J$30,NA(),IF($A1276>$N$30,0,(1-$M$35)*J1276+(2*$M$35-$M$36)*J1277-($M$35+$M$37)*J1278+$M$36*N1277+$M$37*N1278))","v":{"$error":"#N/A"}},{"$error":"#N/A"},{"$error":"#N/A"},{"$error":"#N/A"},null,null,{"$error":"#N/A"},{"$error":"#N/A"},{"$error":"#N/A"},{"$error":"#N/A"},null,null,null,null,null,null,null,null,null,null,null,null,null,null,null,null,null,null,null,null,null,null,null,null,null,null,null,null,null,null,null,"",{"$error":"#N/A"}]
[1245,{"$f":"IF(A1277>$A$8,\"\",OFFSET(InputPriceData!B$15,$A1277+$A$11,0,1,1))","v":""},{"$f":"IF(A1277>$A$8,\"\",OFFSET(InputPriceData!G$15,CalculationsAndCharts!$A1277+$A$11,IF($C$5,8,0),1,1))","v":""},{"$f":"IF(A1277>$A$8,\"\",OFFSET(InputPriceData!C$15,CalculationsAndCharts!$A1277+$A$11,IF($C$5,8,0),1,1))","v":""},{"$f":"IF(A1277>$A$8,\"\",OFFSET(InputPriceData!D$15,CalculationsAndCharts!$A1277+$A$11,IF($C$5,8,0),1,1))","v":""},{"$f":"IF(A1277>$A$8,\"\",OFFSET(InputPriceData!E$15,CalculationsAndCharts!$A1277+$A$11,IF($C$5,8,0),1,1))","v":""},{"$f":"IF(A1277>$A$8,\"\",OFFSET(InputPriceData!F$15,CalculationsAndCharts!$A1277+$A$11,IF($C$5,8,0),1,1))","v":""},{"$error":"#N/A"},{"$error":"#N/A"},{"$f":"IF($A1277>$J$30,NA(),AVERAGE(H1277:H1280))","v":{"$error":"#N/A"}},{"$error":"#N/A"},null,null,{"$f":"IF($A1277>$J$30,NA(),IF($A1277>$N$30,0,(1-$M$35)*J1277+(2*$M$35-$M$36)*J1278-($M$35+$M$37)*J1279+$M$36*N1278+$M$37*N1279))","v":{"$error":"#N/A"}},{"$error":"#N/A"},{"$error":"#N/A"},{"$error":"#N/A"},null,null,{"$error":"#N/A"},{"$error":"#N/A"},{"$error":"#N/A"},{"$error":"#N/A"},null,null,null,null,null,null,null,null,null,null,null,null,null,null,null,null,null,null,null,null,null,null,null,null,null,null,null,null,null,null,null,"",{"$error":"#N/A"}]
[1246,{"$f":"IF(A1278>$A$8,\"\",OFFSET(InputPriceData!B$15,$A1278+$A$11,0,1,1))","v":""},{"$f":"IF(A1278>$A$8,\"\",OFFSET(InputPriceData!G$15,CalculationsAndCharts!$A1278+$A$11,IF($C$5,8,0),1,1))","v":""},{"$f":"IF(A1278>$A$8,\"\",OFFSET(InputPriceData!C$15,CalculationsAndCharts!$A1278+$A$11,IF($C$5,8,0),1,1))","v":""},{"$f":"IF(A1278>$A$8,\"\",OFFSET(InputPriceData!D$15,CalculationsAndCharts!$A1278+$A$11,IF($C$5,8,0),1,1))","v":""},{"$f":"IF(A1278>$A$8,\"\",OFFSET(InputPriceData!E$15,CalculationsAndCharts!$A1278+$A$11,IF($C$5,8,0),1,1))","v":""},{"$f":"IF(A1278>$A$8,\"\",OFFSET(InputPriceData!F$15,CalculationsAndCharts!$A1278+$A$11,IF($C$5,8,0),1,1))","v":""},{"$error":"#N/A"},{"$error":"#N/A"},{"$f":"IF($A1278>$J$30,NA(),AVERAGE(H1278:H1281))","v":{"$error":"#N/A"}},{"$error":"#N/A"},null,null,{"$f":"IF($A1278>$J$30,NA(),IF($A1278>$N$30,0,(1-$M$35)*J1278+(2*$M$35-$M$36)*J1279-($M$35+$M$37)*J1280+$M$36*N1279+$M$37*N1280))","v":{"$error":"#N/A"}},{"$error":"#N/A"},{"$error":"#N/A"},{"$error":"#N/A"},null,null,{"$error":"#N/A"},{"$error":"#N/A"},{"$error":"#N/A"},{"$error":"#N/A"},null,null,null,null,null,null,null,null,null,null,null,null,null,null,null,null,null,null,null,null,null,null,null,null,null,null,null,null,null,null,null,"",{"$error":"#N/A"}]
[1247,{"$f":"IF(A1279>$A$8,\"\",OFFSET(InputPriceData!B$15,$A1279+$A$11,0,1,1))","v":""},{"$f":"IF(A1279>$A$8,\"\",OFFSET(InputPriceData!G$15,CalculationsAndCharts!$A1279+$A$11,IF($C$5,8,0),1,1))","v":""},{"$f":"IF(A1279>$A$8,\"\",OFFSET(InputPriceData!C$15,CalculationsAndCharts!$A1279+$A$11,IF($C$5,8,0),1,1))","v":""},{"$f":"IF(A1279>$A$8,\"\",OFFSET(InputPriceData!D$15,CalculationsAndCharts!$A1279+$A$11,IF($C$5,8,0),1,1))","v":""},{"$f":"IF(A1279>$A$8,\"\",OFFSET(InputPriceData!E$15,CalculationsAndCharts!$A1279+$A$11,IF($C$5,8,0),1,1))","v":""},{"$f":"IF(A1279>$A$8,\"\",OFFSET(InputPriceData!F$15,CalculationsAndCharts!$A1279+$A$11,IF($C$5,8,0),1,1))","v":""},{"$error":"#N/A"},{"$error":"#N/A"},{"$f":"IF($A1279>$J$30,NA(),AVERAGE(H1279:H1282))","v":{"$error":"#N/A"}},{"$error":"#N/A"},null,null,{"$f":"IF($A1279>$J$30,NA(),IF($A1279>$N$30,0,(1-$M$35)*J1279+(2*$M$35-$M$36)*J1280-($M$35+$M$37)*J1281+$M$36*N1280+$M$37*N1281))","v":{"$error":"#N/A"}},{"$error":"#N/A"},{"$error":"#N/A"},{"$error":"#N/A"},null,null,{"$error":"#N/A"},{"$error":"#N/A"},{"$error":"#N/A"},{"$error":"#N/A"},null,null,null,null,null,null,null,null,null,null,null,null,null,null,null,null,null,null,null,null,null,null,null,null,null,null,null,null,null,null,null,"",{"$error":"#N/A"}]
[1248,{"$f":"IF(A1280>$A$8,\"\",OFFSET(InputPriceData!B$15,$A1280+$A$11,0,1,1))","v":""},{"$f":"IF(A1280>$A$8,\"\",OFFSET(InputPriceData!G$15,CalculationsAndCharts!$A1280+$A$11,IF($C$5,8,0),1,1))","v":""},{"$f":"IF(A1280>$A$8,\"\",OFFSET(InputPriceData!C$15,CalculationsAndCharts!$A1280+$A$11,IF($C$5,8,0),1,1))","v":""},{"$f":"IF(A1280>$A$8,\"\",OFFSET(InputPriceData!D$15,CalculationsAndCharts!$A1280+$A$11,IF($C$5,8,0),1,1))","v":""},{"$f":"IF(A1280>$A$8,\"\",OFFSET(InputPriceData!E$15,CalculationsAndCharts!$A1280+$A$11,IF($C$5,8,0),1,1))","v":""},{"$f":"IF(A1280>$A$8,\"\",OFFSET(InputPriceData!F$15,CalculationsAndCharts!$A1280+$A$11,IF($C$5,8,0),1,1))","v":""},{"$error":"#N/A"},{"$error":"#N/A"},{"$f":"IF($A1280>$J$30,NA(),AVERAGE(H1280:H1283))","v":{"$error":"#N/A"}},{"$error":"#N/A"},null,null,{"$f":"IF($A1280>$J$30,NA(),IF($A1280>$N$30,0,(1-$M$35)*J1280+(2*$M$35-$M$36)*J1281-($M$35+$M$37)*J1282+$M$36*N1281+$M$37*N1282))","v":{"$error":"#N/A"}},{"$error":"#N/A"},{"$error":"#N/A"},{"$error":"#N/A"},null,null,{"$error":"#N/A"},{"$error":"#N/A"},{"$error":"#N/A"},{"$error":"#N/A"},null,null,null,null,null,null,null,null,null,null,null,null,null,null,null,null,null,null,null,null,null,null,null,null,null,null,null,null,null,null,null,"",{"$error":"#N/A"}]
[1249,{"$f":"IF(A1281>$A$8,\"\",OFFSET(InputPriceData!B$15,$A1281+$A$11,0,1,1))","v":""},{"$f":"IF(A1281>$A$8,\"\",OFFSET(InputPriceData!G$15,CalculationsAndCharts!$A1281+$A$11,IF($C$5,8,0),1,1))","v":""},{"$f":"IF(A1281>$A$8,\"\",OFFSET(InputPriceData!C$15,CalculationsAndCharts!$A1281+$A$11,IF($C$5,8,0),1,1))","v":""},{"$f":"IF(A1281>$A$8,\"\",OFFSET(InputPriceData!D$15,CalculationsAndCharts!$A1281+$A$11,IF($C$5,8,0),1,1))","v":""},{"$f":"IF(A1281>$A$8,\"\",OFFSET(InputPriceData!E$15,CalculationsAndCharts!$A1281+$A$11,IF($C$5,8,0),1,1))","v":""},{"$f":"IF(A1281>$A$8,\"\",OFFSET(InputPriceData!F$15,CalculationsAndCharts!$A1281+$A$11,IF($C$5,8,0),1,1))","v":""},{"$error":"#N/A"},{"$error":"#N/A"},{"$f":"IF($A1281>$J$30,NA(),AVERAGE(H1281:H1284))","v":{"$error":"#N/A"}},{"$error":"#N/A"},null,null,{"$f":"IF($A1281>$J$30,NA(),IF($A1281>$N$30,0,(1-$M$35)*J1281+(2*$M$35-$M$36)*J1282-($M$35+$M$37)*J1283+$M$36*N1282+$M$37*N1283))","v":{"$error":"#N/A"}},{"$error":"#N/A"},{"$error":"#N/A"},{"$error":"#N/A"},null,null,{"$f":"IF($A1281>$J$30,NA(),IF($A1281>$N$30,0,(1-S$35)*$J1281+(2*S$35-S$36)*$J1282-(S$35+S$37)*$J1283+S$36*T1282+S$37*V1283))","v":{"$error":"#N/A"}},{"$f":"IF($A1281>$J$30,NA(),IF($A1281>$N$30,0,(1-S$35)*$K1281+(2*S$35-S$36)*$K1282-(S$35+S$37)*$K1283+S$36*U1282+S$37*W1283))","v":{"$error":"#N/A"}},{"$error":"#N/A"},{"$error":"#N/A"},null,null,null,null,null,null,null,null,null,null,null,null,null,null,null,null,null,null,null,null,null,null,null,null,null,null,null,null,null,null,null,"",{"$error":"#N/A"}]
[1250,{"$f":"IF(A1282>$A$8,\"\",OFFSET(InputPriceData!B$15,$A1282+$A$11,0,1,1))","v":""},{"$f":"IF(A1282>$A$8,\"\",OFFSET(InputPriceData!G$15,CalculationsAndCharts!$A1282+$A$11,IF($C$5,8,0),1,1))","v":""},{"$f":"IF(A1282>$A$8,\"\",OFFSET(InputPriceData!C$15,CalculationsAndCharts!$A1282+$A$11,IF($C$5,8,0),1,1))","v":""},{"$f":"IF(A1282>$A$8,\"\",OFFSET(InputPriceData!D$15,CalculationsAndCharts!$A1282+$A$11,IF($C$5,8,0),1,1))","v":""},{"$f":"IF(A1282>$A$8,\"\",OFFSET(InputPriceData!E$15,CalculationsAndCharts!$A1282+$A$11,IF($C$5,8,0),1,1))","v":""},{"$f":"IF(A1282>$A$8,\"\",OFFSET(InputPriceData!F$15,CalculationsAndCharts!$A1282+$A$11,IF($C$5,8,0),1,1))","v":""},{"$error":"#N/A"},{"$error":"#N/A"},{"$f":"IF($A1282>$J$30,NA(),AVERAGE(H1282:H1285))","v":{"$error":"#N/A"}},{"$error":"#N/A"},null,null,{"$f":"IF($A1282>$J$30,NA(),IF($A1282>$N$30,0,(1-$M$35)*J1282+(2*$M$35-$M$36)*J1283-($M$35+$M$37)*J1284+$M$36*N1283+$M$37*N1284))","v":{"$error":"#N/A"}},{"$error":"#N/A"},{"$error":"#N/A"},{"$error":"#N/A"},null,null,{"$f":"IF($A1282>$J$30,NA(),IF($A1282>$N$30,0,(1-S$35)*$J1282+(2*S$35-S$36)*$J1283-(S$35+S$37)*$J1284+S$36*V1283+S$37*V1284))","v":{"$error":"#N/A"}},{"$f":"IF($A1282>$J$30,NA(),IF($A1282>$N$30,0,(1-S$35)*$K1282+(2*S$35-S$36)*$K1283-(S$35+S$37)*$K1284+S$36*W1283+S$37*W1284))","v":{"$error":"#N/A"}},{"$error":"#N/A"},{"$error":"#N/A"}]

{"sheet":"Follow","index":3,"n_rows":109,"n_cols":12,"rows_kept":109,"cut":false,"hidden":false,"merged":[]}
["Stocks and Indexes I wish to follow"]
[]
["To ease following a stock, enter a Yahoo Finance acceptable symbol in column \"A\" anywhere below cell \"A9\"."]
["Thereafter you may doubleclick the cell containing a symbol of interest to initiate data retrieval and charting for that symbol."]
[]
[{"$f":"COUNTA(A10:A109)","v":98}]
["Symbol"]
["To","Description","Last Trade as of most recent check"]
["Follow","Name  (Symbol)  -Market Where Traded  (Data Interval)","Date","Time","Open","High","Low","Close","Volume","Change","Retrieved @"]
["A","Agilent Technologies, Inc. (A) -NYSE  (Daily)","2022-10-07","16:03:00",130.449997,130.929993,126.959999,127.44000200000001,1154700,-4.7399909999999892,"2022-10-08T20:06:52.050"]
["AA","Alcoa Corporation (AA) -NYSE  (Daily)","2023-06-16","16:00:00",35.970001000000003,36.040000999999997,34.790000999999997,35.619999,5811700,-0.35000200000000348,"2023-06-17T11:43:27"]
["AAL","American Airlines Group Inc. (AAL) -NasdaqGS  (Daily)","2023-06-16","16:00:00",16.670000000000002,16.719999000000001,16.43,16.48,22635600,-0.16999999999999815,"2023-06-17T10:36:27.890"]
["AAPL","Apple Inc. (AAPL) -NasdaqGS  (Daily)","2022-10-07","16:00:00",142.53999300000001,143.10000600000001,139.449997,140.08999600000001,85859100,-5.3399969999999826,"2022-10-08T20:07:45.780"]
["ADM","Archer-Daniels-Midland Company (ADM) -NYSE  (Daily)","2023-06-16","16:00:00",74.900002000000001,76,74.470000999999996,75.480002999999996,5529600,0.92000500000000329,"2023-06-17T11:43:58.380"]
["ADBE","Adobe Inc. (ADBE) -NasdaqGS  (Daily)","2023-06-16","16:00:00",518.22997999999995,518.73999000000003,494.61999500000002,495.17999300000002,13335800,4.2699890000000096,"2023-06-17T11:42:39.820","[X]"]
["ALGN","Align Technology, Inc. (ALGN) -NasdaqGS  (Daily)","2023-06-16","16:00:00",334.95001200000002,335.86999500000002,326.51998900000001,330.290009,1258300,-2.8999929999999949,"2023-06-17T10:47:06.620"]
["AMC","AMC Entertainment Holdings, Inc. (AMC) -NYSE  (Daily)","2023-06-16","16:00:00",4.82,4.83,4.67,4.7,18483600,-5.9999999999999609E-2,"2023-06-17T10:46:36.020"]
["AMD","Advanced Micro Devices, Inc. (AMD) -NasdaqGS  (Daily)","2023-06-16","16:00:00",125.82,125.849998,119.900002,120.08000199999999,81846900,-4.1599960000000067,"2023-06-17T10:42:05.850"]
["AR","Antero Resources Corporation (AR) -NYSE  (Daily)","2024-09-20T20:00:03","4:00 PM EDT",27.25,27.579999923706055,26.790000915527344,27.440000534057617,4412950,0.19000053405761719,"2024-09-21T18:18:55.870","[X]"]
["BA","The Boeing Company (BA) -NYSE  (Daily)","2023-06-16","16:00:00",220.720001,223.86999499999999,218.979996,219.990005,7799500,0.58000100000000998,"2023-06-17T10:43:22.080"]
["BSX","Boston Scientific Corporation (BSX) -NYSE  (Daily)","2023-06-16","16:00:00",54.509998000000003,54.689999,54.049999,54.32,13022800,0.34000000000000341,"2023-06-17T10:45:23.450"]
["CASY","Casey's General Stores, Inc. (CASY) -NasdaqGS  (Daily)","2023-06-16","16:00:00",223.33999600000001,223.449997,219.070007,219.61999499999999,388500,-2.9600070000000187,"2023-06-17T10:46:01.080"]
["CAT","Caterpillar Inc. (CAT) -NYSE  (Daily)","2023-09-15","11:10:00",281.86999500000002,281.86999500000002,277.76998900000001,278.11749300000002,1524594,-4.4425049999999828,"2023-09-15T11:10:38.830"]
["COST","Costco Wholesale Corporation (COST) -NasdaqGS  (Daily)","2023-03-06","16:00:00",476.51998900000001,488.81741299999999,475.60998499999999,483.07998700000002,3005250,7.8199769999999944,"2023-03-06T21:04:51.590"]
["CSCO","Cisco Systems, Inc. (CSCO) -NasdaqGS  (Daily)","2023-06-16","16:00:00",52.200001,52.41,51.93,52.07,37133300,0.14000000000000057,"2023-06-17T10:48:11.650"]
["CVS","CVS Health Corporation (CVS) -NYSE  (Daily)","2023-06-16","16:00:00",69.290001000000004,69.589995999999999,67.489998,67.720000999999996,18202800,-1.7799990000000037,"2023-06-17T11:41:13.330"]
["DELL","Dell Technologies Inc. (DELL) -NYSE  (Daily)","2024-07-05","2:41 PM EDT",142.199997,142.759995,138.30999800000001,139.41000399999999,6329713,-3.2599940000000061,"2024-07-05T14:41:21.880"]
["DG","Dollar General Corporation (DG) -NYSE  (Daily)","2023-06-16","16:03:00",163.21000699999999,164.64999399999999,161.759995,164.320007,4781100,0.64001400000000785,"2023-06-17T10:49:14.920"]
["DIS","The Walt Disney Company (DIS) -NYSE  (Daily)","2023-06-16","16:03:00",92.879997000000003,92.970000999999996,90.860000999999997,91.32,22665000,-1.6200020000000137,"2023-06-17T10:49:55.860"]
["DLTR","Dollar Tree, Inc. (DLTR) -NasdaqGS  (Daily)","2023-06-16","16:00:00",139.070007,139.070007,136.08999600000001,136.220001,2592600,-2.2200009999999963,"2023-06-17T10:50:23.460"]
["EPD","Enterprise Products Partners L.P. (EPD) -NYSE  (Daily)","2023-06-16","16:00:00",26.389999,26.48,26.23,26.389999,3749200,6.9998999999999256E-2,"2023-06-17T10:51:07.130"]
["F","Ford Motor Company (F) -NYSE  (Daily)","2024-09-20T20:00:49","4:00 PM EDT",10.859999656677246,10.880000114440918,10.689999580383301,10.880000114440918,66856379,-3.9999961853027344E-2,"2024-09-21T18:10:03.770","[X]"]
["FAS","Direxion Daily Financial Bull 3X Shares (FAS) -NYSEArca  (Daily)","2022-10-07","16:00:00",59.529998999999997,59.849997999999999,55.689999,56.790000999999997,1488400,-4.2900010000000037,"2022-10-08T20:13:13.080"]
["GSK","GSK plc (GSK) -NYSE  (Daily)","2022-10-07","16:00:00",30.190000999999999,30.42,30.040001,30.110001,5486300,0.11000100000000046,"2022-10-08T20:13:33.450"]
["GDX","VanEck Gold Miners ETF (GDX) -NYSEArca  (Daily)","2023-06-16","16:00:00",31.200001,31.74,30.9,31.389999,19283100,0.38999899999999954,"2023-06-17T10:52:54.260"]
["GILD","Gilead Sciences, Inc. (GILD) -NasdaqGS  (Daily)","2022-10-07","16:00:00",64.639999000000003,65.099997999999999,63.959999000000003,64.290001000000004,6722600,-0.65999599999999248,"2022-10-08T20:14:12.060"]
["GOOG","Alphabet Inc. (GOOG) -NasdaqGS  (Daily)","2023-06-05","14:47:00",124.610001,127.987701,124.389999,126.32,17012908,1.0899969999999968,"2023-06-05T14:47:20.460"]
["HD","The Home Depot, Inc. (HD) -NYSE  (Daily)","2023-06-16","16:00:00",304.33999599999999,305.98001099999999,300.14001500000001,300.38000499999998,10808400,-1.6399840000000268,"2023-06-17T11:36:54.610"]
["HSY","The Hershey Company (HSY) -NYSE  (Daily)","2023-06-16","16:00:00",262,263.290009,260.26998900000001,260.72000100000002,1577100,-0.13998399999996991,"2023-06-17T10:54:48.190"]
["HTLD","Heartland Express, Inc. (HTLD) -NasdaqGS  (Daily)","2023-06-16","16:00:00",16.440000999999999,16.440000999999999,16.139999,16.290001,738100,-3.9998999999998119E-2,"2023-06-17T11:04:51.680"]
["IBM","International Business Machines Corporation (IBM) -NYSE  (Daily)","2023-06-16","16:00:00",139.229996,139.470001,137.470001,137.479996,7473100,-0.91999799999999254,"2023-06-17T11:05:53.630","[X]"]
["ILMN","Illumina, Inc. (ILMN) -NasdaqGS  (Daily)","2023-06-16","16:00:00",212.10000600000001,212.490005,205,205.86999499999999,2443300,-4.0700070000000039,"2023-06-17T10:19:57.970"]
["INTC","Intel Corporation (INTC) -NasdaqGS  (Daily)","2024-09-20T20:00:02","4:00 PM EDT",20.899999618530273,23.120000839233398,20.350000381469727,21.840000152587891,251729835,0.70000076293945313,"2024-09-21T18:20:05.610","[X]"]
["JNJ","Johnson & Johnson (JNJ) -NYSE  (Daily)","2022-10-07","16:00:00",161.770004,162.220001,159.16999799999999,160.199997,6363000,-1.7100069999999903,"2022-10-08T20:16:52.840"]
["KO","The Coca-Cola Company (KO) -NYSE  (Daily)","2023-06-16","16:00:00",61.599997999999999,62.169998,61.48,61.669998,26735800,0.43999800000000278,"2023-06-17T11:20:04.690"]
["LOW","Lowe's Companies, Inc. (LOW) -NYSE  (Daily)","2023-06-16","16:02:00",219.33999600000001,219.490005,216.85000600000001,217.08000200000001,6874300,-1.8499909999999886,"2023-06-17T11:20:37.350","[X]"]
["LMT","Lockheed Martin Corporation (LMT) -NYSE  (Daily)","2023-06-16","16:01:00",457.73001099999999,461.76998900000001,456.60000600000001,459.17001299999998,1642800,3.2200009999999679,"2023-06-17T11:23:13.320"]
["M","Macy's, Inc. (M) -NYSE  (Daily)","2023-06-16","16:00:00",16.170000000000002,16.34,15.8,15.85,17840800,-0.14000000000000057,"2023-06-17T11:24:02.180"]
["MCD","McDonald's Corporation (MCD) -NYSE  (Daily)","2023-06-16","16:00:00",294.51001000000002,296.57000699999998,293.14001500000001,293.70001200000002,4890400,1.0900270000000205,"2023-06-17T10:18:27.960"]
["MDT","Medtronic plc (MDT) -NYSE  (Daily)","2023-06-16","16:00:00",88.279999000000004,89.720000999999996,88.279999000000004,89.150002000000001,9108400,0.90000200000000063,"2023-06-17T11:37:39.300"]
["META","Meta Platforms, Inc. (META) -NasdaqGS  (Daily)","2022-10-07","16:00:00",136.759995,138.28999300000001,132.44000199999999,133.449997,33179700,-5.6200100000000077,"2022-10-08T20:19:13.140"]
["MGM","MGM Resorts International (MGM) -NYSE  (Daily)","2023-06-16","16:00:00",43.68,43.75,42.43,42.639999000000003,7929700,-1.0800020000000004,"2023-06-17T11:24:42.990"]
["MO","Altria Group, Inc. (MO) -NYSE  (Daily)","2023-06-16","16:03:00",44.220001000000003,44.27,43.919998,44.07,13661200,-8.0002000000000351E-2,"2023-06-17T11:25:41.960"]
["MRNA","Moderna, Inc. (MRNA) -NasdaqGS  (Daily)","2022-10-07","16:00:00",121.5,123.360001,118.459999,119.32,3149000,-5.8300020000000075,"2022-10-08T20:20:13.090"]
["MSFT","Microsoft Corporation (MSFT) -NasdaqGS  (Daily)","2023-06-16","16:00:00",351.32000699999998,351.47000100000002,341.95001200000002,342.32998700000002,46533600,-5.7700189999999907,"2023-06-17T11:26:05.540","[X]"]
["MU","Micron Technology, Inc. (MU) -NasdaqGS  (Daily)","2024-09-20T20:00:03","4:00 PM EDT",88.360000610351563,90.970001220703125,88.349998474121094,90.900001525878906,28346012,1.6500015258789063,"2024-09-21T18:20:38.040"]
["NFLX","Netflix, Inc. (NFLX) -NasdaqGS  (Daily)","2022-10-07","16:00:00",235.770004,237.33000200000001,224.279999,224.75,9784800,-15.270004,"2022-10-08T20:20:51.730"]
["NUGT","Direxion Daily Gold Miners Index Bull 2X Shares (NUGT) -NYSEArca  (Daily)","2023-04-18","11:15:00",47.110000999999997,49.168799999999997,47,48.517600999999999,939091,1.6476019999999991,"2023-04-18T11:16:03.120"]
["NVS","Novartis AG (NVS) -NYSE  (Daily)","2023-06-16","16:00:00",102.43,102.730003,101.540001,101.83000199999999,2683400,0.44000299999999015,"2023-06-17T11:40:12.900"]
["NVDA","NVIDIA Corporation (NVDA) -NasdaqGS  (Daily)","2024-06-20","4:00 PM EDT",139.85000600000001,140.759995,129.529999,130.779999,504887012,-4.8000030000000038,"2024-06-20T18:09:20.250"]
["NWL","Newell Brands Inc. (NWL) -NasdaqGS  (Daily)","2022-10-07","16:00:00",14.18,14.25,13.89,13.96,2832700,-0.41999999999999993,"2022-10-08T20:22:10.460"]
["PEP","PepsiCo, Inc. (PEP) -NasdaqGS  (Daily)","2023-09-15","11:05:00",181.41000399999999,181.820007,180.21000699999999,180.28999300000001,2715164,-0.94000299999999015,"2023-09-15T11:06:06.970"]
["PFE","Pfizer Inc. (PFE) -NYSE  (Daily)","2022-10-07","16:03:00",43.049999,43.049999,41.919998,42.32,20093100,-0.77000000000000313,"2022-10-08T20:22:31.070"]
["PRU","Prudential Financial, Inc. (PRU) -NYSE  (Daily)","2023-06-16","16:00:00",86.809997999999993,87.470000999999996,86.309997999999993,87.029999000000004,3976700,0.2699970000000036,"2023-06-17T11:27:17.570"]
["PSA","Public Storage (PSA) -NYSE  (Daily)","2023-03-08","13:52:00",301.85000600000001,305.11999500000002,300.91000400000001,302.27999899999998,329019,-7.0007000000032349E-2,"2023-03-08T13:53:27.260"]
["PSEC","Prospect Capital Corporation (PSEC) -NasdaqGS  (Daily)","2023-06-16","16:00:00",6.28,6.3,6.22,6.23,1790300,-4.9999999999999822E-2,"2023-06-17T11:34:40.180"]
["RPM","RPM International Inc. (RPM) -NYSE  (Daily)","2023-05-19","16:00:00",81.349997999999999,81.449996999999996,79.650002000000001,80.080001999999993,569600,-0.72000100000001055,"2023-05-19T21:39:10.650"]
["RY","Royal Bank of Canada (RY) -NYSE  (Daily)","2024-09-20T20:00:02","4:00 PM EDT",123.19999694824219,123.16000366210938,121.70500183105469,121.91999816894531,1270260,-1.1399993896484375,"2024-09-21T18:21:06.320","[X]"]
["SCHW","The Charles Schwab Corporation (SCHW) -NYSE  (Daily)","2023-06-16","16:00:00",55.889999000000003,55.889999000000003,54.27,54.400002000000001,19691000,-1.1099960000000024,"2023-06-17T11:34:11.580"]
["SPR","Spirit AeroSystems Holdings, Inc. (SPR) -NYSE  (Daily)","2022-10-07","16:00:00",24.26,24.700001,23.559999000000001,24.68,1823200,-5.9999999999998721E-2,"2022-10-08T20:24:37.430"]
["SQ","Block, Inc. (SQ) -NYSE  (Daily)","2024-02-02","16:00:00",66.419998000000007,68.430000000000007,65.290001000000004,67.879997000000003,9372100,1.2099989999999963,"2024-02-04T17:44:52.090"]
["SWKS","Skyworks Solutions, Inc. (SWKS) -NasdaqGS  (Daily)","2022-10-07","16:00:00",90.18,90.400002000000001,86.949996999999996,87.199996999999996,2592400,-5.4100040000000007,"2022-10-08T20:25:16.990"]
["TOL","Toll Brothers, Inc. (TOL) -NYSE  (Daily)","2023-06-08","14:21:00",73.739998,74.809997999999993,73.379997000000003,74.334998999999996,1031567,0.39499699999998938,"2023-06-08T14:22:29.470"]
["TSLA","Tesla, Inc. (TSLA) -NasdaqGS  (Daily)","2022-10-07","16:00:00",233.94000199999999,234.570007,222.020004,223.070007,83592300,-15.059998000000007,"2022-10-08T20:25:55.990"]
["TSN","Tyson Foods, Inc. (TSN) -NYSE  (Daily)","2023-06-16","16:00:00",50.360000999999997,50.490001999999997,49.959999000000003,50.389999000000003,4116300,0.17999999999999972,"2023-06-17T11:30:51.590"]
["TXN","Texas Instruments Incorporated (TXN) -NasdaqGS  (Daily)","2024-08-09","4:00 PM EDT",191.020004,193.445007,190,192.21000699999999,3064139,-1.0899960000000135,"2024-08-09T21:10:52.010"]
["UNP","Union Pacific Corporation (UNP) -NYSE  (Daily)","2023-06-16","16:00:00",206.36999499999999,206.89999399999999,204.479996,204.66999799999999,4139800,-1.25,"2023-06-17T11:30:02.020"]
["VZ","Verizon Communications Inc. (VZ) -NYSE  (Daily)","2024-02-02","16:00:00",42.200001,42.470001000000003,41.830002,42.130001,21546500,-0.36000099999999691,"2024-02-04T17:45:25.020"]
["VVV","Valvoline Inc. (VVV) -NYSE  (Daily)","2024-07-19","4:00 PM EDT",46.669998,46.669998,45.98,46.02,768700,-0.72000199999999381,"2024-07-20T14:09:21.240"]
["WBA","Walgreens Boots Alliance, Inc. (WBA) -NasdaqGS  (Daily)","2023-06-16","16:00:00",31.83,32.810001,31.73,32.669998,16018300,0.64999799999999652,"2023-06-17T11:29:06.980"]
["WMT","Walmart Inc. (WMT) -NYSE  (Daily)","2023-06-16","16:00:00",158.08000200000001,158.14999399999999,155.279999,155.529999,11556700,-2.1999969999999962,"2023-06-17T11:28:37.380"]
[]
["^AEX","AEX-Index (^AEX) -Amsterdam  (Daily)","2024-09-20T16:05:02","6:05 PM CEST",903.66998291015625,906.41998291015625,895.5999755859375,897.54998779296875,0,-10.8699951171875,"2024-09-21T18:21:35.670"]
["^AORD","ALL ORDINARIES (^AORD) -ASX  (Daily)","2024-09-20T07:16:45","5:16 PM AEST",8417,8474.099609375,8415.7998046875,8437.2001953125,0,20.2001953125,"2024-09-21T21:39:30.340"]
["^AXJO","S&P/ASX 200 (^AXJO) -ASX  (Daily)","2023-03-15","16:44:00",7008.8999020000001,7068.8999020000001,7008.8999020000001,7068.8999020000001,0,60,"2023-03-15T11:43:59.040"]
["DIA","SPDR Dow Jones Industrial Average ETF Trust (DIA) -NYSEArca  (Daily)","2022-10-07","16:00:00",296.73001099999999,296.89001500000001,291.44000199999999,292.97000100000002,3026900,-6.2600099999999657,"2022-10-08T20:28:35.330"]
["^DJI","Dow Jones Industrial Average (^DJI) -DJI  (Daily)","2022-10-07","17:28:00",29685.269531000002,29685.269531000002,29142.660156000002,29296.789063,367950000,-630.15038999999888,"2022-10-08T20:28:54.910"]
["^FTSE","FTSE 100 (^FTSE) -FTSE Index  (Daily)","2022-10-07","16:35:00",6997.2998049999997,7022.3999020000001,6960.3999020000001,6991.1000979999999,807923600,-6.199706999999762,"2022-10-08T20:29:14.340"]
["^GSPC","S&P 500 (^GSPC) -SNP  (Daily)","2023-02-10","17:04:00",4068.919922,4094.360107,4060.790039,4090.459961,3891520000,8.9599610000000212,"2023-02-12T10:01:40.360"]
["^HSI","HANG SENG INDEX (^HSI) -HKSE  (Daily)","2024-06-18","4:08 PM HKT",17961.890625,18043.480468999998,17854.789063,17915.550781000002,0,-20.568359999997483,"2024-06-18T10:22:28.410"]
["^MID","S&P MID CAP 400 INDEX (^MID) -NYSE  (Daily)","2022-10-07","16:04:00",2325.4499510000001,2325.4499510000001,2255.8100589999999,2266.889893,0,-58.560058000000026,"2022-10-08T20:30:12.560"]
["^NDX","NASDAQ 100 (^NDX) -Nasdaq GIDS  (Daily)","2023-09-15","12:10:00",15425.900390999999,15435.450194999999,15227.217773,15258.622069999999,507836217,-215.26757800000087,"2023-09-15T12:11:00.300"]
["^NYA","NYSE COMPOSITE (DJ) (^NYA) -NYSE  (Daily)","2022-10-07","16:20:00",14087.379883,14087.379883,13727.790039,13798.259765999999,4449660000,-289.12011700000039,"2022-10-08T20:30:51.020"]
["^OEX","S&P 100 INDEX (^OEX) -Chicago Options  (Daily)","2022-10-07","17:28:00",1674.3599850000001,1674.3599850000001,1634.599976,1642.8900149999999,4449660000,-51.380004999999983,"2022-10-08T20:31:10.140"]
["RSP","Invesco S&P 500 Equal Weight ETF (RSP) -NYSEArca  (Daily)","2022-10-07","16:00:00",132.009995,132.199997,129.38999899999999,130.14999399999999,3197700,-3.1600040000000149,"2022-10-08T20:31:31.900"]
["^RUT","Russell 2000 (^RUT) -Chicago Options  (Daily)","2022-10-07","16:30:00",1734.650024,1734.920044,1694.959961,1702.150024,4449660000,-50.359985999999935,"2022-10-08T20:31:50.530"]
["^VIX","CBOE Volatility Index (^VIX) -Chicago Options  (Daily)","2022-10-07","16:15:00",30.370000999999998,32.020000000000003,29.879999000000002,31.360001,0,0.84000100000000089,"2022-10-08T20:32:09.750"]
["IWM","iShares Russell 2000 ETF (IWM) -NYSEArca  (Daily)","2022-10-07","16:00:00",171.929993,172.470001,167.91999799999999,168.61000100000001,26504500,-5.1099999999999852,"2022-10-08T20:32:29.720"]
["QQQ","Invesco QQQ Trust (QQQ) -NasdaqGM  (Daily)","2024-02-02","16:00:00",423.79998799999998,430.23998999999998,422.790009,429.01001000000002,59582300,7.1300050000000397,"2024-02-04T13:47:12.870"]
["XLE","Energy Select Sector SPDR Fund (XLE) -NYSEArca  (Daily)","2022-10-07","16:00:00",82.610000999999997,83.540001000000004,81.209998999999996,81.800003000000004,28449900,-0.63999900000000309,"2022-10-08T20:33:10.770"]
["SOXL","Direxion Daily Semiconductor Bull 3X Shares (SOXL) -NYSEArca  (Daily)","2022-10-07","16:00:00",10.18,10.28,9,9.2100000000000009,134291600,-1.9799999999999986,"2022-10-08T20:33:31.210"]
["SPY","SPDR S&P 500 ETF Trust (SPY) -NYSEArca  (Daily)","2024-06-04","4:00 PM EDT",526.46002199999998,529.15002400000003,524.96002199999998,528.39001499999995,31377520,0.59002699999996366,"2024-06-04T17:07:50.990"]
[]
["ACAD","ACADIA Pharmaceuticals Inc. (ACAD) -NasdaqGS  (Daily)","2022-10-07","16:00:00",18.219999000000001,18.27,16.030000999999999,16.290001,2891100,-2.3399980000000014,"2022-10-08T20:34:10.690"]
["CLDX","Celldex Therapeutics, Inc. (CLDX) -NasdaqCM  (Daily)","2022-10-07","16:00:00",28.530000999999999,29.16,28.01,28.07,426400,-0.91000000000000014,"2022-10-08T20:34:27.670"]
["ICPT","Intercept Pharmaceuticals, Inc. (ICPT) -NasdaqGS  (Daily)","2022-10-07","16:00:00",13.97,14.06,13.64,13.66,691500,-0.27999999999999936,"2022-10-08T20:34:46.490"]
["INO","Inovio Pharmaceuticals, Inc. (INO) -NasdaqGS  (Daily)","2022-10-07","16:00:00",1.69,1.7,1.6,1.61,4513100,-0.12999999999999989,"2022-10-08T20:35:05.980"]
["LCI","Lannett Company, Inc. (LCI) -NYSE  (Daily)","2022-10-07","16:00:00",0.48,0.49299999999999999,0.47099999999999997,0.47099999999999997,105400,-1.100000000000001E-2,"2022-10-08T20:35:25.780"]
["PBYI","Puma Biotechnology, Inc. (PBYI) -NasdaqGS  (Daily)","2022-10-07","16:00:00",2.4700000000000002,2.5,2.3199999999999998,2.37,123700,-0.14999999999999991,"2022-10-08T20:35:44.300"]

{"sheet":"REPAIRS!","index":4,"n_rows":223,"n_cols":1,"rows_kept":223,"cut":false,"hidden":false,"merged":[]}
["Attention T-Tips Spreadsheet Users! "]
["Cumulative Repairs Are Now Available for Recent Problems in Some Older T-Tips Spreadsheets! "]
["Please!     Before You do Anything!    Read this ENTIRE page!"]
[]
["This spreadsheet incorporates Visual Basic (VBA) code that is capable of automatically restoring functionality to any of the Traders Tip "]
["spreadsheets  from May of 2021 (RateOfChangeWithBands.xlsm), to  September of 2024 (PrecisionTrendAnalysis.xlsm). "]
["Note: Attempting to use this on Traders Tips from before May of 2021 will most likely fail with a message of one sort or another."]
[]
["The enclosed corrections include, but are not limited to, failures in recent Traders Tip spreadsheets that look like this:"]
[]
[]
[]
[]
[]
[]
[]
[]
[]
[]
[]
[]
[]
[]
[]
[]
["Or, more recently, like THIS!"]
[]
[]
[]
[]
[]
[]
[]
[]
[]
[]
[]
[]
[]
[]
[]
[]
["This most recent failure is again due to the folks at Yahoo Finance changing the entire design of, and the HTML coding for, their Stock History web page."]
["Yahoo Finance is certainly free to make any changes they would like.  After all, it is their web page!"]
[]
["It just takes a bit of time for me to catch up to their changes."]
[]
["The current design for the Yahoo Finance \"Stock History \" web page came online on overnight into the morning of September 7, 2024."]
[]
["Note: The necessary adjustments have already been made to the spreadsheet you have open before you."]
["This a normal, fully functional, Traders Tip spreadsheet. (See the other tabs)"]
["It just happens to include the capability to restore functionality to a subset of relatively recent Traders Tip spreadsheets."]
[]
["Steps to repair other Traders Tips spreadsheets:"]
["Again, Before you do anything!!"]
[]
["Please! Read this entire page!"]
[]
["Check that your EXCEL options conform to the requirements section near the bottom of this page!"]
[]
["1.  Select a TARGET spreadsheet to repair. Please Do Not open it yet."]
[]
["2.  Backup your Target? --  Yes you can download a fresh copy from the web site if something goes wrong."]
["But… You should ask yourself: "]
["\"Have I have made any changes to my target spreadsheet that I would not like to loose?\""]
["If so, you should make a backup copy now in case this fix process breaks your target in the process of making the necessary changes."]
[]
["3.  When you click the \"Repairs\" button below, a file explorer window will open and prompt you to "]
["navigate to, select, and then click \"Open\" for your target spreadsheet."]
[]
["4.  Click this \"Repairs\" button to start the process."]
[]
[]
[]
[]
[]
["5.  When repairs have been completed, A message will be displayed that lets you choose:"]
["A. \" OK\" - To automatically save your repaired spreadsheet back to the same directory, using the same target name appended with a suffix of \"_CorrectionsThru_2024SEP07_Problem\"."]
["Note: The \"OK\" choice will overwrite a previously fixed version of the same spreadsheet with out any warnings."]
["or"]
["B. \"Cancel\" -  To do nothing. With this choice, you should:"]
["Alt-Tab to the corrected spread sheet and then:"]
["manually \"Save\" the corrected spreadsheet back to the original directory and name,"]
["or"]
["manually \"Save As\" to your choice of directory and name. "]
[]
["6.  Close the now \"Repaired\" and  \"Saved\" spreadsheet"]
[]
["7.  Repeat steps 1 thru 6 for as many spreadsheets as you wish."]
[]
["8.  Close this spreadsheet."]
["Or"]
["Select one of the other tabs on this spreadsheet to use this spreadsheet as originally designed. That is, to demonstrate stuff from the corresponding Traders Tip article."]
[]
["9.  When all EXCEL spreadsheets have been closed, you may open any of the \"Repaired\" target spreadsheets to"]
["test them as you see fit."]
[]
["Two Requirements:"]
[]
["1.  The repair process provided here requires that the VBA environment have a reference to"]
["\"Microsoft Visual Basic for Applications Extensibility 5.3\""]
["This reference provides access to the VBA Project Object Model which contains the "]
["routines that may be called by VBA code to modify other VBA code."]
[]
["References are generally set for, and are kept track of, by each individual workbook."]
["So this reference should already be set for this workbook."]
[]
["If this reference was not inherited, then when you click the \"April 15 Repair\" button "]
["the VBA Editor window will open and display the following error."]
[]
[]
[]
[]
[]
[]
[]
[]
[]
[]
[]
[]
[]
[]
[]
[]
["Click \"OK\" to close the message."]
[]
["You will need to add the reference:"]
["At the top of the screen click on \"Tools\". Then in the Tools dropdown click on \"References\"."]
[]
[]
[]
[]
[]
[]
[]
[]
["The References dialog will display. "]
["Mine looks like this.  Note the a check next to the entry for:"]
["\"Microsoft Visual Basic for Applications Extensibility 5.3\""]
[]
[]
[]
[]
[]
[]
[]
[]
[]
[]
[]
[]
[]
[]
[]
[]
["If you do not have this entry in the list of checked entries, you will need to scroll down to"]
["find it and then check the box next to it. Then click \"OK\" to close the dialog."]
[]
[]
[]
[]
[]
[]
[]
[]
[]
[]
[]
[]
[]
[]
[]
[]
["Then close the VBA Editor window."]
[]
["Save this workbook to lock in the newly added Reference"]
[]
["2.  You will also need to get into the EXCEL OPTIONS dialog to grant the EXCEL VBA engine specific permission to use "]
["these VBA code modifying routines."]
[]
["Allowing EXCEL to use VBA macros is a security concern in many circles.  But that is what all of my spreadsheets do."]
[]
["This next level, allowing VBA code to modify VBA code \"On The Fly\" is even more of a concern in those same circles."]
["Particularly as both of these permissions are maintained globally at the EXCEL application level."]
["Once set, these permissions apply to every workbook you open."]
[]
["If you get the following error when you click the \"Start Repairs\" button, you will need to adjust your EXCEL Trust Center Options."]
[]
[]
[]
[]
[]
[]
[]
[]
[]
[]
[]
[]
[]
[]
[]
[]
["Click \"End\" to close the error message and then close the VBA editor window."]
[]
["Steps to adjust your Trust Center options "]
["a.  In the upper left of an EXCEL worksheet window, click \"File\"."]
["b.  at the bottom left click Options"]
["c.  at the bottom left click Trust Center"]
["d.  at the far right click Trust Center Settings"]
["e.  at the left, near the middle, click Macro Settings"]
["f.  In the Macros Settings form:"]
[]
["- Under the heading \"Macro Settings\" I have the selected the radio button next to"]
["   Disable VBA macros with notification"]
["You may have selected something else. If VBA macros work OK for you, no change should be necessary."]
[]
["- Under the heading \"Developer Macro Settings\", check the box next to"]
["   \"Trust access to the VBA project object model\""]
["Depending on your comfort level, you may want to turn this off (Uncheck) after you have fixed your workbooks."]
[]
["g.  Click OK a couple of times to get back to the main EXCEL window showing this tab."]